{"text_format":"2","workbook":"xlsx","n_sheets":28,"sheets":["Info","MainInput","Substrates","Results","Plant types","OwnCalculations","EPD","SimaPro","LCIAbg","InputsBG","menuesBG","Prüfwert","DirekteEmissionen","ReferenzKombi","UmweltdeklarationBM","PrüfungBM","intro","X-Exchange","X-Process","X-Source","X-Person","LCIAbm","Kompost","Fischabfälle","FaktorenBG","Glyzerin","menuesBM","Strommix34"],"not_rendered":{"charts":2,"images":8,"macros":0,"external_links":1,"defined_names":110,"comments":10,"pivot_tables":0},"unopened":[],"bounds":{"document_bytes":16777216,"sheet_cells":100000,"run_cost":"one","rows_first":2000,"rows_last":500,"rows_between":2000,"halvings":0,"cell_chars":16384,"cell_head_chars":4096},"cells_cut":0,"cells_raw":0,"read":"whole","date_system":"1900"}

{"sheet":"Info","index":0,"n_rows":72,"n_cols":6,"rows_kept":72,"cut":false,"hidden":false,"merged":[]}
["Deutsch","Französisch","English",{"$f":"OFFSET(A1:A50,0,sprache-1)","v":"English"},""]
[{"$f":"MainInput!B2","v":"naturemade star Prüfung: Energieprodukte aus Biogasanlagen"},{"$f":"MainInput!C2","v":"Contrôle naturemade star: production d'énergie de biogaz"},{"$f":"MainInput!D2","v":"naturemade star certification: Energy products from biogas plants"},"naturemade star certification: Energy products from biogas plants","",{"$f":"D2","v":"naturemade star certification: Energy products from biogas plants"}]
["","","","","",{"$f":"D3","v":""}]
["Kennwertmodell zur Prüfung des globalen naturemade star Kriteriums","Modèle a paramètres caractéristique pour tester le critère global de naturemade star","Standardised parameter model for testing the global naturemade star criterion","Standardised parameter model for testing the global naturemade star criterion","","Standardised parameter model for testing the global naturemade star criterion"]
["","","","","",""]
["Bitte wählen Sie die Sprache","Veuillez sélectionner la langue","Please select the language","Please select the language","","Please select language / Bitte Sprache wählen / Veuillez choisir la langue"]
[null,null,"","","","English"]
[null,null,"","",""]
["Anleitung","Instructions","Instructions","Instructions","","Instructions"]
["Nachdem Sie diese Anleitung gelesen haben, gehen Sie zu den Arbeitsblättern \"MainInput\" und \"Substrates\" und geben alle erforderlichen Daten (hellgelbe Felder) ein.","Après avoir lu ces instructions, allez sur les feuilles de travail \"MainInput\" et \"Substrates\" et entrez toutes les données requises (champs jaune clair).","After reading these instructions, go to the worksheets \"MainInput\" and \"Substrates\" and enter all required data (light yellow fields).","After reading these instructions, go to the worksheets \"MainInput\" and \"Substrates\" and enter all required data (light yellow fields).","","After reading these instructions, go to the worksheets \"MainInput\" and \"Substrates\" and enter all required data (light yellow fields)."]
["Im Arbeitsblatt \"MainInput\" wählen Sie bitte das Land aus, in dem sich die Biogasanlage befindet. Setzen Sie sich mit der Geschäftsstelle des VUE naturemade in Verbindung, wenn die Anlage in einem europäischen Land steht, das nicht in der Liste aufgeführt ist.","Dans la feuille \"MainInput\", veuillez sélectionner le pays où l'usine de biogaz est située. Contactez le bureau VUE naturemade si l'usine est située dans un pays européen qui ne figure pas dans la liste.","In the worksheet \"MainInput\", please select the country where the biogas plant is located. Contact the VUE naturemade office if the plant is located in a European country that is not included in the list.","In the worksheet \"MainInput\", please select the country where the biogas plant is located. Contact the VUE naturemade office if the plant is located in a European country that is not included in the list.","","In the worksheet \"MainInput\", please select the country where the biogas plant is located. Contact the VUE naturemade office if the plant is located in a European country that is not included in the list."]
["Alle Daten müssen für einen einheitlichen Zeitraum von einem Jahr eingegeben werden.","Toutes les données doivent être entrées pour une période uniforme d'un an.","All data must be entered for a uniform period of one year.","All data must be entered for a uniform period of one year.","","All data must be entered for a uniform period of one year."]
["Der Energiegehalt von Brenn- und Treibstoffen und das erzeugte Biogas/Biomethan müssen mit dem oberen Heizwert (Brennwert) eingegeben werden.","Le contenu énergétique des combustibles et du biogaz/biométhane produit doit être saisi avec le pouvoir calorifique supérieur (PCI).","The energy content of fuels and the biogas/biomethane produced must be entered with the higher heating value (higher calorific value).","The energy content of fuels and the biogas/biomethane produced must be entered with the higher heating value (higher calorific value).","","The energy content of fuels and the biogas/biomethane produced must be entered with the higher heating value (higher calorific value)."]
["In der Spalte \"Hinweise und Warnungen\" werden bestimmte Aspekte der Eingabe überprüft. Nach dem Ausfüllen aller Daten darf es keine Warnungen mehr geben.","Dans la colonne \"Notes et avertissements\", certains aspects de la saisie sont vérifiés. Une fois que toutes les données ont été remplies, il ne doit plus y avoir d'avertissements.","In the column \"Notes and warnings\" certain aspects of the entry are checked. After filling in all data, there must be no more warnings.","In the column \"Notes and warnings\" certain aspects of the entry are checked. After filling in all data, there must be no more warnings.","","In the column \"Notes and warnings\" certain aspects of the entry are checked. After filling in all data, there must be no more warnings."]
["Für die meisten Substrate und den Gärrest werden Angaben zu Kosten und Erträgen abgefragt. Einnahmen und Ausgaben müssen als positiver (Einnahmen) oder negativer (Ausgaben) Wert pro Jahr eingegeben werden. Transportkosten werden nicht berücksichtigt.","Pour la plupart des substrats et digestats, des informations sur les dépenses et les revenus sont demandées. Les revenus et les dépenses doivent être inscrits en valeur positive (revenus) ou négative (dépenses) par an. Les coûts de transport ne sont pas pris en compte.","For most substrates and the digestate, information on costs and/or revenue is requested. Income and expenditure must be entered as a positive (revenue) or negative (expenses) value per year. Transport costs are not taken into accoun","For most substrates and the digestate, information on costs and/or revenue is requested. Income and expenditure must be entered as a positive (revenue) or negative (expenses) value per year. Transport costs are not taken into accoun","","For most substrates and the digestate, information on costs and/or revenue is requested. Income and expenditure must be entered as a positive (revenue) or negative (expenses) value per year. Transport costs are not taken into accoun"]
["Die automatische Berechnung in Excel muss eingeschaltet sein (Extras/Optionen/Kalkulation --> automatisch) oder Sie können mit der Taste [F9] jedes Mal neu berechnen.","Le calcul automatique dans Excel doit être activé (Outils/Options/Calcul --> Automatique) ou vous pouvez recalculer à chaque fois en appuyant sur [F9].","The automatic calculation in Excel must be switched on (Tools/Options/Calculation --> Automatic) or you can recalculate each time with the [F9] key.","The automatic calculation in Excel must be switched on (Tools/Options/Calculation --> Automatic) or you can recalculate each time with the [F9] key.","","The automatic calculation in Excel must be switched on (Tools/Options/Calculation --> Automatic) or you can recalculate each time with the [F9] key."]
["Zum Schluss gehen Sie auf das Arbeitsblatt \"Results\" in welchem Sie das Ergebnis der naturemade star-Prüfung sehen.","Enfin, allez à la feuille de travail \"Résultats\" dans laquelle vous pouvez voir le résultat du test naturemade star.","Finally, go to the \"Results\" worksheet in which you can see the result of the naturemade star test.","Finally, go to the \"Results\" worksheet in which you can see the result of the naturemade star test.","","Finally, go to the \"Results\" worksheet in which you can see the result of the naturemade star test."]
["","","","","",""]
["Systemgrenze der Biogas-Anlage","Limites du système pour l'usine de biogaz","System boundaries for the biogas plant","System boundaries for the biogas plant","","System boundaries for the biogas plant"]
["Für die Berechnung des Energieverbrauchs und der Ökobilanz der Biogasanlage (inklusive Aufbereitungsanlage) muss die Systemgrenze eingehalten werden, wie sie im Handbuch beschrieben ist (siehe naturemade.ch->Dokumentation->Ökobilanzen). Grundsätzlich umfasst die Systemgrenze alle relevanten Energie- und Massenflüsse aus Sicht des Biogasanlagenbetreibers, welche im Rahmen seines wirtschaftlichen Entscheidungsbereichs liegen.","Pour le calcul de la consommation d'énergie et l'analyse du cycle de vie de l'installation de biogaz (y compris l'installation de valorisation), il convient de respecter les limites du système comme décrit dans le manuel (voir naturemade.ch->Documentation->Bilans écologique). Fondamentalement, le périmètre du système comprend tous les flux énergétiques et massiques pertinents du point de vue de l'exploitant de l'installation de biogaz, qui relèvent de son champ de décision économique.","For the calculation of the energy consumption and the life cycle assessment of the biogas plant (including the upgrading plant), the system boundary must be adhered to as described in the manual (see naturemade.ch->Documentation->Eco-balances). Basically, the system boundary includes all relevant energy and mass flows from the biogas plant operator's point of view, which are within his economic decision-making scope.","For the calculation of the energy consumption and the life cycle assessment of the biogas plant (including the upgrading plant), the system boundary must be adhered to as described in the manual (see naturemade.ch->Documentation->Eco-balances). Basically, the system boundary includes all relevant energy and mass flows from the biogas plant operator's point of view, which are within his economic decision-making scope.","","For the calculation of the energy consumption and the life cycle assessment of the biogas plant (including the upgrading plant), the system boundary must be adhered to as described in the manual (see naturemade.ch->Documentation->Eco-balances). Basically, the system boundary includes all relevant energy and mass flows from the biogas plant operator's point of view, which are within his economic decision-making scope."]
["Das Modell gilt für Biogasanlagen, die Substrate gemäß der detaillierten Liste im Blatt \"Substrates\" einsetzen. Bitte setzen Sie sich mit der Geschäftsstelle des VUE naturemade in Verbindung, wenn Sie Substrate einsetzen, die nicht in die Kategorien passen.","Le modèle est valable pour les usines de biogaz qui utilisent des substrats selon la liste détaillée dans la fiche \"Substrats\". Veuillez contacter le bureau VUE naturemade, si vous avez des substrats qui ne correspondent pas aux catégories.","The model is  valid for biogas plants that use substrates according to the detailed list in the sheet \"Substrates\". Please contact the VUE naturemade office, if you have substrates that do not match the categories.","The model is  valid for biogas plants that use substrates according to the detailed list in the sheet \"Substrates\". Please contact the VUE naturemade office, if you have substrates that do not match the categories.","","The model is  valid for biogas plants that use substrates according to the detailed list in the sheet \"Substrates\". Please contact the VUE naturemade office, if you have substrates that do not match the categories."]
["Das Modell ist für Biogas aus Grüngutvergärungsanlagen, landwirtschaftlichen Biogasanlagen und Kläranlagen ausgelegt. Für Biogasanlagen in Industriebetrieben, wie z.B. Vergärung in einem Schlachthof oder einer Zuckerfabrik, ist es nur bedingt anwendbar.","Le modèle est mis en place pour le biogaz provenant des usines de fermentation de déchets verts, des usines de biogaz agricoles et des usines de traitement des eaux usées. Il ne peut être appliqué que de manière limitée aux installations de biogaz d'entreprises industrielles, comme la fermentation dans un abattoir ou une sucrerie.","The model is set up for biogas from green waste fermentation plants, agricultural biogas plants and wastewater treatment plants. It can only be applied to a limited extent to biogas plants at industrial enterprises such as fermentation at a slaughterhouse or sugar factory.","The model is set up for biogas from green waste fermentation plants, agricultural biogas plants and wastewater treatment plants. It can only be applied to a limited extent to biogas plants at industrial enterprises such as fermentation at a slaughterhouse or sugar factory.","","The model is set up for biogas from green waste fermentation plants, agricultural biogas plants and wastewater treatment plants. It can only be applied to a limited extent to biogas plants at industrial enterprises such as fermentation at a slaughterhouse or sugar factory."]
["","","","","",""]
["Umweltproduktdeklaration im Blatt EPD","Déclaration environnementale de produit (EPD)","Environmental product declaration (EPD)","Environmental product declaration (EPD)","","Environmental product declaration (EPD)"]
["Die Umwelt-Produktdeklaration gibt grob die Umweltauswirkungen an. Unterschiede im Vergleich von weniger als 10% sind in der Regel nicht relevant. Die Allokationsmethodik weicht von der Vorgehensweise in der ecoinvent-Datenbank ab.","La déclaration environnementale de produit (EPD) indique en gros l'impact environnemental. Les différences de comparaison inférieures à 10 % ne sont généralement pas pertinentes. La méthode de répartition diffère de la procédure de la base de données ecoinvent.","The environmental product declaration (EPD) roughly indicates the environmental impact. Differences in comparisons of less than 10% are usually not relevant. The allocation methodology differs from the procedure in the ecoinvent database.","The environmental product declaration (EPD) roughly indicates the environmental impact. Differences in comparisons of less than 10% are usually not relevant. The allocation methodology differs from the procedure in the ecoinvent database.","","The environmental product declaration (EPD) roughly indicates the environmental impact. Differences in comparisons of less than 10% are usually not relevant. The allocation methodology differs from the procedure in the ecoinvent database."]
["Zusätzlich werden im unteren Teil der Tabelle auch die Ergebnisse einer Zuordnung nach ecoinvent angezeigt.","En outre, les résultats d'une répartition selon ecoinvent sont également indiqués dans la partie inférieure du tableau.","In addition, the results of an allocation according to ecoinvent are also shown in the lower part of the table.","In addition, the results of an allocation according to ecoinvent are also shown in the lower part of the table.","","In addition, the results of an allocation according to ecoinvent are also shown in the lower part of the table."]
[null,null,null,0,""]
["","","","","",""]
["Abfragen","Questions","Queries","Queries","","Queries"]
["Bei Fragen zum Modell sollte zunächst der vollständige Hintergrundbericht eingesehen werden. Jungbluth N. (2021) Handbuch für die naturemade Kennwertmodelle: Ökobilanzen für die Prüfung des globalen Kriteriums. ESU-services im Auftrag vom Verein für umweltgerechte Energie (VUE), Schaffhausen.","Pour les questions concernant le modèle, il convient d'examiner d'abord le rapport complet sur le contexte. Jungbluth N. (2021) Handbuch für die naturemade Kennwertmodelle : Ökobilanzen für die Prüfung des globalen Kriteriums. ESU-services au nom de l'Association pour une énergie respectueuse de l'environnement (VUE), Schaffhouse.","For questions about the model, the full background report should be looked at first. Jungbluth N. (2021) Handbuch für die naturemade Kennwertmodelle: Ökobilanzen für die Prüfung des globalen Kriteriums. ESU-services on behalf of the Association for Environmentally Sound Energy (VUE), Schaffhausen.","For questions about the model, the full background report should be looked at first. Jungbluth N. (2021) Handbuch für die naturemade Kennwertmodelle: Ökobilanzen für die Prüfung des globalen Kriteriums. ESU-services on behalf of the Association for Environmentally Sound Energy (VUE), Schaffhausen.","",{"$f":"D30","v":"For questions about the model, the full background report should be looked at first. Jungbluth N. (2021) Handbuch für die naturemade Kennwertmodelle: Ökobilanzen für die Prüfung des globalen Kriteriums. ESU-services on behalf of the Association for Environmentally Sound Energy (VUE), Schaffhausen."}]
["http://www.esu-services.ch/projects/naturemade/ ","http://www.esu-services.ch/projects/naturemade/",{"$f":"$A31","v":"http://www.esu-services.ch/projects/naturemade/ "},"http://www.esu-services.ch/projects/naturemade/ ","",{"$f":"D31","v":"http://www.esu-services.ch/projects/naturemade/ "}]
["Für Fragen und Rückmeldungen wenden Sie sich bitte an die Geschäftsstelle VUE naturemade. Bitte senden Sie die ausgefüllte Excel-Tabelle, gespeichert unter einem neuen Namen unter Beibehaltung der Versionsnummer, an die folgende Adresse:","Pour toute question ou réaction, veuillez contacter le bureau VUE naturemade. Veuillez envoyer la feuille de calcul Excel complétée, sauvegardée sous un nouveau nom tout en conservant le numéro de version, à l'adresse suivante","For questions and feedback, please contact the VUE naturemade office. Please send the completed Excel spreadsheet, saved under a new name while retaining the version number, to the following address:","For questions and feedback, please contact the VUE naturemade office. Please send the completed Excel spreadsheet, saved under a new name while retaining the version number, to the following address:","","For questions and feedback, please contact the VUE naturemade office. Please send the completed Excel spreadsheet, saved under a new name while retaining the version number, to the following address:"]
["","","","","",""]
["Auftraggeber","Client","Commissioner","Commissioner",null,{"$f":"D34","v":"Commissioner"}]
["Verein für umweltgerechte Energie (VUE), naturemade Geschäftsstelle","Association pour une énergie respectueuse de l'environnement (VUE), bureau naturemade","Association for Environmentally Sound Energy (VUE), naturemade office","Association for Environmentally Sound Energy (VUE), naturemade office","","Association for Environmentally Sound Energy (VUE), naturemade office"]
["Molkenstrasse 21, CH-8004 Zürich",{"$f":"$A36","v":"Molkenstrasse 21, CH-8004 Zürich"},{"$f":"$A36","v":"Molkenstrasse 21, CH-8004 Zürich"},"Molkenstrasse 21, CH-8004 Zürich","","Molkenstrasse 21, CH-8004 Zürich"]
["Valentin Graf, T: +41 44 213 10 21","Valentin Graf, T: +41 44 213 10 21","Valentin Graf, T: +41 44 213 10 21","Valentin Graf, T: +41 44 213 10 21","","Valentin Graf, T: +41 44 213 10 21"]
["www.naturemade.ch","www.naturemade.ch","www.naturemade.ch","www.naturemade.ch","","www.naturemade.ch"]
["valentin.graf@naturemade.ch","valentin.graf@naturemade.ch","valentin.graf@naturemade.ch","valentin.graf@naturemade.ch","","valentin.graf@naturemade.ch"]
["","","","","",""]
["Entwicklung des Kennwertmodels für die Ökobilanzierung","Développement du modèle de valeur caractéristique pour l'évaluation du cycle de vie","Development of the key parameter model for life cycle assessment","Development of the key parameter model for life cycle assessment","","Development of the key parameter model for life cycle assessment"]
["© ESU-services GmbH","© ESU-services GmbH","© ESU-services GmbH","© ESU-services GmbH","","© ESU-services GmbH"]
["Vorstadt 14, CH-8200 Schaffhausen","Vorstadt 14, CH-8200 Schaffhausen","Vorstadt 14, CH-8200 Schaffhausen","Vorstadt 14, CH-8200 Schaffhausen","","Vorstadt 14, CH-8200 Schaffhausen"]
["Niels Jungbluth, T. +41 44 940 61 32","Niels Jungbluth, T. +41 44 940 61 32","Niels Jungbluth, T. +41 44 940 61 32","Niels Jungbluth, T. +41 44 940 61 32","","Niels Jungbluth, T. +41 44 940 61 32"]
["jungbluth@esu-services.ch","jungbluth@esu-services.ch","jungbluth@esu-services.ch","jungbluth@esu-services.ch","","jungbluth@esu-services.ch"]
["www.esu-services.ch",{"$f":"$A46","v":"www.esu-services.ch"},"www.esu-services.ch","www.esu-services.ch","","www.esu-services.ch"]
["","","","","",""]
["Version, verwendete Datenbank und Bewertungsmethoden","Version, base de données utilisée et méthodes d'évaluation","Version and background database","Version and background database","","Version and background database"]
["Version 2021-v18.1","Version 2021-v18.1","Version 2021-v18.1","Version 2021-v18.1","","Version 2021-v18.1"]
["Eco-indicator v2.10 und ESU-datenbank 2021 (basierend auf UVEK 2018), Strommixe ecoinvent v3.6","Eco-indicator v2.10 und ESU-datenbank 2021 (basierend auf UVEK 2018), Strommixe ecoinvent v3.6","Eco-indicator v2.10 and ESU-database 2021 (based on UVEK 2018), electricity mixes from ecoinvent v3.6","Eco-indicator v2.10 and ESU-database 2021 (based on UVEK 2018), electricity mixes from ecoinvent v3.6","","Eco-indicator v2.10 and ESU-database 2021 (based on UVEK 2018), electricity mixes from ecoinvent v3.6"]
["","","",null,""]
[{"$nulls":5},"16.3.2021 - v18.1 Preisdaten für Spanien ergänzt"]
[{"$nulls":5},"13.1.2021 - v18 Überarbeitung des Design, Ergänzung Spanien, Neuaufbau der Berechnungen"]
[{"$nulls":5},"16.12.2020 - v17 Korrektur Berechnung Fackelverluste"]
[{"$nulls":5},"17.11.2020 - v17 - Erweiterung für Grossbritannien, Update LCIA für Strommixe mit ecoinvent v3.6"]
[{"$nulls":5},"19.5.2020 - Gärgut/Gärrückstände nach Gärrest umbenannt"]
[{"$nulls":5},"20.3.2020 - Neuberechnung Ökobilanzdaten"]
[{"$nulls":5},"18.2.2020 - Eingabe Fackel, Heizung. Verbesserungen Layout, Änderung Gärschlammentsorgung"]
[{"$nulls":5},"22.1.2020 - Korrektur Transporte, Korrektur Referenzwert Klärschlamm, Neuberechnung Eco-indicator"]
[{"$nulls":5},"9.12.2019 - Anpassungen zu Gaserträgen"]
[{"$nulls":5},"18.10.2019 - Erweiterung für Vergärung von Abwasser aus Papierfabrik, Definition von Energiepflanzen"]
[{"$nulls":5},"13.05.2019 - Anpassung TS-Gehalt Grüngut und Speisereste aus Gastronomiebetrieben"]
[{"$nulls":5},"14.11.2018 - Englische Version"]
[{"$nulls":5},"3.4.2018 - Einfügen Biogas als Produkt"]
[{"$nulls":5},"29.3.2018 - Aufdatierung aller Indikatorwerte für Umweltdeklaration"]
[{"$nulls":5},"12.3.2018 - Neuberechnung Glycerin mit festem Allokationskriterium"]
[{"$nulls":5},"27.2.2018 - Neuberechnung Strom mit ecoinvent v3.4 Daten"]
[{"$nulls":5},"12.2.2018 - Weitere Anpassungen für Dänemark"]
[{"$nulls":5},"21.9.2017 - Ergänzungen Berechnung für Dänemark"]
[{"$nulls":5},"4.7.2017 - Fehlerkorrektur Preis bei KVA"]
[{"$nulls":5},"14.6.2017 - Anpassung der Texte für Verbrennung"]
[{"$nulls":5},"15.7.2015 - Anpassungen für die Verwendung in Ungarn"]

{"sheet":"MainInput","index":1,"n_rows":106,"n_cols":30,"rows_kept":106,"cut":false,"hidden":false,"merged":[]}
[null,"Deutsch","Französisch","English",{"$f":"OFFSET(B1:B106,0,sprache-1)","v":"English"},null,null,{"$f":"COLUMN()","v":8},null,"Deutsch","Französisch","English",{"$f":"OFFSET(J1:J105,0,sprache-1)","v":"English"},null,null,null,"unterer Heizwert","Faktor","Brennwert","Heizwert","SimaPro Process",29,35,34,31,null,29,35,34,31]
[2,"naturemade star Prüfung: Energieprodukte aus Biogasanlagen","Contrôle naturemade star: production d'énergie de biogaz","naturemade star certification: Energy products from biogas plants","naturemade star certification: Energy products from biogas plants",null,{"$f":"E2","v":"naturemade star certification: Energy products from biogas plants"},null,null,"",null,null,0,null,"Prüfungen, incl. Sprachtest",null,{"$f":"COLUMN()","v":17},{"$nulls":4},{"$f":"INDEX(menuesBG!$1:$1048576,V1,sprache)","v":"Eco-indicator 99 points"},{"$f":"INDEX(menuesBG!$1:$1048576,W1,sprache)","v":"Carbon footprint 100a 2013"},{"$f":"INDEX(menuesBG!$1:$1048576,X1,sprache)","v":"Demand for non-renewable energy resources"},{"$f":"INDEX(menuesBG!$1:$1048576,Y1,sprache)","v":"Ecological scarcity points 2013"},null,{"$f":"INDEX(menuesBG!$1:$1048576,AA1,sprache)","v":"Eco-indicator 99 points"},{"$f":"INDEX(menuesBG!$1:$1048576,AB1,sprache)","v":"Carbon footprint 100a 2013"},{"$f":"INDEX(menuesBG!$1:$1048576,AC1,sprache)","v":"Demand for non-renewable energy resources"},{"$f":"INDEX(menuesBG!$1:$1048576,AD1,sprache)","v":"Ecological scarcity points 2013"}]
[null,"","","","",null,{"$f":"IF(H7=\"\",\"\",name&\", \"&H7)","v":""},{"$nulls":5},0,null,"",{"$nulls":6},{"$f":"SimaProEI99","v":2},{"$f":"SimaProGWP","v":3},{"$f":"SimaProCED","v":4},{"$f":"SimaProUBP","v":5},null,{"$f":"SimaProEI99","v":2},{"$f":"SimaProGWP","v":3},{"$f":"SimaProCED","v":4},{"$f":"SimaProEI99","v":2}]
[null,"","","","",{"$nulls":4},"Hinweise und Warnungen","Notes et avertissements","Notes and warnings","Notes and warnings",{"$f":"M4","v":"Notes and warnings"},""]
[4,"Anlage","Installation","Plant","Plant",null,{"$f":"E5","v":"Plant"},null,null,"","","","",null,""]
[null,"Name","Nom","Name","Name",null,"Name",null,{"$f":"IF(O6,1,0)","v":0},"Bitte Anlagenname eintragen","Veuillez entrer le nom de la plante","Please enter plant name","Please enter plant name",{"$f":"IFERROR(IF(O6,\"\",M6),$M$8)","v":"Please enter plant name"},{"$f":"H6>0","v":false}]
[null,"Referenzzeitraum","Période de référence:","Reference period","Reference period",null,"Reference period",null,{"$f":"IF(O7,1,0)","v":0},"Bitte Referenzzeitraum angeben (alle Eingaben umfassen 1 Jahr)","Veuillez préciser la période de référence (toutes les entrées couvrent 1 an)","Please specify reference period (all entries cover 1 year)","Please specify reference period (all entries cover 1 year)",{"$f":"IFERROR(IF(O7,\"\",M7),$M$8)","v":"Please specify reference period (all entries cover 1 year)"},{"$f":"H7>0","v":false}]
[3,"Sprache","Langue","Language","Language",null,"Language",{"$f":"Info!F7","v":"English"},null,"Auswahlmatrix für gewählte Sprache ausfüllen","Remplir la matrice de sélection pour la langue sélectionnée","Fill in selection matrix for selected language","Fill in selection matrix for selected language",null,"",{"$f":"MATCH(Info!F7,menuesBG!F2:F4,0)","v":3}]
[107,"Standort","Emplacement","Location","Location",null,"Location",null,{"$f":"IF(O9,1,0)","v":0},"Bitte wählen Sie das Land in dem die Anlage steht","Veuillez sélectionner le pays dans lequel l'installation est située","Please select the country in which the plant is located","Please select the country in which the plant is located",{"$f":"IFERROR(IF(O9,\"\",M9),$M$8)","v":"Please select the country in which the plant is located"},{"$f":"ISNUMBER(Standort)","v":false},{"$f":"MATCH(MainInput!H9,menuesBG!$F$108:$F$114,0)","v":{"$error":"#N/A"}},{"$f":"menuesBG!H107","v":{"$error":"#N/A"}}]
[6,"Anlagentyp","Type d'installation","Plant type","Plant type",null,"Plant type",null,{"$f":"IF(ISNA(O10),0,IF(O10,1,-1))","v":0},"Für die Prüfung industrieller Abwässer bitte VUE naturemade kontaktieren","Pour l'analyse des eaux usées industrielles, veuillez contacter VUE naturemade","For testing of industrial waste water please contact VUE naturemade","For testing of industrial waste water please contact VUE naturemade",{"$f":"IFERROR(IF(O10,\"\",M10),$M$8)","v":"Fill in selection matrix for selected language"},{"$f":"P10<4","v":{"$error":"#N/A"}},{"$f":"MATCH(MainInput!H10,menuesBG!$F$57:$F$59,0)","v":{"$error":"#N/A"}}]
[{"$f":"ROW()","v":11},"Volumen des Fermenters","Dimensions du digesteur","Fermenter volume","Fermenter volume",null,"Fermenter volume",null,{"$f":"IF(O11,1,0)","v":0},"Eingabewert Fermentergrösse in m3 fehlt","Valeur d'entrée taille du fermenteur (en m3) manquante","Input value fermenter size (in m3) missing","Input value fermenter size (in m3) missing",{"$f":"IFERROR(IF(O11,\"\",M11),$M$8)","v":"Input value fermenter size (in m3) missing"},{"$f":"H11>0","v":false},null,null,1,null,null,{"$f":"INDEX(menuesBG!$1:$1048576,MATCH(MainInput!H10,menuesBG!F:F,0),COLUMN(menuesBG!$H$1))","v":{"$error":"#N/A"}},{"$f":"INDEX(SimaPro!$1:$1048576,V$3,MATCH(MainInput!$U11,SimaPro!$1:$1,0))*$R11*$H11","v":{"$error":"#N/A"}},{"$f":"INDEX(SimaPro!$1:$1048576,W$3,MATCH(MainInput!$U11,SimaPro!$1:$1,0))*$R11*$H11","v":{"$error":"#N/A"}},{"$f":"INDEX(SimaPro!$1:$1048576,X$3,MATCH(MainInput!$U11,SimaPro!$1:$1,0))*$R11*$H11","v":{"$error":"#N/A"}},{"$f":"INDEX(SimaPro!$1:$1048576,Y$3,MATCH(MainInput!$U11,SimaPro!$1:$1,0))*$R11*$H11","v":{"$error":"#N/A"}}]
[null,"","","","",{"$nulls":7},0,null,""]
[7,"Inputs für die Anlage","Substrats pour l'usine de biogaz","Substrates for the biogas plant","Substrates for the biogas plant",null,{"$f":"E13","v":"Substrates for the biogas plant"},null,null,"Eingaben Substratinput im Blatt \"Substrates\"","Toutes les entrées pour l'entrée des substrats sont faites dans la feuille \"Substrats\".","All entries for the substrate input are made in the \"Substrates\" sheet","All entries for the substrate input are made in the \"Substrates\" sheet",{"$f":"M13","v":"All entries for the substrate input are made in the \"Substrates\" sheet"},""]
[null,"","","","",{"$nulls":7},0,null,""]
[87,"","","","",null,{"$f":"INDEX(menuesBG!$1:$1048576,$A15,sprache)","v":"Agriculture, conversion from livestock"},{"$f":"SUM(Substrates!F8:F22)","v":0},{"$nulls":4},0,null,"",null,null,1000,{"$nulls":7},{"$f":"\"reference value, manure/kg/\"&StandortCode&\" U\"","v":{"$error":"#N/A"}},{"$f":"INDEX(SimaPro!$1:$1048576,AA$3,MATCH(MainInput!$Z15,SimaPro!$1:$1,0))*$R15*$H15","v":{"$error":"#N/A"}},{"$f":"INDEX(SimaPro!$1:$1048576,AB$3,MATCH(MainInput!$Z15,SimaPro!$1:$1,0))*$R15*$H15","v":{"$error":"#N/A"}},{"$f":"INDEX(SimaPro!$1:$1048576,AC$3,MATCH(MainInput!$Z15,SimaPro!$1:$1,0))*$R15*$H15","v":{"$error":"#N/A"}},{"$f":"INDEX(SimaPro!$1:$1048576,AD$3,MATCH(MainInput!$Z15,SimaPro!$1:$1,0))*$R15*$H15","v":{"$error":"#N/A"}}]
[8,"","","","",null,{"$f":"Substrates!E24","v":"Residual and waste materials"},{"$f":"SUM(Substrates!F25:F90)","v":0},{"$nulls":4},0,null,"","xxx",null,{"$f":"EinnahmeSubstratEntsorgung/Wechselkurs","v":{"$error":"#N/A"}},null,null,"Einnahme in CHF",{"$nulls":4},"reference value, co-substrate disposal/CHF/CH U",{"$f":"INDEX(SimaPro!$1:$1048576,AA$3,MATCH(MainInput!$Z16,SimaPro!$1:$1,0))*$R16","v":{"$error":"#N/A"}},{"$f":"INDEX(SimaPro!$1:$1048576,AB$3,MATCH(MainInput!$Z16,SimaPro!$1:$1,0))*$R16","v":{"$error":"#N/A"}},{"$f":"INDEX(SimaPro!$1:$1048576,AC$3,MATCH(MainInput!$Z16,SimaPro!$1:$1,0))*$R16","v":{"$error":"#N/A"}},{"$f":"INDEX(SimaPro!$1:$1048576,AD$3,MATCH(MainInput!$Z16,SimaPro!$1:$1,0))*$R16","v":{"$error":"#N/A"}}]
[null,"","","","",null,{"$f":"Substrates!E92","v":"Intercrops not competing with food and feed"},{"$f":"SUM(Substrates!F93:F97)","v":0},{"$nulls":4},0,null,""]
[null,"","","","",null,{"$f":"Substrates!E99","v":"Glycerine"},{"$f":"SUM(Substrates!F100:F104)","v":0},{"$nulls":4},0,null,""]
[null,"","","","",null,{"$f":"Substrates!E106","v":"Energy crop silage"},{"$f":"SUM(Substrates!F107:F108)","v":0},{"$f":"IF(O19,\"\",-1)","v":""},"Verwertung Energiepflanzen nicht gestattet","L'utilisation de cultures énergétiques n'est pas autorisée","Utilisation of energy crops not permitted","Utilisation of energy crops not permitted",{"$f":"IFERROR(IF(O19,\"\",M19),$M$8)","v":""},{"$f":"IF(H19=0,TRUE,FALSE)","v":true}]
[5,"","","","",null,{"$f":"Substrates!E110","v":"Sewage sludge and similar substrates"},{"$f":"SUM(Substrates!F111:F115)","v":0},{"$nulls":4},0,null,"","xxx"]
[null,"","","","",null,{"$f":"Substrates!E117","v":"Chemicals"},{"$f":"SUM(Substrates!F118:F121)","v":0},{"$nulls":4},0,null,""]
[null,"","","","",null,{"$f":"Substrates!E123","v":"Industrial wastewater and substrates"},{"$f":"SUM(Substrates!F124:F124)","v":0},{"$nulls":4},0,null,"",null,null,1,{"$nulls":7},"reference value, paper production effluent/kg/CH U",{"$f":"INDEX(SimaPro!$1:$1048576,AA$3,MATCH(MainInput!$Z22,SimaPro!$1:$1,0))*$R22*$H22","v":0},{"$f":"INDEX(SimaPro!$1:$1048576,AB$3,MATCH(MainInput!$Z22,SimaPro!$1:$1,0))*$R22*$H22","v":0},{"$f":"INDEX(SimaPro!$1:$1048576,AC$3,MATCH(MainInput!$Z22,SimaPro!$1:$1,0))*$R22*$H22","v":0},{"$f":"INDEX(SimaPro!$1:$1048576,AD$3,MATCH(MainInput!$Z22,SimaPro!$1:$1,0))*$R22*$H22","v":0}]
[61,"Wasserverbrauch","Consommation d'eau","Water consumption","Water consumption",null,{"$f":"E23","v":"Water consumption"},null,{"$f":"IF(O23,1,0)","v":0},"Bitte Wasserverbrauch in m3 angeben","Veuillez préciser la consommation d'eau en m3","Please specify water consumption in m3","Please specify water consumption in m3",{"$f":"IFERROR(IF(O23,\"\",M23),$M$8)","v":"Please specify water consumption in m3"},{"$f":"IF(H23=\"\",FALSE,TRUE)","v":false},null,null,1,null,null,"tap water, unspecified natural origin RER, at user/kg/RER U",{"$f":"INDEX(SimaPro!$1:$1048576,V$3,MATCH(MainInput!$U23,SimaPro!$1:$1,0))*$R23*$H23","v":0},{"$f":"INDEX(SimaPro!$1:$1048576,W$3,MATCH(MainInput!$U23,SimaPro!$1:$1,0))*$R23*$H23","v":0},{"$f":"INDEX(SimaPro!$1:$1048576,X$3,MATCH(MainInput!$U23,SimaPro!$1:$1,0))*$R23*$H23","v":0},{"$f":"INDEX(SimaPro!$1:$1048576,Y$3,MATCH(MainInput!$U23,SimaPro!$1:$1,0))*$R23*$H23","v":0}]
[21,"Gesamtinputmenge für Anlage","Quantité totale de substrats","Total input quantity for the plant","Total input quantity for the plant",null,{"$f":"E24","v":"Total input quantity for the plant"},{"$f":"SUM(H15:H23)","v":0},{"$f":"IF(O24,1,-1)","v":-1},"Bitte Substrate auf sheet \"Substrates\" eingeben","Veuillez entrer les substrats sur la feuille \"Substrates\"","Please enter substrates on sheet \"Substrates\"","Please enter substrates on sheet \"Substrates\"",{"$f":"IFERROR(IF(O24,\"\",M24),$M$8)","v":"Please enter substrates on sheet \"Substrates\""},{"$f":"H24>0","v":false}]
[null,"","","","",{"$nulls":7},0,null,""]
[93,"Fremdenergieverbrauch der Biogasanlage (ohne Eigenverbrauch)","Consommation d'énergie externe de l`installation de biogaz (sans consommation propre)","External energy consumption of the biogas plant (without internal consumption)","External energy consumption of the biogas plant (without internal consumption)",null,{"$f":"E26","v":"External energy consumption of the biogas plant (without internal consumption)"},null,null,"Systemgrenzen beachten","respecter limites système","observe system limits","observe system limits",{"$f":"M26","v":"observe system limits"},"",null,"unterer Heizwert"]
[null,"","","","",{"$nulls":7},0,null,"",null,null,null,"Brennwert","Heizwert"]
[null,"Netzstrom","Consommation d'électricité du réseau","Power supply from the grid","Power supply from the grid",null,{"$f":"E28","v":"Power supply from the grid"},{"$f":"SUM(H29:H31)","v":0},{"$nulls":4},0,null,"",null,null,null,"Ho","Hu"]
[9,"nicht zertifiziert","non certifié","not certified","not certified",null,{"$f":"E29","v":"not certified"},null,null,"","","","",null,"",null,{"$f":"H29","v":0},1,null,null,{"$f":"\"Electricity, medium voltage {\"&StandortCode&\"}| market for | Cut-off, S\"","v":{"$error":"#N/A"}},{"$f":"INDEX(SimaPro!$1:$1048576,V$3,MATCH(MainInput!$U29,SimaPro!$1:$1,0))*$R29*$H29","v":{"$error":"#N/A"}},{"$f":"INDEX(SimaPro!$1:$1048576,W$3,MATCH(MainInput!$U29,SimaPro!$1:$1,0))*$R29*$H29","v":{"$error":"#N/A"}},{"$f":"INDEX(SimaPro!$1:$1048576,X$3,MATCH(MainInput!$U29,SimaPro!$1:$1,0))*$R29*$H29","v":{"$error":"#N/A"}},{"$f":"INDEX(SimaPro!$1:$1048576,Y$3,MATCH(MainInput!$U29,SimaPro!$1:$1,0))*$R29*$H29","v":{"$error":"#N/A"}}]
[null,"erneuerbar, naturemade star","renouvelable, naturemade star ","renewable, naturemade star","renewable, naturemade star",null,{"$f":"E30","v":"renewable, naturemade star"},null,null,{"$f":"J$41","v":"Nachweis mit Zertifikat/HKN"},"Preuve avec certificat / garantie d’origine","Proof with certificate / guarantee of origin","Proof with certificate / guarantee of origin",{"$f":"IF(H30>0,M30,\"\")","v":""},"",null,{"$f":"H30","v":0},1,null,null,"electricity, medium voltage, naturemade star, at grid/CH U",{"$f":"INDEX(SimaPro!$1:$1048576,V$3,MATCH(MainInput!$U30,SimaPro!$1:$1,0))*$R30*$H30","v":0},{"$f":"INDEX(SimaPro!$1:$1048576,W$3,MATCH(MainInput!$U30,SimaPro!$1:$1,0))*$R30*$H30","v":0},{"$f":"INDEX(SimaPro!$1:$1048576,X$3,MATCH(MainInput!$U30,SimaPro!$1:$1,0))*$R30*$H30","v":0},{"$f":"INDEX(SimaPro!$1:$1048576,Y$3,MATCH(MainInput!$U30,SimaPro!$1:$1,0))*$R30*$H30","v":0}]
[null,"erneuerbar, andere Zertifikate","renouvelable, autres certificats","renewable, other certificates","renewable, other certificates",null,{"$f":"E31","v":"renewable, other certificates"},null,null,{"$f":"J$41","v":"Nachweis mit Zertifikat/HKN"},"Preuve avec certificat / garantie d’origine","Proof with certificate / guarantee of origin","Proof with certificate / guarantee of origin",{"$f":"IF(H31>0,M31,\"\")","v":""},"",null,{"$f":"H31","v":0},1,null,null,"electricity, medium voltage, renewable, at grid/kWh/RER U",{"$f":"INDEX(SimaPro!$1:$1048576,V$3,MATCH(MainInput!$U31,SimaPro!$1:$1,0))*$R31*$H31","v":0},{"$f":"INDEX(SimaPro!$1:$1048576,W$3,MATCH(MainInput!$U31,SimaPro!$1:$1,0))*$R31*$H31","v":0},{"$f":"INDEX(SimaPro!$1:$1048576,X$3,MATCH(MainInput!$U31,SimaPro!$1:$1,0))*$R31*$H31","v":0},{"$f":"INDEX(SimaPro!$1:$1048576,Y$3,MATCH(MainInput!$U31,SimaPro!$1:$1,0))*$R31*$H31","v":0}]
[null,"","","","",{"$nulls":7},0,null,""]
[null,"Treibstoffe (Heizwert angeben)","Carburants (pouvoir calorifique inférieur)","Fuels (lower heating value)","Fuels (lower heating value)",null,{"$f":"E33","v":"Fuels (lower heating value)"},{"$f":"SUM(H34:H35)","v":0},{"$nulls":4},0,null,""]
[123,"Dieselverbrauch (Default 10 kWh/Liter)","Diesel (défaut 10 kWh/kg)","Diesel (default 10 kWh/kg)","Diesel (default 10 kWh/kg)",null,{"$f":"E34","v":"Diesel (default 10 kWh/kg)"},{"$nulls":5},0,null,"",null,{"$f":"H34","v":0},1,10.467222222222221,9.9138888888888879,"diesel, burned in building machine, average/MJ/CH U",{"$f":"INDEX(SimaPro!$1:$1048576,V$3,MATCH(MainInput!$U34,SimaPro!$1:$1,0))*$R34*$H34","v":0},{"$f":"INDEX(SimaPro!$1:$1048576,W$3,MATCH(MainInput!$U34,SimaPro!$1:$1,0))*$R34*$H34","v":0},{"$f":"INDEX(SimaPro!$1:$1048576,X$3,MATCH(MainInput!$U34,SimaPro!$1:$1,0))*$R34*$H34","v":0},{"$f":"INDEX(SimaPro!$1:$1048576,Y$3,MATCH(MainInput!$U34,SimaPro!$1:$1,0))*$R34*$H34","v":0}]
[42,"Zündöl (Default 10 kWh/kg)","Diesel d'allumage (défaut 10 kWh/kg)","Ignition oil (default 10 kWh/kg)","Ignition oil (default 10 kWh/kg)",null,{"$f":"E35","v":"Ignition oil (default 10 kWh/kg)"},null,null,"","","","",null,"",null,{"$f":"H35","v":0},{"$f":"1","v":1},{"$f":"S34","v":10.467222222222221},{"$f":"T34","v":9.9138888888888879},"oil combustion, in cogen with ignition gas engine/MJ/CH U",{"$f":"INDEX(SimaPro!$1:$1048576,V$3,MATCH(MainInput!$U35,SimaPro!$1:$1,0))*$R35*$H35","v":0},{"$f":"INDEX(SimaPro!$1:$1048576,W$3,MATCH(MainInput!$U35,SimaPro!$1:$1,0))*$R35*$H35","v":0},{"$f":"INDEX(SimaPro!$1:$1048576,X$3,MATCH(MainInput!$U35,SimaPro!$1:$1,0))*$R35*$H35","v":0},{"$f":"INDEX(SimaPro!$1:$1048576,Y$3,MATCH(MainInput!$U35,SimaPro!$1:$1,0))*$R35*$H35","v":0}]
[null,"","","","",{"$nulls":7},0,null,""]
[null,"Wärme (Brennstoffe mit Brennwert angeben)","Chaleur (spécifier combustibles avec pouvoir calorifique supérieur)","Heat (specify fuels with higher heating value)","Heat (specify fuels with higher heating value)",null,{"$f":"E37","v":"Heat (specify fuels with higher heating value)"},{"$f":"SUM(H38:H48)","v":0},{"$nulls":4},0,null,""]
[10,"Heizöl (Default 10.5 kWh/Liter)","Consommation de mazout (défaut 10.5 kWh/litre)","Fuel oil consumption (default 10.5 kWh/litre)","Fuel oil consumption (default 10.5 kWh/litre)",null,"Fuel oil consumption (default 10.5 kWh/litre)",null,null,"","","","",null,"",null,{"$f":"H38*R38","v":0},{"$f":"T38/S38","v":0.94911504424778748},10.534111111111111,9.9980833333333319,"light fuel oil, burned in industrial furnace 1MW, non-modulating/MJ/RER U",{"$f":"INDEX(SimaPro!$1:$1048576,V$3,MATCH(MainInput!$U38,SimaPro!$1:$1,0))*$R38*$H38","v":0},{"$f":"INDEX(SimaPro!$1:$1048576,W$3,MATCH(MainInput!$U38,SimaPro!$1:$1,0))*$R38*$H38","v":0},{"$f":"INDEX(SimaPro!$1:$1048576,X$3,MATCH(MainInput!$U38,SimaPro!$1:$1,0))*$R38*$H38","v":0},{"$f":"INDEX(SimaPro!$1:$1048576,Y$3,MATCH(MainInput!$U38,SimaPro!$1:$1,0))*$R38*$H38","v":0}]
[18,"Erdgas (Default 11.2 kWh/m3)","Consommation de gaz naturel (défaut 11.2 kWh/m3)","Natural gas consumption (default 11.2 kWh/m3)","Natural gas consumption (default 11.2 kWh/m3)",null,"Natural gas consumption (default 11.2 kWh/m3)",null,null,"","","","",null,"",null,{"$f":"H39*R39","v":0},{"$f":"T39/S39","v":0.9029850746268655},11.166666666666668,10.083333333333332,"Natural gas, burned in boiler condensing modulating >100kW/RER U",{"$f":"INDEX(SimaPro!$1:$1048576,V$3,MATCH(MainInput!$U39,SimaPro!$1:$1,0))*$R39*$H39","v":0},{"$f":"INDEX(SimaPro!$1:$1048576,W$3,MATCH(MainInput!$U39,SimaPro!$1:$1,0))*$R39*$H39","v":0},{"$f":"INDEX(SimaPro!$1:$1048576,X$3,MATCH(MainInput!$U39,SimaPro!$1:$1,0))*$R39*$H39","v":0},{"$f":"INDEX(SimaPro!$1:$1048576,Y$3,MATCH(MainInput!$U39,SimaPro!$1:$1,0))*$R39*$H39","v":0}]
[null,"Biomethan, naturemade star (Default 10.6 kWh/m3)","Biométhane, naturemade star (défaut 10.6 kWh/m3)","Biomethane, naturemade star (default 10.6 kWh/m3)","Biomethane, naturemade star (default 10.6 kWh/m3)",null,"Biomethane, naturemade star (default 10.6 kWh/m3)",null,null,{"$f":"J$41","v":"Nachweis mit Zertifikat/HKN"},"Preuve avec certificat / garantie d’origine","Proof with certificate / guarantee of origin","Proof with certificate / guarantee of origin",{"$f":"IF(H40>0,M40,\"\")","v":""},"",null,{"$f":"H40*R40","v":0},{"$f":"T40/S40","v":0.90311422890189186},10.595999999999998,9.5693983694444444,"biomethane, naturemade star, burned in boiler condensing modulating >100kW/RER U",{"$f":"INDEX(SimaPro!$1:$1048576,V$3,MATCH(MainInput!$U40,SimaPro!$1:$1,0))*$R40*$H40","v":0},{"$f":"INDEX(SimaPro!$1:$1048576,W$3,MATCH(MainInput!$U40,SimaPro!$1:$1,0))*$R40*$H40","v":0},{"$f":"INDEX(SimaPro!$1:$1048576,X$3,MATCH(MainInput!$U40,SimaPro!$1:$1,0))*$R40*$H40","v":0},{"$f":"INDEX(SimaPro!$1:$1048576,Y$3,MATCH(MainInput!$U40,SimaPro!$1:$1,0))*$R40*$H40","v":0}]
[null,"Biomethan, andere Zertifikate (Default 10.6 kWh/m3)","Biométhane, autres certificats (défaut 10.6 kWh/m3)","Biomethane, other certificates (default 10.6 kWh/m3)","Biomethane, other certificates (default 10.6 kWh/m3)",null,"Biomethane, other certificates (default 10.6 kWh/m3)",null,null,"Nachweis mit Zertifikat/HKN","Preuve avec certificat / garantie d’origine","Proof with certificate / guarantee of origin","Proof with certificate / guarantee of origin",{"$f":"IF(H41>0,M41,\"\")","v":""},"",null,{"$f":"H41*R41","v":0},{"$f":"T41/S41","v":0.90311422890189186},10.595999999999998,9.5693983694444444,"biomethane, burned in boiler condensing modulating >100kW/RER U",{"$f":"INDEX(SimaPro!$1:$1048576,V$3,MATCH(MainInput!$U41,SimaPro!$1:$1,0))*$R41*$H41","v":0},{"$f":"INDEX(SimaPro!$1:$1048576,W$3,MATCH(MainInput!$U41,SimaPro!$1:$1,0))*$R41*$H41","v":0},{"$f":"INDEX(SimaPro!$1:$1048576,X$3,MATCH(MainInput!$U41,SimaPro!$1:$1,0))*$R41*$H41","v":0},{"$f":"INDEX(SimaPro!$1:$1048576,Y$3,MATCH(MainInput!$U41,SimaPro!$1:$1,0))*$R41*$H41","v":0}]
[null,"Klärschlammverbrennung","Incinération des boues d'épuration","Sewage sludge incineration","Sewage sludge incineration",null,"Sewage sludge incineration",{"$nulls":5},0,null,"",null,{"$f":"H42*R42","v":0},1,null,null,"Heat, digester sludge, at incineration plant, future, allocation price/CH U",{"$f":"INDEX(SimaPro!$1:$1048576,V$3,MATCH(MainInput!$U42,SimaPro!$1:$1,0))*$R42*$H42","v":0},{"$f":"INDEX(SimaPro!$1:$1048576,W$3,MATCH(MainInput!$U42,SimaPro!$1:$1,0))*$R42*$H42","v":0},{"$f":"INDEX(SimaPro!$1:$1048576,X$3,MATCH(MainInput!$U42,SimaPro!$1:$1,0))*$R42*$H42","v":0},{"$f":"INDEX(SimaPro!$1:$1048576,Y$3,MATCH(MainInput!$U42,SimaPro!$1:$1,0))*$R42*$H42","v":0}]
[null,"Kehrichtverbrennungsanlage","Usine d'incinération des ordures ménagères","Municipal Waste incineration plant","Municipal Waste incineration plant",null,"Municipal Waste incineration plant",{"$nulls":5},0,null,"",null,{"$f":"H43","v":0},5.8999999999999999E-3,null,null,"Werte aus Treeze KVA naturemade Zertifizierungsbericht",{"$f":"$R43*$H43","v":0}]
[null,"Kehrichtverbrennungsanlage, naturemade resources star","Usine d'incinération des ordures ménagères, naturemade ressources star","Municipal Waste incineration plant, naturemade resources star","Municipal Waste incineration plant, naturemade resources star",null,"Municipal Waste incineration plant, naturemade resources star",null,null,{"$f":"J$41","v":"Nachweis mit Zertifikat/HKN"},"Preuve avec certificat / garantie d’origine","Proof with certificate / guarantee of origin","Proof with certificate / guarantee of origin",{"$f":"IF(H44>0,M44,\"\")","v":""},"",null,0,3.362299E-3,null,null,"Werte aus naturemade Zertifizierung, Mittelwert 10.2.2021",0]
[null,"Holz (Default 5.6 kWh/kg)","Bois (défaut 5.6 kWh/kg)","Wood (default 5.6 kWh/kg)","Wood (default 5.6 kWh/kg)",null,"Wood (default 5.6 kWh/kg)",{"$nulls":5},0,null,"",null,{"$f":"H45*R45","v":0},{"$f":"T45/S45","v":0.85714285714285721},5.6,4.8,"Wood chips, from forest, mixed, burned in furnace 1000kW/CH U",{"$f":"INDEX(SimaPro!$1:$1048576,V$3,MATCH(MainInput!$U45,SimaPro!$1:$1,0))*$R45*$H45","v":0},{"$f":"INDEX(SimaPro!$1:$1048576,W$3,MATCH(MainInput!$U45,SimaPro!$1:$1,0))*$R45*$H45","v":0},{"$f":"INDEX(SimaPro!$1:$1048576,X$3,MATCH(MainInput!$U45,SimaPro!$1:$1,0))*$R45*$H45","v":0},{"$f":"INDEX(SimaPro!$1:$1048576,Y$3,MATCH(MainInput!$U45,SimaPro!$1:$1,0))*$R45*$H45","v":0}]
[null,"Holz, naturemade star (Default 5.6 kWh/kg)","Bois, naturemade star (défaut 5.6 kWh/kg)","Wood, naturemade star (default 5.6 kWh/kg)","Wood, naturemade star (default 5.6 kWh/kg)",null,"Wood, naturemade star (default 5.6 kWh/kg)",null,null,{"$f":"J$41","v":"Nachweis mit Zertifikat/HKN"},"Preuve avec certificat / garantie d’origine","Proof with certificate / guarantee of origin","Proof with certificate / guarantee of origin",{"$f":"IF(H46>0,M46,\"\")","v":""},"",null,0,0.85714285714285721,5.6,4.8,"Wood chips, from forest, mixed, burned in furnace 1000kW/CH U",{"$f":"INDEX(SimaPro!$1:$1048576,V$3,MATCH(MainInput!$U46,SimaPro!$1:$1,0))*$R46*$H46","v":0},{"$f":"INDEX(SimaPro!$1:$1048576,W$3,MATCH(MainInput!$U46,SimaPro!$1:$1,0))*$R46*$H46","v":0},{"$f":"INDEX(SimaPro!$1:$1048576,X$3,MATCH(MainInput!$U46,SimaPro!$1:$1,0))*$R46*$H46","v":0},{"$f":"INDEX(SimaPro!$1:$1048576,Y$3,MATCH(MainInput!$U46,SimaPro!$1:$1,0))*$R46*$H46","v":0}]
[null,"Holzpellets (Default 5.6 kWh/kg)","Pellets de bois (défaut 5.6 kWh/kg)","Wood pellets (default 5.6 kWh/kg)","Wood pellets (default 5.6 kWh/kg)",null,"Wood pellets (default 5.6 kWh/kg)",{"$nulls":5},0,null,"",null,0,{"$f":"T47/S47","v":0.85714285714285721},5.6,4.8,"Pellets, mixed, burned in furnace 50kW/CH U",{"$f":"INDEX(SimaPro!$1:$1048576,V$3,MATCH(MainInput!$U47,SimaPro!$1:$1,0))*$R47*$H47","v":0},{"$f":"INDEX(SimaPro!$1:$1048576,W$3,MATCH(MainInput!$U47,SimaPro!$1:$1,0))*$R47*$H47","v":0},{"$f":"INDEX(SimaPro!$1:$1048576,X$3,MATCH(MainInput!$U47,SimaPro!$1:$1,0))*$R47*$H47","v":0},{"$f":"INDEX(SimaPro!$1:$1048576,Y$3,MATCH(MainInput!$U47,SimaPro!$1:$1,0))*$R47*$H47","v":0}]
[null,"Holzpellets, naturemade star (Default 5.6 kWh/kg)","Pellets de bois, naturemade star (défaut 5.6 kWh/kg)","Wood pellets, naturemade star (default 5.6 kWh/kg)","Wood pellets, naturemade star (default 5.6 kWh/kg)",null,"Wood pellets, naturemade star (default 5.6 kWh/kg)",null,null,{"$f":"J$41","v":"Nachweis mit Zertifikat/HKN"},"Preuve avec certificat / garantie d’origine","Proof with certificate / guarantee of origin","Proof with certificate / guarantee of origin",{"$f":"IF(H48>0,M48,\"\")","v":""},"",null,0,0.85714285714285721,5.6,4.8,"Pellets, mixed, burned in furnace 50kW/CH U",{"$f":"INDEX(SimaPro!$1:$1048576,V$3,MATCH(MainInput!$U48,SimaPro!$1:$1,0))*$R48*$H48","v":0},{"$f":"INDEX(SimaPro!$1:$1048576,W$3,MATCH(MainInput!$U48,SimaPro!$1:$1,0))*$R48*$H48","v":0},{"$f":"INDEX(SimaPro!$1:$1048576,X$3,MATCH(MainInput!$U48,SimaPro!$1:$1,0))*$R48*$H48","v":0},{"$f":"INDEX(SimaPro!$1:$1048576,Y$3,MATCH(MainInput!$U48,SimaPro!$1:$1,0))*$R48*$H48","v":0}]
[null,"","","","",null,"",{"$nulls":5},0,null,""]
[null,"Anteil Fernwärme an Brennstoffen und Wärme","Part du chauffage à distance dans les combustibles et la chaleur","Share of district heating in fuels and heat","Share of district heating in fuels and heat",null,"Share of district heating in fuels and heat",0,null,"Bitte Anteil Fernwärme am gesamten Wärmebezug ausrechnen, falls Fernwärme genutzt wird","Veuillez calculer la part du chauffage urbain dans la consommation totale de chaleur si le chauffage urbain est utilisé","Please calculate the share of district heating in the total heat consumption, if district heating is used","Please calculate the share of district heating in the total heat consumption, if district heating is used",{"$f":"M50","v":"Please calculate the share of district heating in the total heat consumption, if district heating is used"},"",null,0.1,{"$f":"H37","v":0},null,null,"transport, district heat network, average/CH/I U",{"$f":"INDEX(SimaPro!$1:$1048576,V$3,MATCH(MainInput!$U50,SimaPro!$1:$1,0))*$R50*$H50+$Q50*SUM(V38:V48)","v":0},{"$f":"INDEX(SimaPro!$1:$1048576,W$3,MATCH(MainInput!$U50,SimaPro!$1:$1,0))*$R50*$H50+$Q50*SUM(W38:W48)","v":0},{"$f":"INDEX(SimaPro!$1:$1048576,X$3,MATCH(MainInput!$U50,SimaPro!$1:$1,0))*$R50*$H50+$Q50*SUM(X38:X48)","v":0},{"$f":"INDEX(SimaPro!$1:$1048576,Y$3,MATCH(MainInput!$U50,SimaPro!$1:$1,0))*$R50*$H50+$Q50*SUM(Y38:Y48)","v":0}]
[null,"","","","",null,"",{"$nulls":5},0,null,""]
[null,"Total Fremdenergieverbrauch","Consommation totale d'énergie externe","Total external energy consumption","Total external energy consumption",null,"Total external energy consumption",{"$f":"H37+H33+H28","v":0},{"$nulls":4},0,null,"",null,{"$f":"Q37+Q33+Q28","v":0},1,null,null,null,{"$f":"SUM(V29:V50)","v":{"$error":"#N/A"}},{"$f":"SUM(W29:W50)","v":{"$error":"#N/A"}},{"$f":"SUM(X29:X50)","v":{"$error":"#N/A"}},{"$f":"SUM(Y29:Y50)","v":{"$error":"#N/A"}}]
[null,"Abzuziehen zur Berechnung der Nettoenergie","A déduire pour calculer l'énergie nette","To be deducted for calculation of net energy","To be deducted for calculation of net energy",null,"To be deducted for calculation of net energy",{"$f":"H52-H30-H40-H42-H44-H46-H48","v":0},{"$nulls":4},0,null,"",null,null,1]
[null,"","","","",{"$nulls":7},0,null,"",null,null,1]
[11,"Energieprodukte","Produits énergétiques","Energy products","Energy products",null,{"$f":"E55","v":"Energy products"},{"$nulls":5},0,null,"",null,null,1]
[null,"","","","",{"$nulls":7},0,null,"",null,null,1,null,null,null,{"$f":"INDEX(SimaPro!$1:$1048576,V$3,MATCH(MainInput!$U56,SimaPro!$1:$1,0))*$R56*$H56","v":0},{"$f":"INDEX(SimaPro!$1:$1048576,W$3,MATCH(MainInput!$U56,SimaPro!$1:$1,0))*$R56*$H56","v":0},{"$f":"INDEX(SimaPro!$1:$1048576,X$3,MATCH(MainInput!$U56,SimaPro!$1:$1,0))*$R56*$H56","v":0},{"$f":"INDEX(SimaPro!$1:$1048576,Y$3,MATCH(MainInput!$U56,SimaPro!$1:$1,0))*$R56*$H56","v":0}]
[null,"Biogas (Brennwert angeben)","Biogaz (spécifier pouvoir calorifique supérieur)","Biogas (specify higher heating value)","Biogas (specify higher heating value)",null,{"$f":"E57","v":"Biogas (specify higher heating value)"},"kWh",{"$nulls":4},0,null,"",null,null,1,null,null,null,{"$f":"INDEX(SimaPro!$1:$1048576,V$3,MATCH(MainInput!$U57,SimaPro!$1:$1,0))*$R57*$H57","v":{"$error":"#VALUE!"}},{"$f":"INDEX(SimaPro!$1:$1048576,W$3,MATCH(MainInput!$U57,SimaPro!$1:$1,0))*$R57*$H57","v":{"$error":"#VALUE!"}},{"$f":"INDEX(SimaPro!$1:$1048576,X$3,MATCH(MainInput!$U57,SimaPro!$1:$1,0))*$R57*$H57","v":{"$error":"#VALUE!"}},{"$f":"INDEX(SimaPro!$1:$1048576,Y$3,MATCH(MainInput!$U57,SimaPro!$1:$1,0))*$R57*$H57","v":{"$error":"#VALUE!"}}]
[12,"Bruttoproduktion Biogas (Default 7.4 kWh/m3)","Production brute de biogaz (défaut 7.4 kWh/m3)","Gross production biogas (default 7.4 kWh/m3)","Gross production biogas (default 7.4 kWh/m3)",null,{"$f":"E58","v":"Gross production biogas (default 7.4 kWh/m3)"},null,{"$f":"IF(O58,1,-1)","v":-1},"Gasertrag grösser als 125% des theoretischen Ertrages oder fehlende Eingabe","Rendement du gaz supérieur à 125 % du rendement théorique ou apport manquant","Gas yield greater than 125% of theoretical yield or missing input","Gas yield greater than 125% of theoretical yield or missing input",{"$f":"IFERROR(IF(H58=0,\"please specify / Bitte angeben / veuillez préciser\",IF(O58,\"\",M58)),0)","v":"please specify / Bitte angeben / veuillez préciser"},{"$f":"IF(H58=0,FALSE,Q58/5.7<Gasertrag_berechnet*1.25)","v":false},{"$f":"Gasertrag_berechnet/5.7","v":0},{"$f":"H58*R58","v":0},{"$f":"T58/S58","v":0.90311248833221591},7.3951250000000002,6.6786297402777786,null,{"$f":"INDEX(SimaPro!$1:$1048576,V$3,MATCH(MainInput!$U58,SimaPro!$1:$1,0))*$R58*$H58","v":0},{"$f":"INDEX(SimaPro!$1:$1048576,W$3,MATCH(MainInput!$U58,SimaPro!$1:$1,0))*$R58*$H58","v":0},{"$f":"INDEX(SimaPro!$1:$1048576,X$3,MATCH(MainInput!$U58,SimaPro!$1:$1,0))*$R58*$H58","v":0},{"$f":"INDEX(SimaPro!$1:$1048576,Y$3,MATCH(MainInput!$U58,SimaPro!$1:$1,0))*$R58*$H58","v":0}]
[24,"Methanschlupf in Aufbereitungsanlage (Default 7.4 kWh/m3)","Glissement de méthane dans l'installation de traitement (défaut 7.4 kWh/m3)","Methane slip in upgrading plant (default 7.4 kWh/m3)","Methane slip in upgrading plant (default 7.4 kWh/m3)",null,{"$f":"E59","v":"Methane slip in upgrading plant (default 7.4 kWh/m3)"},null,{"$f":"IF(ISNA(O59),0,IF(O59,1,-1))","v":-1},"Methanschlupf ist grösser als 1% der produzierten Biogasmenge!","Le glissement du méthane est supérieur à 1 % du biogaz produit !","Methane slip is greater than 1% of the amount of biogas produced!","Methane slip is greater than 1% of the amount of biogas produced!",{"$f":"IFERROR(IF(H59=0,\"please specify / Bitte angeben / veuillez préciser\",IF(O59,\"\",M59)),0)","v":"please specify / Bitte angeben / veuillez préciser"},{"$f":"IF(H59=0,FALSE,H59/H58<1.1%)","v":false},{"$f":"Q59/Q58","v":{"$error":"#DIV/0!"}},0,{"$f":"R58","v":0.90311248833221591},null,null,"biogas, vented/CH U",{"$f":"INDEX(SimaPro!$1:$1048576,V$3,MATCH(MainInput!$U59,SimaPro!$1:$1,0))*$R59*$H59","v":0},{"$f":"INDEX(SimaPro!$1:$1048576,W$3,MATCH(MainInput!$U59,SimaPro!$1:$1,0))*$R59*$H59","v":0},{"$f":"INDEX(SimaPro!$1:$1048576,X$3,MATCH(MainInput!$U59,SimaPro!$1:$1,0))*$R59*$H59","v":0},{"$f":"INDEX(SimaPro!$1:$1048576,Y$3,MATCH(MainInput!$U59,SimaPro!$1:$1,0))*$R59*$H59","v":0}]
[122,"Biogas verbrannt in Fackel (Default 7.4 kWh/m3)","Biogaz des torchères (défaut 7.4 kWh/m3)","Biogas burned in flare (default 7.4 kWh/m3)","Biogas burned in flare (default 7.4 kWh/m3)",null,{"$f":"E60","v":"Biogas burned in flare (default 7.4 kWh/m3)"},null,{"$f":"IF(H58=0,0,IF(AND(H58>0,H60=0),0,IF(O60,1,-1)))","v":0},"Mehr als 3% (mit BHKW) bzw. 7% (ohne BHKW) der produzierten Biogasmenge werden abgefackelt","Plus de 3% (avec cogénération) ou 7% (sans cogénération) de la quantité de biogaz produite est brûlée à la torche","More than 3% (with CHP) or 7% (without CHP) of the gas produced is burned in a flare","More than 3% (with CHP) or 7% (without CHP) of the gas produced is burned in a flare",{"$f":"IFERROR(IF(H60=0,\"please specify / Bitte angeben / veuillez préciser\",IF(O60,\"\",M60)),0)","v":"please specify / Bitte angeben / veuillez préciser"},{"$f":"IF(OR(AND(H64>0,H60<H58*0.03),AND(H64=0,H60<H58*0.07)),TRUE,FALSE)","v":false},null,0,{"$f":"T60/S60","v":0.90311248833221591},7.3951250000000002,6.6786297402777786,"biogas, burned in production flare/MJ/GLO U",{"$f":"INDEX(SimaPro!$1:$1048576,V$3,MATCH(MainInput!$U60,SimaPro!$1:$1,0))*$R60*$H60","v":0},{"$f":"INDEX(SimaPro!$1:$1048576,W$3,MATCH(MainInput!$U60,SimaPro!$1:$1,0))*$R60*$H60","v":0},{"$f":"INDEX(SimaPro!$1:$1048576,X$3,MATCH(MainInput!$U60,SimaPro!$1:$1,0))*$R60*$H60","v":0},{"$f":"INDEX(SimaPro!$1:$1048576,Y$3,MATCH(MainInput!$U60,SimaPro!$1:$1,0))*$R60*$H60","v":0}]
[null,"","","","",{"$nulls":7},0,null,""]
[16,"Biomethan: Verkauf und Verbrauch extern (Default 10.6 kWh/m3)","Biométhane : vente et consommation externe (défaut 10.6 kWh/m3)","Biomethane: sale and external consumption (default 10.6 kWh Ho/m3)","Biomethane: sale and external consumption (default 10.6 kWh Ho/m3)",null,{"$f":"E62","v":"Biomethane: sale and external consumption (default 10.6 kWh Ho/m3)"},{"$nulls":5},0,null,"",null,{"$f":"H62*R62","v":0},{"$f":"R63","v":0.90311248833221591},null,null,"methane, 96 vol-%, purification and distribution/kWh/CH U",{"$f":"INDEX(SimaPro!$1:$1048576,V$3,MATCH(MainInput!$U62,SimaPro!$1:$1,0))*$R62*$H62","v":0},{"$f":"INDEX(SimaPro!$1:$1048576,W$3,MATCH(MainInput!$U62,SimaPro!$1:$1,0))*$R62*$H62","v":0},{"$f":"INDEX(SimaPro!$1:$1048576,X$3,MATCH(MainInput!$U62,SimaPro!$1:$1,0))*$R62*$H62","v":0},{"$f":"INDEX(SimaPro!$1:$1048576,Y$3,MATCH(MainInput!$U62,SimaPro!$1:$1,0))*$R62*$H62","v":0},"threshold value, methane/kWh/CH U",{"$f":"INDEX(SimaPro!$1:$1048576,AA$3,MATCH(MainInput!$Z62,SimaPro!$1:$1,0))*$R62*$H62","v":0},{"$f":"INDEX(SimaPro!$1:$1048576,AB$3,MATCH(MainInput!$Z62,SimaPro!$1:$1,0))*$R62*$H62","v":0},{"$f":"INDEX(SimaPro!$1:$1048576,AC$3,MATCH(MainInput!$Z62,SimaPro!$1:$1,0))*$R62*$H62","v":0},{"$f":"INDEX(SimaPro!$1:$1048576,AD$3,MATCH(MainInput!$Z62,SimaPro!$1:$1,0))*$R62*$H62","v":0}]
[116,"Biogas: Verkauf und Verbrauch extern (Default 7.4 kWh/m3)","Biogaz : vente et consommation externe (défaut 7.4 kWh/m3)","Biogas: sale and external consumption (default 7.4 kWh/m3)","Biogas: sale and external consumption (default 7.4 kWh/m3)",null,"Biogas: sale and external consumption (default 7.4 kWh/m3)",{"$nulls":5},0,null,null,null,0,{"$f":"T63/S63","v":0.90311248833221591},7.3951250000000002,6.6786297402777786,"raw biogas, distribution/kWh/CH U",{"$f":"INDEX(SimaPro!$1:$1048576,V$3,MATCH(MainInput!$U63,SimaPro!$1:$1,0))*$R63*$H63","v":0},{"$f":"INDEX(SimaPro!$1:$1048576,W$3,MATCH(MainInput!$U63,SimaPro!$1:$1,0))*$R63*$H63","v":0},{"$f":"INDEX(SimaPro!$1:$1048576,X$3,MATCH(MainInput!$U63,SimaPro!$1:$1,0))*$R63*$H63","v":0},{"$f":"INDEX(SimaPro!$1:$1048576,Y$3,MATCH(MainInput!$U63,SimaPro!$1:$1,0))*$R63*$H63","v":0},"threshold value, methane/kWh/CH U",{"$f":"INDEX(SimaPro!$1:$1048576,AA$3,MATCH(MainInput!$Z63,SimaPro!$1:$1,0))*$R63*$H63","v":0},{"$f":"INDEX(SimaPro!$1:$1048576,AB$3,MATCH(MainInput!$Z63,SimaPro!$1:$1,0))*$R63*$H63","v":0},{"$f":"INDEX(SimaPro!$1:$1048576,AC$3,MATCH(MainInput!$Z63,SimaPro!$1:$1,0))*$R63*$H63","v":0},{"$f":"INDEX(SimaPro!$1:$1048576,AD$3,MATCH(MainInput!$Z63,SimaPro!$1:$1,0))*$R63*$H63","v":0}]
[13,"Biogas: Lokale Nutzung in Heizung oder BHKW (Default 7.4 kWh/m3)","Biogaz : Utilisation locale pour chauffage or CHP (défaut 7.4 kWh/m3)","Biogas: local use in heating or CHP (default 7.4 kWh/m3)","Biogas: local use in heating or CHP (default 7.4 kWh/m3)",null,"Biogas: local use in heating or CHP (default 7.4 kWh/m3)",null,{"$f":"IF(AND(H64>0,H70+H76+H78=0),0,1)","v":1},"Bitte Strom- bzw. Wärmeproduktion unten eintragen","Veuillez entrer la production d'électricité ou de chaleur ci-dessous","Please enter electricity or heat production below","Please enter electricity or heat production below",{"$f":"IF(I64=0,M64,\"\")","v":""},"",null,0,{"$f":"T64/S64","v":0.90311248833221591},7.3951250000000002,6.6786297402777786,{"$f":"INDEX(menuesBG!$1:$1048576,MATCH(MainInput!H65,menuesBG!F:F,0),COLUMN(menuesBG!$H$1))","v":"biogas combustion, in cogen with biogas engine/MJ/CH U"},{"$f":"INDEX(SimaPro!$1:$1048576,V$3,MATCH(MainInput!$U64,SimaPro!$1:$1,0))*$R64*$H64","v":0},{"$f":"INDEX(SimaPro!$1:$1048576,W$3,MATCH(MainInput!$U64,SimaPro!$1:$1,0))*$R64*$H64","v":0},{"$f":"INDEX(SimaPro!$1:$1048576,X$3,MATCH(MainInput!$U64,SimaPro!$1:$1,0))*$R64*$H64","v":0},{"$f":"INDEX(SimaPro!$1:$1048576,Y$3,MATCH(MainInput!$U64,SimaPro!$1:$1,0))*$R64*$H64","v":0}]
[81,"Biogas: Art der lokalen Nutzung","Biogaz : Type de utilisation locale","Biogas: Type of local use","Biogas: Type of local use",null,"Biogas: Type of local use","Gas engine (candle ignition)",{"$f":"IF(ISNA(O65),0,IF(H64=0,1,IF(O65,1,-1)))","v":1},"","","","",{"$f":"IFERROR(IF(O65,\"\",M65),$M$8)","v":""},{"$f":"IF(BHKW/BHKW=1,TRUE,BHKW/BHKW)","v":true},{"$f":"MATCH(MainInput!H65,menuesBG!F$82:F$86,0)","v":1},null,1]
[103,"Biogas: Stickoxide NOx als NO2 aus Heizung oder BHKW","Biogaz: Oxydes d'azote NOx en NO2 provenant du chauffage ou CHP","Biogas: Nitrogen oxides NOx as NO2 from heating or CHP","Biogas: Nitrogen oxides NOx as NO2 from heating or CHP",null,"Biogas: Nitrogen oxides NOx as NO2 from heating or CHP",400,{"$f":"IF(O66,1,-1)","v":1},"Grenzwert LRV wird nicht eingehalten oder Eingabe NOx fehlt.","La valeur limite OPair n'est pas observée ou l'entrée NOx est manquante.","Limit value of OAPC exceeded or input NOx is missing.","Limit value of OAPC exceeded or input NOx is missing.",{"$f":"IFERROR(IF(O66,\"\",M66),$M$8)","v":""},{"$f":"IF(Q64>1,AND(0<H66,H66<=400),TRUE)","v":true},null,null,{"$f":"7.57773723372344/21.46*(H66-1100)/1000000*Q64*3.6","v":0},null,null,"emission, NOx/kg/CH U",{"$f":"INDEX(SimaPro!$1:$1048576,V$3,MATCH(MainInput!$U66,SimaPro!$1:$1,0))*$R66","v":0},{"$f":"INDEX(SimaPro!$1:$1048576,W$3,MATCH(MainInput!$U66,SimaPro!$1:$1,0))*$R66","v":0},{"$f":"INDEX(SimaPro!$1:$1048576,X$3,MATCH(MainInput!$U66,SimaPro!$1:$1,0))*$R66","v":0},{"$f":"INDEX(SimaPro!$1:$1048576,Y$3,MATCH(MainInput!$U66,SimaPro!$1:$1,0))*$R66","v":0}]
[55,"Total Biogasnutzung, Brutto","Utilisation totale de biogaz, brute","Total biogas use, gross","Total biogas use, gross",null,"Total biogas use, gross",{"$f":"H62+H63+H64","v":0},{"$f":"IF(O67,1,-1)","v":1},"Genutzte Biogas- und Biomethanmenge überschreitet die produzierte Biogasmenge","La quantité de biogaz et de biométhane utilisée dépasse la quantité de biogaz produite","Amount of biogas and biomethane used exceeds the amount of biogas produced","Amount of biogas and biomethane used exceeds the amount of biogas produced",{"$f":"IFERROR(IF(O67,\"\",M67),$M$8)","v":""},{"$f":"Q67<=Q58","v":true},null,{"$f":"Q62+Q63+Q64","v":0},{"$nulls":4},{"$f":"INDEX(SimaPro!$1:$1048576,V$3,MATCH(MainInput!$U67,SimaPro!$1:$1,0))*$R67*$H67","v":0},{"$f":"INDEX(SimaPro!$1:$1048576,W$3,MATCH(MainInput!$U67,SimaPro!$1:$1,0))*$R67*$H67","v":0},{"$f":"INDEX(SimaPro!$1:$1048576,X$3,MATCH(MainInput!$U67,SimaPro!$1:$1,0))*$R67*$H67","v":0},{"$f":"INDEX(SimaPro!$1:$1048576,Y$3,MATCH(MainInput!$U67,SimaPro!$1:$1,0))*$R67*$H67","v":0}]
[null,"","","","",{"$nulls":7},0,null,"",null,null,1,null,null,null,{"$f":"INDEX(SimaPro!$1:$1048576,V$3,MATCH(MainInput!$U68,SimaPro!$1:$1,0))*$R68*$H68","v":0},{"$f":"INDEX(SimaPro!$1:$1048576,W$3,MATCH(MainInput!$U68,SimaPro!$1:$1,0))*$R68*$H68","v":0},{"$f":"INDEX(SimaPro!$1:$1048576,X$3,MATCH(MainInput!$U68,SimaPro!$1:$1,0))*$R68*$H68","v":0},{"$f":"INDEX(SimaPro!$1:$1048576,Y$3,MATCH(MainInput!$U68,SimaPro!$1:$1,0))*$R68*$H68","v":0}]
[null,"Strom aus BHKW","Courant ","Electricity","Electricity",null,{"$f":"E69","v":"Electricity"},"kWh",{"$nulls":4},0,null,"",null,null,1,null,null,null,{"$f":"INDEX(SimaPro!$1:$1048576,V$3,MATCH(MainInput!$U69,SimaPro!$1:$1,0))*$R69*$H69","v":{"$error":"#VALUE!"}},{"$f":"INDEX(SimaPro!$1:$1048576,W$3,MATCH(MainInput!$U69,SimaPro!$1:$1,0))*$R69*$H69","v":{"$error":"#VALUE!"}},{"$f":"INDEX(SimaPro!$1:$1048576,X$3,MATCH(MainInput!$U69,SimaPro!$1:$1,0))*$R69*$H69","v":{"$error":"#VALUE!"}},{"$f":"INDEX(SimaPro!$1:$1048576,Y$3,MATCH(MainInput!$U69,SimaPro!$1:$1,0))*$R69*$H69","v":{"$error":"#VALUE!"}}]
[99,"Bruttoproduktion Strom","Production totale de courant, brut","Total production electricity, gross","Total production electricity, gross",null,{"$f":"E70","v":"Total production electricity, gross"},null,{"$f":"IF(AND(H64=0,H70=0),1,IF(AND(H64>0,H70=0,BHKW=5),1,IF(AND(H64>0,H70=0,NOT(BHKW=5)),-1,IF(AND(H64>0,H64>=H70,H70>0),1,-1))))","v":1},"Stromproduktion fehlt oder Stromproduktion grösser als Biogasnutzung in BHKW","Production d'électricité manquante ou production d'électricité supérieure à l'utilisation de biogaz dans une unité de cogénération","Electricity production missing or electricity production larger than biogas use in CHP unit","Electricity production missing or electricity production larger than biogas use in CHP unit",{"$f":"IFERROR(IF(O70,\"\",M70),$M$8)","v":""},{"$f":"NOT(I70=-1)","v":true},{"$f":"Q70/Q64","v":{"$error":"#DIV/0!"}},{"$f":"H70","v":0},1,null,null,null,{"$f":"INDEX(SimaPro!$1:$1048576,V$3,MATCH(MainInput!$U70,SimaPro!$1:$1,0))*$R70*$H70","v":0},{"$f":"INDEX(SimaPro!$1:$1048576,W$3,MATCH(MainInput!$U70,SimaPro!$1:$1,0))*$R70*$H70","v":0},{"$f":"INDEX(SimaPro!$1:$1048576,X$3,MATCH(MainInput!$U70,SimaPro!$1:$1,0))*$R70*$H70","v":0},{"$f":"INDEX(SimaPro!$1:$1048576,Y$3,MATCH(MainInput!$U70,SimaPro!$1:$1,0))*$R70*$H70","v":0}]
[null,"Elektrischer Wirkungsgrad","Efficacité énergétique","Electrical efficiency","Electrical efficiency",null,{"$f":"E71","v":"Electrical efficiency"},{"$f":"IF(H64>0,ROUND(H70/H64*100,0),0)/100","v":0},{"$nulls":4},0,null,"",null,null,1,null,null,null,{"$f":"INDEX(SimaPro!$1:$1048576,V$3,MATCH(MainInput!$U71,SimaPro!$1:$1,0))*$R71*$H71","v":0},{"$f":"INDEX(SimaPro!$1:$1048576,W$3,MATCH(MainInput!$U71,SimaPro!$1:$1,0))*$R71*$H71","v":0},{"$f":"INDEX(SimaPro!$1:$1048576,X$3,MATCH(MainInput!$U71,SimaPro!$1:$1,0))*$R71*$H71","v":0},{"$f":"INDEX(SimaPro!$1:$1048576,Y$3,MATCH(MainInput!$U71,SimaPro!$1:$1,0))*$R71*$H71","v":0}]
[100,"Eigenverbrauch aus Bruttostromproduktion","Consommation propre de l'installation","Internal consumption of the plant from gross electricity production","Internal consumption of the plant from gross electricity production",null,{"$f":"E72","v":"Internal consumption of the plant from gross electricity production"},null,{"$f":"IF(H72>H70,-1,1)","v":1},"Eigenverbrauch Strom grösser Stromproduktion","La consommation propre d'électricité est supérieure à la production d'électricité","Own consumption of electricity greater than electricity production","Own consumption of electricity greater than electricity production",{"$f":"IF(I72=-1,M72,\"\")","v":""},"",null,{"$f":"H72","v":0},1,null,null,null,{"$f":"INDEX(SimaPro!$1:$1048576,V$3,MATCH(MainInput!$U72,SimaPro!$1:$1,0))*$R72*$H72","v":0},{"$f":"INDEX(SimaPro!$1:$1048576,W$3,MATCH(MainInput!$U72,SimaPro!$1:$1,0))*$R72*$H72","v":0},{"$f":"INDEX(SimaPro!$1:$1048576,X$3,MATCH(MainInput!$U72,SimaPro!$1:$1,0))*$R72*$H72","v":0},{"$f":"INDEX(SimaPro!$1:$1048576,Y$3,MATCH(MainInput!$U72,SimaPro!$1:$1,0))*$R72*$H72","v":0}]
[14,"Strom: Verkauf und Verbrauch ausserhalb der Anlage","Courant : vente et consommation hors de l'installation","Electricity: sale and consumption outside the plant","Electricity: sale and consumption outside the plant",null,{"$f":"E73","v":"Electricity: sale and consumption outside the plant"},null,{"$f":"IF(O73,1,-1)","v":1},"Verhältnis von Stromverkauf und -verbrauch und Stromproduktion prüfen","Examiner la relation entre les ventes et la consommation d'électricité et la production d'électricité","Check ratio of electricity sales and consumption to electricity production","Check ratio of electricity sales and consumption to electricity production",{"$f":"IFERROR(IF(O73,\"\",M73),$M$8)","v":""},{"$f":"AND((Q70-Q72-Q73)<=Q70*0.2,(Q70-Q72-Q73)>=0)","v":true},null,{"$f":"H73","v":0},1,null,null,null,{"$f":"INDEX(SimaPro!$1:$1048576,V$3,MATCH(MainInput!$U73,SimaPro!$1:$1,0))*$R73*$H73","v":0},{"$f":"INDEX(SimaPro!$1:$1048576,W$3,MATCH(MainInput!$U73,SimaPro!$1:$1,0))*$R73*$H73","v":0},{"$f":"INDEX(SimaPro!$1:$1048576,X$3,MATCH(MainInput!$U73,SimaPro!$1:$1,0))*$R73*$H73","v":0},{"$f":"INDEX(SimaPro!$1:$1048576,Y$3,MATCH(MainInput!$U73,SimaPro!$1:$1,0))*$R73*$H73","v":0},"threshold value, electricity/kWh/CH U",{"$f":"INDEX(SimaPro!$1:$1048576,AA$3,MATCH(MainInput!$Z73,SimaPro!$1:$1,0))*$R73*$H73","v":0},{"$f":"INDEX(SimaPro!$1:$1048576,AB$3,MATCH(MainInput!$Z73,SimaPro!$1:$1,0))*$R73*$H73","v":0},{"$f":"INDEX(SimaPro!$1:$1048576,AC$3,MATCH(MainInput!$Z73,SimaPro!$1:$1,0))*$R73*$H73","v":0},{"$f":"INDEX(SimaPro!$1:$1048576,AD$3,MATCH(MainInput!$Z73,SimaPro!$1:$1,0))*$R73*$H73","v":0}]
[null,"","","","",{"$nulls":7},0,null,"",null,null,1,null,null,null,{"$f":"INDEX(SimaPro!$1:$1048576,V$3,MATCH(MainInput!$U74,SimaPro!$1:$1,0))*$R74*$H74","v":0},{"$f":"INDEX(SimaPro!$1:$1048576,W$3,MATCH(MainInput!$U74,SimaPro!$1:$1,0))*$R74*$H74","v":0},{"$f":"INDEX(SimaPro!$1:$1048576,X$3,MATCH(MainInput!$U74,SimaPro!$1:$1,0))*$R74*$H74","v":0},{"$f":"INDEX(SimaPro!$1:$1048576,Y$3,MATCH(MainInput!$U74,SimaPro!$1:$1,0))*$R74*$H74","v":0}]
[null,"Wärme","Chaleur","Heat","Heat",null,{"$f":"E75","v":"Heat"},"kWh",{"$nulls":4},0,null,"",null,null,1,null,null,null,{"$f":"INDEX(SimaPro!$1:$1048576,V$3,MATCH(MainInput!$U75,SimaPro!$1:$1,0))*$R75*$H75","v":{"$error":"#VALUE!"}},{"$f":"INDEX(SimaPro!$1:$1048576,W$3,MATCH(MainInput!$U75,SimaPro!$1:$1,0))*$R75*$H75","v":{"$error":"#VALUE!"}},{"$f":"INDEX(SimaPro!$1:$1048576,X$3,MATCH(MainInput!$U75,SimaPro!$1:$1,0))*$R75*$H75","v":{"$error":"#VALUE!"}},{"$f":"INDEX(SimaPro!$1:$1048576,Y$3,MATCH(MainInput!$U75,SimaPro!$1:$1,0))*$R75*$H75","v":{"$error":"#VALUE!"}}]
[32,"Einspeisung in Fernwärmeverbund","Alimentation du réseau de chaleur","Feeding into district heating network\n","Feeding into district heating network\n",null,{"$f":"E76","v":"Feeding into district heating network\n"},{"$nulls":5},0,{"$f":"IFERROR(IF(O77,\"\",M76),$M$8)","v":""},"",null,{"$f":"H76","v":0},1,null,null,"transport, district heat network, average/CH/I U",{"$f":"INDEX(SimaPro!$1:$1048576,V$3,MATCH(MainInput!$U76,SimaPro!$1:$1,0))*$R76*$H76","v":0},{"$f":"INDEX(SimaPro!$1:$1048576,W$3,MATCH(MainInput!$U76,SimaPro!$1:$1,0))*$R76*$H76","v":0},{"$f":"INDEX(SimaPro!$1:$1048576,X$3,MATCH(MainInput!$U76,SimaPro!$1:$1,0))*$R76*$H76","v":0},{"$f":"INDEX(SimaPro!$1:$1048576,Y$3,MATCH(MainInput!$U76,SimaPro!$1:$1,0))*$R76*$H76","v":0}]
[null,"Verteilverluste Fernwärmeverbund","Pertes de distribution en réseaux de chauffage à distance","Distribution losses district heating network","Distribution losses district heating network",null,{"$f":"E77","v":"Distribution losses district heating network"},null,{"$f":"IF(O77,1,-1)","v":1},"Default-Verteilungsverluste in Fernwärmeverbünden: 10%","Pertes de distribution par défaut dans les réseaux de chauffage à distance : 10 %","Default distribution losses in district heating network: 10%","Default distribution losses in district heating network: 10%",{"$f":"IF(H77=10%,\"\",M77)","v":"Default distribution losses in district heating network: 10%"},{"$f":"H77<20%","v":true},null,null,1,null,null,null,{"$f":"INDEX(SimaPro!$1:$1048576,V$3,MATCH(MainInput!$U77,SimaPro!$1:$1,0))*$R77*$H77","v":0},{"$f":"INDEX(SimaPro!$1:$1048576,W$3,MATCH(MainInput!$U77,SimaPro!$1:$1,0))*$R77*$H77","v":0},{"$f":"INDEX(SimaPro!$1:$1048576,X$3,MATCH(MainInput!$U77,SimaPro!$1:$1,0))*$R77*$H77","v":0},{"$f":"INDEX(SimaPro!$1:$1048576,Y$3,MATCH(MainInput!$U77,SimaPro!$1:$1,0))*$R77*$H77","v":0}]
[43,"Lokale Wärmenutzung: Verkauf, Verbrauch i.d. Nähe der Anlage","Utilisation locale de la chaleur : vente, conso. à proximité de de l'installation","Local heat utilisation: sale, consumption in the vicinity of the plant","Local heat utilisation: sale, consumption in the vicinity of the plant",null,{"$f":"E78","v":"Local heat utilisation: sale, consumption in the vicinity of the plant"},null,null,"Eigenverbrauch Wärme nicht eintragen","Ne pas saisir sa propre consommation de chaleur","Do not enter own heat consumption","Do not enter own heat consumption",{"$f":"IF(H78=0,\"\",M78)","v":""},null,null,{"$f":"H78","v":0},1,null,null,null,{"$f":"INDEX(SimaPro!$1:$1048576,V$3,MATCH(MainInput!$U78,SimaPro!$1:$1,0))*$R78*$H78","v":0},{"$f":"INDEX(SimaPro!$1:$1048576,W$3,MATCH(MainInput!$U78,SimaPro!$1:$1,0))*$R78*$H78","v":0},{"$f":"INDEX(SimaPro!$1:$1048576,X$3,MATCH(MainInput!$U78,SimaPro!$1:$1,0))*$R78*$H78","v":0},{"$f":"INDEX(SimaPro!$1:$1048576,Y$3,MATCH(MainInput!$U78,SimaPro!$1:$1,0))*$R78*$H78","v":0}]
[62,"Total Wärmeverkauf (nach Abzug Verteilverluste)","Vente de chaleur (après déduction pertes)","Total heat sales (after deduction of distribution losses)","Total heat sales (after deduction of distribution losses)",null,{"$f":"E79","v":"Total heat sales (after deduction of distribution losses)"},{"$f":"H78+H76*(1-H77)","v":0},{"$f":"IF(O79,1,-1)","v":1},"Strom- und Wärmeproduktion ist grösser als Biogas in BHKW","La production d'électricité et de chaleur est supérieure à celle du biogaz de l'unité de cogénération","Electricity and heat production is greater than biogas in CHP unit","Electricity and heat production is greater than biogas in CHP unit",{"$f":"IFERROR(IF(O79,\"\",M79),$M$8)","v":""},{"$f":"(Q73+SUM(Q76:Q78))<=Q64/R64","v":true},null,{"$f":"H79","v":0},1,null,null,null,{"$f":"INDEX(SimaPro!$1:$1048576,V$3,MATCH(MainInput!$U79,SimaPro!$1:$1,0))*$R79*$H79","v":0},{"$f":"INDEX(SimaPro!$1:$1048576,W$3,MATCH(MainInput!$U79,SimaPro!$1:$1,0))*$R79*$H79","v":0},{"$f":"INDEX(SimaPro!$1:$1048576,X$3,MATCH(MainInput!$U79,SimaPro!$1:$1,0))*$R79*$H79","v":0},{"$f":"INDEX(SimaPro!$1:$1048576,Y$3,MATCH(MainInput!$U79,SimaPro!$1:$1,0))*$R79*$H79","v":0},"threshold value, heat/kWh/CH U",{"$f":"INDEX(SimaPro!$1:$1048576,AA$3,MATCH(MainInput!$Z79,SimaPro!$1:$1,0))*$R79*$H79","v":0},{"$f":"INDEX(SimaPro!$1:$1048576,AB$3,MATCH(MainInput!$Z79,SimaPro!$1:$1,0))*$R79*$H79","v":0},{"$f":"INDEX(SimaPro!$1:$1048576,AC$3,MATCH(MainInput!$Z79,SimaPro!$1:$1,0))*$R79*$H79","v":0},{"$f":"INDEX(SimaPro!$1:$1048576,AD$3,MATCH(MainInput!$Z79,SimaPro!$1:$1,0))*$R79*$H79","v":0}]
[null,"","","","",{"$nulls":7},0,null,"",{"$f":"H81/H58","v":{"$error":"#DIV/0!"}},null,1,null,null,null,{"$f":"INDEX(SimaPro!$1:$1048576,V$3,MATCH(MainInput!$U80,SimaPro!$1:$1,0))*$R80*$H80","v":0},{"$f":"INDEX(SimaPro!$1:$1048576,W$3,MATCH(MainInput!$U80,SimaPro!$1:$1,0))*$R80*$H80","v":0},{"$f":"INDEX(SimaPro!$1:$1048576,X$3,MATCH(MainInput!$U80,SimaPro!$1:$1,0))*$R80*$H80","v":0},{"$f":"INDEX(SimaPro!$1:$1048576,Y$3,MATCH(MainInput!$U80,SimaPro!$1:$1,0))*$R80*$H80","v":0}]
[102,"Total Energieprodukte","Besoin total en produits énergétiques","Total quantity of energy products","Total quantity of energy products",null,{"$f":"E81","v":"Total quantity of energy products"},{"$f":"H79+H62+H73+H63","v":0},{"$f":"IF(H81=0,0,IF(O81,1,-1))","v":0},"Energetische Effizienz der Biogasnutzung >1","Efficacité énergétique de l'utilisation du biogaz >1","Energy efficiency of biogas use >1","Energy efficiency of biogas use >1",{"$f":"IF(H81=0,\"\",IFERROR(IF(O81,\"\",M81),$M$8))","v":""},{"$f":"IFERROR(P81<1,FALSE)","v":false},{"$f":"Q81/Q58","v":{"$error":"#DIV/0!"}},{"$f":"Q79+Q62+Q73+Q63","v":0},1,null,null,null,{"$f":"INDEX(SimaPro!$1:$1048576,V$3,MATCH(MainInput!$U81,SimaPro!$1:$1,0))*$R81*$H81","v":0},{"$f":"INDEX(SimaPro!$1:$1048576,W$3,MATCH(MainInput!$U81,SimaPro!$1:$1,0))*$R81*$H81","v":0},{"$f":"INDEX(SimaPro!$1:$1048576,X$3,MATCH(MainInput!$U81,SimaPro!$1:$1,0))*$R81*$H81","v":0},{"$f":"INDEX(SimaPro!$1:$1048576,Y$3,MATCH(MainInput!$U81,SimaPro!$1:$1,0))*$R81*$H81","v":0}]
[null,"","","","",{"$nulls":7},0,null,"",null,null,1,null,null,null,{"$f":"INDEX(SimaPro!$1:$1048576,V$3,MATCH(MainInput!$U82,SimaPro!$1:$1,0))*$R82*$H82","v":0},{"$f":"INDEX(SimaPro!$1:$1048576,W$3,MATCH(MainInput!$U82,SimaPro!$1:$1,0))*$R82*$H82","v":0},{"$f":"INDEX(SimaPro!$1:$1048576,X$3,MATCH(MainInput!$U82,SimaPro!$1:$1,0))*$R82*$H82","v":0},{"$f":"INDEX(SimaPro!$1:$1048576,Y$3,MATCH(MainInput!$U82,SimaPro!$1:$1,0))*$R82*$H82","v":0}]
[null,"Gärreste","Digestat","Fermentation residues","Fermentation residues",null,{"$f":"E83","v":"Fermentation residues"},{"$nulls":5},0,null,"",null,null,1,null,null,null,{"$f":"INDEX(SimaPro!$1:$1048576,V$3,MATCH(MainInput!$U83,SimaPro!$1:$1,0))*$R83*$H83","v":0},{"$f":"INDEX(SimaPro!$1:$1048576,W$3,MATCH(MainInput!$U83,SimaPro!$1:$1,0))*$R83*$H83","v":0},{"$f":"INDEX(SimaPro!$1:$1048576,X$3,MATCH(MainInput!$U83,SimaPro!$1:$1,0))*$R83*$H83","v":0},{"$f":"INDEX(SimaPro!$1:$1048576,Y$3,MATCH(MainInput!$U83,SimaPro!$1:$1,0))*$R83*$H83","v":0}]
[null,"","","","",{"$nulls":7},0,null,"",null,null,1,null,null,null,{"$f":"INDEX(SimaPro!$1:$1048576,V$3,MATCH(MainInput!$U84,SimaPro!$1:$1,0))*$R84*$H84","v":0},{"$f":"INDEX(SimaPro!$1:$1048576,W$3,MATCH(MainInput!$U84,SimaPro!$1:$1,0))*$R84*$H84","v":0},{"$f":"INDEX(SimaPro!$1:$1048576,X$3,MATCH(MainInput!$U84,SimaPro!$1:$1,0))*$R84*$H84","v":0},{"$f":"INDEX(SimaPro!$1:$1048576,Y$3,MATCH(MainInput!$U84,SimaPro!$1:$1,0))*$R84*$H84","v":0}]
[null,"Gärreste fest","Digestat solide","Solid fermentation residues","Solid fermentation residues",null,{"$f":"E85","v":"Solid fermentation residues"},{"$nulls":5},0,null,"",null,null,1,null,null,null,{"$f":"INDEX(SimaPro!$1:$1048576,V$3,MATCH(MainInput!$U85,SimaPro!$1:$1,0))*$R85*$H85","v":0},{"$f":"INDEX(SimaPro!$1:$1048576,W$3,MATCH(MainInput!$U85,SimaPro!$1:$1,0))*$R85*$H85","v":0},{"$f":"INDEX(SimaPro!$1:$1048576,X$3,MATCH(MainInput!$U85,SimaPro!$1:$1,0))*$R85*$H85","v":0},{"$f":"INDEX(SimaPro!$1:$1048576,Y$3,MATCH(MainInput!$U85,SimaPro!$1:$1,0))*$R85*$H85","v":0}]
[64,"Art der Behandlung","Type de traitement","Type of treatment","Type of treatment",null,"Type of treatment",null,{"$f":"IF(ISNA(O86),0,IF(O86,1,0))","v":0},"Bitte Behandlungsart feste Gärreste angeben","Veuillez préciser le type de traitement du digestat solide","Please specify treatment type solid digestate","Please specify treatment type solid digestate",{"$f":"IFERROR(IF(O86,\"\",M86),M86)","v":"Please specify treatment type solid digestate"},{"$f":"Auswahl_Behandlung_fest<6","v":{"$error":"#N/A"}},{"$f":"MATCH(MainInput!H86,menuesBG!$F$65:$F$69,0)","v":{"$error":"#N/A"}},null,1,null,null,null,{"$f":"INDEX(SimaPro!$1:$1048576,V$3,MATCH(MainInput!$U86,SimaPro!$1:$1,0))*$R86*$H86","v":0},{"$f":"INDEX(SimaPro!$1:$1048576,W$3,MATCH(MainInput!$U86,SimaPro!$1:$1,0))*$R86*$H86","v":0},{"$f":"INDEX(SimaPro!$1:$1048576,X$3,MATCH(MainInput!$U86,SimaPro!$1:$1,0))*$R86*$H86","v":0},{"$f":"INDEX(SimaPro!$1:$1048576,Y$3,MATCH(MainInput!$U86,SimaPro!$1:$1,0))*$R86*$H86","v":0}]
[null,"Art der Verwendung","Type d'utilisation","Type of use","Type of use",null,"Type of use",null,{"$f":"IF(ISNA(O87),0,IF(O87,1,0))","v":0},"Wenn Klärschlamm oder ähnliche Substrate verwendet werden, muss der Gärrückstand verbrannt werden.","Si des boues d'épuration ou des substrats similaires sont utilisés, le résidu de fermentation doit être incinéré.","If sewage sludge or similar substrates are used, the fermentation residue must be incinerated.","If sewage sludge or similar substrates are used, the fermentation residue must be incinerated.",{"$f":"IFERROR(IF(Auswahl_Verwendung_fest=1,\"please specify / Bitte angeben / veuillez préciser\",IF(O87,\"\",M87)),$M$8)","v":"Fill in selection matrix for selected language"},{"$f":"IF(AND(SUM(Substrates!F111:F124)>0,Auswahl_Verwendung_fest<3),FALSE,TRUE)","v":{"$error":"#N/A"}},{"$f":"MATCH(MainInput!H87,menuesBG!$F$95:$F$98,0)","v":{"$error":"#N/A"}},{"$f":"GärrestFestMenge/GärrestTotal","v":{"$error":"#DIV/0!"}},1,null,null,null,{"$f":"INDEX(SimaPro!$1:$1048576,V$3,MATCH(MainInput!$U87,SimaPro!$1:$1,0))*$R87*$H87","v":0},{"$f":"INDEX(SimaPro!$1:$1048576,W$3,MATCH(MainInput!$U87,SimaPro!$1:$1,0))*$R87*$H87","v":0},{"$f":"INDEX(SimaPro!$1:$1048576,X$3,MATCH(MainInput!$U87,SimaPro!$1:$1,0))*$R87*$H87","v":0},{"$f":"INDEX(SimaPro!$1:$1048576,Y$3,MATCH(MainInput!$U87,SimaPro!$1:$1,0))*$R87*$H87","v":0}]
[94,"Menge","Quantité","Quantity","Quantity",null,"Quantity",0,{"$f":"IF(O88,1,-1)","v":-1},"Input und Output der Biogasanlage stimmen nicht überein (max. 25% Abweichung)","L'entrée et la sortie de l'usine de biogaz ne correspondent pas (écart maximal de 25%)","Input and output of the biogas plant do not match (max 25% deviation)","Input and output of the biogas plant do not match (max 25% deviation)",{"$f":"IFERROR(IF(O88,\"\",M88),$M$8)","v":"Input and output of the biogas plant do not match (max 25% deviation)"},{"$f":"AND(H24/1.25<H100,H100<H24*1.25)","v":false},{"$f":"H88","v":0},null,"x",null,null,null,{"$f":"INDEX(SimaPro!$1:$1048576,V$3,MATCH(MainInput!$U88,SimaPro!$1:$1,0))*$R88*$H88","v":{"$error":"#VALUE!"}},{"$f":"INDEX(SimaPro!$1:$1048576,W$3,MATCH(MainInput!$U88,SimaPro!$1:$1,0))*$R88*$H88","v":{"$error":"#VALUE!"}},{"$f":"INDEX(SimaPro!$1:$1048576,X$3,MATCH(MainInput!$U88,SimaPro!$1:$1,0))*$R88*$H88","v":{"$error":"#VALUE!"}},{"$f":"INDEX(SimaPro!$1:$1048576,Y$3,MATCH(MainInput!$U88,SimaPro!$1:$1,0))*$R88*$H88","v":{"$error":"#VALUE!"}},"reference value, digested matter, solid/kg/CH U",{"$f":"INDEX(SimaPro!$1:$1048576,AA$3,MATCH(MainInput!$Z88,SimaPro!$1:$1,0))*$R88*$H88","v":{"$error":"#VALUE!"}},{"$f":"INDEX(SimaPro!$1:$1048576,AB$3,MATCH(MainInput!$Z88,SimaPro!$1:$1,0))*$R88*$H88","v":{"$error":"#VALUE!"}},{"$f":"INDEX(SimaPro!$1:$1048576,AC$3,MATCH(MainInput!$Z88,SimaPro!$1:$1,0))*$R88*$H88","v":{"$error":"#VALUE!"}},{"$f":"INDEX(SimaPro!$1:$1048576,AD$3,MATCH(MainInput!$Z88,SimaPro!$1:$1,0))*$R88*$H88","v":{"$error":"#VALUE!"}}]
[null,"Kosten/Ertrag für Entsorgung/Ausbringung","Coûts / rendement pour l'élimination / l'épandage","Costs/yield for disposal/spreading","Costs/yield for disposal/spreading",null,"Costs/yield for disposal/spreading",0,null,"Einnahmen (plus) bzw. Ausgaben (minus) für Entsorgung bzw. Ausbringung der Gärreste (ohne Transportkosten)","Revenus (plus) ou dépenses (moins) pour l'élimination ou l'épandage du digestat (à l'exclusion des frais de transport)","Revenue (plus) or expenses (minus) for disposal or application of digestate (excluding transport costs)","Revenue (plus) or expenses (minus) for disposal or application of digestate (excluding transport costs)",{"$f":"M89","v":"Revenue (plus) or expenses (minus) for disposal or application of digestate (excluding transport costs)"},"",null,null,1,null,null,null,{"$f":"INDEX(SimaPro!$1:$1048576,V$3,MATCH(MainInput!$U89,SimaPro!$1:$1,0))*$R89*$H89","v":0},{"$f":"INDEX(SimaPro!$1:$1048576,W$3,MATCH(MainInput!$U89,SimaPro!$1:$1,0))*$R89*$H89","v":0},{"$f":"INDEX(SimaPro!$1:$1048576,X$3,MATCH(MainInput!$U89,SimaPro!$1:$1,0))*$R89*$H89","v":0},{"$f":"INDEX(SimaPro!$1:$1048576,Y$3,MATCH(MainInput!$U89,SimaPro!$1:$1,0))*$R89*$H89","v":0}]
[30,"Einfache Distanz Anlage - Entsorgung/Ausbringung","Installation à distance simple - l'élimination / l'épandage","Simple distance plant - disposal/spreading","Simple distance plant - disposal/spreading",null,"Simple distance plant - disposal/spreading",0,{"$nulls":4},0,null,null,{"$f":"P87<3","v":{"$error":"#N/A"}},null,1,null,null,null,{"$f":"INDEX(SimaPro!$1:$1048576,V$3,MATCH(MainInput!$U90,SimaPro!$1:$1,0))*$R90*$H90","v":0},{"$f":"INDEX(SimaPro!$1:$1048576,W$3,MATCH(MainInput!$U90,SimaPro!$1:$1,0))*$R90*$H90","v":0},{"$f":"INDEX(SimaPro!$1:$1048576,X$3,MATCH(MainInput!$U90,SimaPro!$1:$1,0))*$R90*$H90","v":0},{"$f":"INDEX(SimaPro!$1:$1048576,Y$3,MATCH(MainInput!$U90,SimaPro!$1:$1,0))*$R90*$H90","v":0}]
[null,"","","","",{"$nulls":7},0,null,"",null,null,1,null,null,null,{"$f":"INDEX(SimaPro!$1:$1048576,V$3,MATCH(MainInput!$U91,SimaPro!$1:$1,0))*$R91*$H91","v":0},{"$f":"INDEX(SimaPro!$1:$1048576,W$3,MATCH(MainInput!$U91,SimaPro!$1:$1,0))*$R91*$H91","v":0},{"$f":"INDEX(SimaPro!$1:$1048576,X$3,MATCH(MainInput!$U91,SimaPro!$1:$1,0))*$R91*$H91","v":0},{"$f":"INDEX(SimaPro!$1:$1048576,Y$3,MATCH(MainInput!$U91,SimaPro!$1:$1,0))*$R91*$H91","v":0}]
[null,"Gärreste flüssig","Digestat liquide","Liquid fermentation residues","Liquid fermentation residues",null,{"$f":"E92","v":"Liquid fermentation residues"},{"$nulls":5},0,null,"",null,null,1,null,null,null,{"$f":"INDEX(SimaPro!$1:$1048576,V$3,MATCH(MainInput!$U92,SimaPro!$1:$1,0))*$R92*$H92","v":0},{"$f":"INDEX(SimaPro!$1:$1048576,W$3,MATCH(MainInput!$U92,SimaPro!$1:$1,0))*$R92*$H92","v":0},{"$f":"INDEX(SimaPro!$1:$1048576,X$3,MATCH(MainInput!$U92,SimaPro!$1:$1,0))*$R92*$H92","v":0},{"$f":"INDEX(SimaPro!$1:$1048576,Y$3,MATCH(MainInput!$U92,SimaPro!$1:$1,0))*$R92*$H92","v":0}]
[70,"Art der Behandlung","Type de traitement","Type of treatment","Type of treatment",null,"Type of treatment",null,{"$f":"IF(ISNA(O93),0,IF(O93,1,0))","v":0},"Bitte Behandlungsart flüssige Gärreste angeben","Veuillez préciser le type de traitement du digestat liquide","Please specify treatment type liquid digestate","Please specify treatment type liquid digestate",{"$f":"IFERROR(IF(O93,\"\",M93),M93)","v":"Please specify treatment type liquid digestate"},{"$f":"Auswahl_Behandlung_flüssig<4","v":{"$error":"#N/A"}},{"$f":"MATCH(MainInput!H93,menuesBG!$F$71:$F$73,0)","v":{"$error":"#N/A"}},null,1,null,null,null,{"$f":"INDEX(SimaPro!$1:$1048576,V$3,MATCH(MainInput!$U93,SimaPro!$1:$1,0))*$R93*$H93","v":0},{"$f":"INDEX(SimaPro!$1:$1048576,W$3,MATCH(MainInput!$U93,SimaPro!$1:$1,0))*$R93*$H93","v":0},{"$f":"INDEX(SimaPro!$1:$1048576,X$3,MATCH(MainInput!$U93,SimaPro!$1:$1,0))*$R93*$H93","v":0},{"$f":"INDEX(SimaPro!$1:$1048576,Y$3,MATCH(MainInput!$U93,SimaPro!$1:$1,0))*$R93*$H93","v":0}]
[null,"Art der Verwendung","Type d'utilisation","Type of use","Type of use",null,"Type of use",null,{"$f":"IF(ISNA(O94),0,IF(O94,1,0))","v":0},"Bitte Verwendungsart flüssige Gärreste angeben","Veuillez préciser le type d'utilisation du digestat liquide","Please specify type of use of liquid digestate","Please specify type of use of liquid digestate",{"$f":"IFERROR(IF(O94,\"\",M94),M94)","v":"Please specify type of use of liquid digestate"},{"$f":"Auswahl_Verwendung_flüssig<6","v":{"$error":"#N/A"}},{"$f":"MATCH(MainInput!H94,menuesBG!F$75:F$80,0)","v":{"$error":"#N/A"}},{"$f":"GärrestFlüssigMenge/GärrestTotal","v":{"$error":"#DIV/0!"}},1,null,null,null,{"$f":"INDEX(SimaPro!$1:$1048576,V$3,MATCH(MainInput!$U94,SimaPro!$1:$1,0))*$R94*$H94","v":0},{"$f":"INDEX(SimaPro!$1:$1048576,W$3,MATCH(MainInput!$U94,SimaPro!$1:$1,0))*$R94*$H94","v":0},{"$f":"INDEX(SimaPro!$1:$1048576,X$3,MATCH(MainInput!$U94,SimaPro!$1:$1,0))*$R94*$H94","v":0},{"$f":"INDEX(SimaPro!$1:$1048576,Y$3,MATCH(MainInput!$U94,SimaPro!$1:$1,0))*$R94*$H94","v":0}]
[74,"Menge","Quantité","Quantity","Quantity",null,"Quantity",0,{"$f":"IF(O95,1,-1)","v":-1},"Input und Output der Biogasanlage stimmen nicht überein (max. 25% Abweichung)","L'entrée et la sortie de l'usine de biogaz ne correspondent pas (écart maximal de 25%)","Input and output of the biogas plant do not match (max 25% deviation)","Input and output of the biogas plant do not match (max 25% deviation)",null,{"$f":"AND(H24/1.25<H100,H100<H24*1.25)","v":false},{"$f":"H95","v":0},null,"x",null,null,null,{"$f":"INDEX(SimaPro!$1:$1048576,V$3,MATCH(MainInput!$U95,SimaPro!$1:$1,0))*$R95*$H95","v":{"$error":"#VALUE!"}},{"$f":"INDEX(SimaPro!$1:$1048576,W$3,MATCH(MainInput!$U95,SimaPro!$1:$1,0))*$R95*$H95","v":{"$error":"#VALUE!"}},{"$f":"INDEX(SimaPro!$1:$1048576,X$3,MATCH(MainInput!$U95,SimaPro!$1:$1,0))*$R95*$H95","v":{"$error":"#VALUE!"}},{"$f":"INDEX(SimaPro!$1:$1048576,Y$3,MATCH(MainInput!$U95,SimaPro!$1:$1,0))*$R95*$H95","v":{"$error":"#VALUE!"}},"reference value, digested matter, liquid/kg/CH U",{"$f":"INDEX(SimaPro!$1:$1048576,AA$3,MATCH(MainInput!$Z95,SimaPro!$1:$1,0))*$R95*$H95","v":{"$error":"#VALUE!"}},{"$f":"INDEX(SimaPro!$1:$1048576,AB$3,MATCH(MainInput!$Z95,SimaPro!$1:$1,0))*$R95*$H95","v":{"$error":"#VALUE!"}},{"$f":"INDEX(SimaPro!$1:$1048576,AC$3,MATCH(MainInput!$Z95,SimaPro!$1:$1,0))*$R95*$H95","v":{"$error":"#VALUE!"}},{"$f":"INDEX(SimaPro!$1:$1048576,AD$3,MATCH(MainInput!$Z95,SimaPro!$1:$1,0))*$R95*$H95","v":{"$error":"#VALUE!"}}]
[null,"Kosten/Ertrag für Entsorgung/Ausbringung","Coûts / rendement pour l'élimination / l'épandage","Costs/yield for disposal/spreading","Costs/yield for disposal/spreading",null,"Costs/yield for disposal/spreading",0,null,{"$f":"J89","v":"Einnahmen (plus) bzw. Ausgaben (minus) für Entsorgung bzw. Ausbringung der Gärreste (ohne Transportkosten)"},{"$f":"K89","v":"Revenus (plus) ou dépenses (moins) pour l'élimination ou l'épandage du digestat (à l'exclusion des frais de transport)"},"Revenue (plus) or expenses (minus) for disposal or application of digestate (excluding transport costs)","Revenue (plus) or expenses (minus) for disposal or application of digestate (excluding transport costs)",{"$f":"M96","v":"Revenue (plus) or expenses (minus) for disposal or application of digestate (excluding transport costs)"},"",null,null,1,null,null,null,{"$f":"INDEX(SimaPro!$1:$1048576,V$3,MATCH(MainInput!$U96,SimaPro!$1:$1,0))*$R96*$H96","v":0},{"$f":"INDEX(SimaPro!$1:$1048576,W$3,MATCH(MainInput!$U96,SimaPro!$1:$1,0))*$R96*$H96","v":0},{"$f":"INDEX(SimaPro!$1:$1048576,X$3,MATCH(MainInput!$U96,SimaPro!$1:$1,0))*$R96*$H96","v":0},{"$f":"INDEX(SimaPro!$1:$1048576,Y$3,MATCH(MainInput!$U96,SimaPro!$1:$1,0))*$R96*$H96","v":0}]
[null,"Einfache Distanz Anlage - Entsorgung/Ausbringung","Installation à distance simple - l'élimination/l'épandage","Simple distance plant - disposal/spreading","Simple distance plant - disposal/spreading",null,"Simple distance plant - disposal/spreading",0,{"$nulls":4},0,null,"",null,null,1,null,null,null,{"$f":"INDEX(SimaPro!$1:$1048576,V$3,MATCH(MainInput!$U97,SimaPro!$1:$1,0))*$R97*$H97","v":0},{"$f":"INDEX(SimaPro!$1:$1048576,W$3,MATCH(MainInput!$U97,SimaPro!$1:$1,0))*$R97*$H97","v":0},{"$f":"INDEX(SimaPro!$1:$1048576,X$3,MATCH(MainInput!$U97,SimaPro!$1:$1,0))*$R97*$H97","v":0},{"$f":"INDEX(SimaPro!$1:$1048576,Y$3,MATCH(MainInput!$U97,SimaPro!$1:$1,0))*$R97*$H97","v":0}]
[null,"","","","",{"$nulls":7},0,null,"",null,null,1,null,null,null,{"$f":"INDEX(SimaPro!$1:$1048576,V$3,MATCH(MainInput!$U98,SimaPro!$1:$1,0))*$R98*$H98","v":0},{"$f":"INDEX(SimaPro!$1:$1048576,W$3,MATCH(MainInput!$U98,SimaPro!$1:$1,0))*$R98*$H98","v":0},{"$f":"INDEX(SimaPro!$1:$1048576,X$3,MATCH(MainInput!$U98,SimaPro!$1:$1,0))*$R98*$H98","v":0},{"$f":"INDEX(SimaPro!$1:$1048576,Y$3,MATCH(MainInput!$U98,SimaPro!$1:$1,0))*$R98*$H98","v":0}]
[null,"Total Gärreste","Total des résidus de fermentation","Total digestate","Total digestate",null,{"$f":"E99","v":"Total digestate"},{"$nulls":5},0,null,"",null,null,1,null,null,null,{"$f":"INDEX(SimaPro!$1:$1048576,V$3,MATCH(MainInput!$U99,SimaPro!$1:$1,0))*$R99*$H99","v":0},{"$f":"INDEX(SimaPro!$1:$1048576,W$3,MATCH(MainInput!$U99,SimaPro!$1:$1,0))*$R99*$H99","v":0},{"$f":"INDEX(SimaPro!$1:$1048576,X$3,MATCH(MainInput!$U99,SimaPro!$1:$1,0))*$R99*$H99","v":0},{"$f":"INDEX(SimaPro!$1:$1048576,Y$3,MATCH(MainInput!$U99,SimaPro!$1:$1,0))*$R99*$H99","v":0}]
[null,"Total Menge","Quantité totale","Total quantity","Total quantity",null,{"$f":"E100","v":"Total quantity"},{"$f":"SUM(H88,H95)","v":0},{"$f":"IF(O100,1,-1)","v":1},"Ausgefaulte Substratmenge ist grösser als Input","La quantité de substrat encrassé est supérieure à l'entrée","Fouled substrate quantity is greater than input","Fouled substrate quantity is greater than input",{"$f":"IFERROR(IF(O100,\"\",M100),$M$8)","v":""},{"$f":"H100<=H24*1.1","v":true},null,null,1,null,null,null,{"$f":"INDEX(SimaPro!$1:$1048576,V$3,MATCH(MainInput!$U100,SimaPro!$1:$1,0))*$R100*$H100","v":0},{"$f":"INDEX(SimaPro!$1:$1048576,W$3,MATCH(MainInput!$U100,SimaPro!$1:$1,0))*$R100*$H100","v":0},{"$f":"INDEX(SimaPro!$1:$1048576,X$3,MATCH(MainInput!$U100,SimaPro!$1:$1,0))*$R100*$H100","v":0},{"$f":"INDEX(SimaPro!$1:$1048576,Y$3,MATCH(MainInput!$U100,SimaPro!$1:$1,0))*$R100*$H100","v":0}]
[null,"Total Kosten/Ertrag","Coût / rendement total","Total costs/yield","Total costs/yield",null,{"$f":"E101","v":"Total costs/yield"},{"$f":"H96+H89","v":0},{"$nulls":4},0,null,"",null,null,1,null,null,null,{"$f":"INDEX(SimaPro!$1:$1048576,V$3,MATCH(MainInput!$U101,SimaPro!$1:$1,0))*$R101*$H101","v":0},{"$f":"INDEX(SimaPro!$1:$1048576,W$3,MATCH(MainInput!$U101,SimaPro!$1:$1,0))*$R101*$H101","v":0},{"$f":"INDEX(SimaPro!$1:$1048576,X$3,MATCH(MainInput!$U101,SimaPro!$1:$1,0))*$R101*$H101","v":0},{"$f":"INDEX(SimaPro!$1:$1048576,Y$3,MATCH(MainInput!$U101,SimaPro!$1:$1,0))*$R101*$H101","v":0}]
[null,"Total Tonnenkilometer Entsorgung/Ausbringung","Total des tonnes-kilomètres d'élimination / épandage","Total tonne-kilometres disposal/spreading","Total tonne-kilometres disposal/spreading",null,{"$f":"E102","v":"Total tonne-kilometres disposal/spreading"},{"$f":"H95*H97+H88*H90","v":0},{"$nulls":4},0,{"$f":"IFERROR(IF(O100,\"\",M102),$M$8)","v":""},null,null,null,1,null,null,"transport, freight, lorry 16-32 metric ton, fleet average/RER U",{"$f":"INDEX(SimaPro!$1:$1048576,V$3,MATCH(MainInput!$U102,SimaPro!$1:$1,0))*$R102*$H102","v":0},{"$f":"INDEX(SimaPro!$1:$1048576,W$3,MATCH(MainInput!$U102,SimaPro!$1:$1,0))*$R102*$H102","v":0},{"$f":"INDEX(SimaPro!$1:$1048576,X$3,MATCH(MainInput!$U102,SimaPro!$1:$1,0))*$R102*$H102","v":0},{"$f":"INDEX(SimaPro!$1:$1048576,Y$3,MATCH(MainInput!$U102,SimaPro!$1:$1,0))*$R102*$H102","v":0}]
[null,"","","","",{"$nulls":7},0,null,"",null,null,1]
[null,"Resultate","Résultats","Results","Results",null,{"$f":"E104","v":"Results"},{"$nulls":5},0,null,"",null,null,1]
[null,"Eingaben sind vollständig und Prüfung ist möglich","Les entrées sont complètes et la vérification est possible","Entries are complete and verification is possible","Entries are complete and verification is possible",null,{"$f":"IF(O105,E105,\"\")","v":{"$error":"#N/A"}},null,{"$f":"IF(ISNA(O105),0,IF(O105,1,-1))","v":0},"Achtung, eine Teilprüfung (oben) wurde nicht bestanden","Attention, un test partiel (ci-dessus) n'a pas été réussi","Attention, a partial test (above) was not passed","Attention, a partial test (above) was not passed",{"$f":"IFERROR(IF(O105,\"\",M105),\"incomplete / unvollständig / incomplet\")","v":"incomplete / unvollständig / incomplet"},{"$f":"AND(O6:O101)","v":{"$error":"#N/A"}},null,null,1]
[null,"Weiter zur Resultatübersicht (Tabellenblatt \"Results\")","Continuer vers la vue d'ensemble des résultats (feuille \"Résulta\")","Continue to the results overview (worksheet \"Results\")","Continue to the results overview (worksheet \"Results\")",null,{"$f":"IF(O105,E106,\"\")","v":{"$error":"#N/A"}}]

{"sheet":"Substrates","index":2,"n_rows":158,"n_cols":72,"rows_kept":158,"cut":false,"hidden":false,"merged":[]}
[{"$nulls":6},37,38,39,40,92,{"$nulls":40},{"$f":"SimaProEI99","v":2},{"$f":"AZ1+1","v":3},{"$f":"BA1+1","v":4},5]
["Deutsch","Französiscch","English",null,{"$f":"MainInput!G2","v":"naturemade star certification: Energy products from biogas plants"},{"$nulls":5},{"$f":"name","v":0},{"$nulls":16},"NJ",{"$nulls":4},0.6,{"$nulls":6},0.5,null,0.47,{"$f":"1/6","v":0.16666666666666666},{"$f":"5/6","v":0.83333333333333337},{"$nulls":5},4,null,{"$f":"InputsBG!A39","v":39},{"$f":"InputsBG!A45","v":45},{"$f":"InputsBG!A51","v":51},{"$f":"InputsBG!A57","v":57}]
[{"$nulls":49},{"$f":"COLUMN()","v":50}]
["Ausgangsmaterialien","matériel","Raw materials and substrates",null,{"$f":"IF(sprache=1,A4,IF(sprache=2,B4,C4))","v":"Raw materials and substrates"},{"$f":"INDEX(menuesBG!$1:$1048576,F1,sprache)","v":"Plant name and reference period"},{"$f":"INDEX(menuesBG!$1:$1048576,G1,sprache)","v":"Financial income (plus) or expense (minus), excluding transport costs"},{"$f":"INDEX(menuesBG!$1:$1048576,H1,sprache)","v":"Simple distance, delivery with tractor"},{"$f":"INDEX(menuesBG!$1:$1048576,I1,sprache)","v":"Simple distance, delivery by truck"},{"$f":"INDEX(menuesBG!$1:$1048576,J1,sprache)","v":"Number of animals"},{"$f":"INDEX(menuesBG!$1:$1048576,K1,sprache)","v":"Percentage of stable housing"},"Organische Substanz (OS)","Ertrag, theoretisch","Sprachen","x","x","x",{"$f":"MainInput!N4","v":"Notes and warnings"},"TS","TS","TS","0S","0S","0S","Ntot","Ntot","Ntot","%NH4 an Ntot","NH4 an TS","Schätzung NH3 nach Abbau","NH4","NH4","BG Yield","Yield","Yield","CH4 \ncontent","CH4 \nYield","C Abbau aus Lager","CH4 Referenz","NH4 Referenz, Lagerung","N2O Referenz","CH4 Anlage","NH4 Lagerung","NH4 Ausbringung, Anlage","N2O Anlage","H2S","NMVOC","NOx","Preis bei der Anlage Anlage","Aufwand Referenzpreis","Referenzprodukt","eco-indicator 99, (H,A)","Treibhauseffekt 100a 2007","Bedarf nichterneuerbarer energetischer Ressourcen","Umweltbelastungspunkte 2013","Eingabewert","Anteil Gasertrag","Anteil Eco-indicator Punkte","GVE Faktor","Anzahl (GVE)","Gülle (m3/Stück)","Mist (t/Stück)","Gülle (m3/a)","Abwasser (m3/a)","Gülle verdünnt (m3/a)","Mist (t/a)","Total Hofdünger (t/a)","m3 CH4/ m3 Gülle","m3 CH4/ t Mist","m3 CH4/a aus Gülle","m3 CH4/a aus Mist"]
[]
["Landwirtschaft, Mist und Gülle aus der Tierhaltung","Agriculture","Agriculture, manure and slurry from animal husbandry",null,"Agriculture, manure and slurry from animal husbandry","t/a",{"$f":"Währung&\"/a\"","v":{"$error":"#N/A"}},"km","km","-","%","kg","m3 Biogas/a",{"$nulls":5},"% FS","min","max","% TS","min","max","% TS","min","max","%","%Ntot","% *)","min","max","m3/tOS","min","max","%","m3/tOS","kg/a","kg/a","kg/a","kg/a","kg/a","kg/a","kg/a","kg/a","kg/a","kg/a","kg/a",{"$f":"Währung&\"/kg\"","v":{"$error":"#N/A"}},{"$f":"Währung&\"/kg\"","v":{"$error":"#N/A"}},null,"points","kg CO2-eq","MJ-eq","Pkt","kg","%","%"]
["Wenn Anzahl Tiere unbekannt Wert für Tiere durch ausprobieren in J abschätzen bis Tonnen stimmen","Si le nombre d'animaux est inconnu, estimer la valeur des animaux en essayant en J jusqu'à ce que les tonnes soient correctes","If number of animals unknown estimate value for animals by trying on numbers until tonnes are correct",null,"If number of animals unknown estimate value for animals by trying on numbers until tonnes are correct"]
["Milchkuh","Vache laitière","Dairy cow",null,"Dairy cow",{"$f":"BK8+BN8","v":0},0,0,0,0,1,{"$f":"F8*S8*V8/10","v":0},{"$f":"(BR8+BS8)/CH4inBG","v":0},{"$nulls":5},8.6,null,null,78.5,null,null,{"$f":"(Z8+AA8)/2","v":4.6500000000000004},2.6,6.7,53.763440860215049,{"$f":"AD8*Y8","v":2.3250000000000002},0.5,39,41,400,null,null,55,{"$f":"AJ8*$AG8/100","v":220},{"$f":"L8*50%*28.62%*12.5%","v":0},{"$f":"L8*0.075*24%*0.78*(1+Referenz_CH4_Güllelager)","v":0},{"$f":"F8*1000*S8/100*Y8/100*AB8/100*NH3emittiert*AnteilNH3Lagerung*(1+Referenz_NH3_Gülle)","v":0},{"$f":"F8*N2O_Gülle*(1+Referenz_N2O_Gülle)","v":0},{"$f":"$M8*CH4_Gehalt*CH4_nichtabgedeckt*(1+Faktor_CH4_flüssig)*GärrestFlüssigMenge/(GärrestFestMenge+GärrestFlüssigMenge)","v":{"$error":"#N/A"}},{"$f":"F8*1000*S8/100*Y8/100*AB8/100*NH3emittiert*AnteilNH3Lagerung*(1+NH3plus)*((1+Faktor_NH3_Behandlung)*Anteil_V_fest+(1+FaktorNH3GülleBehandlung)*Anteil_V_flüssig)","v":{"$error":"#N/A"}},{"$f":"IF(AR$137,F8*1000*S8/100*Y8/100*AB8/100*NH3emittiert*AR$2*(1+NH3plusAusbringung)*((1+Faktor_NH3fest_aus)*Anteil_V_fest+(1+Faktor_NH3_Ausbringung)*Anteil_V_flüssig),0)","v":{"$error":"#N/A"}},{"$f":"F8*(N2O_Gülle*Anteil_V_flüssig*(1+Faktor_N2O_GülleBehandlung)+N2O_Kompost*Anteil_V_fest*(1+Faktor_N2O_Behandlung))","v":{"$error":"#DIV/0!"}},null,null,null,{"$f":"IF(F8>0,G8/F8/1000,0)","v":0},0,{"$nulls":6},{"$f":"M8/Gasertrag_berechnet","v":{"$error":"#DIV/0!"}},{"$f":"AZ8/Belastung_Substrat","v":{"$error":"#DIV/0!"}},1,{"$f":"J8*BG8","v":0},16.5,5,{"$f":"BI8*K8*J8","v":0},null,{"$f":"BK8+BL8","v":0},{"$f":"BJ8*K8*J8","v":0},{"$f":"BM8+BN8","v":0},13,35,{"$f":"BK8*BP8","v":0},{"$f":"BN8*BQ8","v":0}]
["Mutterkuh (schwer)","Vache allaitante (difficile)","Suckle cow (heavy)",null,"Suckle cow (heavy)",0,0,0,0,0,1,{"$f":"F9*S9*V9/10","v":0},0,{"$nulls":5},8.6,null,null,78.5,null,null,{"$f":"(Z9+AA9)/2","v":4.6500000000000004},2.6,6.7,53.763440860215049,{"$f":"AD9*Y9","v":2.3250000000000002},0.5,39,41,400,null,null,55,{"$f":"AJ9*$AG9/100","v":220},0,0,0,0,{"$error":"#N/A"},{"$f":"F9*1000*S9/100*Y9/100*AB9/100*NH3emittiert*AnteilNH3Lagerung*(1+NH3plus)*((1+Faktor_NH3_Behandlung)*Anteil_V_fest+(1+FaktorNH3GülleBehandlung)*Anteil_V_flüssig)","v":{"$error":"#N/A"}},{"$error":"#N/A"},{"$error":"#DIV/0!"},null,null,null,{"$f":"IF(F9>0,G9/F9/1000,0)","v":0},0,{"$nulls":6},{"$error":"#DIV/0!"},{"$error":"#DIV/0!"},0.8,{"$f":"J9*BG9","v":0},11.6,3.5,{"$f":"BI9*K9*J9","v":0},{"$f":"BK9","v":0},{"$f":"BK9+BL9","v":0},0,0,13,35,{"$f":"BK9*BP9","v":0},{"$f":"BN9*BQ9","v":0}]
["Jungvieh < 1-jährig","Jeune bovin < 1 an","Young cattle < 1 year old",null,"Young cattle < 1 year old",0,0,0,0,0,1,0,0,{"$nulls":5},8.6,null,null,78.5,null,null,4.6500000000000004,2.6,6.7,53.763440860215049,2.3250000000000002,0.5,39,41,400,null,null,55,220,0,0,0,0,{"$error":"#N/A"},{"$error":"#N/A"},{"$error":"#N/A"},{"$error":"#DIV/0!"},null,null,null,0,0,{"$nulls":6},{"$error":"#DIV/0!"},{"$error":"#DIV/0!"},0.25,0,4.0999999999999996,1.3,0,0,0,0,0,13,35,0,0]
["Jungvieh 1- 2 jährig","Jeune bovin 1-2 ans","Young cattle 1 - 2 years old",null,"Young cattle 1 - 2 years old",0,0,0,0,0,1,0,0,{"$nulls":5},8.6,null,null,78.5,null,null,4.6500000000000004,2.6,6.7,53.763440860215049,2.3250000000000002,0.5,39,41,400,null,null,55,220,0,0,0,0,{"$error":"#N/A"},{"$error":"#N/A"},{"$error":"#N/A"},{"$error":"#DIV/0!"},null,null,null,0,0,{"$nulls":6},{"$error":"#DIV/0!"},{"$error":"#DIV/0!"},0.4,0,6,1.8,0,0,0,0,0,13,35,0,0]
["Stiere und Rinder > 2 jährig","Taureaux et vaches >2 ans","Bulls and cattle > 2 years old",null,"Bulls and cattle > 2 years old",0,0,0,0,0,1,0,0,{"$nulls":5},8.6,null,null,78.5,null,null,4.6500000000000004,2.6,6.7,53.763440860215049,3.0225000000000004,0.65,39,60,400,null,null,55,220,0,0,0,0,{"$error":"#N/A"},{"$error":"#N/A"},{"$error":"#N/A"},{"$error":"#DIV/0!"},null,null,null,0,0,{"$nulls":6},{"$error":"#DIV/0!"},{"$error":"#DIV/0!"},0.6,0,8.3000000000000007,2.5,0,0,0,0,0,13,35,0,0]
["Mastkalb","Veau engraissé","Fattened calf",null,"Fattened calf",0,0,0,0,0,1,0,0,{"$nulls":5},8.6,null,null,78.5,null,null,4.6500000000000004,2.6,6.7,53.763440860215049,3.0225000000000004,0.65,39,60,400,null,null,55,220,0,0,0,0,{"$error":"#N/A"},{"$error":"#N/A"},{"$error":"#N/A"},{"$error":"#DIV/0!"},null,null,null,0,0,{"$nulls":6},{"$error":"#DIV/0!"},{"$error":"#DIV/0!"},0.1,0,null,2.2000000000000002,0,0,0,0,0,13,35,0,0]
["Rindviehmast intensiv 65-520 kg","Bœuf engraissé (intensif 65-520 kg)","Cattle fattening intensive 65-520 kg",null,"Cattle fattening intensive 65-520 kg",0,0,0,0,0,1,0,0,{"$nulls":5},8.6,null,null,78.5,null,null,4.6500000000000004,2.6,6.7,53.763440860215049,3.0225000000000004,0.65,39,60,400,null,null,55,220,0,0,0,0,{"$error":"#N/A"},{"$error":"#N/A"},{"$error":"#N/A"},{"$error":"#DIV/0!"},null,null,null,0,0,{"$nulls":6},{"$error":"#DIV/0!"},{"$error":"#DIV/0!"},0.31,0,4.4000000000000004,1.3,0,0,0,0,0,13,35,0,0]
["Pferde über 3-jährig","Chevaux >3ans","Horses over 3 years old",null,"Horses over 3 years old",0,0,0,0,0,1,0,0,{"$nulls":5},28,null,null,75,null,null,2.8,2.1,3.5,50,1.4,0.5,35,35,{"$f":"(AH15+AI15)/2","v":350},300,400,55,192.5,0,0,0,0,{"$error":"#N/A"},{"$error":"#N/A"},{"$error":"#N/A"},{"$error":"#DIV/0!"},null,null,null,0,0,{"$nulls":6},{"$error":"#DIV/0!"},{"$error":"#DIV/0!"},0.7,0,null,12,0,0,0,0,0,null,35.700000000000003,0,0]
["Mutterschafe oder Ziegen","Brebis ou chèvre","Ewes or goats",null,"Ewes or goats",0,0,0,0,0,1,0,0,{"$nulls":5},27.5,null,null,80,null,null,3,3,3,35,1.5,0.5,35,35,{"$f":"(AH16+AI16)/2","v":450},400,500,55,247.5,0,0,0,0,{"$error":"#N/A"},{"$error":"#N/A"},{"$error":"#N/A"},{"$error":"#DIV/0!"},null,null,null,0,0,{"$nulls":6},{"$error":"#DIV/0!"},{"$error":"#DIV/0!"},0.17,0,null,1.7,0,0,0,0,0,null,64.099999999999994,0,0]
["Zuchtschweine","Elevage de porcs","Breeding pigs",null,"Breeding pigs",0,0,0,0,0,1,0,0,{"$nulls":5},8.6,null,null,78.5,null,null,12,6,18,83.333333333333343,8.3999999999999986,0.7,50,92,450,null,null,60,270,0,0,0,0,{"$error":"#N/A"},{"$error":"#N/A"},{"$error":"#N/A"},{"$error":"#DIV/0!"},null,null,null,0,0,{"$nulls":6},{"$error":"#DIV/0!"},{"$error":"#DIV/0!"},0.45,0,4.5,0.9,0,0,0,0,0,12.2,45.6,0,0]
["Mastschweine / Remonten 25-100 kg","Porc engraissé (25-100 kg)","Pigs for fattening / Remonten 25-100 kg",null,"Pigs for fattening / Remonten 25-100 kg",{"$f":"BK18+BN18","v":0},0,0,0,0,1,0,0,{"$nulls":5},8.6,null,null,78.5,null,null,12,6,18,83.333333333333343,8.3999999999999986,0.7,50,92,450,null,null,60,270,0,0,0,0,{"$error":"#N/A"},{"$error":"#N/A"},{"$error":"#N/A"},{"$error":"#DIV/0!"},null,null,null,0,0,{"$nulls":6},{"$error":"#DIV/0!"},{"$error":"#DIV/0!"},0.17,0,1.2,0.3,0,0,0,0,0,12.2,45.6,0,0]
["Ferkel 10-35 kg","Cochonnet engraissé (10-35 kg)","Piglets 10-35 kg",null,"Piglets 10-35 kg",{"$f":"BK19+BN19","v":0},0,0,0,0,1,{"$f":"F19*S19*V19/10","v":0},0,{"$nulls":5},8.6,null,null,78.5,null,null,12,6,18,83.333333333333343,{"$f":"AD19*Y19","v":8.3999999999999986},0.7,50,92,450,null,null,60,270,{"$f":"L19*50%*28.62%*12.5%","v":0},{"$f":"L19*0.075*24%*0.78*(1+Referenz_CH4_Güllelager)","v":0},{"$f":"F19*1000*S19/100*Y19/100*AB19/100*NH3emittiert*AnteilNH3Lagerung*(1+Referenz_NH3_Gülle)","v":0},{"$f":"F19*N2O_Gülle*(1+Referenz_N2O_Gülle)","v":0},{"$error":"#N/A"},{"$f":"F19*1000*S19/100*Y19/100*AB19/100*NH3emittiert*AnteilNH3Lagerung*(1+NH3plus)*((1+Faktor_NH3_Behandlung)*Anteil_V_fest+(1+FaktorNH3GülleBehandlung)*Anteil_V_flüssig)","v":{"$error":"#N/A"}},{"$error":"#N/A"},{"$f":"F19*(N2O_Gülle*Anteil_V_flüssig*(1+Faktor_N2O_GülleBehandlung)+N2O_Kompost*Anteil_V_fest*(1+Faktor_N2O_Behandlung))","v":{"$error":"#DIV/0!"}},null,null,null,{"$f":"IF(F19>0,G19/F19/1000,0)","v":0},0,{"$nulls":6},{"$error":"#DIV/0!"},{"$error":"#DIV/0!"},0.06,0,{"$f":"BI18/2","v":0.6},{"$f":"BJ18/2","v":0.15},0,0,0,0,0,12.2,45.6,0,0]
["Zuchteber","Verrats reproducteurs","Breeding boar",null,"Breeding boar",{"$f":"BK20+BN20","v":0},0,0,0,0,1,0,0,{"$nulls":5},8.6,null,null,78.5,null,null,12,6,18,83.333333333333343,8.3999999999999986,0.7,50,92,450,null,null,60,270,0,0,0,0,{"$error":"#N/A"},{"$error":"#N/A"},{"$error":"#N/A"},{"$error":"#DIV/0!"},null,null,null,0,0,{"$nulls":6},{"$error":"#DIV/0!"},{"$error":"#DIV/0!"},0.25,0,2.5,0.5,0,0,0,0,0,12.2,45.6,0,0]
["Legehennen","Poules pondeuses","Laying hens",null,"Laying hens",0,0,0,0,0,1,0,0,{"$nulls":5},32,null,null,75,null,null,5.4,5.4,5.4,7.2222222222222214,3.78,0.7,69,70,470,null,null,65,305.5,0,0,0,0,{"$error":"#N/A"},{"$error":"#N/A"},{"$error":"#N/A"},{"$error":"#DIV/0!"},null,null,null,0,0,{"$nulls":6},{"$error":"#DIV/0!"},{"$error":"#DIV/0!"},0.01,0,null,1.8000000000000002E-2,0,0,0,0,0,null,83.5,0,0]
["Mastpoulet","Poulet engraissé","Fattened chicken",null,"Fattened chicken",0,0,0,0,0,1,0,0,{"$nulls":5},32,null,null,75,null,null,5.4,5.4,5.4,7.2222222222222214,3.78,0.7,69,70,470,null,null,65,{"$f":"AJ22*$AG22/100","v":305.5},0,0,0,0,{"$error":"#N/A"},{"$error":"#N/A"},{"$error":"#N/A"},{"$error":"#DIV/0!"},null,null,null,0,0,{"$nulls":6},{"$error":"#DIV/0!"},{"$error":"#DIV/0!"},4.0000000000000001E-3,0,null,8.0000000000000002E-3,0,0,0,0,0,null,127.8,0,0]
[]
["Rest- und Abfallstoffe","Matières résiduelles et déchets","Residual and waste materials",null,"Residual and waste materials",{"$f":"INDEX(menuesBG!$1:$1048576,120,sprache)","v":"t FM - tonnes fresh matter"},{"$f":"Währung&\"/a\"","v":{"$error":"#N/A"}},"km","km",null,null,"kg","m3 Biogas/a",{"$nulls":43},{"$error":"#VALUE!"},{"$error":"#DIV/0!"}]
["Apfeltrester","Marc de pommes","Apple pomace",null,"Apple pomace",0,0,0,0,null,null,{"$f":"F25*S25*V25/10","v":0},{"$f":"F25*S25*V25/10000*AG25","v":0},{"$nulls":4},{"$f":"IF(F25>0,IF(G25/F25/1000<AX25,INDEX(menuesBG!$1:$1048576,Warnung,sprache),\"\"),\"\")","v":""},25,null,null,86,null,null,{"$f":"(Z25+AA25)/2","v":1.1000000000000001},1.1000000000000001,1.1000000000000001,13,{"$f":"AD25*Y25","v":0.66},0.6,null,null,{"$f":"(AH25+AI25)/2","v":515},350,680,55,{"$f":"AJ25*$AG25/100","v":283.25},{"$f":"L25*50%*28.62%*12.5%","v":0},0,0,0,{"$f":"$M25*CH4_Gehalt*CH4_nichtabgedeckt*(1+Faktor_CH4_flüssig)*GärrestFlüssigMenge/(GärrestFestMenge+GärrestFlüssigMenge)","v":{"$error":"#N/A"}},{"$f":"F25*1000*S25/100*Y25/100*AB25/100*NH3emittiert*AnteilNH3Lagerung*(1+NH3plus)*((1+Faktor_NH3_Behandlung)*Anteil_V_fest+(1+FaktorNH3GülleBehandlung)*Anteil_V_flüssig)","v":{"$error":"#N/A"}},{"$f":"IF(AR$137,F25*1000*S25/100*Y25/100*AB25/100*NH3emittiert*AR$2*(1+NH3plusAusbringung)*((1+Faktor_NH3fest_aus)*Anteil_V_fest+(1+Faktor_NH3_Ausbringung)*Anteil_V_flüssig),0)","v":{"$error":"#N/A"}},{"$f":"F25*(N2O_Gülle*Anteil_V_flüssig*(1+Faktor_N2O_GülleBehandlung)+N2O_Kompost*Anteil_V_fest*(1+Faktor_N2O_Behandlung))","v":{"$error":"#DIV/0!"}},{"$f":"FaktorenBG!F$43*(1+FaktorenBG!F$56)*IF(Auswahl_Behandlung_fest<5,$F25,0)","v":{"$error":"#N/A"}},{"$f":"FaktorenBG!G$43*(1+FaktorenBG!G$56)*IF(Auswahl_Behandlung_fest<5,$F25,0)","v":{"$error":"#N/A"}},{"$f":"FaktorenBG!H$43*(1+FaktorenBG!H$56)*IF(Auswahl_Behandlung_fest<5,$F25,0)","v":{"$error":"#N/A"}},0,{"$f":"INDEX(InputsBG!$1:$1048576,AX$2,MATCH(Substrates!$AY25,InputsBG!$38:$38,0))","v":{"$error":"#N/A"}},"apple ÖLN, at farm/kg/CH S",{"$f":"IF($G25<0,$G25*INDEX(InputsBG!$1:$1048576,AZ$2,MATCH(Substrates!$AY25,InputsBG!$38:$38,0))/$AX25,0)","v":0},{"$f":"IF($G25<0,$G25*INDEX(InputsBG!$1:$1048576,BA$2,MATCH(Substrates!$AY25,InputsBG!$38:$38,0))/$AX25,0)","v":0},{"$f":"IF($G25<0,$G25*INDEX(InputsBG!$1:$1048576,BB$2,MATCH(Substrates!$AY25,InputsBG!$38:$38,0))/$AX25,0)","v":0},{"$f":"IF($G25<0,$G25*INDEX(InputsBG!$1:$1048576,BC$2,MATCH(Substrates!$AY25,InputsBG!$38:$38,0))/$AX25,0)","v":0},{"$f":"IF($G25<0,$G25/$AX25,0)","v":0},{"$error":"#DIV/0!"},{"$error":"#DIV/0!"},{"$nulls":13},{"$f":"LEFT(AY25,FIND(\"/\",AY25)-1)","v":"apple ÖLN, at farm"}]
["Backabfälle, Süsswarenabfälle, Teig- und Mehlreste","Déchet de boulangerie et confiserie, restes de pâte et farine","Bakery waste, confectionery waste, dough and flour residues",null,"Bakery waste, confectionery waste, dough and flour residues",0,0,0,0,null,null,{"$f":"F26*S26*V26/10","v":0},0,{"$nulls":4},{"$f":"IF(F26>0,IF(G26/F26/1000<AX26,INDEX(menuesBG!$1:$1048576,Warnung,sprache),\"\"),\"\")","v":""},88,null,null,97,null,null,{"$f":"(Z26+AA26)/2","v":2.8},0.6,5,{"$f":"AVERAGE(0.01,1.1)/AVERAGE(0.6,5)*100","v":19.821428571428573},1.7266666666666661,{"$f":"AD$138","v":0.61666666666666647},45.65,50.55,790,null,null,53,418.7,{"$f":"L26*50%*28.62%*12.5%","v":0},0,0,0,{"$error":"#N/A"},{"$error":"#N/A"},{"$error":"#N/A"},{"$error":"#DIV/0!"},{"$f":"FaktorenBG!F$43*(1+FaktorenBG!F$56)*IF(Auswahl_Behandlung_fest<5,$F26,0)","v":{"$error":"#N/A"}},{"$f":"FaktorenBG!G$43*(1+FaktorenBG!G$56)*IF(Auswahl_Behandlung_fest<5,$F26,0)","v":{"$error":"#N/A"}},{"$f":"FaktorenBG!H$43*(1+FaktorenBG!H$56)*IF(Auswahl_Behandlung_fest<5,$F26,0)","v":{"$error":"#N/A"}},0,{"$f":"INDEX(InputsBG!$1:$1048576,AX$2,MATCH(Substrates!$AY26,InputsBG!$38:$38,0))","v":{"$error":"#N/A"}},"bread, at bakery/kg/CH S",{"$f":"IF($G26<0,$G26*INDEX(InputsBG!$1:$1048576,AZ$2,MATCH(Substrates!$AY26,InputsBG!$38:$38,0))/$AX26,0)","v":0},{"$f":"IF($G26<0,$G26*INDEX(InputsBG!$1:$1048576,BA$2,MATCH(Substrates!$AY26,InputsBG!$38:$38,0))/$AX26,0)","v":0},{"$f":"IF($G26<0,$G26*INDEX(InputsBG!$1:$1048576,BB$2,MATCH(Substrates!$AY26,InputsBG!$38:$38,0))/$AX26,0)","v":0},{"$f":"IF($G26<0,$G26*INDEX(InputsBG!$1:$1048576,BC$2,MATCH(Substrates!$AY26,InputsBG!$38:$38,0))/$AX26,0)","v":0},{"$f":"IF($G26<0,$G26/$AX26,0)","v":0},{"$error":"#DIV/0!"},{"$error":"#DIV/0!"},{"$nulls":13},{"$f":"LEFT(AY26,FIND(\"/\",AY26)-1)","v":"bread, at bakery"}]
["Baum-, Reben-, Strauchschnitt ","Arbre, vigne, arbuste de coupe","Tree, vine and shrub pruning ",null,"Tree, vine and shrub pruning ",0,0,0,0,null,null,0,0,{"$nulls":4},{"$f":"IF(F27>0,IF(G27/F27/1000<AX27,INDEX(menuesBG!$1:$1048576,Warnung,sprache),\"\"),\"\")","v":""},12,null,null,83,null,null,2.9930555555555554,{"$f":"Z$138","v":2.3277777777777775},{"$f":"AA$138","v":3.6583333333333337},13,1.8457175925925919,0.61666666666666647,45.65,50.55,220,null,null,50,110,0,0,0,0,{"$error":"#N/A"},{"$error":"#N/A"},{"$error":"#N/A"},{"$error":"#DIV/0!"},{"$f":"FaktorenBG!F$43*(1+FaktorenBG!F$56)*IF(Auswahl_Behandlung_fest<5,$F27,0)","v":{"$error":"#N/A"}},{"$f":"FaktorenBG!G$43*(1+FaktorenBG!G$56)*IF(Auswahl_Behandlung_fest<5,$F27,0)","v":{"$error":"#N/A"}},{"$f":"FaktorenBG!H$43*(1+FaktorenBG!H$56)*IF(Auswahl_Behandlung_fest<5,$F27,0)","v":{"$error":"#N/A"}},0,{"$f":"INDEX(InputsBG!$1:$1048576,AX$2,MATCH(Substrates!$AY27,InputsBG!$38:$38,0))","v":{"$error":"#N/A"}},"Durchschnitt",{"$f":"IF($G27<0,$G27*INDEX(InputsBG!$1:$1048576,AZ$2,MATCH(Substrates!$AY27,InputsBG!$38:$38,0))/$AX27,0)","v":0},{"$f":"IF($G27<0,$G27*INDEX(InputsBG!$1:$1048576,BA$2,MATCH(Substrates!$AY27,InputsBG!$38:$38,0))/$AX27,0)","v":0},{"$f":"IF($G27<0,$G27*INDEX(InputsBG!$1:$1048576,BB$2,MATCH(Substrates!$AY27,InputsBG!$38:$38,0))/$AX27,0)","v":0},{"$f":"IF($G27<0,$G27*INDEX(InputsBG!$1:$1048576,BC$2,MATCH(Substrates!$AY27,InputsBG!$38:$38,0))/$AX27,0)","v":0},0,{"$error":"#DIV/0!"},{"$error":"#DIV/0!"},{"$nulls":13},{"$error":"#VALUE!"}]
["Biertreber siliert","Ensilage de drèche de brasserie","Brewer's grains ensilage",null,"Brewer's grains ensilage",0,0,0,0,null,null,0,0,{"$nulls":4},{"$f":"IF(F28>0,IF(G28/F28/1000<AX28,INDEX(menuesBG!$1:$1048576,Warnung,sprache),\"\"),\"\")","v":""},{"$f":"(T28+U28)/2","v":26.5},25,28,{"$f":"(W28+X28)/2","v":85},85,85,4.5,4.5,4.5,13,3.15,0.7,null,null,{"$f":"(AH28+AI28)/2","v":600},550,650,60,360,0,0,0,0,{"$error":"#N/A"},{"$error":"#N/A"},{"$error":"#N/A"},{"$error":"#DIV/0!"},{"$f":"FaktorenBG!F$43*(1+FaktorenBG!F$56)*IF(Auswahl_Behandlung_fest<5,$F28,0)","v":{"$error":"#N/A"}},{"$f":"FaktorenBG!G$43*(1+FaktorenBG!G$56)*IF(Auswahl_Behandlung_fest<5,$F28,0)","v":{"$error":"#N/A"}},{"$f":"FaktorenBG!H$43*(1+FaktorenBG!H$56)*IF(Auswahl_Behandlung_fest<5,$F28,0)","v":{"$error":"#N/A"}},0,{"$f":"INDEX(InputsBG!$1:$1048576,AX$2,MATCH(Substrates!$AY28,InputsBG!$38:$38,0))","v":{"$error":"#N/A"}},"by-products, wheat milling, at plant/kg/CH S",{"$f":"IF($G28<0,$G28*INDEX(InputsBG!$1:$1048576,AZ$2,MATCH(Substrates!$AY28,InputsBG!$38:$38,0))/$AX28,0)","v":0},{"$f":"IF($G28<0,$G28*INDEX(InputsBG!$1:$1048576,BA$2,MATCH(Substrates!$AY28,InputsBG!$38:$38,0))/$AX28,0)","v":0},{"$f":"IF($G28<0,$G28*INDEX(InputsBG!$1:$1048576,BB$2,MATCH(Substrates!$AY28,InputsBG!$38:$38,0))/$AX28,0)","v":0},{"$f":"IF($G28<0,$G28*INDEX(InputsBG!$1:$1048576,BC$2,MATCH(Substrates!$AY28,InputsBG!$38:$38,0))/$AX28,0)","v":0},0,{"$error":"#DIV/0!"},{"$error":"#DIV/0!"},{"$nulls":13},"by-products, wheat milling, at plant"]
["Biertreber, Malztreber, Hopfentreber (sowie deren -Keime, -Staub, -Trub und -Schlamm)","Drèche de brasserie (Marc de malt, d'houblon dont les germes, la poussière et les boues et les lies)","Brewer's grains, malt grains, hop grains (and their -germ, -dust, -dull and -sludge)",null,"Brewer's grains, malt grains, hop grains (and their -germ, -dust, -dull and -sludge)",0,0,0,0,null,null,0,0,{"$nulls":4},{"$f":"IF(F29>0,IF(G29/F29/1000<AX29,INDEX(menuesBG!$1:$1048576,Warnung,sprache),\"\"),\"\")","v":""},22.5,15,30,80,65,95,4.5,4,5,13,3.15,0.7,null,null,625,500,750,60,375,0,0,0,0,{"$error":"#N/A"},{"$error":"#N/A"},{"$error":"#N/A"},{"$error":"#DIV/0!"},{"$f":"FaktorenBG!F$43*(1+FaktorenBG!F$56)*IF(Auswahl_Behandlung_fest<5,$F29,0)","v":{"$error":"#N/A"}},{"$f":"FaktorenBG!G$43*(1+FaktorenBG!G$56)*IF(Auswahl_Behandlung_fest<5,$F29,0)","v":{"$error":"#N/A"}},{"$f":"FaktorenBG!H$43*(1+FaktorenBG!H$56)*IF(Auswahl_Behandlung_fest<5,$F29,0)","v":{"$error":"#N/A"}},0,{"$f":"INDEX(InputsBG!$1:$1048576,AX$2,MATCH(Substrates!$AY29,InputsBG!$38:$38,0))","v":{"$error":"#N/A"}},"by-products, wheat milling, at plant/kg/CH S",{"$f":"IF($G29<0,$G29*INDEX(InputsBG!$1:$1048576,AZ$2,MATCH(Substrates!$AY29,InputsBG!$38:$38,0))/$AX29,0)","v":0},{"$f":"IF($G29<0,$G29*INDEX(InputsBG!$1:$1048576,BA$2,MATCH(Substrates!$AY29,InputsBG!$38:$38,0))/$AX29,0)","v":0},{"$f":"IF($G29<0,$G29*INDEX(InputsBG!$1:$1048576,BB$2,MATCH(Substrates!$AY29,InputsBG!$38:$38,0))/$AX29,0)","v":0},{"$f":"IF($G29<0,$G29*INDEX(InputsBG!$1:$1048576,BC$2,MATCH(Substrates!$AY29,InputsBG!$38:$38,0))/$AX29,0)","v":0},0,{"$error":"#DIV/0!"},{"$error":"#DIV/0!"},{"$nulls":13},"by-products, wheat milling, at plant"]
["Blut, Fettabscheiderrückstände, Fischrückstände, Fleischabfälle","Sang, résidus de filtre à graisse, résidus de poissons, déchets de viande","Blood, fat separator residues, fish residues, meat waste",null,"Blood, fat separator residues, fish residues, meat waste",0,0,0,0,null,null,0,0,{"$nulls":4},{"$f":"IF(F30>0,IF(G30/F30/1000<AX30,INDEX(menuesBG!$1:$1048576,Warnung,sprache),\"\"),\"\")","v":""},30.7,{"$f":"T$138","v":30.7},{"$f":"U$138","v":30.7},{"$f":"(W30+X30)/2","v":73.900000000000006},{"$f":"W$138","v":73.900000000000006},{"$f":"X$138","v":73.900000000000006},1.85,0.1,3.6,{"$f":"AVERAGE(0.02,1.5)/AVERAGE(0.1,3.6)*100","v":41.081081081081081},{"$f":"AD30*Y30","v":1.1408333333333329},{"$f":"AD$138","v":0.61666666666666647},{"$f":"AE$138","v":45.65},{"$f":"AF$138","v":50.55},{"$f":"(AH30+AI30)/2","v":688},{"$f":"AH$138","v":376},1000,59,405.92,0,0,0,0,{"$error":"#N/A"},{"$error":"#N/A"},{"$error":"#N/A"},{"$error":"#DIV/0!"},{"$f":"FaktorenBG!F$43*(1+FaktorenBG!F$56)*IF(Auswahl_Behandlung_fest<5,$F30,0)","v":{"$error":"#N/A"}},{"$f":"FaktorenBG!G$43*(1+FaktorenBG!G$56)*IF(Auswahl_Behandlung_fest<5,$F30,0)","v":{"$error":"#N/A"}},{"$f":"FaktorenBG!H$43*(1+FaktorenBG!H$56)*IF(Auswahl_Behandlung_fest<5,$F30,0)","v":{"$error":"#N/A"}},0,{"$f":"INDEX(InputsBG!$1:$1048576,AX$2,MATCH(Substrates!$AY30,InputsBG!$38:$38,0))","v":{"$error":"#N/A"}},"meat mixed, IP, at slaughterhouse/kg/CH S",{"$f":"IF($G30<0,$G30*INDEX(InputsBG!$1:$1048576,AZ$2,MATCH(Substrates!$AY30,InputsBG!$38:$38,0))/$AX30,0)","v":0},{"$f":"IF($G30<0,$G30*INDEX(InputsBG!$1:$1048576,BA$2,MATCH(Substrates!$AY30,InputsBG!$38:$38,0))/$AX30,0)","v":0},{"$f":"IF($G30<0,$G30*INDEX(InputsBG!$1:$1048576,BB$2,MATCH(Substrates!$AY30,InputsBG!$38:$38,0))/$AX30,0)","v":0},{"$f":"IF($G30<0,$G30*INDEX(InputsBG!$1:$1048576,BC$2,MATCH(Substrates!$AY30,InputsBG!$38:$38,0))/$AX30,0)","v":0},0,{"$error":"#DIV/0!"},{"$error":"#DIV/0!"},{"$nulls":13},"meat mixed, IP, at slaughterhouse"]
["Blutmehl, Tiermehl","Farine de sang, farine animale","Blood meal, animal meal",null,"Blood meal, animal meal",0,0,0,0,null,null,0,0,{"$nulls":4},{"$f":"IF(F31>0,IF(G31/F31/1000<AX31,INDEX(menuesBG!$1:$1048576,Warnung,sprache),\"\"),\"\")","v":""},90,85,95,80,75,85,11,10,12,0.6,8.25,0.75,null,null,{"$f":"(AH31+AI31)/2","v":670},550,790,61,408.7,0,0,0,0,{"$error":"#N/A"},{"$error":"#N/A"},{"$error":"#N/A"},{"$error":"#DIV/0!"},{"$f":"FaktorenBG!F$43*(1+FaktorenBG!F$56)*IF(Auswahl_Behandlung_fest<5,$F31,0)","v":{"$error":"#N/A"}},{"$f":"FaktorenBG!G$43*(1+FaktorenBG!G$56)*IF(Auswahl_Behandlung_fest<5,$F31,0)","v":{"$error":"#N/A"}},{"$f":"FaktorenBG!H$43*(1+FaktorenBG!H$56)*IF(Auswahl_Behandlung_fest<5,$F31,0)","v":{"$error":"#N/A"}},0,{"$f":"INDEX(InputsBG!$1:$1048576,AX$2,MATCH(Substrates!$AY31,InputsBG!$38:$38,0))","v":{"$error":"#N/A"}},"meat mixed, IP, at slaughterhouse/kg/CH S",{"$f":"IF($G31<0,$G31*INDEX(InputsBG!$1:$1048576,AZ$2,MATCH(Substrates!$AY31,InputsBG!$38:$38,0))/$AX31,0)","v":0},{"$f":"IF($G31<0,$G31*INDEX(InputsBG!$1:$1048576,BA$2,MATCH(Substrates!$AY31,InputsBG!$38:$38,0))/$AX31,0)","v":0},{"$f":"IF($G31<0,$G31*INDEX(InputsBG!$1:$1048576,BB$2,MATCH(Substrates!$AY31,InputsBG!$38:$38,0))/$AX31,0)","v":0},{"$f":"IF($G31<0,$G31*INDEX(InputsBG!$1:$1048576,BC$2,MATCH(Substrates!$AY31,InputsBG!$38:$38,0))/$AX31,0)","v":0},0,{"$error":"#DIV/0!"},{"$error":"#DIV/0!"},{"$nulls":13},"meat mixed, IP, at slaughterhouse"]
["Champignonsubstrat, Speisepilzsubstrat","Substrat de champignons ","Mushroom substrate, edible mushroom substrate",null,"Mushroom substrate, edible mushroom substrate",0,0,0,0,null,null,0,0,{"$nulls":4},{"$f":"IF(F32>0,IF(G32/F32/1000<AX32,INDEX(menuesBG!$1:$1048576,Warnung,sprache),\"\"),\"\")","v":""},25,null,null,73.900000000000006,{"$f":"W$138","v":73.900000000000006},73.900000000000006,2.9930555555555554,{"$f":"Z$138","v":2.3277777777777775},3.6583333333333337,13,1.8457175925925919,{"$f":"AD$138","v":0.61666666666666647},45.65,50.55,492,{"$f":"AH$138","v":376},608,50,246,0,0,0,0,{"$error":"#N/A"},{"$error":"#N/A"},{"$error":"#N/A"},{"$error":"#DIV/0!"},{"$f":"FaktorenBG!F$43*(1+FaktorenBG!F$56)*IF(Auswahl_Behandlung_fest<5,$F32,0)","v":{"$error":"#N/A"}},{"$f":"FaktorenBG!G$43*(1+FaktorenBG!G$56)*IF(Auswahl_Behandlung_fest<5,$F32,0)","v":{"$error":"#N/A"}},{"$f":"FaktorenBG!H$43*(1+FaktorenBG!H$56)*IF(Auswahl_Behandlung_fest<5,$F32,0)","v":{"$error":"#N/A"}},0,{"$f":"INDEX(InputsBG!$1:$1048576,AX$2,MATCH(Substrates!$AY32,InputsBG!$38:$38,0))","v":{"$error":"#N/A"}},"Durchschnitt",{"$f":"IF($G32<0,$G32*INDEX(InputsBG!$1:$1048576,AZ$2,MATCH(Substrates!$AY32,InputsBG!$38:$38,0))/$AX32,0)","v":0},{"$f":"IF($G32<0,$G32*INDEX(InputsBG!$1:$1048576,BA$2,MATCH(Substrates!$AY32,InputsBG!$38:$38,0))/$AX32,0)","v":0},{"$f":"IF($G32<0,$G32*INDEX(InputsBG!$1:$1048576,BB$2,MATCH(Substrates!$AY32,InputsBG!$38:$38,0))/$AX32,0)","v":0},{"$f":"IF($G32<0,$G32*INDEX(InputsBG!$1:$1048576,BC$2,MATCH(Substrates!$AY32,InputsBG!$38:$38,0))/$AX32,0)","v":0},0,{"$error":"#DIV/0!"},{"$error":"#DIV/0!"},{"$nulls":13},{"$error":"#VALUE!"}]
["Enteisungswasser","Eau de dégivrage","De-icing water",null,"De-icing water",0,0,0,0,null,null,0,0,{"$nulls":4},{"$f":"IF(F33>0,IF(G33/F33/1000<AX33,INDEX(menuesBG!$1:$1048576,Warnung,sprache),\"\"),\"\")","v":""},1,null,null,72,null,null,0,0,0,0,0,0.61666666666666647,45.65,50.55,492,376,608,61,300.12,{"$f":"L33*50%*28.62%*12.5%","v":0},0,0,0,{"$error":"#N/A"},{"$error":"#N/A"},{"$error":"#N/A"},{"$error":"#DIV/0!"},{"$f":"FaktorenBG!F$43*(1+FaktorenBG!F$56)*IF(Auswahl_Behandlung_fest<5,$F33,0)","v":{"$error":"#N/A"}},{"$f":"FaktorenBG!G$43*(1+FaktorenBG!G$56)*IF(Auswahl_Behandlung_fest<5,$F33,0)","v":{"$error":"#N/A"}},{"$f":"FaktorenBG!H$43*(1+FaktorenBG!H$56)*IF(Auswahl_Behandlung_fest<5,$F33,0)","v":{"$error":"#N/A"}},0,{"$f":"INDEX(InputsBG!$1:$1048576,AX$2,MATCH(Substrates!$AY33,InputsBG!$38:$38,0))","v":{"$error":"#N/A"}},"Durchschnitt",{"$f":"IF($G33<0,$G33*INDEX(InputsBG!$1:$1048576,AZ$2,MATCH(Substrates!$AY33,InputsBG!$38:$38,0))/$AX33,0)","v":0},{"$f":"IF($G33<0,$G33*INDEX(InputsBG!$1:$1048576,BA$2,MATCH(Substrates!$AY33,InputsBG!$38:$38,0))/$AX33,0)","v":0},{"$f":"IF($G33<0,$G33*INDEX(InputsBG!$1:$1048576,BB$2,MATCH(Substrates!$AY33,InputsBG!$38:$38,0))/$AX33,0)","v":0},{"$f":"IF($G33<0,$G33*INDEX(InputsBG!$1:$1048576,BC$2,MATCH(Substrates!$AY33,InputsBG!$38:$38,0))/$AX33,0)","v":0},0,{"$error":"#DIV/0!"},{"$error":"#DIV/0!"},{"$nulls":13},{"$error":"#VALUE!"}]
["Fehl- und Testchargen aus Lebensmittelindustrie (pflanzlich)","Lots d'essai ou défectueux de l'industrie alimentaire (légumes)","Faulty and test batches from the food industry (vegetable)",null,"Faulty and test batches from the food industry (vegetable)",0,0,0,0,null,null,0,0,{"$nulls":4},{"$f":"IF(F34>0,IF(G34/F34/1000<AX34,INDEX(menuesBG!$1:$1048576,Warnung,sprache),\"\"),\"\")","v":""},30.7,{"$f":"T$138","v":30.7},30.7,73.900000000000006,73.900000000000006,73.900000000000006,2.9930555555555554,2.3277777777777775,3.6583333333333337,13,1.8457175925925919,0.61666666666666647,45.65,50.55,492,376,608,60,295.2,0,0,0,0,{"$error":"#N/A"},{"$error":"#N/A"},{"$error":"#N/A"},{"$error":"#DIV/0!"},{"$f":"FaktorenBG!F$43*(1+FaktorenBG!F$56)*IF(Auswahl_Behandlung_fest<5,$F34,0)","v":{"$error":"#N/A"}},{"$f":"FaktorenBG!G$43*(1+FaktorenBG!G$56)*IF(Auswahl_Behandlung_fest<5,$F34,0)","v":{"$error":"#N/A"}},{"$f":"FaktorenBG!H$43*(1+FaktorenBG!H$56)*IF(Auswahl_Behandlung_fest<5,$F34,0)","v":{"$error":"#N/A"}},0,{"$f":"INDEX(InputsBG!$1:$1048576,AX$2,MATCH(Substrates!$AY34,InputsBG!$38:$38,0))","v":{"$error":"#N/A"}},"vegetables mean, IP, at farm/kg/CH S",{"$f":"IF($G34<0,$G34*INDEX(InputsBG!$1:$1048576,AZ$2,MATCH(Substrates!$AY34,InputsBG!$38:$38,0))/$AX34,0)","v":0},{"$f":"IF($G34<0,$G34*INDEX(InputsBG!$1:$1048576,BA$2,MATCH(Substrates!$AY34,InputsBG!$38:$38,0))/$AX34,0)","v":0},{"$f":"IF($G34<0,$G34*INDEX(InputsBG!$1:$1048576,BB$2,MATCH(Substrates!$AY34,InputsBG!$38:$38,0))/$AX34,0)","v":0},{"$f":"IF($G34<0,$G34*INDEX(InputsBG!$1:$1048576,BC$2,MATCH(Substrates!$AY34,InputsBG!$38:$38,0))/$AX34,0)","v":0},0,{"$error":"#DIV/0!"},{"$error":"#DIV/0!"},{"$nulls":13},"vegetables mean, IP, at farm"]
["Fett aus Fettabscheider","Graisse provenant du filtre à graisse","Grease from grease separator",null,"Grease from grease separator",0,0,0,0,null,null,0,0,{"$nulls":4},{"$f":"IF(F35>0,IF(G35/F35/1000<AX35,INDEX(menuesBG!$1:$1048576,Warnung,sprache),\"\"),\"\")","v":""},36,2,70,84,75,93,{"$f":"(Z35+AA35)/2","v":1.85},0.1,3.6,{"$f":"AVERAGE(0.02,1.5)/AVERAGE(0.1,3.6)*100","v":41.081081081081081},0.46250000000000002,0.25,null,null,{"$f":"(AH35+AI35)/2","v":1150},1000,1300,68,782,0,0,0,0,{"$error":"#N/A"},{"$error":"#N/A"},{"$error":"#N/A"},{"$error":"#DIV/0!"},{"$f":"FaktorenBG!F$43*(1+FaktorenBG!F$56)*IF(Auswahl_Behandlung_fest<5,$F35,0)","v":{"$error":"#N/A"}},{"$f":"FaktorenBG!G$43*(1+FaktorenBG!G$56)*IF(Auswahl_Behandlung_fest<5,$F35,0)","v":{"$error":"#N/A"}},{"$f":"FaktorenBG!H$43*(1+FaktorenBG!H$56)*IF(Auswahl_Behandlung_fest<5,$F35,0)","v":{"$error":"#N/A"}},0,{"$f":"INDEX(InputsBG!$1:$1048576,AX$2,MATCH(Substrates!$AY35,InputsBG!$38:$38,0))","v":{"$error":"#N/A"}},"Rape oil, at oil mill/RER U",{"$f":"IF($G35<0,$G35*INDEX(InputsBG!$1:$1048576,AZ$2,MATCH(Substrates!$AY35,InputsBG!$38:$38,0))/$AX35,0)","v":0},{"$f":"IF($G35<0,$G35*INDEX(InputsBG!$1:$1048576,BA$2,MATCH(Substrates!$AY35,InputsBG!$38:$38,0))/$AX35,0)","v":0},{"$f":"IF($G35<0,$G35*INDEX(InputsBG!$1:$1048576,BB$2,MATCH(Substrates!$AY35,InputsBG!$38:$38,0))/$AX35,0)","v":0},{"$f":"IF($G35<0,$G35*INDEX(InputsBG!$1:$1048576,BC$2,MATCH(Substrates!$AY35,InputsBG!$38:$38,0))/$AX35,0)","v":0},0,{"$error":"#DIV/0!"},{"$error":"#DIV/0!"},{"$nulls":13},"Rape oil, at oil mill"]
["Filterrückstände aus Lebens- und Genussmittelherstellung","Résidus filtrés de la production d'aliments et de boissons","Filter residues from food and luxury food production",null,"Filter residues from food and luxury food production",0,0,0,0,null,null,0,0,{"$nulls":4},{"$f":"IF(F36>0,IF(G36/F36/1000<AX36,INDEX(menuesBG!$1:$1048576,Warnung,sprache),\"\"),\"\")","v":""},81.2,null,null,37.5,null,null,2.9930555555555554,{"$f":"Z$138","v":2.3277777777777775},{"$f":"AA$138","v":3.6583333333333337},13,{"$f":"AD36*Y36","v":1.8457175925925919},{"$f":"AD$138","v":0.61666666666666647},{"$f":"AE$138","v":45.65},{"$f":"AF$138","v":50.55},{"$f":"(AH36+AI36)/2","v":492},{"$f":"AH$138","v":376},{"$f":"AI$138","v":608},50,246,0,0,0,0,{"$error":"#N/A"},{"$error":"#N/A"},{"$error":"#N/A"},{"$error":"#DIV/0!"},{"$f":"FaktorenBG!F$43*(1+FaktorenBG!F$56)*IF(Auswahl_Behandlung_fest<5,$F36,0)","v":{"$error":"#N/A"}},{"$f":"FaktorenBG!G$43*(1+FaktorenBG!G$56)*IF(Auswahl_Behandlung_fest<5,$F36,0)","v":{"$error":"#N/A"}},{"$f":"FaktorenBG!H$43*(1+FaktorenBG!H$56)*IF(Auswahl_Behandlung_fest<5,$F36,0)","v":{"$error":"#N/A"}},0,{"$f":"INDEX(InputsBG!$1:$1048576,AX$2,MATCH(Substrates!$AY36,InputsBG!$38:$38,0))","v":{"$error":"#N/A"}},"Durchschnitt",{"$f":"IF($G36<0,$G36*INDEX(InputsBG!$1:$1048576,AZ$2,MATCH(Substrates!$AY36,InputsBG!$38:$38,0))/$AX36,0)","v":0},{"$f":"IF($G36<0,$G36*INDEX(InputsBG!$1:$1048576,BA$2,MATCH(Substrates!$AY36,InputsBG!$38:$38,0))/$AX36,0)","v":0},{"$f":"IF($G36<0,$G36*INDEX(InputsBG!$1:$1048576,BB$2,MATCH(Substrates!$AY36,InputsBG!$38:$38,0))/$AX36,0)","v":0},{"$f":"IF($G36<0,$G36*INDEX(InputsBG!$1:$1048576,BC$2,MATCH(Substrates!$AY36,InputsBG!$38:$38,0))/$AX36,0)","v":0},0,{"$error":"#DIV/0!"},{"$error":"#DIV/0!"},{"$nulls":13},{"$error":"#VALUE!"}]
["Flotatschlämme (Schlachthof)","Boues de flottation","Flotation sludge (slaughterhouse)",null,"Flotation sludge (slaughterhouse)",0,0,0,0,null,null,0,0,{"$nulls":4},{"$f":"IF(F37>0,IF(G37/F37/1000<AX37,INDEX(menuesBG!$1:$1048576,Warnung,sprache),\"\"),\"\")","v":""},14.5,5,24,91.5,85,98,6,3.2,8.8000000000000007,{"$f":"AVERAGE(0.01,0.06)/AVERAGE(3.2,8.9)*100","v":0.57851239669421473},3.9000000000000004,0.65,null,null,1025,700,1350,59,604.75,0,0,0,0,{"$error":"#N/A"},{"$error":"#N/A"},{"$error":"#N/A"},{"$error":"#DIV/0!"},{"$f":"FaktorenBG!F$43*(1+FaktorenBG!F$56)*IF(Auswahl_Behandlung_fest<5,$F37,0)","v":{"$error":"#N/A"}},{"$f":"FaktorenBG!G$43*(1+FaktorenBG!G$56)*IF(Auswahl_Behandlung_fest<5,$F37,0)","v":{"$error":"#N/A"}},{"$f":"FaktorenBG!H$43*(1+FaktorenBG!H$56)*IF(Auswahl_Behandlung_fest<5,$F37,0)","v":{"$error":"#N/A"}},0,{"$f":"INDEX(InputsBG!$1:$1048576,AX$2,MATCH(Substrates!$AY37,InputsBG!$38:$38,0))","v":{"$error":"#N/A"}},"meat mixed, IP, at slaughterhouse/kg/CH S",{"$f":"IF($G37<0,$G37*INDEX(InputsBG!$1:$1048576,AZ$2,MATCH(Substrates!$AY37,InputsBG!$38:$38,0))/$AX37,0)","v":0},{"$f":"IF($G37<0,$G37*INDEX(InputsBG!$1:$1048576,BA$2,MATCH(Substrates!$AY37,InputsBG!$38:$38,0))/$AX37,0)","v":0},{"$f":"IF($G37<0,$G37*INDEX(InputsBG!$1:$1048576,BB$2,MATCH(Substrates!$AY37,InputsBG!$38:$38,0))/$AX37,0)","v":0},{"$f":"IF($G37<0,$G37*INDEX(InputsBG!$1:$1048576,BC$2,MATCH(Substrates!$AY37,InputsBG!$38:$38,0))/$AX37,0)","v":0},0,{"$error":"#DIV/0!"},{"$error":"#DIV/0!"},{"$nulls":13},"meat mixed, IP, at slaughterhouse"]
["Früchteabfälle (Orangen, Zitronen, Bananen, Ananas, etc.)","Déchets de fruits (oranges, citrons, bananes, ananas etc.)","Fruit waste (oranges, lemons, bananas, pineapples, etc.)",null,"Fruit waste (oranges, lemons, bananas, pineapples, etc.)",0,0,0,0,null,null,0,0,{"$nulls":4},{"$f":"IF(F38>0,IF(G38/F38/1000<AX38,INDEX(menuesBG!$1:$1048576,Warnung,sprache),\"\"),\"\")","v":""},37.5,25,50,90,85,95,1.1000000000000001,1,1.2,{"$f":"AVERAGE(0.05,0.2)/AVERAGE(0.5,2.7)*100","v":7.8125},0.66,0.6,null,null,555,450,660,57,316.35000000000002,0,0,0,0,{"$error":"#N/A"},{"$error":"#N/A"},{"$error":"#N/A"},{"$error":"#DIV/0!"},{"$f":"FaktorenBG!F$43*(1+FaktorenBG!F$56)*IF(Auswahl_Behandlung_fest<5,$F38,0)","v":{"$error":"#N/A"}},{"$f":"FaktorenBG!G$43*(1+FaktorenBG!G$56)*IF(Auswahl_Behandlung_fest<5,$F38,0)","v":{"$error":"#N/A"}},{"$f":"FaktorenBG!H$43*(1+FaktorenBG!H$56)*IF(Auswahl_Behandlung_fest<5,$F38,0)","v":{"$error":"#N/A"}},0,{"$f":"INDEX(InputsBG!$1:$1048576,AX$2,MATCH(Substrates!$AY38,InputsBG!$38:$38,0))","v":{"$error":"#N/A"}},"apple ÖLN, at farm/kg/CH S",{"$f":"IF($G38<0,$G38*INDEX(InputsBG!$1:$1048576,AZ$2,MATCH(Substrates!$AY38,InputsBG!$38:$38,0))/$AX38,0)","v":0},{"$f":"IF($G38<0,$G38*INDEX(InputsBG!$1:$1048576,BA$2,MATCH(Substrates!$AY38,InputsBG!$38:$38,0))/$AX38,0)","v":0},{"$f":"IF($G38<0,$G38*INDEX(InputsBG!$1:$1048576,BB$2,MATCH(Substrates!$AY38,InputsBG!$38:$38,0))/$AX38,0)","v":0},{"$f":"IF($G38<0,$G38*INDEX(InputsBG!$1:$1048576,BC$2,MATCH(Substrates!$AY38,InputsBG!$38:$38,0))/$AX38,0)","v":0},0,{"$error":"#DIV/0!"},{"$error":"#DIV/0!"},{"$nulls":13},"apple ÖLN, at farm"]
["Fruchtwasser, Zuckerwasser","Eau fruitée, eau sucrée","Amniotic fluid, sugar water",null,{"$f":"IF(sprache=1,A39,IF(sprache=2,B39,C39))","v":"Amniotic fluid, sugar water"},0,0,0,0,null,null,0,0,{"$nulls":4},{"$f":"IF(F39>0,IF(G39/F39/1000<AX39,INDEX(menuesBG!$1:$1048576,Warnung,sprache),\"\"),\"\")","v":""},4.3,null,null,72.5,null,null,4.5,4,5,{"$f":"AVERAGE(0.8,1)/AVERAGE(4,5)*100","v":20},2.774999999999999,{"$f":"AD$138","v":0.61666666666666647},45.65,50.55,492,{"$f":"AH$138","v":376},{"$f":"AI$138","v":608},55,270.60000000000002,0,0,0,0,{"$error":"#N/A"},{"$error":"#N/A"},{"$error":"#N/A"},{"$error":"#DIV/0!"},{"$f":"FaktorenBG!F$43*(1+FaktorenBG!F$56)*IF(Auswahl_Behandlung_fest<5,$F39,0)","v":{"$error":"#N/A"}},{"$f":"FaktorenBG!G$43*(1+FaktorenBG!G$56)*IF(Auswahl_Behandlung_fest<5,$F39,0)","v":{"$error":"#N/A"}},{"$f":"FaktorenBG!H$43*(1+FaktorenBG!H$56)*IF(Auswahl_Behandlung_fest<5,$F39,0)","v":{"$error":"#N/A"}},0,{"$f":"INDEX(InputsBG!$1:$1048576,AX$2,MATCH(Substrates!$AY39,InputsBG!$38:$38,0))","v":{"$error":"#N/A"}},"sugar beets IP, at farm/kg/CH U",{"$f":"IF($G39<0,$G39*INDEX(InputsBG!$1:$1048576,AZ$2,MATCH(Substrates!$AY39,InputsBG!$38:$38,0))/$AX39,0)","v":0},{"$f":"IF($G39<0,$G39*INDEX(InputsBG!$1:$1048576,BA$2,MATCH(Substrates!$AY39,InputsBG!$38:$38,0))/$AX39,0)","v":0},{"$f":"IF($G39<0,$G39*INDEX(InputsBG!$1:$1048576,BB$2,MATCH(Substrates!$AY39,InputsBG!$38:$38,0))/$AX39,0)","v":0},{"$f":"IF($G39<0,$G39*INDEX(InputsBG!$1:$1048576,BC$2,MATCH(Substrates!$AY39,InputsBG!$38:$38,0))/$AX39,0)","v":0},0,{"$error":"#DIV/0!"},{"$error":"#DIV/0!"},{"$nulls":13},"sugar beets IP, at farm"]
["Gärgut aus Nahrungsmittelindustrie","Digestat provenant de l'industrie alimentaire","Fermentation material from the food industry",null,"Fermentation material from the food industry",0,0,0,0,null,null,0,0,{"$nulls":4},{"$f":"IF(F40>0,IF(G40/F40/1000<AX40,INDEX(menuesBG!$1:$1048576,Warnung,sprache),\"\"),\"\")","v":""},30.7,{"$f":"T$138","v":30.7},{"$f":"U$138","v":30.7},73.900000000000006,{"$f":"W$138","v":73.900000000000006},{"$f":"X$138","v":73.900000000000006},2.8,0.6,5,{"$f":"AVERAGE(0.01,1.1)/AVERAGE(0.6,5)*100","v":19.821428571428573},1.7266666666666661,0.61666666666666647,45.65,50.55,492,{"$f":"AH$138","v":376},{"$f":"AI$138","v":608},50,246,0,0,0,0,{"$error":"#N/A"},{"$error":"#N/A"},{"$error":"#N/A"},{"$error":"#DIV/0!"},{"$f":"FaktorenBG!F$43*(1+FaktorenBG!F$56)*IF(Auswahl_Behandlung_fest<5,$F40,0)","v":{"$error":"#N/A"}},{"$f":"FaktorenBG!G$43*(1+FaktorenBG!G$56)*IF(Auswahl_Behandlung_fest<5,$F40,0)","v":{"$error":"#N/A"}},{"$f":"FaktorenBG!H$43*(1+FaktorenBG!H$56)*IF(Auswahl_Behandlung_fest<5,$F40,0)","v":{"$error":"#N/A"}},0,{"$f":"INDEX(InputsBG!$1:$1048576,AX$2,MATCH(Substrates!$AY40,InputsBG!$38:$38,0))","v":{"$error":"#N/A"}},"Durchschnitt",{"$f":"IF($G40<0,$G40*INDEX(InputsBG!$1:$1048576,AZ$2,MATCH(Substrates!$AY40,InputsBG!$38:$38,0))/$AX40,0)","v":0},{"$f":"IF($G40<0,$G40*INDEX(InputsBG!$1:$1048576,BA$2,MATCH(Substrates!$AY40,InputsBG!$38:$38,0))/$AX40,0)","v":0},{"$f":"IF($G40<0,$G40*INDEX(InputsBG!$1:$1048576,BB$2,MATCH(Substrates!$AY40,InputsBG!$38:$38,0))/$AX40,0)","v":0},{"$f":"IF($G40<0,$G40*INDEX(InputsBG!$1:$1048576,BC$2,MATCH(Substrates!$AY40,InputsBG!$38:$38,0))/$AX40,0)","v":0},0,{"$error":"#DIV/0!"},{"$error":"#DIV/0!"},{"$nulls":13},{"$error":"#VALUE!"}]
["Grüngut","Déchets verts","Green waste",null,"Green waste",0,0,0,0,null,null,0,0,{"$nulls":4},{"$f":"IF(F41>0,IF(G41/F41/1000<AX41,INDEX(menuesBG!$1:$1048576,Warnung,sprache),\"\"),\"\")","v":""},35.5,33,38,85,80,90,1.25,1,1.5,13,0.625,0.5,null,null,300,200,400,50,150,0,0,0,0,{"$error":"#N/A"},{"$error":"#N/A"},{"$error":"#N/A"},{"$error":"#DIV/0!"},{"$f":"FaktorenBG!F$43*(1+FaktorenBG!F$56)*IF(Auswahl_Behandlung_fest<5,$F41,0)","v":{"$error":"#N/A"}},{"$f":"FaktorenBG!G$43*(1+FaktorenBG!G$56)*IF(Auswahl_Behandlung_fest<5,$F41,0)","v":{"$error":"#N/A"}},{"$f":"FaktorenBG!H$43*(1+FaktorenBG!H$56)*IF(Auswahl_Behandlung_fest<5,$F41,0)","v":{"$error":"#N/A"}},0,{"$f":"INDEX(InputsBG!$1:$1048576,AX$2,MATCH(Substrates!$AY41,InputsBG!$38:$38,0))","v":{"$error":"#N/A"}},"Durchschnitt",{"$f":"IF($G41<0,$G41*INDEX(InputsBG!$1:$1048576,AZ$2,MATCH(Substrates!$AY41,InputsBG!$38:$38,0))/$AX41,0)","v":0},{"$f":"IF($G41<0,$G41*INDEX(InputsBG!$1:$1048576,BA$2,MATCH(Substrates!$AY41,InputsBG!$38:$38,0))/$AX41,0)","v":0},{"$f":"IF($G41<0,$G41*INDEX(InputsBG!$1:$1048576,BB$2,MATCH(Substrates!$AY41,InputsBG!$38:$38,0))/$AX41,0)","v":0},{"$f":"IF($G41<0,$G41*INDEX(InputsBG!$1:$1048576,BC$2,MATCH(Substrates!$AY41,InputsBG!$38:$38,0))/$AX41,0)","v":0},0,{"$f":"M41/Gasertrag_berechnet","v":{"$error":"#DIV/0!"}},{"$f":"AZ41/Belastung_Substrat","v":{"$error":"#DIV/0!"}},{"$nulls":13},{"$error":"#VALUE!"}]
["Gemüse, Rüstabfälle","Epluchures de légumes","Vegetables, food waste",null,"Vegetables, food waste",0,0,0,0,null,null,0,0,{"$nulls":4},{"$f":"IF(F42>0,IF(G42/F42/1000<AX42,INDEX(menuesBG!$1:$1048576,Warnung,sprache),\"\"),\"\")","v":""},12.5,5,20,83,76,90,4,3,5,{"$f":"AVERAGE(0.01,1.1)/AVERAGE(0.6,5)*100","v":19.821428571428573},2.6,0.65,null,null,500,400,600,52,260,0,0,0,0,{"$error":"#N/A"},{"$error":"#N/A"},{"$error":"#N/A"},{"$error":"#DIV/0!"},{"$f":"FaktorenBG!F$43*(1+FaktorenBG!F$56)*IF(Auswahl_Behandlung_fest<5,$F42,0)","v":{"$error":"#N/A"}},{"$f":"FaktorenBG!G$43*(1+FaktorenBG!G$56)*IF(Auswahl_Behandlung_fest<5,$F42,0)","v":{"$error":"#N/A"}},{"$f":"FaktorenBG!H$43*(1+FaktorenBG!H$56)*IF(Auswahl_Behandlung_fest<5,$F42,0)","v":{"$error":"#N/A"}},0,{"$f":"INDEX(InputsBG!$1:$1048576,AX$2,MATCH(Substrates!$AY42,InputsBG!$38:$38,0))","v":{"$error":"#N/A"}},"vegetables mean, IP, at farm/kg/CH S",{"$f":"IF($G42<0,$G42*INDEX(InputsBG!$1:$1048576,AZ$2,MATCH(Substrates!$AY42,InputsBG!$38:$38,0))/$AX42,0)","v":0},{"$f":"IF($G42<0,$G42*INDEX(InputsBG!$1:$1048576,BA$2,MATCH(Substrates!$AY42,InputsBG!$38:$38,0))/$AX42,0)","v":0},{"$f":"IF($G42<0,$G42*INDEX(InputsBG!$1:$1048576,BB$2,MATCH(Substrates!$AY42,InputsBG!$38:$38,0))/$AX42,0)","v":0},{"$f":"IF($G42<0,$G42*INDEX(InputsBG!$1:$1048576,BC$2,MATCH(Substrates!$AY42,InputsBG!$38:$38,0))/$AX42,0)","v":0},0,{"$error":"#DIV/0!"},{"$error":"#DIV/0!"},{"$nulls":13},"vegetables mean, IP, at farm"]
["Glucose, Zuckerwasser, Fruchtsäfte","Glucose, eau sucré, jus de fruits","Glucose, sugar water, fruit juices",null,"Glucose, sugar water, fruit juices",0,0,0,0,null,null,0,0,{"$nulls":4},{"$f":"IF(F43>0,IF(G43/F43/1000<AX43,INDEX(menuesBG!$1:$1048576,Warnung,sprache),\"\"),\"\")","v":""},4.3,null,null,72.5,null,null,2.9930555555555554,{"$f":"Z$138","v":2.3277777777777775},{"$f":"AA$138","v":3.6583333333333337},13,{"$f":"AD43*Y43","v":1.8457175925925919},{"$f":"AD$138","v":0.61666666666666647},{"$f":"AE$138","v":45.65},{"$f":"AF$138","v":50.55},{"$f":"(AH43+AI43)/2","v":492},{"$f":"AH$138","v":376},{"$f":"AI$138","v":608},50,246,0,0,0,0,{"$error":"#N/A"},{"$error":"#N/A"},{"$error":"#N/A"},{"$error":"#DIV/0!"},{"$f":"FaktorenBG!F$43*(1+FaktorenBG!F$56)*IF(Auswahl_Behandlung_fest<5,$F43,0)","v":{"$error":"#N/A"}},{"$f":"FaktorenBG!G$43*(1+FaktorenBG!G$56)*IF(Auswahl_Behandlung_fest<5,$F43,0)","v":{"$error":"#N/A"}},{"$f":"FaktorenBG!H$43*(1+FaktorenBG!H$56)*IF(Auswahl_Behandlung_fest<5,$F43,0)","v":{"$error":"#N/A"}},0,{"$f":"INDEX(InputsBG!$1:$1048576,AX$2,MATCH(Substrates!$AY43,InputsBG!$38:$38,0))","v":{"$error":"#N/A"}},"Syrup, from sugar beet molasses, at distillery/CH U",{"$f":"IF($G43<0,$G43*INDEX(InputsBG!$1:$1048576,AZ$2,MATCH(Substrates!$AY43,InputsBG!$38:$38,0))/$AX43,0)","v":0},{"$f":"IF($G43<0,$G43*INDEX(InputsBG!$1:$1048576,BA$2,MATCH(Substrates!$AY43,InputsBG!$38:$38,0))/$AX43,0)","v":0},{"$f":"IF($G43<0,$G43*INDEX(InputsBG!$1:$1048576,BB$2,MATCH(Substrates!$AY43,InputsBG!$38:$38,0))/$AX43,0)","v":0},{"$f":"IF($G43<0,$G43*INDEX(InputsBG!$1:$1048576,BC$2,MATCH(Substrates!$AY43,InputsBG!$38:$38,0))/$AX43,0)","v":0},0,{"$error":"#DIV/0!"},{"$error":"#DIV/0!"},{"$nulls":13},"Syrup, from sugar beet molasses, at distillery"]
["Grassilage","Ensilage d'herbe","Grass silage",null,"Grass silage",0,0,0,0,null,null,0,0,{"$nulls":4},{"$f":"IF(F44>0,IF(G44/F44/1000<AX44,INDEX(menuesBG!$1:$1048576,Warnung,sprache),\"\"),\"\")","v":""},42.5,25,60,82.5,69,96,5.2,3.5,6.9,{"$f":"AVERAGE(3.5,6.9)/AVERAGE(6.9,19.8)*100","v":38.951310861423217},3.6399999999999997,0.7,6.9,19.8,565,520,610,54,305.10000000000002,0,0,0,0,{"$error":"#N/A"},{"$error":"#N/A"},{"$error":"#N/A"},{"$error":"#DIV/0!"},{"$f":"FaktorenBG!F$43*(1+FaktorenBG!F$56)*IF(Auswahl_Behandlung_fest<5,$F44,0)","v":{"$error":"#N/A"}},{"$f":"FaktorenBG!G$43*(1+FaktorenBG!G$56)*IF(Auswahl_Behandlung_fest<5,$F44,0)","v":{"$error":"#N/A"}},{"$f":"FaktorenBG!H$43*(1+FaktorenBG!H$56)*IF(Auswahl_Behandlung_fest<5,$F44,0)","v":{"$error":"#N/A"}},0,{"$f":"INDEX(InputsBG!$1:$1048576,AX$2,MATCH(Substrates!$AY44,InputsBG!$38:$38,0))","v":{"$error":"#N/A"}},"Grass silage IP, at farm/kg/CH U",{"$f":"IF($G44<0,$G44*INDEX(InputsBG!$1:$1048576,AZ$2,MATCH(Substrates!$AY44,InputsBG!$38:$38,0))/$AX44,0)","v":0},{"$f":"IF($G44<0,$G44*INDEX(InputsBG!$1:$1048576,BA$2,MATCH(Substrates!$AY44,InputsBG!$38:$38,0))/$AX44,0)","v":0},{"$f":"IF($G44<0,$G44*INDEX(InputsBG!$1:$1048576,BB$2,MATCH(Substrates!$AY44,InputsBG!$38:$38,0))/$AX44,0)","v":0},{"$f":"IF($G44<0,$G44*INDEX(InputsBG!$1:$1048576,BC$2,MATCH(Substrates!$AY44,InputsBG!$38:$38,0))/$AX44,0)","v":0},0,{"$error":"#DIV/0!"},{"$error":"#DIV/0!"},{"$nulls":13},"Grass silage IP, at farm"]
["Harn, Häute, Felle, Borsten, Federn, Haare (rein)","Urine, cuirs, peaux, crins, plumes, cheveux ","Urine, hides, skins, bristles, feathers, hair (pure)",null,"Urine, hides, skins, bristles, feathers, hair (pure)",0,0,0,0,null,null,0,0,{"$nulls":4},{"$f":"IF(F45>0,IF(G45/F45/1000<AX45,INDEX(menuesBG!$1:$1048576,Warnung,sprache),\"\"),\"\")","v":""},30.7,{"$f":"T$138","v":30.7},{"$f":"U$138","v":30.7},73.900000000000006,{"$f":"W$138","v":73.900000000000006},{"$f":"X$138","v":73.900000000000006},2.9930555555555554,{"$f":"Z$138","v":2.3277777777777775},{"$f":"AA$138","v":3.6583333333333337},13,1.8457175925925919,{"$f":"AD$138","v":0.61666666666666647},45.65,50.55,492,{"$f":"AH$138","v":376},{"$f":"AI$138","v":608},50,246,0,0,0,0,{"$error":"#N/A"},{"$error":"#N/A"},{"$error":"#N/A"},{"$error":"#DIV/0!"},{"$f":"FaktorenBG!F$43*(1+FaktorenBG!F$56)*IF(Auswahl_Behandlung_fest<5,$F45,0)","v":{"$error":"#N/A"}},{"$f":"FaktorenBG!G$43*(1+FaktorenBG!G$56)*IF(Auswahl_Behandlung_fest<5,$F45,0)","v":{"$error":"#N/A"}},{"$f":"FaktorenBG!H$43*(1+FaktorenBG!H$56)*IF(Auswahl_Behandlung_fest<5,$F45,0)","v":{"$error":"#N/A"}},0,{"$f":"INDEX(InputsBG!$1:$1048576,AX$2,MATCH(Substrates!$AY45,InputsBG!$38:$38,0))","v":{"$error":"#N/A"}},"meat mixed, IP, at slaughterhouse/kg/CH S",{"$f":"IF($G45<0,$G45*INDEX(InputsBG!$1:$1048576,AZ$2,MATCH(Substrates!$AY45,InputsBG!$38:$38,0))/$AX45,0)","v":0},{"$f":"IF($G45<0,$G45*INDEX(InputsBG!$1:$1048576,BA$2,MATCH(Substrates!$AY45,InputsBG!$38:$38,0))/$AX45,0)","v":0},{"$f":"IF($G45<0,$G45*INDEX(InputsBG!$1:$1048576,BB$2,MATCH(Substrates!$AY45,InputsBG!$38:$38,0))/$AX45,0)","v":0},{"$f":"IF($G45<0,$G45*INDEX(InputsBG!$1:$1048576,BC$2,MATCH(Substrates!$AY45,InputsBG!$38:$38,0))/$AX45,0)","v":0},0,{"$error":"#DIV/0!"},{"$error":"#DIV/0!"},{"$nulls":13},"meat mixed, IP, at slaughterhouse"]
["Hefe","Levure","Yeast",null,"Yeast",0,0,0,0,null,null,0,0,{"$nulls":4},{"$f":"IF(F46>0,IF(G46/F46/1000<AX46,INDEX(menuesBG!$1:$1048576,Warnung,sprache),\"\"),\"\")","v":""},30.7,{"$f":"T$138","v":30.7},{"$f":"U$138","v":30.7},73.900000000000006,{"$f":"W$138","v":73.900000000000006},{"$f":"X$138","v":73.900000000000006},2.9930555555555554,{"$f":"Z$138","v":2.3277777777777775},{"$f":"AA$138","v":3.6583333333333337},13,1.8457175925925919,0.61666666666666647,45.65,50.55,492,{"$f":"AH$138","v":376},{"$f":"AI$138","v":608},50,246,0,0,0,0,{"$error":"#N/A"},{"$error":"#N/A"},{"$error":"#N/A"},{"$error":"#DIV/0!"},{"$f":"FaktorenBG!F$43*(1+FaktorenBG!F$56)*IF(Auswahl_Behandlung_fest<5,$F46,0)","v":{"$error":"#N/A"}},{"$f":"FaktorenBG!G$43*(1+FaktorenBG!G$56)*IF(Auswahl_Behandlung_fest<5,$F46,0)","v":{"$error":"#N/A"}},{"$f":"FaktorenBG!H$43*(1+FaktorenBG!H$56)*IF(Auswahl_Behandlung_fest<5,$F46,0)","v":{"$error":"#N/A"}},0,{"$f":"INDEX(InputsBG!$1:$1048576,AX$2,MATCH(Substrates!$AY46,InputsBG!$38:$38,0))","v":{"$error":"#N/A"}},"yeast, at plant/kg/RER S",{"$f":"IF($G46<0,$G46*INDEX(InputsBG!$1:$1048576,AZ$2,MATCH(Substrates!$AY46,InputsBG!$38:$38,0))/$AX46,0)","v":0},{"$f":"IF($G46<0,$G46*INDEX(InputsBG!$1:$1048576,BA$2,MATCH(Substrates!$AY46,InputsBG!$38:$38,0))/$AX46,0)","v":0},{"$f":"IF($G46<0,$G46*INDEX(InputsBG!$1:$1048576,BB$2,MATCH(Substrates!$AY46,InputsBG!$38:$38,0))/$AX46,0)","v":0},{"$f":"IF($G46<0,$G46*INDEX(InputsBG!$1:$1048576,BC$2,MATCH(Substrates!$AY46,InputsBG!$38:$38,0))/$AX46,0)","v":0},0,{"$error":"#DIV/0!"},{"$error":"#DIV/0!"},{"$nulls":13},"yeast, at plant"]
["Heilkräuterrückstand","Résidus de plantes médicinales","Medicinal herb residue",null,"Medicinal herb residue",0,0,0,0,null,null,0,0,{"$nulls":4},{"$f":"IF(F47>0,IF(G47/F47/1000<AX47,INDEX(menuesBG!$1:$1048576,Warnung,sprache),\"\"),\"\")","v":""},55,50,60,60,50,70,2.25,2,2.5,13,1.3499999999999999,0.6,null,null,400,350,450,57,228,0,0,0,0,{"$error":"#N/A"},{"$error":"#N/A"},{"$error":"#N/A"},{"$error":"#DIV/0!"},{"$f":"FaktorenBG!F$43*(1+FaktorenBG!F$56)*IF(Auswahl_Behandlung_fest<5,$F47,0)","v":{"$error":"#N/A"}},{"$f":"FaktorenBG!G$43*(1+FaktorenBG!G$56)*IF(Auswahl_Behandlung_fest<5,$F47,0)","v":{"$error":"#N/A"}},{"$f":"FaktorenBG!H$43*(1+FaktorenBG!H$56)*IF(Auswahl_Behandlung_fest<5,$F47,0)","v":{"$error":"#N/A"}},0,{"$f":"INDEX(InputsBG!$1:$1048576,AX$2,MATCH(Substrates!$AY47,InputsBG!$38:$38,0))","v":{"$error":"#N/A"}},"Durchschnitt",{"$f":"IF($G47<0,$G47*INDEX(InputsBG!$1:$1048576,AZ$2,MATCH(Substrates!$AY47,InputsBG!$38:$38,0))/$AX47,0)","v":0},{"$f":"IF($G47<0,$G47*INDEX(InputsBG!$1:$1048576,BA$2,MATCH(Substrates!$AY47,InputsBG!$38:$38,0))/$AX47,0)","v":0},{"$f":"IF($G47<0,$G47*INDEX(InputsBG!$1:$1048576,BB$2,MATCH(Substrates!$AY47,InputsBG!$38:$38,0))/$AX47,0)","v":0},{"$f":"IF($G47<0,$G47*INDEX(InputsBG!$1:$1048576,BC$2,MATCH(Substrates!$AY47,InputsBG!$38:$38,0))/$AX47,0)","v":0},0,{"$error":"#DIV/0!"},{"$error":"#DIV/0!"},{"$nulls":13},{"$error":"#VALUE!"}]
["Kaffeesatz, Abgänge aus Produktion und Zubereitung von Kaffee","Marc de café (production et préparation du café exclus)","Coffee grounds, disposals from production and preparation of coffee",null,"Coffee grounds, disposals from production and preparation of coffee",0,0,0,0,null,null,0,0,{"$nulls":4},{"$f":"IF(F48>0,IF(G48/F48/1000<AX48,INDEX(menuesBG!$1:$1048576,Warnung,sprache),\"\"),\"\")","v":""},36.5,null,null,{"$f":"(W48+X48)/2","v":0},null,null,2.9930555555555554,{"$f":"Z$138","v":2.3277777777777775},{"$f":"AA$138","v":3.6583333333333337},13,{"$f":"AD48*Y48","v":1.8457175925925919},{"$f":"AD$138","v":0.61666666666666647},45.65,50.55,{"$f":"(AH48+AI48)/2","v":492},{"$f":"AH$138","v":376},{"$f":"AI$138","v":608},50,246,0,0,0,0,{"$error":"#N/A"},{"$error":"#N/A"},{"$error":"#N/A"},{"$error":"#DIV/0!"},{"$f":"FaktorenBG!F$43*(1+FaktorenBG!F$56)*IF(Auswahl_Behandlung_fest<5,$F48,0)","v":{"$error":"#N/A"}},{"$f":"FaktorenBG!G$43*(1+FaktorenBG!G$56)*IF(Auswahl_Behandlung_fest<5,$F48,0)","v":{"$error":"#N/A"}},{"$f":"FaktorenBG!H$43*(1+FaktorenBG!H$56)*IF(Auswahl_Behandlung_fest<5,$F48,0)","v":{"$error":"#N/A"}},0,{"$f":"INDEX(InputsBG!$1:$1048576,AX$2,MATCH(Substrates!$AY48,InputsBG!$38:$38,0))","v":{"$error":"#N/A"}},"Durchschnitt",{"$f":"IF($G48<0,$G48*INDEX(InputsBG!$1:$1048576,AZ$2,MATCH(Substrates!$AY48,InputsBG!$38:$38,0))/$AX48,0)","v":0},{"$f":"IF($G48<0,$G48*INDEX(InputsBG!$1:$1048576,BA$2,MATCH(Substrates!$AY48,InputsBG!$38:$38,0))/$AX48,0)","v":0},{"$f":"IF($G48<0,$G48*INDEX(InputsBG!$1:$1048576,BB$2,MATCH(Substrates!$AY48,InputsBG!$38:$38,0))/$AX48,0)","v":0},{"$f":"IF($G48<0,$G48*INDEX(InputsBG!$1:$1048576,BC$2,MATCH(Substrates!$AY48,InputsBG!$38:$38,0))/$AX48,0)","v":0},0,{"$error":"#DIV/0!"},{"$error":"#DIV/0!"},{"$nulls":13},{"$error":"#VALUE!"}]
["Kakaoschalen","Ecorce de cacao","Cocoa husks",null,"Cocoa husks",0,0,0,0,null,null,0,0,{"$nulls":4},{"$f":"IF(F49>0,IF(G49/F49/1000<AX49,INDEX(menuesBG!$1:$1048576,Warnung,sprache),\"\"),\"\")","v":""},95,null,null,91,null,null,2.2000000000000002,null,null,13,{"$f":"AD49*Y49","v":1.3566666666666662},0.61666666666666647,45.65,50.55,{"$f":"(AH49+AI49)/2","v":492},{"$f":"AH$138","v":376},{"$f":"AI$138","v":608},60,295.2,0,0,0,0,{"$error":"#N/A"},{"$error":"#N/A"},{"$error":"#N/A"},{"$error":"#DIV/0!"},{"$f":"FaktorenBG!F$43*(1+FaktorenBG!F$56)*IF(Auswahl_Behandlung_fest<5,$F49,0)","v":{"$error":"#N/A"}},{"$f":"FaktorenBG!G$43*(1+FaktorenBG!G$56)*IF(Auswahl_Behandlung_fest<5,$F49,0)","v":{"$error":"#N/A"}},{"$f":"FaktorenBG!H$43*(1+FaktorenBG!H$56)*IF(Auswahl_Behandlung_fest<5,$F49,0)","v":{"$error":"#N/A"}},0,{"$f":"INDEX(InputsBG!$1:$1048576,AX$2,MATCH(Substrates!$AY49,InputsBG!$38:$38,0))","v":{"$error":"#N/A"}},"Durchschnitt",{"$f":"IF($G49<0,$G49*INDEX(InputsBG!$1:$1048576,AZ$2,MATCH(Substrates!$AY49,InputsBG!$38:$38,0))/$AX49,0)","v":0},{"$f":"IF($G49<0,$G49*INDEX(InputsBG!$1:$1048576,BA$2,MATCH(Substrates!$AY49,InputsBG!$38:$38,0))/$AX49,0)","v":0},{"$f":"IF($G49<0,$G49*INDEX(InputsBG!$1:$1048576,BB$2,MATCH(Substrates!$AY49,InputsBG!$38:$38,0))/$AX49,0)","v":0},{"$f":"IF($G49<0,$G49*INDEX(InputsBG!$1:$1048576,BC$2,MATCH(Substrates!$AY49,InputsBG!$38:$38,0))/$AX49,0)","v":0},0,{"$error":"#DIV/0!"},{"$error":"#DIV/0!"},{"$nulls":13},{"$error":"#VALUE!"}]
["Kartoffeln","Pommes de terres","Potatoes",null,"Potatoes",0,0,0,0,null,null,0,0,{"$nulls":4},{"$f":"IF(F50>0,IF(G50/F50/1000<AX50,INDEX(menuesBG!$1:$1048576,Warnung,sprache),\"\"),\"\")","v":""},25,20,30,80,75,85,1.5,1.5,1.5,{"$f":"AVERAGE(0.04)/AVERAGE(0.5,1)*100","v":5.3333333333333339},0.97500000000000009,0.65,null,null,550,500,600,51,280.5,0,0,0,0,{"$error":"#N/A"},{"$error":"#N/A"},{"$error":"#N/A"},{"$error":"#DIV/0!"},{"$f":"FaktorenBG!F$43*(1+FaktorenBG!F$56)*IF(Auswahl_Behandlung_fest<5,$F50,0)","v":{"$error":"#N/A"}},{"$f":"FaktorenBG!G$43*(1+FaktorenBG!G$56)*IF(Auswahl_Behandlung_fest<5,$F50,0)","v":{"$error":"#N/A"}},{"$f":"FaktorenBG!H$43*(1+FaktorenBG!H$56)*IF(Auswahl_Behandlung_fest<5,$F50,0)","v":{"$error":"#N/A"}},0,{"$f":"INDEX(InputsBG!$1:$1048576,AX$2,MATCH(Substrates!$AY50,InputsBG!$38:$38,0))","v":{"$error":"#N/A"}},"Potatoes IP, at farm/CH U",{"$f":"IF($G50<0,$G50*INDEX(InputsBG!$1:$1048576,AZ$2,MATCH(Substrates!$AY50,InputsBG!$38:$38,0))/$AX50,0)","v":0},{"$f":"IF($G50<0,$G50*INDEX(InputsBG!$1:$1048576,BA$2,MATCH(Substrates!$AY50,InputsBG!$38:$38,0))/$AX50,0)","v":0},{"$f":"IF($G50<0,$G50*INDEX(InputsBG!$1:$1048576,BB$2,MATCH(Substrates!$AY50,InputsBG!$38:$38,0))/$AX50,0)","v":0},{"$f":"IF($G50<0,$G50*INDEX(InputsBG!$1:$1048576,BC$2,MATCH(Substrates!$AY50,InputsBG!$38:$38,0))/$AX50,0)","v":0},0,{"$error":"#DIV/0!"},{"$error":"#DIV/0!"},{"$nulls":13},"Potatoes IP, at farm"]
["Käseabfall","Déchets de fromage","Cheese waste",null,"Cheese waste",0,0,0,0,null,null,0,0,{"$nulls":4},{"$f":"IF(F51>0,IF(G51/F51/1000<AX51,INDEX(menuesBG!$1:$1048576,Warnung,sprache),\"\"),\"\")","v":""},83.5,null,null,93.1,null,null,2.9930555555555554,{"$f":"Z$138","v":2.3277777777777775},{"$f":"AA$138","v":3.6583333333333337},13,{"$f":"AD51*Y51","v":1.8457175925925919},{"$f":"AD$138","v":0.61666666666666647},{"$f":"AE$138","v":45.65},{"$f":"AF$138","v":50.55},{"$f":"(AH51+AI51)/2","v":795},690,900,68,540.6,0,0,0,0,{"$error":"#N/A"},{"$error":"#N/A"},{"$error":"#N/A"},{"$error":"#DIV/0!"},{"$f":"FaktorenBG!F$43*(1+FaktorenBG!F$56)*IF(Auswahl_Behandlung_fest<5,$F51,0)","v":{"$error":"#N/A"}},{"$f":"FaktorenBG!G$43*(1+FaktorenBG!G$56)*IF(Auswahl_Behandlung_fest<5,$F51,0)","v":{"$error":"#N/A"}},{"$f":"FaktorenBG!H$43*(1+FaktorenBG!H$56)*IF(Auswahl_Behandlung_fest<5,$F51,0)","v":{"$error":"#N/A"}},0,{"$f":"INDEX(InputsBG!$1:$1048576,AX$2,MATCH(Substrates!$AY51,InputsBG!$38:$38,0))","v":{"$error":"#N/A"}},"raw milk, silo zone, at farm/kg/CH S",{"$f":"IF($G51<0,$G51*INDEX(InputsBG!$1:$1048576,AZ$2,MATCH(Substrates!$AY51,InputsBG!$38:$38,0))/$AX51,0)","v":0},{"$f":"IF($G51<0,$G51*INDEX(InputsBG!$1:$1048576,BA$2,MATCH(Substrates!$AY51,InputsBG!$38:$38,0))/$AX51,0)","v":0},{"$f":"IF($G51<0,$G51*INDEX(InputsBG!$1:$1048576,BB$2,MATCH(Substrates!$AY51,InputsBG!$38:$38,0))/$AX51,0)","v":0},{"$f":"IF($G51<0,$G51*INDEX(InputsBG!$1:$1048576,BC$2,MATCH(Substrates!$AY51,InputsBG!$38:$38,0))/$AX51,0)","v":0},0,{"$error":"#DIV/0!"},{"$error":"#DIV/0!"},{"$nulls":13},"raw milk, silo zone, at farm"]
["Lecithin","Lécithine ","Lecithin ",null,{"$f":"IF(sprache=1,A52,IF(sprache=2,B52,C52))","v":"Lecithin "},0,0,0,0,null,null,{"$f":"F52*S52*V52/10","v":0},{"$f":"F52*S52*V52/10000*AG52","v":0},{"$nulls":4},{"$f":"IF(F52>0,IF(G52/F52/1000<AX52,INDEX(menuesBG!$1:$1048576,Warnung,sprache),\"\"),\"\")","v":""},{"$f":"T100","v":62.5},null,null,{"$f":"W100","v":100},null,null,{"$f":"(Z52+AA52)/2","v":6.5},{"$f":"AA100","v":0},{"$f":"AB100","v":13},{"$f":"AC100","v":0},{"$f":"AD52*Y52","v":552.5},{"$f":"AE100","v":85},{"$f":"AF100","v":85},{"$f":"AG100","v":1160},{"$f":"(AH52+AI52)/2","v":745.5},{"$f":"AI100","v":1440},{"$f":"AJ100","v":51},{"$f":"AK100","v":591.6},{"$f":"AJ52*$AG52/100","v":4410.3779999999997},{"$f":"L52*50%*28.62%*12.5%","v":0},0,0,0,{"$error":"#N/A"},{"$f":"F52*1000*S52/100*Y52/100*AB52/100*NH3emittiert*AnteilNH3Lagerung*(1+NH3plus)*((1+Faktor_NH3_Behandlung)*Anteil_V_fest+(1+FaktorNH3GülleBehandlung)*Anteil_V_flüssig)","v":{"$error":"#N/A"}},{"$error":"#N/A"},{"$f":"F52*(N2O_Gülle*Anteil_V_flüssig*(1+Faktor_N2O_GülleBehandlung)+N2O_Kompost*Anteil_V_fest*(1+Faktor_N2O_Behandlung))","v":{"$error":"#DIV/0!"}},{"$f":"FaktorenBG!F$43*(1+FaktorenBG!F$56)*IF(Auswahl_Behandlung_fest<5,$F52,0)","v":{"$error":"#N/A"}},{"$f":"FaktorenBG!G$43*(1+FaktorenBG!G$56)*IF(Auswahl_Behandlung_fest<5,$F52,0)","v":{"$error":"#N/A"}},{"$f":"FaktorenBG!H$43*(1+FaktorenBG!H$56)*IF(Auswahl_Behandlung_fest<5,$F52,0)","v":{"$error":"#N/A"}},{"$f":"IF(F52>0,G52/F52/1000,0)","v":0},{"$f":"INDEX(InputsBG!$1:$1048576,AX$2,MATCH(Substrates!$AY52,InputsBG!$38:$38,0))","v":{"$error":"#N/A"}},"Soybean lecithin, at oil mill/GLO U",{"$f":"IF($G52<0,$G52*INDEX(InputsBG!$1:$1048576,AZ$2,MATCH(Substrates!$AY52,InputsBG!$38:$38,0))/$AX52,0)","v":0},{"$f":"IF($G52<0,$G52*INDEX(InputsBG!$1:$1048576,BA$2,MATCH(Substrates!$AY52,InputsBG!$38:$38,0))/$AX52,0)","v":0},{"$f":"IF($G52<0,$G52*INDEX(InputsBG!$1:$1048576,BB$2,MATCH(Substrates!$AY52,InputsBG!$38:$38,0))/$AX52,0)","v":0},{"$f":"IF($G52<0,$G52*INDEX(InputsBG!$1:$1048576,BC$2,MATCH(Substrates!$AY52,InputsBG!$38:$38,0))/$AX52,0)","v":0},0,{"$f":"M52/Gasertrag_berechnet","v":{"$error":"#DIV/0!"}},{"$f":"AZ52/Belastung_Substrat","v":{"$error":"#DIV/0!"}},{"$nulls":13},"Soybean lecithin, at oil mill"]
["Magen-Darminhalt (Schwein)","Contenu d'intestins de porc","Gastrointestinal contents (pig)",null,"Gastrointestinal contents (pig)",0,0,0,0,null,null,{"$f":"F53*S53*V53/10","v":0},{"$f":"F53*S53*V53/10000*AG53","v":0},{"$nulls":4},{"$f":"IF(F53>0,IF(G53/F53/1000<AX53,INDEX(menuesBG!$1:$1048576,Warnung,sprache),\"\"),\"\")","v":""},13.5,12,15,81,76,86,3.8,2.6,5,13,2.6599999999999997,0.7,null,null,475,400,550,55,261.25,0,0,0,0,{"$error":"#N/A"},{"$error":"#N/A"},{"$error":"#N/A"},{"$error":"#DIV/0!"},{"$f":"FaktorenBG!F$43*(1+FaktorenBG!F$56)*IF(Auswahl_Behandlung_fest<5,$F53,0)","v":{"$error":"#N/A"}},{"$f":"FaktorenBG!G$43*(1+FaktorenBG!G$56)*IF(Auswahl_Behandlung_fest<5,$F53,0)","v":{"$error":"#N/A"}},{"$f":"FaktorenBG!H$43*(1+FaktorenBG!H$56)*IF(Auswahl_Behandlung_fest<5,$F53,0)","v":{"$error":"#N/A"}},0,{"$f":"INDEX(InputsBG!$1:$1048576,AX$2,MATCH(Substrates!$AY53,InputsBG!$38:$38,0))","v":{"$error":"#N/A"}},"Durchschnitt",{"$f":"IF($G53<0,$G53*INDEX(InputsBG!$1:$1048576,AZ$2,MATCH(Substrates!$AY53,InputsBG!$38:$38,0))/$AX53,0)","v":0},{"$f":"IF($G53<0,$G53*INDEX(InputsBG!$1:$1048576,BA$2,MATCH(Substrates!$AY53,InputsBG!$38:$38,0))/$AX53,0)","v":0},{"$f":"IF($G53<0,$G53*INDEX(InputsBG!$1:$1048576,BB$2,MATCH(Substrates!$AY53,InputsBG!$38:$38,0))/$AX53,0)","v":0},{"$f":"IF($G53<0,$G53*INDEX(InputsBG!$1:$1048576,BC$2,MATCH(Substrates!$AY53,InputsBG!$38:$38,0))/$AX53,0)","v":0},0,{"$error":"#DIV/0!"},{"$error":"#DIV/0!"},{"$nulls":13},{"$error":"#VALUE!"}]
["Mähgut Strassenböschungen, -ränder","Récolte de fauche en bord de route (remblais)","Mowed material Road embankments and edges",null,"Mowed material Road embankments and edges",0,0,0,0,null,null,0,0,{"$nulls":4},{"$f":"IF(F54>0,IF(G54/F54/1000<AX54,INDEX(menuesBG!$1:$1048576,Warnung,sprache),\"\"),\"\")","v":""},29.5,22,37,94.5,93,96,2.5,2,3,{"$f":"AVERAGE(3.5,6.9)/AVERAGE(6.9,19.8)*100","v":38.951310861423217},1.5,0.6,null,null,500,450,550,57,285,0,0,0,0,{"$error":"#N/A"},{"$error":"#N/A"},{"$error":"#N/A"},{"$error":"#DIV/0!"},{"$f":"FaktorenBG!F$43*(1+FaktorenBG!F$56)*IF(Auswahl_Behandlung_fest<5,$F54,0)","v":{"$error":"#N/A"}},{"$f":"FaktorenBG!G$43*(1+FaktorenBG!G$56)*IF(Auswahl_Behandlung_fest<5,$F54,0)","v":{"$error":"#N/A"}},{"$f":"FaktorenBG!H$43*(1+FaktorenBG!H$56)*IF(Auswahl_Behandlung_fest<5,$F54,0)","v":{"$error":"#N/A"}},0,{"$f":"INDEX(InputsBG!$1:$1048576,AX$2,MATCH(Substrates!$AY54,InputsBG!$38:$38,0))","v":{"$error":"#N/A"}},"Durchschnitt",{"$f":"IF($G54<0,$G54*INDEX(InputsBG!$1:$1048576,AZ$2,MATCH(Substrates!$AY54,InputsBG!$38:$38,0))/$AX54,0)","v":0},{"$f":"IF($G54<0,$G54*INDEX(InputsBG!$1:$1048576,BA$2,MATCH(Substrates!$AY54,InputsBG!$38:$38,0))/$AX54,0)","v":0},{"$f":"IF($G54<0,$G54*INDEX(InputsBG!$1:$1048576,BB$2,MATCH(Substrates!$AY54,InputsBG!$38:$38,0))/$AX54,0)","v":0},{"$f":"IF($G54<0,$G54*INDEX(InputsBG!$1:$1048576,BC$2,MATCH(Substrates!$AY54,InputsBG!$38:$38,0))/$AX54,0)","v":0},0,{"$error":"#DIV/0!"},{"$error":"#DIV/0!"},{"$nulls":13},{"$error":"#VALUE!"}]
["Mähgut, (allg., Golfplätze, Naturschutzgebiete, Ried, etc.)","Récolte de fauche (gnrl: terrains de golf, réserves naturelles, marais etc.)","Mowing material, (general, golf courses, nature reserves, reed, etc.)",null,"Mowing material, (general, golf courses, nature reserves, reed, etc.)",0,0,0,0,null,null,0,0,{"$nulls":4},{"$f":"IF(F55>0,IF(G55/F55/1000<AX55,INDEX(menuesBG!$1:$1048576,Warnung,sprache),\"\"),\"\")","v":""},29.5,22,37,94.5,93,96,2.5,2,3,{"$f":"AVERAGE(3.5,6.9)/AVERAGE(6.9,19.8)*100","v":38.951310861423217},1.5,0.6,null,null,500,450,550,57,285,0,0,0,0,{"$error":"#N/A"},{"$error":"#N/A"},{"$error":"#N/A"},{"$error":"#DIV/0!"},{"$f":"FaktorenBG!F$43*(1+FaktorenBG!F$56)*IF(Auswahl_Behandlung_fest<5,$F55,0)","v":{"$error":"#N/A"}},{"$f":"FaktorenBG!G$43*(1+FaktorenBG!G$56)*IF(Auswahl_Behandlung_fest<5,$F55,0)","v":{"$error":"#N/A"}},{"$f":"FaktorenBG!H$43*(1+FaktorenBG!H$56)*IF(Auswahl_Behandlung_fest<5,$F55,0)","v":{"$error":"#N/A"}},0,{"$f":"INDEX(InputsBG!$1:$1048576,AX$2,MATCH(Substrates!$AY55,InputsBG!$38:$38,0))","v":{"$error":"#N/A"}},"Durchschnitt",{"$f":"IF($G55<0,$G55*INDEX(InputsBG!$1:$1048576,AZ$2,MATCH(Substrates!$AY55,InputsBG!$38:$38,0))/$AX55,0)","v":0},{"$f":"IF($G55<0,$G55*INDEX(InputsBG!$1:$1048576,BA$2,MATCH(Substrates!$AY55,InputsBG!$38:$38,0))/$AX55,0)","v":0},{"$f":"IF($G55<0,$G55*INDEX(InputsBG!$1:$1048576,BB$2,MATCH(Substrates!$AY55,InputsBG!$38:$38,0))/$AX55,0)","v":0},{"$f":"IF($G55<0,$G55*INDEX(InputsBG!$1:$1048576,BC$2,MATCH(Substrates!$AY55,InputsBG!$38:$38,0))/$AX55,0)","v":0},0,{"$error":"#DIV/0!"},{"$error":"#DIV/0!"},{"$nulls":13},{"$error":"#VALUE!"}]
["Maissilage","Ensilage de maïs","Maize silage",null,"Maize silage",0,0,0,0,null,null,0,0,{"$nulls":4},{"$f":"IF(F56>0,IF(G56/F56/1000<AX56,INDEX(menuesBG!$1:$1048576,Warnung,sprache),\"\"),\"\")","v":""},30,25,35,91,86,96,1.55,1.1000000000000001,2,{"$f":"AVERAGE(0.15,0.3)/AVERAGE(1.1,2)*100","v":14.516129032258062},1.0075000000000001,0.65,null,null,610,520,700,52,317.2,0,0,0,0,{"$error":"#N/A"},{"$f":"F56*1000*S56/100*Y56/100*AB56/100*NH3emittiert*AnteilNH3Lagerung*(1+NH3plus)*((1+Faktor_NH3_Behandlung)*Anteil_V_fest+(1+FaktorNH3GülleBehandlung)*Anteil_V_flüssig)","v":{"$error":"#N/A"}},{"$error":"#N/A"},{"$f":"F56*(N2O_Gülle*Anteil_V_flüssig*(1+Faktor_N2O_GülleBehandlung)+N2O_Kompost*Anteil_V_fest*(1+Faktor_N2O_Behandlung))","v":{"$error":"#DIV/0!"}},{"$f":"FaktorenBG!F$43*(1+FaktorenBG!F$56)*IF(Auswahl_Behandlung_fest<5,$F56,0)","v":{"$error":"#N/A"}},{"$f":"FaktorenBG!G$43*(1+FaktorenBG!G$56)*IF(Auswahl_Behandlung_fest<5,$F56,0)","v":{"$error":"#N/A"}},{"$f":"FaktorenBG!H$43*(1+FaktorenBG!H$56)*IF(Auswahl_Behandlung_fest<5,$F56,0)","v":{"$error":"#N/A"}},0,{"$f":"INDEX(InputsBG!$1:$1048576,AX$2,MATCH(Substrates!$AY56,InputsBG!$38:$38,0))","v":{"$error":"#N/A"}},"Silage maize IP, at farm/kg/CH U",{"$f":"IF($G56<0,$G56*INDEX(InputsBG!$1:$1048576,AZ$2,MATCH(Substrates!$AY56,InputsBG!$38:$38,0))/$AX56,0)","v":0},{"$f":"IF($G56<0,$G56*INDEX(InputsBG!$1:$1048576,BA$2,MATCH(Substrates!$AY56,InputsBG!$38:$38,0))/$AX56,0)","v":0},{"$f":"IF($G56<0,$G56*INDEX(InputsBG!$1:$1048576,BB$2,MATCH(Substrates!$AY56,InputsBG!$38:$38,0))/$AX56,0)","v":0},{"$f":"IF($G56<0,$G56*INDEX(InputsBG!$1:$1048576,BC$2,MATCH(Substrates!$AY56,InputsBG!$38:$38,0))/$AX56,0)","v":0},0,{"$error":"#DIV/0!"},{"$error":"#DIV/0!"},{"$nulls":13},"Silage maize IP, at farm"]
["Maisstroh","Paille de maïs","Maize straw",null,"Maize straw",0,0,0,0,null,null,0,0,{"$nulls":4},{"$f":"IF(F57>0,IF(G57/F57/1000<AX57,INDEX(menuesBG!$1:$1048576,Warnung,sprache),\"\"),\"\")","v":""},86,86,86,72.5,70,75,1.2,1.2,1.2,14.5,0.66,0.55000000000000004,null,null,475,450,500,57,270.75,0,0,0,0,{"$f":"$M57*CH4_Gehalt*CH4_nichtabgedeckt*(1+Faktor_CH4_flüssig)*GärrestFlüssigMenge/(GärrestFestMenge+GärrestFlüssigMenge)","v":{"$error":"#N/A"}},{"$error":"#N/A"},{"$f":"IF(AR$137,F57*1000*S57/100*Y57/100*AB57/100*NH3emittiert*AR$2*(1+NH3plusAusbringung)*((1+Faktor_NH3fest_aus)*Anteil_V_fest+(1+Faktor_NH3_Ausbringung)*Anteil_V_flüssig),0)","v":{"$error":"#N/A"}},{"$error":"#DIV/0!"},{"$f":"FaktorenBG!F$43*(1+FaktorenBG!F$56)*IF(Auswahl_Behandlung_fest<5,$F57,0)","v":{"$error":"#N/A"}},{"$f":"FaktorenBG!G$43*(1+FaktorenBG!G$56)*IF(Auswahl_Behandlung_fest<5,$F57,0)","v":{"$error":"#N/A"}},{"$f":"FaktorenBG!H$43*(1+FaktorenBG!H$56)*IF(Auswahl_Behandlung_fest<5,$F57,0)","v":{"$error":"#N/A"}},0,{"$f":"INDEX(InputsBG!$1:$1048576,AX$2,MATCH(Substrates!$AY57,InputsBG!$38:$38,0))","v":{"$error":"#N/A"}},"Silage maize IP, at farm/kg/CH U",{"$f":"IF($G57<0,$G57*INDEX(InputsBG!$1:$1048576,AZ$2,MATCH(Substrates!$AY57,InputsBG!$38:$38,0))/$AX57,0)","v":0},{"$f":"IF($G57<0,$G57*INDEX(InputsBG!$1:$1048576,BA$2,MATCH(Substrates!$AY57,InputsBG!$38:$38,0))/$AX57,0)","v":0},{"$f":"IF($G57<0,$G57*INDEX(InputsBG!$1:$1048576,BB$2,MATCH(Substrates!$AY57,InputsBG!$38:$38,0))/$AX57,0)","v":0},{"$f":"IF($G57<0,$G57*INDEX(InputsBG!$1:$1048576,BC$2,MATCH(Substrates!$AY57,InputsBG!$38:$38,0))/$AX57,0)","v":0},0,{"$error":"#DIV/0!"},{"$error":"#DIV/0!"},{"$nulls":13},"Silage maize IP, at farm"]
["Masser- und Gehaltsrübe","Betteraves","Mass- and content beet",null,"Mass- and content beet",0,0,0,0,null,null,0,0,{"$nulls":4},{"$f":"IF(F58>0,IF(G58/F58/1000<AX58,INDEX(menuesBG!$1:$1048576,Warnung,sprache),\"\"),\"\")","v":""},12,12,12,80,75,85,1.9,1.9,1.9,{"$f":"AVERAGE(0.3,0.4)/AVERAGE(1.9)*100","v":18.421052631578945},1.2349999999999999,0.65,null,null,735,620,850,51,374.85,0,0,0,0,{"$error":"#N/A"},{"$error":"#N/A"},{"$error":"#N/A"},{"$error":"#DIV/0!"},{"$f":"FaktorenBG!F$43*(1+FaktorenBG!F$56)*IF(Auswahl_Behandlung_fest<5,$F58,0)","v":{"$error":"#N/A"}},{"$f":"FaktorenBG!G$43*(1+FaktorenBG!G$56)*IF(Auswahl_Behandlung_fest<5,$F58,0)","v":{"$error":"#N/A"}},{"$f":"FaktorenBG!H$43*(1+FaktorenBG!H$56)*IF(Auswahl_Behandlung_fest<5,$F58,0)","v":{"$error":"#N/A"}},0,{"$f":"INDEX(InputsBG!$1:$1048576,AX$2,MATCH(Substrates!$AY58,InputsBG!$38:$38,0))","v":{"$error":"#N/A"}},"sugar beets IP, at farm/kg/CH U",{"$f":"IF($G58<0,$G58*INDEX(InputsBG!$1:$1048576,AZ$2,MATCH(Substrates!$AY58,InputsBG!$38:$38,0))/$AX58,0)","v":0},{"$f":"IF($G58<0,$G58*INDEX(InputsBG!$1:$1048576,BA$2,MATCH(Substrates!$AY58,InputsBG!$38:$38,0))/$AX58,0)","v":0},{"$f":"IF($G58<0,$G58*INDEX(InputsBG!$1:$1048576,BB$2,MATCH(Substrates!$AY58,InputsBG!$38:$38,0))/$AX58,0)","v":0},{"$f":"IF($G58<0,$G58*INDEX(InputsBG!$1:$1048576,BC$2,MATCH(Substrates!$AY58,InputsBG!$38:$38,0))/$AX58,0)","v":0},0,{"$error":"#DIV/0!"},{"$error":"#DIV/0!"},{"$nulls":13},"sugar beets IP, at farm"]
["Material aus Wasch-, Reinigungs-, Schäl-, Zentrifugier- und Abtrennprozessen (pflanzlich)","Résidus végétaux après lavage, nettoyage, épluchage, séparation et centrifugation","Material from washing, cleaning, peeling, centrifuging and separation processes (vegetable)",null,"Material from washing, cleaning, peeling, centrifuging and separation processes (vegetable)",0,0,0,0,null,null,0,0,{"$nulls":4},{"$f":"IF(F59>0,IF(G59/F59/1000<AX59,INDEX(menuesBG!$1:$1048576,Warnung,sprache),\"\"),\"\")","v":""},30.7,{"$f":"T$138","v":30.7},{"$f":"U$138","v":30.7},{"$f":"(W59+X59)/2","v":73.900000000000006},{"$f":"W$138","v":73.900000000000006},{"$f":"X$138","v":73.900000000000006},2.9930555555555554,{"$f":"Z$138","v":2.3277777777777775},{"$f":"AA$138","v":3.6583333333333337},{"$f":"AVERAGE(0.6,0.8)/AVERAGE(7,8)*100","v":9.3333333333333321},{"$f":"AD59*Y59","v":1.8457175925925919},{"$f":"AD$138","v":0.61666666666666647},{"$f":"AE$138","v":45.65},{"$f":"AF$138","v":50.55},{"$f":"(AH59+AI59)/2","v":492},{"$f":"AH$138","v":376},{"$f":"AI$138","v":608},57,280.44,0,0,0,0,{"$error":"#N/A"},{"$error":"#N/A"},{"$error":"#N/A"},{"$error":"#DIV/0!"},{"$f":"FaktorenBG!F$43*(1+FaktorenBG!F$56)*IF(Auswahl_Behandlung_fest<5,$F59,0)","v":{"$error":"#N/A"}},{"$f":"FaktorenBG!G$43*(1+FaktorenBG!G$56)*IF(Auswahl_Behandlung_fest<5,$F59,0)","v":{"$error":"#N/A"}},{"$f":"FaktorenBG!H$43*(1+FaktorenBG!H$56)*IF(Auswahl_Behandlung_fest<5,$F59,0)","v":{"$error":"#N/A"}},0,{"$f":"INDEX(InputsBG!$1:$1048576,AX$2,MATCH(Substrates!$AY59,InputsBG!$38:$38,0))","v":{"$error":"#N/A"}},"vegetables mean, IP, at farm/kg/CH S",{"$f":"IF($G59<0,$G59*INDEX(InputsBG!$1:$1048576,AZ$2,MATCH(Substrates!$AY59,InputsBG!$38:$38,0))/$AX59,0)","v":0},{"$f":"IF($G59<0,$G59*INDEX(InputsBG!$1:$1048576,BA$2,MATCH(Substrates!$AY59,InputsBG!$38:$38,0))/$AX59,0)","v":0},{"$f":"IF($G59<0,$G59*INDEX(InputsBG!$1:$1048576,BB$2,MATCH(Substrates!$AY59,InputsBG!$38:$38,0))/$AX59,0)","v":0},{"$f":"IF($G59<0,$G59*INDEX(InputsBG!$1:$1048576,BC$2,MATCH(Substrates!$AY59,InputsBG!$38:$38,0))/$AX59,0)","v":0},0,{"$error":"#DIV/0!"},{"$error":"#DIV/0!"},{"$nulls":13},"vegetables mean, IP, at farm"]
["Melasse","Mélasse","Molasses",null,"Molasses",0,0,0,0,null,null,0,0,{"$nulls":4},{"$f":"IF(F60>0,IF(G60/F60/1000<AX60,INDEX(menuesBG!$1:$1048576,Warnung,sprache),\"\"),\"\")","v":""},85,80,90,90,85,95,1.5,1.5,1.5,13,0.89999999999999991,0.6,null,null,549.01960784313724,{"$f":"1/S60/V60*10000*350","v":457.51633986928096},{"$f":"1/S60/V60*10000*490","v":640.52287581699341},55,301.96078431372547,0,0,0,0,{"$error":"#N/A"},{"$error":"#N/A"},{"$error":"#N/A"},{"$error":"#DIV/0!"},{"$f":"FaktorenBG!F$43*(1+FaktorenBG!F$56)*IF(Auswahl_Behandlung_fest<5,$F60,0)","v":{"$error":"#N/A"}},{"$f":"FaktorenBG!G$43*(1+FaktorenBG!G$56)*IF(Auswahl_Behandlung_fest<5,$F60,0)","v":{"$error":"#N/A"}},{"$f":"FaktorenBG!H$43*(1+FaktorenBG!H$56)*IF(Auswahl_Behandlung_fest<5,$F60,0)","v":{"$error":"#N/A"}},0,{"$f":"INDEX(InputsBG!$1:$1048576,AX$2,MATCH(Substrates!$AY60,InputsBG!$38:$38,0))","v":{"$error":"#N/A"}},"Molasses, from sugar beet, at sugar refinery/CH U",{"$f":"IF($G60<0,$G60*INDEX(InputsBG!$1:$1048576,AZ$2,MATCH(Substrates!$AY60,InputsBG!$38:$38,0))/$AX60,0)","v":0},{"$f":"IF($G60<0,$G60*INDEX(InputsBG!$1:$1048576,BA$2,MATCH(Substrates!$AY60,InputsBG!$38:$38,0))/$AX60,0)","v":0},{"$f":"IF($G60<0,$G60*INDEX(InputsBG!$1:$1048576,BB$2,MATCH(Substrates!$AY60,InputsBG!$38:$38,0))/$AX60,0)","v":0},{"$f":"IF($G60<0,$G60*INDEX(InputsBG!$1:$1048576,BC$2,MATCH(Substrates!$AY60,InputsBG!$38:$38,0))/$AX60,0)","v":0},0,{"$error":"#DIV/0!"},{"$error":"#DIV/0!"},{"$nulls":13},"Molasses, from sugar beet, at sugar refinery"]
["Melassen Schlempe","Mélasse écrasée","Molasses pulp",null,"Molasses pulp",0,0,0,0,null,null,0,0,{"$nulls":4},{"$f":"IF(F61>0,IF(G61/F61/1000<AX61,INDEX(menuesBG!$1:$1048576,Warnung,sprache),\"\"),\"\")","v":""},10.5,10,11,72.5,70,75,1.5,1.5,1.5,13,0.89999999999999991,0.6,null,null,475,400,550,55,261.25,0,0,0,0,{"$error":"#N/A"},{"$error":"#N/A"},{"$error":"#N/A"},{"$error":"#DIV/0!"},{"$f":"FaktorenBG!F$43*(1+FaktorenBG!F$56)*IF(Auswahl_Behandlung_fest<5,$F61,0)","v":{"$error":"#N/A"}},{"$f":"FaktorenBG!G$43*(1+FaktorenBG!G$56)*IF(Auswahl_Behandlung_fest<5,$F61,0)","v":{"$error":"#N/A"}},{"$f":"FaktorenBG!H$43*(1+FaktorenBG!H$56)*IF(Auswahl_Behandlung_fest<5,$F61,0)","v":{"$error":"#N/A"}},0,{"$f":"INDEX(InputsBG!$1:$1048576,AX$2,MATCH(Substrates!$AY61,InputsBG!$38:$38,0))","v":{"$error":"#N/A"}},"Molasses, from sugar beet, at sugar refinery/CH U",{"$f":"IF($G61<0,$G61*INDEX(InputsBG!$1:$1048576,AZ$2,MATCH(Substrates!$AY61,InputsBG!$38:$38,0))/$AX61,0)","v":0},{"$f":"IF($G61<0,$G61*INDEX(InputsBG!$1:$1048576,BA$2,MATCH(Substrates!$AY61,InputsBG!$38:$38,0))/$AX61,0)","v":0},{"$f":"IF($G61<0,$G61*INDEX(InputsBG!$1:$1048576,BB$2,MATCH(Substrates!$AY61,InputsBG!$38:$38,0))/$AX61,0)","v":0},{"$f":"IF($G61<0,$G61*INDEX(InputsBG!$1:$1048576,BC$2,MATCH(Substrates!$AY61,InputsBG!$38:$38,0))/$AX61,0)","v":0},0,{"$error":"#DIV/0!"},{"$error":"#DIV/0!"},{"$nulls":13},"Molasses, from sugar beet, at sugar refinery"]
["Milch- und Fermentationsserum, Penicilinmilch, Magermilch, Sauermolke, Milchpermeat  (allg. Rückstände aus Milchverarbeitung)","Sérum de lait et de fermentation lactique, lait contenant de la pénicilline, lait écrémé, petit lait aigre, perméat de lait (résidus de la transformation du lait)","Milk and fermentation serum, penicillin milk, skimmed milk, sour whey, milk permeate (general residues from milk processing)",null,"Milk and fermentation serum, penicillin milk, skimmed milk, sour whey, milk permeate (general residues from milk processing)",0,0,0,0,null,null,0,0,{"$nulls":4},{"$f":"IF(F62>0,IF(G62/F62/1000<AX62,INDEX(menuesBG!$1:$1048576,Warnung,sprache),\"\"),\"\")","v":""},7,null,null,90.5,null,null,2.9930555555555554,{"$f":"Z$138","v":2.3277777777777775},{"$f":"AA$138","v":3.6583333333333337},13,{"$f":"AD62*Y62","v":1.8457175925925919},{"$f":"AD$138","v":0.61666666666666647},45.65,50.55,760,null,null,58,440.8,0,0,0,0,{"$error":"#N/A"},{"$error":"#N/A"},{"$error":"#N/A"},{"$error":"#DIV/0!"},{"$f":"FaktorenBG!F$43*(1+FaktorenBG!F$56)*IF(Auswahl_Behandlung_fest<5,$F62,0)","v":{"$error":"#N/A"}},{"$f":"FaktorenBG!G$43*(1+FaktorenBG!G$56)*IF(Auswahl_Behandlung_fest<5,$F62,0)","v":{"$error":"#N/A"}},{"$f":"FaktorenBG!H$43*(1+FaktorenBG!H$56)*IF(Auswahl_Behandlung_fest<5,$F62,0)","v":{"$error":"#N/A"}},0,{"$f":"INDEX(InputsBG!$1:$1048576,AX$2,MATCH(Substrates!$AY62,InputsBG!$38:$38,0))","v":{"$error":"#N/A"}},"raw milk, silo zone, at farm/kg/CH S",{"$f":"IF($G62<0,$G62*INDEX(InputsBG!$1:$1048576,AZ$2,MATCH(Substrates!$AY62,InputsBG!$38:$38,0))/$AX62,0)","v":0},{"$f":"IF($G62<0,$G62*INDEX(InputsBG!$1:$1048576,BA$2,MATCH(Substrates!$AY62,InputsBG!$38:$38,0))/$AX62,0)","v":0},{"$f":"IF($G62<0,$G62*INDEX(InputsBG!$1:$1048576,BB$2,MATCH(Substrates!$AY62,InputsBG!$38:$38,0))/$AX62,0)","v":0},{"$f":"IF($G62<0,$G62*INDEX(InputsBG!$1:$1048576,BC$2,MATCH(Substrates!$AY62,InputsBG!$38:$38,0))/$AX62,0)","v":0},0,{"$error":"#DIV/0!"},{"$error":"#DIV/0!"},{"$nulls":13},"raw milk, silo zone, at farm"]
["Mist aus Tierhaltungen (Schlachthöfe, Zirkus, Zoo, Reitställe ausserhalb LZ)","Fumier provenant des animaux d'élevage (cirque, zoo, centre équestre)","Manure from animal farms (slaughterhouses, circus, zoo, riding stables outside LZ)",null,"Manure from animal farms (slaughterhouses, circus, zoo, riding stables outside LZ)",0,0,0,0,null,null,0,0,{"$nulls":4},{"$f":"IF(F63>0,IF(G63/F63/1000<AX63,INDEX(menuesBG!$1:$1048576,Warnung,sprache),\"\"),\"\")","v":""},30.7,{"$f":"T$138","v":30.7},{"$f":"U$138","v":30.7},{"$f":"(W63+X63)/2","v":73.900000000000006},{"$f":"W$138","v":73.900000000000006},{"$f":"X$138","v":73.900000000000006},2.9930555555555554,{"$f":"Z$138","v":2.3277777777777775},{"$f":"AA$138","v":3.6583333333333337},13,{"$f":"AD63*Y63","v":1.8457175925925919},0.61666666666666647,45.65,50.55,{"$f":"(AH63+AI63)/2","v":492},{"$f":"AH$138","v":376},{"$f":"AI$138","v":608},55,270.60000000000002,0,0,0,0,{"$error":"#N/A"},{"$error":"#N/A"},{"$error":"#N/A"},{"$error":"#DIV/0!"},{"$f":"FaktorenBG!F$43*(1+FaktorenBG!F$56)*IF(Auswahl_Behandlung_fest<5,$F63,0)","v":{"$error":"#N/A"}},{"$f":"FaktorenBG!G$43*(1+FaktorenBG!G$56)*IF(Auswahl_Behandlung_fest<5,$F63,0)","v":{"$error":"#N/A"}},{"$f":"FaktorenBG!H$43*(1+FaktorenBG!H$56)*IF(Auswahl_Behandlung_fest<5,$F63,0)","v":{"$error":"#N/A"}},0,{"$f":"INDEX(InputsBG!$1:$1048576,AX$2,MATCH(Substrates!$AY63,InputsBG!$38:$38,0))","v":{"$error":"#N/A"}},"Durchschnitt",{"$f":"IF($G63<0,$G63*INDEX(InputsBG!$1:$1048576,AZ$2,MATCH(Substrates!$AY63,InputsBG!$38:$38,0))/$AX63,0)","v":0},{"$f":"IF($G63<0,$G63*INDEX(InputsBG!$1:$1048576,BA$2,MATCH(Substrates!$AY63,InputsBG!$38:$38,0))/$AX63,0)","v":0},{"$f":"IF($G63<0,$G63*INDEX(InputsBG!$1:$1048576,BB$2,MATCH(Substrates!$AY63,InputsBG!$38:$38,0))/$AX63,0)","v":0},{"$f":"IF($G63<0,$G63*INDEX(InputsBG!$1:$1048576,BC$2,MATCH(Substrates!$AY63,InputsBG!$38:$38,0))/$AX63,0)","v":0},0,{"$error":"#DIV/0!"},{"$error":"#DIV/0!"},{"$nulls":13},{"$error":"#VALUE!"}]
["Molke","Petit-lait","Whey",null,"Whey",0,0,0,0,null,null,0,0,{"$nulls":4},{"$f":"IF(F64>0,IF(G64/F64/1000<AX64,INDEX(menuesBG!$1:$1048576,Warnung,sprache),\"\"),\"\")","v":""},5.4,4.3,6.5,86,80,92,1.1000000000000001,0.7,1.5,13,0.71500000000000008,0.65,null,null,775,650,900,53,410.75,0,0,0,0,{"$error":"#N/A"},{"$error":"#N/A"},{"$error":"#N/A"},{"$error":"#DIV/0!"},{"$f":"FaktorenBG!F$43*(1+FaktorenBG!F$56)*IF(Auswahl_Behandlung_fest<5,$F64,0)","v":{"$error":"#N/A"}},{"$f":"FaktorenBG!G$43*(1+FaktorenBG!G$56)*IF(Auswahl_Behandlung_fest<5,$F64,0)","v":{"$error":"#N/A"}},{"$f":"FaktorenBG!H$43*(1+FaktorenBG!H$56)*IF(Auswahl_Behandlung_fest<5,$F64,0)","v":{"$error":"#N/A"}},0,{"$f":"INDEX(InputsBG!$1:$1048576,AX$2,MATCH(Substrates!$AY64,InputsBG!$38:$38,0))","v":{"$error":"#N/A"}},"whey, at cheese dairy/kg/CH S",{"$f":"IF($G64<0,$G64*INDEX(InputsBG!$1:$1048576,AZ$2,MATCH(Substrates!$AY64,InputsBG!$38:$38,0))/$AX64,0)","v":0},{"$f":"IF($G64<0,$G64*INDEX(InputsBG!$1:$1048576,BA$2,MATCH(Substrates!$AY64,InputsBG!$38:$38,0))/$AX64,0)","v":0},{"$f":"IF($G64<0,$G64*INDEX(InputsBG!$1:$1048576,BB$2,MATCH(Substrates!$AY64,InputsBG!$38:$38,0))/$AX64,0)","v":0},{"$f":"IF($G64<0,$G64*INDEX(InputsBG!$1:$1048576,BC$2,MATCH(Substrates!$AY64,InputsBG!$38:$38,0))/$AX64,0)","v":0},0,{"$error":"#DIV/0!"},{"$error":"#DIV/0!"},{"$nulls":13},"whey, at cheese dairy"]
["Müllereiabfälle, Getreideabgang, Ölsaatrückstand","déchets de minoteries, résidus de graines oléagineuses","Milling waste, grain disposal, oilseed residue",null,"Milling waste, grain disposal, oilseed residue",0,0,0,0,null,null,0,0,{"$nulls":4},{"$f":"IF(F65>0,IF(G65/F65/1000<AX65,INDEX(menuesBG!$1:$1048576,Warnung,sprache),\"\"),\"\")","v":""},87.5,85,90,{"$f":"(W65+X65)/2","v":87},85,89,0.5,0.5,0.5,13,{"$f":"AD65*Y65","v":0.25},0.5,null,null,{"$f":"(AH65+AI65)/2","v":300},250,350,57,171,0,0,0,0,{"$error":"#N/A"},{"$error":"#N/A"},{"$error":"#N/A"},{"$error":"#DIV/0!"},{"$f":"FaktorenBG!F$43*(1+FaktorenBG!F$56)*IF(Auswahl_Behandlung_fest<5,$F65,0)","v":{"$error":"#N/A"}},{"$f":"FaktorenBG!G$43*(1+FaktorenBG!G$56)*IF(Auswahl_Behandlung_fest<5,$F65,0)","v":{"$error":"#N/A"}},{"$f":"FaktorenBG!H$43*(1+FaktorenBG!H$56)*IF(Auswahl_Behandlung_fest<5,$F65,0)","v":{"$error":"#N/A"}},0,{"$f":"INDEX(InputsBG!$1:$1048576,AX$2,MATCH(Substrates!$AY65,InputsBG!$38:$38,0))","v":{"$error":"#N/A"}},"by-products, wheat milling, at plant/kg/CH S",{"$f":"IF($G65<0,$G65*INDEX(InputsBG!$1:$1048576,AZ$2,MATCH(Substrates!$AY65,InputsBG!$38:$38,0))/$AX65,0)","v":0},{"$f":"IF($G65<0,$G65*INDEX(InputsBG!$1:$1048576,BA$2,MATCH(Substrates!$AY65,InputsBG!$38:$38,0))/$AX65,0)","v":0},{"$f":"IF($G65<0,$G65*INDEX(InputsBG!$1:$1048576,BB$2,MATCH(Substrates!$AY65,InputsBG!$38:$38,0))/$AX65,0)","v":0},{"$f":"IF($G65<0,$G65*INDEX(InputsBG!$1:$1048576,BC$2,MATCH(Substrates!$AY65,InputsBG!$38:$38,0))/$AX65,0)","v":0},0,{"$error":"#DIV/0!"},{"$error":"#DIV/0!"},{"$nulls":13},"by-products, wheat milling, at plant"]
["Obst,- Getreide-, Kartoffelschlempen, allg. Rückstande aus Destillerieprozess","Résidus de la distillation (fruits, céréales, pommes de terre)","Fruit, cereal, potato stills, general residues from distillery process",null,"Fruit, cereal, potato stills, general residues from distillery process",0,0,0,0,null,null,0,0,{"$nulls":4},{"$f":"IF(F66>0,IF(G66/F66/1000<AX66,INDEX(menuesBG!$1:$1048576,Warnung,sprache),\"\"),\"\")","v":""},10.5,6,15,90,85,95,9,5,13,{"$f":"AVERAGE(0.04)/AVERAGE(0.5,1)*100","v":5.3333333333333339},5.8500000000000005,0.65,null,null,525,400,650,51,267.75,0,0,0,0,{"$error":"#N/A"},{"$error":"#N/A"},{"$error":"#N/A"},{"$error":"#DIV/0!"},{"$f":"FaktorenBG!F$43*(1+FaktorenBG!F$56)*IF(Auswahl_Behandlung_fest<5,$F66,0)","v":{"$error":"#N/A"}},{"$f":"FaktorenBG!G$43*(1+FaktorenBG!G$56)*IF(Auswahl_Behandlung_fest<5,$F66,0)","v":{"$error":"#N/A"}},{"$f":"FaktorenBG!H$43*(1+FaktorenBG!H$56)*IF(Auswahl_Behandlung_fest<5,$F66,0)","v":{"$error":"#N/A"}},0,{"$f":"INDEX(InputsBG!$1:$1048576,AX$2,MATCH(Substrates!$AY66,InputsBG!$38:$38,0))","v":{"$error":"#N/A"}},"Potatoes IP, at farm/CH U",{"$f":"IF($G66<0,$G66*INDEX(InputsBG!$1:$1048576,AZ$2,MATCH(Substrates!$AY66,InputsBG!$38:$38,0))/$AX66,0)","v":0},{"$f":"IF($G66<0,$G66*INDEX(InputsBG!$1:$1048576,BA$2,MATCH(Substrates!$AY66,InputsBG!$38:$38,0))/$AX66,0)","v":0},{"$f":"IF($G66<0,$G66*INDEX(InputsBG!$1:$1048576,BB$2,MATCH(Substrates!$AY66,InputsBG!$38:$38,0))/$AX66,0)","v":0},{"$f":"IF($G66<0,$G66*INDEX(InputsBG!$1:$1048576,BC$2,MATCH(Substrates!$AY66,InputsBG!$38:$38,0))/$AX66,0)","v":0},0,{"$error":"#DIV/0!"},{"$error":"#DIV/0!"},{"$nulls":13},"Potatoes IP, at farm"]
["Panseninhalt","Contenu de panse","Rumen content",null,"Rumen content",0,0,0,0,null,null,0,0,{"$nulls":4},{"$f":"IF(F67>0,IF(G67/F67/1000<AX67,INDEX(menuesBG!$1:$1048576,Warnung,sprache),\"\"),\"\")","v":""},15,11,19,85,80,90,1.75,1.3,2.2000000000000002,{"$f":"AVERAGE(0.4,0.7)/AVERAGE(1.3,2.2)*100","v":31.428571428571434},1.05,0.6,null,null,375,300,450,55,206.25,0,0,0,0,{"$error":"#N/A"},{"$error":"#N/A"},{"$error":"#N/A"},{"$error":"#DIV/0!"},{"$f":"FaktorenBG!F$43*(1+FaktorenBG!F$56)*IF(Auswahl_Behandlung_fest<5,$F67,0)","v":{"$error":"#N/A"}},{"$f":"FaktorenBG!G$43*(1+FaktorenBG!G$56)*IF(Auswahl_Behandlung_fest<5,$F67,0)","v":{"$error":"#N/A"}},{"$f":"FaktorenBG!H$43*(1+FaktorenBG!H$56)*IF(Auswahl_Behandlung_fest<5,$F67,0)","v":{"$error":"#N/A"}},0,{"$f":"INDEX(InputsBG!$1:$1048576,AX$2,MATCH(Substrates!$AY67,InputsBG!$38:$38,0))","v":{"$error":"#N/A"}},"Durchschnitt",{"$f":"IF($G67<0,$G67*INDEX(InputsBG!$1:$1048576,AZ$2,MATCH(Substrates!$AY67,InputsBG!$38:$38,0))/$AX67,0)","v":0},{"$f":"IF($G67<0,$G67*INDEX(InputsBG!$1:$1048576,BA$2,MATCH(Substrates!$AY67,InputsBG!$38:$38,0))/$AX67,0)","v":0},{"$f":"IF($G67<0,$G67*INDEX(InputsBG!$1:$1048576,BB$2,MATCH(Substrates!$AY67,InputsBG!$38:$38,0))/$AX67,0)","v":0},{"$f":"IF($G67<0,$G67*INDEX(InputsBG!$1:$1048576,BC$2,MATCH(Substrates!$AY67,InputsBG!$38:$38,0))/$AX67,0)","v":0},0,{"$error":"#DIV/0!"},{"$error":"#DIV/0!"},{"$nulls":13},{"$error":"#VALUE!"}]
["Rapsextraktionsschrot, Rapskuchen","Tourteau de colza, tourteau de pression","Rapeseed extraction meal, rapeseed cake",null,"Rapeseed extraction meal, rapeseed cake",0,0,0,0,null,null,0,0,{"$nulls":4},{"$f":"IF(F68>0,IF(G68/F68/1000<AX68,INDEX(menuesBG!$1:$1048576,Warnung,sprache),\"\"),\"\")","v":""},88,86,90,92.5,90,95,5.5,5,6,13,3.8499999999999996,0.7,null,null,{"$f":"(AH68+AI68)/2","v":740},500,980,63,466.2,0,0,0,0,{"$error":"#N/A"},{"$error":"#N/A"},{"$error":"#N/A"},{"$error":"#DIV/0!"},{"$f":"FaktorenBG!F$43*(1+FaktorenBG!F$56)*IF(Auswahl_Behandlung_fest<5,$F68,0)","v":{"$error":"#N/A"}},{"$f":"FaktorenBG!G$43*(1+FaktorenBG!G$56)*IF(Auswahl_Behandlung_fest<5,$F68,0)","v":{"$error":"#N/A"}},{"$f":"FaktorenBG!H$43*(1+FaktorenBG!H$56)*IF(Auswahl_Behandlung_fest<5,$F68,0)","v":{"$error":"#N/A"}},0,{"$f":"INDEX(InputsBG!$1:$1048576,AX$2,MATCH(Substrates!$AY68,InputsBG!$38:$38,0))","v":{"$error":"#N/A"}},"Rape meal, at oil mill/RER U",{"$f":"IF($G68<0,$G68*INDEX(InputsBG!$1:$1048576,AZ$2,MATCH(Substrates!$AY68,InputsBG!$38:$38,0))/$AX68,0)","v":0},{"$f":"IF($G68<0,$G68*INDEX(InputsBG!$1:$1048576,BA$2,MATCH(Substrates!$AY68,InputsBG!$38:$38,0))/$AX68,0)","v":0},{"$f":"IF($G68<0,$G68*INDEX(InputsBG!$1:$1048576,BB$2,MATCH(Substrates!$AY68,InputsBG!$38:$38,0))/$AX68,0)","v":0},{"$f":"IF($G68<0,$G68*INDEX(InputsBG!$1:$1048576,BC$2,MATCH(Substrates!$AY68,InputsBG!$38:$38,0))/$AX68,0)","v":0},0,{"$error":"#DIV/0!"},{"$error":"#DIV/0!"},{"$nulls":13},"Rape meal, at oil mill"]
["Rasenschnitt, Grasschnitt, frisches Grüngut","Tonte de pelouse, fauche, végétaux verts frais","Lawn cut, grass cut, fresh green waste",null,"Lawn cut, grass cut, fresh green waste",0,0,0,0,null,null,0,0,{"$nulls":4},{"$f":"IF(F69>0,IF(G69/F69/1000<AX69,INDEX(menuesBG!$1:$1048576,Warnung,sprache),\"\"),\"\")","v":""},11.5,11,12,87.5,83,92,3.15,2,4.3,{"$f":"AVERAGE(3.5,6.9)/AVERAGE(6.9,19.8)*100","v":38.951310861423217},2.0474999999999999,0.65,null,null,615,550,680,57,350.55,0,0,0,0,{"$error":"#N/A"},{"$error":"#N/A"},{"$error":"#N/A"},{"$error":"#DIV/0!"},{"$f":"FaktorenBG!F$43*(1+FaktorenBG!F$56)*IF(Auswahl_Behandlung_fest<5,$F69,0)","v":{"$error":"#N/A"}},{"$f":"FaktorenBG!G$43*(1+FaktorenBG!G$56)*IF(Auswahl_Behandlung_fest<5,$F69,0)","v":{"$error":"#N/A"}},{"$f":"FaktorenBG!H$43*(1+FaktorenBG!H$56)*IF(Auswahl_Behandlung_fest<5,$F69,0)","v":{"$error":"#N/A"}},0,{"$f":"INDEX(InputsBG!$1:$1048576,AX$2,MATCH(Substrates!$AY69,InputsBG!$38:$38,0))","v":{"$error":"#N/A"}},"Hay intensive IP, at farm/CH U",{"$f":"IF($G69<0,$G69*INDEX(InputsBG!$1:$1048576,AZ$2,MATCH(Substrates!$AY69,InputsBG!$38:$38,0))/$AX69,0)","v":0},{"$f":"IF($G69<0,$G69*INDEX(InputsBG!$1:$1048576,BA$2,MATCH(Substrates!$AY69,InputsBG!$38:$38,0))/$AX69,0)","v":0},{"$f":"IF($G69<0,$G69*INDEX(InputsBG!$1:$1048576,BB$2,MATCH(Substrates!$AY69,InputsBG!$38:$38,0))/$AX69,0)","v":0},{"$f":"IF($G69<0,$G69*INDEX(InputsBG!$1:$1048576,BC$2,MATCH(Substrates!$AY69,InputsBG!$38:$38,0))/$AX69,0)","v":0},0,{"$error":"#DIV/0!"},{"$error":"#DIV/0!"},{"$nulls":13},"Hay intensive IP, at farm"]
["Rechengut, Schwemmgut, Abfischgut","Projections, débris ","Screenings, floating debris, waste material",null,"Screenings, floating debris, waste material",0,0,0,0,null,null,0,0,{"$nulls":4},{"$f":"IF(F70>0,IF(G70/F70/1000<AX70,INDEX(menuesBG!$1:$1048576,Warnung,sprache),\"\"),\"\")","v":""},30.7,{"$f":"T$138","v":30.7},{"$f":"U$138","v":30.7},{"$f":"(W70+X70)/2","v":73.900000000000006},{"$f":"W$138","v":73.900000000000006},{"$f":"X$138","v":73.900000000000006},2.9930555555555554,{"$f":"Z$138","v":2.3277777777777775},{"$f":"AA$138","v":3.6583333333333337},13,{"$f":"AD70*Y70","v":1.8457175925925919},{"$f":"AD$138","v":0.61666666666666647},{"$f":"AE$138","v":45.65},{"$f":"AF$138","v":50.55},{"$f":"(AH70+AI70)/2","v":492},{"$f":"AH$138","v":376},{"$f":"AI$138","v":608},57,280.44,0,0,0,0,{"$error":"#N/A"},{"$error":"#N/A"},{"$error":"#N/A"},{"$error":"#DIV/0!"},{"$f":"FaktorenBG!F$43*(1+FaktorenBG!F$56)*IF(Auswahl_Behandlung_fest<5,$F70,0)","v":{"$error":"#N/A"}},{"$f":"FaktorenBG!G$43*(1+FaktorenBG!G$56)*IF(Auswahl_Behandlung_fest<5,$F70,0)","v":{"$error":"#N/A"}},{"$f":"FaktorenBG!H$43*(1+FaktorenBG!H$56)*IF(Auswahl_Behandlung_fest<5,$F70,0)","v":{"$error":"#N/A"}},0,{"$f":"INDEX(InputsBG!$1:$1048576,AX$2,MATCH(Substrates!$AY70,InputsBG!$38:$38,0))","v":{"$error":"#N/A"}},"Durchschnitt",{"$f":"IF($G70<0,$G70*INDEX(InputsBG!$1:$1048576,AZ$2,MATCH(Substrates!$AY70,InputsBG!$38:$38,0))/$AX70,0)","v":0},{"$f":"IF($G70<0,$G70*INDEX(InputsBG!$1:$1048576,BA$2,MATCH(Substrates!$AY70,InputsBG!$38:$38,0))/$AX70,0)","v":0},{"$f":"IF($G70<0,$G70*INDEX(InputsBG!$1:$1048576,BB$2,MATCH(Substrates!$AY70,InputsBG!$38:$38,0))/$AX70,0)","v":0},{"$f":"IF($G70<0,$G70*INDEX(InputsBG!$1:$1048576,BC$2,MATCH(Substrates!$AY70,InputsBG!$38:$38,0))/$AX70,0)","v":0},0,{"$error":"#DIV/0!"},{"$error":"#DIV/0!"},{"$nulls":13},{"$error":"#VALUE!"}]
["Roggensilage (Ganzpflanzensilage)","Seigle (ensilage plante entière)","Rye silage (whole plant silage)",null,"Rye silage (whole plant silage)",0,0,0,0,null,null,0,0,{"$nulls":4},{"$f":"IF(F71>0,IF(G71/F71/1000<AX71,INDEX(menuesBG!$1:$1048576,Warnung,sprache),\"\"),\"\")","v":""},32.5,30,35,95,92,98,4,4,4,{"$f":"AVERAGE(0.47)/AVERAGE(4)*100","v":11.75},2.8,0.7,null,null,615,550,680,54,332.1,0,0,0,0,{"$error":"#N/A"},{"$error":"#N/A"},{"$error":"#N/A"},{"$error":"#DIV/0!"},{"$f":"FaktorenBG!F$43*(1+FaktorenBG!F$56)*IF(Auswahl_Behandlung_fest<5,$F71,0)","v":{"$error":"#N/A"}},{"$f":"FaktorenBG!G$43*(1+FaktorenBG!G$56)*IF(Auswahl_Behandlung_fest<5,$F71,0)","v":{"$error":"#N/A"}},{"$f":"FaktorenBG!H$43*(1+FaktorenBG!H$56)*IF(Auswahl_Behandlung_fest<5,$F71,0)","v":{"$error":"#N/A"}},0,{"$f":"INDEX(InputsBG!$1:$1048576,AX$2,MATCH(Substrates!$AY71,InputsBG!$38:$38,0))","v":{"$error":"#N/A"}},"Rye grains IP, at farm/kg/CH U",{"$f":"IF($G71<0,$G71*INDEX(InputsBG!$1:$1048576,AZ$2,MATCH(Substrates!$AY71,InputsBG!$38:$38,0))/$AX71,0)","v":0},{"$f":"IF($G71<0,$G71*INDEX(InputsBG!$1:$1048576,BA$2,MATCH(Substrates!$AY71,InputsBG!$38:$38,0))/$AX71,0)","v":0},{"$f":"IF($G71<0,$G71*INDEX(InputsBG!$1:$1048576,BB$2,MATCH(Substrates!$AY71,InputsBG!$38:$38,0))/$AX71,0)","v":0},{"$f":"IF($G71<0,$G71*INDEX(InputsBG!$1:$1048576,BC$2,MATCH(Substrates!$AY71,InputsBG!$38:$38,0))/$AX71,0)","v":0},0,{"$error":"#DIV/0!"},{"$error":"#DIV/0!"},{"$nulls":13},"Rye grains IP, at farm"]
["Rübenblatt","Feuilles de betteraves","Beet leaf",null,{"$f":"IF(sprache=1,A72,IF(sprache=2,B72,C72))","v":"Beet leaf"},0,0,0,0,null,null,0,0,{"$nulls":4},{"$f":"IF(F72>0,IF(G72/F72/1000<AX72,INDEX(menuesBG!$1:$1048576,Warnung,sprache),\"\"),\"\")","v":""},16.5,15,18,78,76,80,0.30000000000000004,0.2,0.4,{"$f":"AVERAGE(0.3,0.4)/AVERAGE(1.9)*100","v":18.421052631578945},0.18000000000000002,0.6,null,null,550,400,700,54,297,0,0,0,0,{"$error":"#N/A"},{"$error":"#N/A"},{"$error":"#N/A"},{"$error":"#DIV/0!"},{"$f":"FaktorenBG!F$43*(1+FaktorenBG!F$56)*IF(Auswahl_Behandlung_fest<5,$F72,0)","v":{"$error":"#N/A"}},{"$f":"FaktorenBG!G$43*(1+FaktorenBG!G$56)*IF(Auswahl_Behandlung_fest<5,$F72,0)","v":{"$error":"#N/A"}},{"$f":"FaktorenBG!H$43*(1+FaktorenBG!H$56)*IF(Auswahl_Behandlung_fest<5,$F72,0)","v":{"$error":"#N/A"}},0,{"$f":"INDEX(InputsBG!$1:$1048576,AX$2,MATCH(Substrates!$AY72,InputsBG!$38:$38,0))","v":{"$error":"#N/A"}},"sugar beets IP, at farm/kg/CH U",{"$f":"IF($G72<0,$G72*INDEX(InputsBG!$1:$1048576,AZ$2,MATCH(Substrates!$AY72,InputsBG!$38:$38,0))/$AX72,0)","v":0},{"$f":"IF($G72<0,$G72*INDEX(InputsBG!$1:$1048576,BA$2,MATCH(Substrates!$AY72,InputsBG!$38:$38,0))/$AX72,0)","v":0},{"$f":"IF($G72<0,$G72*INDEX(InputsBG!$1:$1048576,BB$2,MATCH(Substrates!$AY72,InputsBG!$38:$38,0))/$AX72,0)","v":0},{"$f":"IF($G72<0,$G72*INDEX(InputsBG!$1:$1048576,BC$2,MATCH(Substrates!$AY72,InputsBG!$38:$38,0))/$AX72,0)","v":0},0,{"$f":"M72/Gasertrag_berechnet","v":{"$error":"#DIV/0!"}},{"$f":"AZ72/Belastung_Substrat","v":{"$error":"#DIV/0!"}},{"$nulls":13},"sugar beets IP, at farm"]
["Rübenpressschnitzel","Pulpe de betterave sucrière","Beet pulp",null,"Beet pulp",0,0,0,0,null,null,0,0,{"$nulls":4},{"$f":"IF(F73>0,IF(G73/F73/1000<AX73,INDEX(menuesBG!$1:$1048576,Warnung,sprache),\"\"),\"\")","v":""},24,null,null,92.5,null,null,1.9,1.9,1.9,{"$f":"AVERAGE(0.3,0.4)/AVERAGE(1.9)*100","v":18.421052631578945},1.1716666666666662,{"$f":"AD$138","v":0.61666666666666647},{"$f":"AE$138","v":45.65},{"$f":"AF$138","v":50.55},{"$f":"(AH73+AI73)/2","v":480},250,710,55,264,0,0,0,0,{"$error":"#N/A"},{"$error":"#N/A"},{"$error":"#N/A"},{"$error":"#DIV/0!"},{"$f":"FaktorenBG!F$43*(1+FaktorenBG!F$56)*IF(Auswahl_Behandlung_fest<5,$F73,0)","v":{"$error":"#N/A"}},{"$f":"FaktorenBG!G$43*(1+FaktorenBG!G$56)*IF(Auswahl_Behandlung_fest<5,$F73,0)","v":{"$error":"#N/A"}},{"$f":"FaktorenBG!H$43*(1+FaktorenBG!H$56)*IF(Auswahl_Behandlung_fest<5,$F73,0)","v":{"$error":"#N/A"}},0,{"$f":"INDEX(InputsBG!$1:$1048576,AX$2,MATCH(Substrates!$AY73,InputsBG!$38:$38,0))","v":{"$error":"#N/A"}},"Pulps, from sugar beet, at sugar refinery/CH U",{"$f":"IF($G73<0,$G73*INDEX(InputsBG!$1:$1048576,AZ$2,MATCH(Substrates!$AY73,InputsBG!$38:$38,0))/$AX73,0)","v":0},{"$f":"IF($G73<0,$G73*INDEX(InputsBG!$1:$1048576,BA$2,MATCH(Substrates!$AY73,InputsBG!$38:$38,0))/$AX73,0)","v":0},{"$f":"IF($G73<0,$G73*INDEX(InputsBG!$1:$1048576,BB$2,MATCH(Substrates!$AY73,InputsBG!$38:$38,0))/$AX73,0)","v":0},{"$f":"IF($G73<0,$G73*INDEX(InputsBG!$1:$1048576,BC$2,MATCH(Substrates!$AY73,InputsBG!$38:$38,0))/$AX73,0)","v":0},0,{"$error":"#DIV/0!"},{"$error":"#DIV/0!"},{"$nulls":13},"Pulps, from sugar beet, at sugar refinery"]
["Rückstände aus der Herstellung von Nahrungsmittelkonserven (pflanzlich)","Résidus de la production d'aliments en conserve (végétal)","Residues from the manufacture of canned food (vegetable)",null,"Residues from the manufacture of canned food (vegetable)",0,0,0,0,null,null,0,0,{"$nulls":4},{"$f":"IF(F74>0,IF(G74/F74/1000<AX74,INDEX(menuesBG!$1:$1048576,Warnung,sprache),\"\"),\"\")","v":""},13,11,15,{"$f":"(W74+X74)/2","v":90},85,95,0.75,0.5,1,{"$f":"AVERAGE(0.01,1.1)/AVERAGE(0.6,5)*100","v":19.821428571428573},{"$f":"AD74*Y74","v":0.44999999999999996},0.6,null,null,{"$f":"(AH74+AI74)/2","v":700},650,750,57,399,0,0,0,0,{"$error":"#N/A"},{"$error":"#N/A"},{"$error":"#N/A"},{"$error":"#DIV/0!"},{"$f":"FaktorenBG!F$43*(1+FaktorenBG!F$56)*IF(Auswahl_Behandlung_fest<5,$F74,0)","v":{"$error":"#N/A"}},{"$f":"FaktorenBG!G$43*(1+FaktorenBG!G$56)*IF(Auswahl_Behandlung_fest<5,$F74,0)","v":{"$error":"#N/A"}},{"$f":"FaktorenBG!H$43*(1+FaktorenBG!H$56)*IF(Auswahl_Behandlung_fest<5,$F74,0)","v":{"$error":"#N/A"}},0,{"$f":"INDEX(InputsBG!$1:$1048576,AX$2,MATCH(Substrates!$AY74,InputsBG!$38:$38,0))","v":{"$error":"#N/A"}},"Durchschnitt",{"$f":"IF($G74<0,$G74*INDEX(InputsBG!$1:$1048576,AZ$2,MATCH(Substrates!$AY74,InputsBG!$38:$38,0))/$AX74,0)","v":0},{"$f":"IF($G74<0,$G74*INDEX(InputsBG!$1:$1048576,BA$2,MATCH(Substrates!$AY74,InputsBG!$38:$38,0))/$AX74,0)","v":0},{"$f":"IF($G74<0,$G74*INDEX(InputsBG!$1:$1048576,BB$2,MATCH(Substrates!$AY74,InputsBG!$38:$38,0))/$AX74,0)","v":0},{"$f":"IF($G74<0,$G74*INDEX(InputsBG!$1:$1048576,BC$2,MATCH(Substrates!$AY74,InputsBG!$38:$38,0))/$AX74,0)","v":0},0,{"$error":"#DIV/0!"},{"$error":"#DIV/0!"},{"$nulls":13},{"$error":"#VALUE!"}]
["Rückstände aus der Kartoffel-, Mais- oder Reisstärkeherstellung","Résidus de la production d'amidon de pommes de terre, de maïs ou de riz","Residues from the manufacture of potato, maize or rice starch",null,"Residues from the manufacture of potato, maize or rice starch",0,0,0,0,null,null,0,0,{"$nulls":4},{"$f":"IF(F75>0,IF(G75/F75/1000<AX75,INDEX(menuesBG!$1:$1048576,Warnung,sprache),\"\"),\"\")","v":""},30.7,{"$f":"T$138","v":30.7},30.7,73.900000000000006,{"$f":"W$138","v":73.900000000000006},73.900000000000006,2.9930555555555554,{"$f":"Z$138","v":2.3277777777777775},3.6583333333333337,{"$f":"AVERAGE(0.04)/AVERAGE(0.5,1)*100","v":5.3333333333333339},1.8457175925925919,{"$f":"AD$138","v":0.61666666666666647},45.65,50.55,492,{"$f":"AH$138","v":376},608,55,270.60000000000002,0,0,0,0,{"$error":"#N/A"},{"$error":"#N/A"},{"$error":"#N/A"},{"$error":"#DIV/0!"},{"$f":"FaktorenBG!F$43*(1+FaktorenBG!F$56)*IF(Auswahl_Behandlung_fest<5,$F75,0)","v":{"$error":"#N/A"}},{"$f":"FaktorenBG!G$43*(1+FaktorenBG!G$56)*IF(Auswahl_Behandlung_fest<5,$F75,0)","v":{"$error":"#N/A"}},{"$f":"FaktorenBG!H$43*(1+FaktorenBG!H$56)*IF(Auswahl_Behandlung_fest<5,$F75,0)","v":{"$error":"#N/A"}},{"$f":"IF(F75>0,G75/F75/1000,0)","v":0},{"$f":"INDEX(InputsBG!$1:$1048576,AX$2,MATCH(Substrates!$AY75,InputsBG!$38:$38,0))","v":{"$error":"#N/A"}},"Potatoes IP, at farm/CH U",{"$f":"IF($G75<0,$G75*INDEX(InputsBG!$1:$1048576,AZ$2,MATCH(Substrates!$AY75,InputsBG!$38:$38,0))/$AX75,0)","v":0},{"$f":"IF($G75<0,$G75*INDEX(InputsBG!$1:$1048576,BA$2,MATCH(Substrates!$AY75,InputsBG!$38:$38,0))/$AX75,0)","v":0},{"$f":"IF($G75<0,$G75*INDEX(InputsBG!$1:$1048576,BB$2,MATCH(Substrates!$AY75,InputsBG!$38:$38,0))/$AX75,0)","v":0},{"$f":"IF($G75<0,$G75*INDEX(InputsBG!$1:$1048576,BC$2,MATCH(Substrates!$AY75,InputsBG!$38:$38,0))/$AX75,0)","v":0},0,{"$error":"#DIV/0!"},{"$error":"#DIV/0!"},{"$nulls":13},"Potatoes IP, at farm"]
["Schlämme aus Lebensmittelproduktion (pflanzlich)","Boues provenant de la production d'aliments (végétal)","Sludges from food production (vegetable)",null,"Sludges from food production (vegetable)",0,0,0,0,null,null,0,0,{"$nulls":4},{"$f":"IF(F76>0,IF(G76/F76/1000<AX76,INDEX(menuesBG!$1:$1048576,Warnung,sprache),\"\"),\"\")","v":""},30.7,30.7,30.7,73.900000000000006,73.900000000000006,73.900000000000006,2.9930555555555554,2.3277777777777775,3.6583333333333337,13,1.8457175925925919,0.61666666666666647,45.65,50.55,492,376,608,55,270.60000000000002,0,0,0,0,{"$error":"#N/A"},{"$error":"#N/A"},{"$error":"#N/A"},{"$error":"#DIV/0!"},{"$f":"FaktorenBG!F$43*(1+FaktorenBG!F$56)*IF(Auswahl_Behandlung_fest<5,$F76,0)","v":{"$error":"#N/A"}},{"$f":"FaktorenBG!G$43*(1+FaktorenBG!G$56)*IF(Auswahl_Behandlung_fest<5,$F76,0)","v":{"$error":"#N/A"}},{"$f":"FaktorenBG!H$43*(1+FaktorenBG!H$56)*IF(Auswahl_Behandlung_fest<5,$F76,0)","v":{"$error":"#N/A"}},0,{"$f":"INDEX(InputsBG!$1:$1048576,AX$2,MATCH(Substrates!$AY76,InputsBG!$38:$38,0))","v":{"$error":"#N/A"}},"vegetables mean, IP, at farm/kg/CH S",{"$f":"IF($G76<0,$G76*INDEX(InputsBG!$1:$1048576,AZ$2,MATCH(Substrates!$AY76,InputsBG!$38:$38,0))/$AX76,0)","v":0},{"$f":"IF($G76<0,$G76*INDEX(InputsBG!$1:$1048576,BA$2,MATCH(Substrates!$AY76,InputsBG!$38:$38,0))/$AX76,0)","v":0},{"$f":"IF($G76<0,$G76*INDEX(InputsBG!$1:$1048576,BB$2,MATCH(Substrates!$AY76,InputsBG!$38:$38,0))/$AX76,0)","v":0},{"$f":"IF($G76<0,$G76*INDEX(InputsBG!$1:$1048576,BC$2,MATCH(Substrates!$AY76,InputsBG!$38:$38,0))/$AX76,0)","v":0},0,{"$error":"#DIV/0!"},{"$error":"#DIV/0!"},{"$nulls":13},"vegetables mean, IP, at farm"]
["Sortier- und Rüstabgang (Pilze, Gemüse, Früchte, etc.)","Déchets après tri, épluchures (champignons, légume, fruits etc.)","Sorting and food waste (mushrooms, vegetables, fruits, etc.)",null,"Sorting and food waste (mushrooms, vegetables, fruits, etc.)",0,0,0,0,null,null,0,0,{"$nulls":4},{"$f":"IF(F77>0,IF(G77/F77/1000<AX77,INDEX(menuesBG!$1:$1048576,Warnung,sprache),\"\"),\"\")","v":""},12.5,null,null,90,null,null,2.9930555555555554,2.3277777777777775,3.6583333333333337,{"$f":"AVERAGE(0.01,1.1)/AVERAGE(0.6,5)*100","v":19.821428571428573},1.8457175925925919,0.61666666666666647,45.65,50.55,{"$f":"(AH77+AI77)/2","v":550},400,700,52,286,0,0,0,0,{"$error":"#N/A"},{"$error":"#N/A"},{"$error":"#N/A"},{"$error":"#DIV/0!"},{"$f":"FaktorenBG!F$43*(1+FaktorenBG!F$56)*IF(Auswahl_Behandlung_fest<5,$F77,0)","v":{"$error":"#N/A"}},{"$f":"FaktorenBG!G$43*(1+FaktorenBG!G$56)*IF(Auswahl_Behandlung_fest<5,$F77,0)","v":{"$error":"#N/A"}},{"$f":"FaktorenBG!H$43*(1+FaktorenBG!H$56)*IF(Auswahl_Behandlung_fest<5,$F77,0)","v":{"$error":"#N/A"}},0,{"$f":"INDEX(InputsBG!$1:$1048576,AX$2,MATCH(Substrates!$AY77,InputsBG!$38:$38,0))","v":{"$error":"#N/A"}},"vegetables mean, IP, at farm/kg/CH S",{"$f":"IF($G77<0,$G77*INDEX(InputsBG!$1:$1048576,AZ$2,MATCH(Substrates!$AY77,InputsBG!$38:$38,0))/$AX77,0)","v":0},{"$f":"IF($G77<0,$G77*INDEX(InputsBG!$1:$1048576,BA$2,MATCH(Substrates!$AY77,InputsBG!$38:$38,0))/$AX77,0)","v":0},{"$f":"IF($G77<0,$G77*INDEX(InputsBG!$1:$1048576,BB$2,MATCH(Substrates!$AY77,InputsBG!$38:$38,0))/$AX77,0)","v":0},{"$f":"IF($G77<0,$G77*INDEX(InputsBG!$1:$1048576,BC$2,MATCH(Substrates!$AY77,InputsBG!$38:$38,0))/$AX77,0)","v":0},0,{"$error":"#DIV/0!"},{"$error":"#DIV/0!"},{"$nulls":13},"vegetables mean, IP, at farm"]
["Speiseölabfälle, Speisefettabfälle, Rückstände und Schlämme aus Öl- und Fettabscheidern (nicht aufbereitet)","Déchets d'huiles et de graisses alimentaires, résidus et boues provenant des filtres à graisse et à huile (non transformé)","Edible oil waste, edible fat waste, residues and sludges from oil and fat separators (not treated)",null,"Edible oil waste, edible fat waste, residues and sludges from oil and fat separators (not treated)",0,0,0,0,null,null,0,0,{"$nulls":4},{"$f":"IF(F78>0,IF(G78/F78/1000<AX78,INDEX(menuesBG!$1:$1048576,Warnung,sprache),\"\"),\"\")","v":""},99,98,100,99.5,99,100,0.45,0.1,0.8,{"$f":"AVERAGE(0.02,1.5)/AVERAGE(0.1,3.6)*100","v":41.081081081081081},0.1125,0.25,null,null,1100,1000,1200,67,737,0,0,0,0,{"$error":"#N/A"},{"$error":"#N/A"},{"$error":"#N/A"},{"$error":"#DIV/0!"},{"$f":"FaktorenBG!F$43*(1+FaktorenBG!F$56)*IF(Auswahl_Behandlung_fest<5,$F78,0)","v":{"$error":"#N/A"}},{"$f":"FaktorenBG!G$43*(1+FaktorenBG!G$56)*IF(Auswahl_Behandlung_fest<5,$F78,0)","v":{"$error":"#N/A"}},{"$f":"FaktorenBG!H$43*(1+FaktorenBG!H$56)*IF(Auswahl_Behandlung_fest<5,$F78,0)","v":{"$error":"#N/A"}},0,{"$f":"INDEX(InputsBG!$1:$1048576,AX$2,MATCH(Substrates!$AY78,InputsBG!$38:$38,0))","v":{"$error":"#N/A"}},"Rape oil, at oil mill/RER U",{"$f":"IF($G78<0,$G78*INDEX(InputsBG!$1:$1048576,AZ$2,MATCH(Substrates!$AY78,InputsBG!$38:$38,0))/$AX78,0)","v":0},{"$f":"IF($G78<0,$G78*INDEX(InputsBG!$1:$1048576,BA$2,MATCH(Substrates!$AY78,InputsBG!$38:$38,0))/$AX78,0)","v":0},{"$f":"IF($G78<0,$G78*INDEX(InputsBG!$1:$1048576,BB$2,MATCH(Substrates!$AY78,InputsBG!$38:$38,0))/$AX78,0)","v":0},{"$f":"IF($G78<0,$G78*INDEX(InputsBG!$1:$1048576,BC$2,MATCH(Substrates!$AY78,InputsBG!$38:$38,0))/$AX78,0)","v":0},0,{"$error":"#DIV/0!"},{"$error":"#DIV/0!"},{"$nulls":13},"Rape oil, at oil mill"]
["Speisereste aus Gastronomiebetrieben","Déchets alimentaires de la restauration","Food leftovers from catering establishments",null,"Food leftovers from catering establishments",0,0,0,0,null,null,0,0,{"$nulls":4},{"$f":"IF(F79>0,IF(G79/F79/1000<AX79,INDEX(menuesBG!$1:$1048576,Warnung,sprache),\"\"),\"\")","v":""},26,15,37,{"$f":"(W79+X79)/2","v":89},80,98,3,1,5,{"$f":"AVERAGE(0.01,1.1)/AVERAGE(0.6,5)*100","v":19.821428571428573},{"$f":"AD79*Y79","v":1.9500000000000002},0.65,null,null,{"$f":"(AH79+AI79)/2","v":555},460,650,61,338.55,0,0,0,0,{"$error":"#N/A"},{"$error":"#N/A"},{"$error":"#N/A"},{"$error":"#DIV/0!"},{"$f":"FaktorenBG!F$43*(1+FaktorenBG!F$56)*IF(Auswahl_Behandlung_fest<5,$F79,0)","v":{"$error":"#N/A"}},{"$f":"FaktorenBG!G$43*(1+FaktorenBG!G$56)*IF(Auswahl_Behandlung_fest<5,$F79,0)","v":{"$error":"#N/A"}},{"$f":"FaktorenBG!H$43*(1+FaktorenBG!H$56)*IF(Auswahl_Behandlung_fest<5,$F79,0)","v":{"$error":"#N/A"}},0,{"$f":"INDEX(InputsBG!$1:$1048576,AX$2,MATCH(Substrates!$AY79,InputsBG!$38:$38,0))","v":{"$error":"#N/A"}},"Durchschnitt",{"$f":"IF($G79<0,$G79*INDEX(InputsBG!$1:$1048576,AZ$2,MATCH(Substrates!$AY79,InputsBG!$38:$38,0))/$AX79,0)","v":0},{"$f":"IF($G79<0,$G79*INDEX(InputsBG!$1:$1048576,BA$2,MATCH(Substrates!$AY79,InputsBG!$38:$38,0))/$AX79,0)","v":0},{"$f":"IF($G79<0,$G79*INDEX(InputsBG!$1:$1048576,BB$2,MATCH(Substrates!$AY79,InputsBG!$38:$38,0))/$AX79,0)","v":0},{"$f":"IF($G79<0,$G79*INDEX(InputsBG!$1:$1048576,BC$2,MATCH(Substrates!$AY79,InputsBG!$38:$38,0))/$AX79,0)","v":0},0,{"$error":"#DIV/0!"},{"$error":"#DIV/0!"},{"$nulls":13},{"$error":"#VALUE!"}]
["Tabak, Tabakstaub, -grus, -rippen, -schlamm","Tabac, poussière de tabac, tiges de tabac, boues de tabac","Tobacco, tobacco dust, tobacco breeze, tobacco ribs, tobacco sludge",null,"Tobacco, tobacco dust, tobacco breeze, tobacco ribs, tobacco sludge",0,0,0,0,null,null,0,0,{"$nulls":4},{"$f":"IF(F80>0,IF(G80/F80/1000<AX80,INDEX(menuesBG!$1:$1048576,Warnung,sprache),\"\"),\"\")","v":""},30.7,{"$f":"T$138","v":30.7},{"$f":"U$138","v":30.7},73.900000000000006,{"$f":"W$138","v":73.900000000000006},{"$f":"X$138","v":73.900000000000006},2.9930555555555554,{"$f":"Z$138","v":2.3277777777777775},{"$f":"AA$138","v":3.6583333333333337},13,1.8457175925925919,{"$f":"AD$138","v":0.61666666666666647},45.65,50.55,492,{"$f":"AH$138","v":376},{"$f":"AI$138","v":608},57,280.44,0,0,0,0,{"$error":"#N/A"},{"$error":"#N/A"},{"$error":"#N/A"},{"$error":"#DIV/0!"},{"$f":"FaktorenBG!F$43*(1+FaktorenBG!F$56)*IF(Auswahl_Behandlung_fest<5,$F80,0)","v":{"$error":"#N/A"}},{"$f":"FaktorenBG!G$43*(1+FaktorenBG!G$56)*IF(Auswahl_Behandlung_fest<5,$F80,0)","v":{"$error":"#N/A"}},{"$f":"FaktorenBG!H$43*(1+FaktorenBG!H$56)*IF(Auswahl_Behandlung_fest<5,$F80,0)","v":{"$error":"#N/A"}},0,{"$f":"INDEX(InputsBG!$1:$1048576,AX$2,MATCH(Substrates!$AY80,InputsBG!$38:$38,0))","v":{"$error":"#N/A"}},"Durchschnitt",{"$f":"IF($G80<0,$G80*INDEX(InputsBG!$1:$1048576,AZ$2,MATCH(Substrates!$AY80,InputsBG!$38:$38,0))/$AX80,0)","v":0},{"$f":"IF($G80<0,$G80*INDEX(InputsBG!$1:$1048576,BA$2,MATCH(Substrates!$AY80,InputsBG!$38:$38,0))/$AX80,0)","v":0},{"$f":"IF($G80<0,$G80*INDEX(InputsBG!$1:$1048576,BB$2,MATCH(Substrates!$AY80,InputsBG!$38:$38,0))/$AX80,0)","v":0},{"$f":"IF($G80<0,$G80*INDEX(InputsBG!$1:$1048576,BC$2,MATCH(Substrates!$AY80,InputsBG!$38:$38,0))/$AX80,0)","v":0},0,{"$error":"#DIV/0!"},{"$error":"#DIV/0!"},{"$nulls":13},{"$error":"#VALUE!"}]
["Teetreber, Teesatz, Abgänge aus der Produktion und Zubereitung von Tee","Marc de thé, prélèvements sur le lieu de production et de préparation du thé","Tea grains, tea substitutes, waste from production and preparation of tea",null,"Tea grains, tea substitutes, waste from production and preparation of tea",0,0,0,0,null,null,0,0,{"$nulls":4},{"$f":"IF(F81>0,IF(G81/F81/1000<AX81,INDEX(menuesBG!$1:$1048576,Warnung,sprache),\"\"),\"\")","v":""},13.5,null,null,73.900000000000006,{"$f":"W$138","v":73.900000000000006},{"$f":"X$138","v":73.900000000000006},2.9930555555555554,{"$f":"Z$138","v":2.3277777777777775},{"$f":"AA$138","v":3.6583333333333337},13,1.8457175925925919,0.61666666666666647,45.65,50.55,492,{"$f":"AH$138","v":376},{"$f":"AI$138","v":608},57,280.44,0,0,0,0,{"$error":"#N/A"},{"$error":"#N/A"},{"$error":"#N/A"},{"$error":"#DIV/0!"},{"$f":"FaktorenBG!F$43*(1+FaktorenBG!F$56)*IF(Auswahl_Behandlung_fest<5,$F81,0)","v":{"$error":"#N/A"}},{"$f":"FaktorenBG!G$43*(1+FaktorenBG!G$56)*IF(Auswahl_Behandlung_fest<5,$F81,0)","v":{"$error":"#N/A"}},{"$f":"FaktorenBG!H$43*(1+FaktorenBG!H$56)*IF(Auswahl_Behandlung_fest<5,$F81,0)","v":{"$error":"#N/A"}},0,{"$f":"INDEX(InputsBG!$1:$1048576,AX$2,MATCH(Substrates!$AY81,InputsBG!$38:$38,0))","v":{"$error":"#N/A"}},"vegetables mean, IP, at farm/kg/CH S",{"$f":"IF($G81<0,$G81*INDEX(InputsBG!$1:$1048576,AZ$2,MATCH(Substrates!$AY81,InputsBG!$38:$38,0))/$AX81,0)","v":0},{"$f":"IF($G81<0,$G81*INDEX(InputsBG!$1:$1048576,BA$2,MATCH(Substrates!$AY81,InputsBG!$38:$38,0))/$AX81,0)","v":0},{"$f":"IF($G81<0,$G81*INDEX(InputsBG!$1:$1048576,BB$2,MATCH(Substrates!$AY81,InputsBG!$38:$38,0))/$AX81,0)","v":0},{"$f":"IF($G81<0,$G81*INDEX(InputsBG!$1:$1048576,BC$2,MATCH(Substrates!$AY81,InputsBG!$38:$38,0))/$AX81,0)","v":0},0,{"$error":"#DIV/0!"},{"$error":"#DIV/0!"},{"$nulls":13},"vegetables mean, IP, at farm"]
["Traubentrester","Marc de raisin ","Grape marc",null,"Grape marc",0,0,0,0,null,null,{"$f":"F82*S82*V82/10","v":0},{"$f":"F82*S82*V82/10000*AG82","v":0},{"$nulls":4},{"$f":"IF(F82>0,IF(G82/F82/1000<AX82,INDEX(menuesBG!$1:$1048576,Warnung,sprache),\"\"),\"\")","v":""},45,40,50,87,80,94,2.25,1.5,3,13,1.4625000000000001,0.65,null,null,590,490,690,65,383.5,0,0,0,0,{"$error":"#N/A"},{"$error":"#N/A"},{"$error":"#N/A"},{"$error":"#DIV/0!"},{"$f":"FaktorenBG!F$43*(1+FaktorenBG!F$56)*IF(Auswahl_Behandlung_fest<5,$F82,0)","v":{"$error":"#N/A"}},{"$f":"FaktorenBG!G$43*(1+FaktorenBG!G$56)*IF(Auswahl_Behandlung_fest<5,$F82,0)","v":{"$error":"#N/A"}},{"$f":"FaktorenBG!H$43*(1+FaktorenBG!H$56)*IF(Auswahl_Behandlung_fest<5,$F82,0)","v":{"$error":"#N/A"}},0,{"$f":"INDEX(InputsBG!$1:$1048576,AX$2,MATCH(Substrates!$AY82,InputsBG!$38:$38,0))","v":{"$error":"#N/A"}},"Durchschnitt",{"$f":"IF($G82<0,$G82*INDEX(InputsBG!$1:$1048576,AZ$2,MATCH(Substrates!$AY82,InputsBG!$38:$38,0))/$AX82,0)","v":0},{"$f":"IF($G82<0,$G82*INDEX(InputsBG!$1:$1048576,BA$2,MATCH(Substrates!$AY82,InputsBG!$38:$38,0))/$AX82,0)","v":0},{"$f":"IF($G82<0,$G82*INDEX(InputsBG!$1:$1048576,BB$2,MATCH(Substrates!$AY82,InputsBG!$38:$38,0))/$AX82,0)","v":0},{"$f":"IF($G82<0,$G82*INDEX(InputsBG!$1:$1048576,BC$2,MATCH(Substrates!$AY82,InputsBG!$38:$38,0))/$AX82,0)","v":0},0,{"$error":"#DIV/0!"},{"$error":"#DIV/0!"},{"$nulls":13},{"$error":"#VALUE!"}]
["Vinasse","Vinasse","Vinasse",null,"Vinasse",0,0,0,0,null,null,0,0,{"$nulls":4},{"$f":"IF(F83>0,IF(G83/F83/1000<AX83,INDEX(menuesBG!$1:$1048576,Warnung,sprache),\"\"),\"\")","v":""},{"$f":"(T83+U83)/2","v":5.5},3,8,{"$f":"(W83+X83)/2","v":90.5},83,98,7.95,6,9.9,13,5.1675000000000004,0.65,null,null,{"$f":"(AH83+AI83)/2","v":500},400,600,57,285,{"$f":"L83*50%*28.62%*12.5%","v":0},0,0,0,{"$error":"#N/A"},{"$error":"#N/A"},{"$error":"#N/A"},{"$error":"#DIV/0!"},{"$f":"FaktorenBG!F$43*(1+FaktorenBG!F$56)*IF(Auswahl_Behandlung_fest<5,$F83,0)","v":{"$error":"#N/A"}},{"$f":"FaktorenBG!G$43*(1+FaktorenBG!G$56)*IF(Auswahl_Behandlung_fest<5,$F83,0)","v":{"$error":"#N/A"}},{"$f":"FaktorenBG!H$43*(1+FaktorenBG!H$56)*IF(Auswahl_Behandlung_fest<5,$F83,0)","v":{"$error":"#N/A"}},0,{"$f":"INDEX(InputsBG!$1:$1048576,AX$2,MATCH(Substrates!$AY83,InputsBG!$38:$38,0))","v":{"$error":"#N/A"}},"Vinasse, at fermentation plant/CH U",{"$f":"IF($G83<0,$G83*INDEX(InputsBG!$1:$1048576,AZ$2,MATCH(Substrates!$AY83,InputsBG!$38:$38,0))/$AX83,0)","v":0},{"$f":"IF($G83<0,$G83*INDEX(InputsBG!$1:$1048576,BA$2,MATCH(Substrates!$AY83,InputsBG!$38:$38,0))/$AX83,0)","v":0},{"$f":"IF($G83<0,$G83*INDEX(InputsBG!$1:$1048576,BB$2,MATCH(Substrates!$AY83,InputsBG!$38:$38,0))/$AX83,0)","v":0},{"$f":"IF($G83<0,$G83*INDEX(InputsBG!$1:$1048576,BC$2,MATCH(Substrates!$AY83,InputsBG!$38:$38,0))/$AX83,0)","v":0},0,{"$error":"#DIV/0!"},{"$error":"#DIV/0!"},{"$nulls":13},"Vinasse, at fermentation plant"]
["Waschwasser aus Biodieselproduktion","Eau de lavage de la production de biodiesel","Wash water from biodiesel production",null,"Wash water from biodiesel production",0,0,0,0,null,null,0,0,{"$nulls":4},{"$f":"IF(F84>0,IF(G84/F84/1000<AX84,INDEX(menuesBG!$1:$1048576,Warnung,sprache),\"\"),\"\")","v":""},3,null,null,91.8,null,null,2.9930555555555554,{"$f":"Z$138","v":2.3277777777777775},3.6583333333333337,13,1.8457175925925919,{"$f":"AD$138","v":0.61666666666666647},45.65,50.55,492,{"$f":"AH$138","v":376},608,57,280.44,0,0,0,0,{"$error":"#N/A"},{"$error":"#N/A"},{"$error":"#N/A"},{"$error":"#DIV/0!"},{"$f":"FaktorenBG!F$43*(1+FaktorenBG!F$56)*IF(Auswahl_Behandlung_fest<5,$F84,0)","v":{"$error":"#N/A"}},{"$f":"FaktorenBG!G$43*(1+FaktorenBG!G$56)*IF(Auswahl_Behandlung_fest<5,$F84,0)","v":{"$error":"#N/A"}},{"$f":"FaktorenBG!H$43*(1+FaktorenBG!H$56)*IF(Auswahl_Behandlung_fest<5,$F84,0)","v":{"$error":"#N/A"}},0,{"$f":"INDEX(InputsBG!$1:$1048576,AX$2,MATCH(Substrates!$AY84,InputsBG!$38:$38,0))","v":{"$error":"#N/A"}},"Durchschnitt",{"$f":"IF($G84<0,$G84*INDEX(InputsBG!$1:$1048576,AZ$2,MATCH(Substrates!$AY84,InputsBG!$38:$38,0))/$AX84,0)","v":0},{"$f":"IF($G84<0,$G84*INDEX(InputsBG!$1:$1048576,BA$2,MATCH(Substrates!$AY84,InputsBG!$38:$38,0))/$AX84,0)","v":0},{"$f":"IF($G84<0,$G84*INDEX(InputsBG!$1:$1048576,BB$2,MATCH(Substrates!$AY84,InputsBG!$38:$38,0))/$AX84,0)","v":0},{"$f":"IF($G84<0,$G84*INDEX(InputsBG!$1:$1048576,BC$2,MATCH(Substrates!$AY84,InputsBG!$38:$38,0))/$AX84,0)","v":0},0,{"$error":"#DIV/0!"},{"$error":"#DIV/0!"},{"$nulls":13},{"$error":"#VALUE!"}]
["Wasserpflanzen, Schilf","Plantes aquatiques, roseaux","Aquatic plants, reeds",null,"Aquatic plants, reeds",0,0,0,0,null,null,0,0,{"$nulls":4},{"$f":"IF(F85>0,IF(G85/F85/1000<AX85,INDEX(menuesBG!$1:$1048576,Warnung,sprache),\"\"),\"\")","v":""},30.7,{"$f":"T$138","v":30.7},30.7,73.900000000000006,{"$f":"W$138","v":73.900000000000006},73.900000000000006,2.9930555555555554,2.3277777777777775,3.6583333333333337,13,1.8457175925925919,0.61666666666666647,45.65,50.55,160,null,null,60,96,0,0,0,0,{"$error":"#N/A"},{"$error":"#N/A"},{"$error":"#N/A"},{"$error":"#DIV/0!"},{"$f":"FaktorenBG!F$43*(1+FaktorenBG!F$56)*IF(Auswahl_Behandlung_fest<5,$F85,0)","v":{"$error":"#N/A"}},{"$f":"FaktorenBG!G$43*(1+FaktorenBG!G$56)*IF(Auswahl_Behandlung_fest<5,$F85,0)","v":{"$error":"#N/A"}},{"$f":"FaktorenBG!H$43*(1+FaktorenBG!H$56)*IF(Auswahl_Behandlung_fest<5,$F85,0)","v":{"$error":"#N/A"}},0,{"$f":"INDEX(InputsBG!$1:$1048576,AX$2,MATCH(Substrates!$AY85,InputsBG!$38:$38,0))","v":{"$error":"#N/A"}},"Durchschnitt",{"$f":"IF($G85<0,$G85*INDEX(InputsBG!$1:$1048576,AZ$2,MATCH(Substrates!$AY85,InputsBG!$38:$38,0))/$AX85,0)","v":0},{"$f":"IF($G85<0,$G85*INDEX(InputsBG!$1:$1048576,BA$2,MATCH(Substrates!$AY85,InputsBG!$38:$38,0))/$AX85,0)","v":0},{"$f":"IF($G85<0,$G85*INDEX(InputsBG!$1:$1048576,BB$2,MATCH(Substrates!$AY85,InputsBG!$38:$38,0))/$AX85,0)","v":0},{"$f":"IF($G85<0,$G85*INDEX(InputsBG!$1:$1048576,BC$2,MATCH(Substrates!$AY85,InputsBG!$38:$38,0))/$AX85,0)","v":0},0,{"$error":"#DIV/0!"},{"$error":"#DIV/0!"},{"$nulls":13},{"$error":"#VALUE!"}]
["Weintrub, Trappen, Schlamm aus der Weinbereitung","Lie de vin, boues de la vinification","Wine lees, bustards, sludge from wine making",null,"Wine lees, bustards, sludge from wine making",0,0,0,0,null,null,0,0,{"$nulls":4},{"$f":"IF(F86>0,IF(G86/F86/1000<AX86,INDEX(menuesBG!$1:$1048576,Warnung,sprache),\"\"),\"\")","v":""},30.7,30.7,30.7,73.900000000000006,73.900000000000006,73.900000000000006,2.9930555555555554,2.3277777777777775,3.6583333333333337,13,1.8457175925925919,0.61666666666666647,45.65,50.55,492,376,608,57,280.44,0,0,0,0,{"$error":"#N/A"},{"$error":"#N/A"},{"$error":"#N/A"},{"$error":"#DIV/0!"},{"$f":"FaktorenBG!F$43*(1+FaktorenBG!F$56)*IF(Auswahl_Behandlung_fest<5,$F86,0)","v":{"$error":"#N/A"}},{"$f":"FaktorenBG!G$43*(1+FaktorenBG!G$56)*IF(Auswahl_Behandlung_fest<5,$F86,0)","v":{"$error":"#N/A"}},{"$f":"FaktorenBG!H$43*(1+FaktorenBG!H$56)*IF(Auswahl_Behandlung_fest<5,$F86,0)","v":{"$error":"#N/A"}},0,{"$f":"INDEX(InputsBG!$1:$1048576,AX$2,MATCH(Substrates!$AY86,InputsBG!$38:$38,0))","v":{"$error":"#N/A"}},"Durchschnitt",{"$f":"IF($G86<0,$G86*INDEX(InputsBG!$1:$1048576,AZ$2,MATCH(Substrates!$AY86,InputsBG!$38:$38,0))/$AX86,0)","v":0},{"$f":"IF($G86<0,$G86*INDEX(InputsBG!$1:$1048576,BA$2,MATCH(Substrates!$AY86,InputsBG!$38:$38,0))/$AX86,0)","v":0},{"$f":"IF($G86<0,$G86*INDEX(InputsBG!$1:$1048576,BB$2,MATCH(Substrates!$AY86,InputsBG!$38:$38,0))/$AX86,0)","v":0},{"$f":"IF($G86<0,$G86*INDEX(InputsBG!$1:$1048576,BC$2,MATCH(Substrates!$AY86,InputsBG!$38:$38,0))/$AX86,0)","v":0},0,{"$error":"#DIV/0!"},{"$error":"#DIV/0!"},{"$nulls":13},{"$error":"#VALUE!"}]
["Wollrückstände, -staub (unbehandelt)","Résidus et poussière de laine","Wool residues, dust (untreated)",null,"Wool residues, dust (untreated)",0,0,0,0,null,null,0,0,{"$nulls":4},{"$f":"IF(F87>0,IF(G87/F87/1000<AX87,INDEX(menuesBG!$1:$1048576,Warnung,sprache),\"\"),\"\")","v":""},30.7,30.7,30.7,73.900000000000006,73.900000000000006,73.900000000000006,2.9930555555555554,2.3277777777777775,3.6583333333333337,13,1.8457175925925919,0.61666666666666647,45.65,50.55,492,376,608,57,280.44,0,0,0,0,{"$error":"#N/A"},{"$error":"#N/A"},{"$error":"#N/A"},{"$error":"#DIV/0!"},{"$f":"FaktorenBG!F$43*(1+FaktorenBG!F$56)*IF(Auswahl_Behandlung_fest<5,$F87,0)","v":{"$error":"#N/A"}},{"$f":"FaktorenBG!G$43*(1+FaktorenBG!G$56)*IF(Auswahl_Behandlung_fest<5,$F87,0)","v":{"$error":"#N/A"}},{"$f":"FaktorenBG!H$43*(1+FaktorenBG!H$56)*IF(Auswahl_Behandlung_fest<5,$F87,0)","v":{"$error":"#N/A"}},0,{"$f":"INDEX(InputsBG!$1:$1048576,AX$2,MATCH(Substrates!$AY87,InputsBG!$38:$38,0))","v":{"$error":"#N/A"}},"Durchschnitt",{"$f":"IF($G87<0,$G87*INDEX(InputsBG!$1:$1048576,AZ$2,MATCH(Substrates!$AY87,InputsBG!$38:$38,0))/$AX87,0)","v":0},{"$f":"IF($G87<0,$G87*INDEX(InputsBG!$1:$1048576,BA$2,MATCH(Substrates!$AY87,InputsBG!$38:$38,0))/$AX87,0)","v":0},{"$f":"IF($G87<0,$G87*INDEX(InputsBG!$1:$1048576,BB$2,MATCH(Substrates!$AY87,InputsBG!$38:$38,0))/$AX87,0)","v":0},{"$f":"IF($G87<0,$G87*INDEX(InputsBG!$1:$1048576,BC$2,MATCH(Substrates!$AY87,InputsBG!$38:$38,0))/$AX87,0)","v":0},0,{"$error":"#DIV/0!"},{"$error":"#DIV/0!"},{"$nulls":13},{"$error":"#VALUE!"}]
["Würzmittelrückstände, Würze-Treber","Résidus de condiments","Wort residues, wort spent grains",null,"Wort residues, wort spent grains",0,0,0,0,null,null,0,0,{"$nulls":4},{"$f":"IF(F88>0,IF(G88/F88/1000<AX88,INDEX(menuesBG!$1:$1048576,Warnung,sprache),\"\"),\"\")","v":""},57.5,null,null,22.5,null,null,2.9930555555555554,2.3277777777777775,3.6583333333333337,13,1.8457175925925919,0.61666666666666647,45.65,50.55,492,376,608,57,{"$f":"AJ88*$AG88/100","v":280.44},0,0,0,0,{"$error":"#N/A"},{"$error":"#N/A"},{"$error":"#N/A"},{"$error":"#DIV/0!"},{"$f":"FaktorenBG!F$43*(1+FaktorenBG!F$56)*IF(Auswahl_Behandlung_fest<5,$F88,0)","v":{"$error":"#N/A"}},{"$f":"FaktorenBG!G$43*(1+FaktorenBG!G$56)*IF(Auswahl_Behandlung_fest<5,$F88,0)","v":{"$error":"#N/A"}},{"$f":"FaktorenBG!H$43*(1+FaktorenBG!H$56)*IF(Auswahl_Behandlung_fest<5,$F88,0)","v":{"$error":"#N/A"}},0,{"$f":"INDEX(InputsBG!$1:$1048576,AX$2,MATCH(Substrates!$AY88,InputsBG!$38:$38,0))","v":{"$error":"#N/A"}},"Rye grains IP, at farm/kg/CH U",{"$f":"IF($G88<0,$G88*INDEX(InputsBG!$1:$1048576,AZ$2,MATCH(Substrates!$AY88,InputsBG!$38:$38,0))/$AX88,0)","v":0},{"$f":"IF($G88<0,$G88*INDEX(InputsBG!$1:$1048576,BA$2,MATCH(Substrates!$AY88,InputsBG!$38:$38,0))/$AX88,0)","v":0},{"$f":"IF($G88<0,$G88*INDEX(InputsBG!$1:$1048576,BB$2,MATCH(Substrates!$AY88,InputsBG!$38:$38,0))/$AX88,0)","v":0},{"$f":"IF($G88<0,$G88*INDEX(InputsBG!$1:$1048576,BC$2,MATCH(Substrates!$AY88,InputsBG!$38:$38,0))/$AX88,0)","v":0},0,{"$error":"#DIV/0!"},{"$error":"#DIV/0!"},{"$nulls":13},"Rye grains IP, at farm"]
["Zichorien-Treber, Cereal-Treber","Marc de chicorée, Marc de céréales","Chicory grains, cereal grains",null,"Chicory grains, cereal grains",0,0,0,0,null,null,{"$f":"F89*S89*V89/10","v":0},{"$f":"F89*S89*V89/10000*AG89","v":0},{"$nulls":4},{"$f":"IF(F89>0,IF(G89/F89/1000<AX89,INDEX(menuesBG!$1:$1048576,Warnung,sprache),\"\"),\"\")","v":""},10,null,null,{"$f":"(W89+X89)/2","v":73.900000000000006},73.900000000000006,73.900000000000006,{"$f":"(Z89+AA89)/2","v":2.9930555555555554},2.3277777777777775,3.6583333333333337,13,{"$f":"AD89*Y89","v":1.8457175925925919},0.61666666666666647,45.65,50.55,{"$f":"(AH89+AI89)/2","v":492},376,608,57,280.44,{"$f":"L89*50%*28.62%*12.5%","v":0},0,0,0,{"$error":"#N/A"},{"$f":"F89*1000*S89/100*Y89/100*AB89/100*NH3emittiert*AnteilNH3Lagerung*(1+NH3plus)*((1+Faktor_NH3_Behandlung)*Anteil_V_fest+(1+FaktorNH3GülleBehandlung)*Anteil_V_flüssig)","v":{"$error":"#N/A"}},{"$error":"#N/A"},{"$f":"F89*(N2O_Gülle*Anteil_V_flüssig*(1+Faktor_N2O_GülleBehandlung)+N2O_Kompost*Anteil_V_fest*(1+Faktor_N2O_Behandlung))","v":{"$error":"#DIV/0!"}},{"$f":"FaktorenBG!F$43*(1+FaktorenBG!F$56)*IF(Auswahl_Behandlung_fest<5,$F89,0)","v":{"$error":"#N/A"}},{"$f":"FaktorenBG!G$43*(1+FaktorenBG!G$56)*IF(Auswahl_Behandlung_fest<5,$F89,0)","v":{"$error":"#N/A"}},{"$f":"FaktorenBG!H$43*(1+FaktorenBG!H$56)*IF(Auswahl_Behandlung_fest<5,$F89,0)","v":{"$error":"#N/A"}},{"$f":"IF(F89>0,G89/F89/1000,0)","v":0},{"$f":"INDEX(InputsBG!$1:$1048576,AX$2,MATCH(Substrates!$AY89,InputsBG!$38:$38,0))","v":{"$error":"#N/A"}},"Rye grains IP, at farm/kg/CH U",{"$f":"IF($G89<0,$G89*INDEX(InputsBG!$1:$1048576,AZ$2,MATCH(Substrates!$AY89,InputsBG!$38:$38,0))/$AX89,0)","v":0},{"$f":"IF($G89<0,$G89*INDEX(InputsBG!$1:$1048576,BA$2,MATCH(Substrates!$AY89,InputsBG!$38:$38,0))/$AX89,0)","v":0},{"$f":"IF($G89<0,$G89*INDEX(InputsBG!$1:$1048576,BB$2,MATCH(Substrates!$AY89,InputsBG!$38:$38,0))/$AX89,0)","v":0},{"$f":"IF($G89<0,$G89*INDEX(InputsBG!$1:$1048576,BC$2,MATCH(Substrates!$AY89,InputsBG!$38:$38,0))/$AX89,0)","v":0},0,{"$error":"#DIV/0!"},{"$error":"#DIV/0!"},{"$nulls":13},"Rye grains IP, at farm"]
["Zuckerrübe","Betteraves sucrières","Sugar beet",null,"Sugar beet",0,0,0,0,null,null,0,0,{"$nulls":4},{"$f":"IF(F90>0,IF(G90/F90/1000<AX90,INDEX(menuesBG!$1:$1048576,Warnung,sprache),\"\"),\"\")","v":""},{"$f":"(T90+U90)/2","v":23},23,23,95,95,95,2.6,2.6,2.6,{"$f":"AVERAGE(0.2)/AVERAGE(2.6)*100","v":7.6923076923076925},1.6900000000000002,0.65,null,null,630,400,860,57,359.1,0,0,0,0,{"$error":"#N/A"},{"$error":"#N/A"},{"$error":"#N/A"},{"$error":"#DIV/0!"},{"$f":"FaktorenBG!F$43*(1+FaktorenBG!F$56)*IF(Auswahl_Behandlung_fest<5,$F90,0)","v":{"$error":"#N/A"}},{"$f":"FaktorenBG!G$43*(1+FaktorenBG!G$56)*IF(Auswahl_Behandlung_fest<5,$F90,0)","v":{"$error":"#N/A"}},{"$f":"FaktorenBG!H$43*(1+FaktorenBG!H$56)*IF(Auswahl_Behandlung_fest<5,$F90,0)","v":{"$error":"#N/A"}},0,{"$f":"INDEX(InputsBG!$1:$1048576,AX$2,MATCH(Substrates!$AY90,InputsBG!$38:$38,0))","v":{"$error":"#N/A"}},"sugar beets IP, at farm/kg/CH U",{"$f":"IF($G90<0,$G90*INDEX(InputsBG!$1:$1048576,AZ$2,MATCH(Substrates!$AY90,InputsBG!$38:$38,0))/$AX90,0)","v":0},{"$f":"IF($G90<0,$G90*INDEX(InputsBG!$1:$1048576,BA$2,MATCH(Substrates!$AY90,InputsBG!$38:$38,0))/$AX90,0)","v":0},{"$f":"IF($G90<0,$G90*INDEX(InputsBG!$1:$1048576,BB$2,MATCH(Substrates!$AY90,InputsBG!$38:$38,0))/$AX90,0)","v":0},{"$f":"IF($G90<0,$G90*INDEX(InputsBG!$1:$1048576,BC$2,MATCH(Substrates!$AY90,InputsBG!$38:$38,0))/$AX90,0)","v":0},0,{"$error":"#DIV/0!"},{"$error":"#DIV/0!"},{"$nulls":13},{"$f":"LEFT(AY90,FIND(\"/\",AY90)-1)","v":"sugar beets IP, at farm"}]
[]
["Zwischenfrüchte ohne Konkurrenz zu Nahrungs- und Futtermitteln","Les cultures intercalaires ne sont pas en concurrence avec les denrées alimentaires et les aliments pour animaux","Intercrops not competing with food and feed",null,{"$f":"IF(sprache=1,A92,IF(sprache=2,B92,C92))","v":"Intercrops not competing with food and feed"},"t/a",{"$f":"Währung&\"/a\"","v":{"$error":"#N/A"}},"km","km",null,null,"kg","m3 Biogas/a",{"$nulls":43},{"$error":"#VALUE!"},{"$error":"#DIV/0!"}]
["Grünroggen","Seigle vert ","Green rye",null,{"$f":"IF(sprache=1,A93,IF(sprache=2,B93,C93))","v":"Green rye"},0,null,0,0,null,null,{"$f":"F93*S93*V93/10","v":0},{"$f":"F93*S93*V93/10000*AG93","v":0},{"$nulls":5},{"$f":"(T93+U93)/2","v":32.5},30,35,{"$f":"(W93+X93)/2","v":95},92,98,{"$f":"(Z93+AA93)/2","v":4},4,4,{"$f":"AVERAGE(0.47)/AVERAGE(4)*100","v":11.75},{"$f":"AD93*Y93","v":2.8},0.7,null,null,{"$f":"(AH93+AI93)/2","v":615},550,680,52,{"$f":"AJ93*$AG93/100","v":319.8},{"$f":"L93*50%*28.62%*12.5%","v":0},null,null,null,{"$f":"$M93*CH4_Gehalt*CH4_nichtabgedeckt*(1+Faktor_CH4_flüssig)*GärrestFlüssigMenge/(GärrestFestMenge+GärrestFlüssigMenge)","v":{"$error":"#N/A"}},{"$f":"F93*1000*S93/100*Y93/100*AB93/100*NH3emittiert*AnteilNH3Lagerung*(1+NH3plus)*((1+Faktor_NH3_Behandlung)*Anteil_V_fest+(1+FaktorNH3GülleBehandlung)*Anteil_V_flüssig)","v":{"$error":"#N/A"}},{"$f":"IF(AR$137,F93*1000*S93/100*Y93/100*AB93/100*NH3emittiert*AR$2*(1+NH3plusAusbringung)*((1+Faktor_NH3fest_aus)*Anteil_V_fest+(1+Faktor_NH3_Ausbringung)*Anteil_V_flüssig),0)","v":{"$error":"#N/A"}},{"$f":"F93*(N2O_Gülle*Anteil_V_flüssig*(1+Faktor_N2O_GülleBehandlung)+N2O_Kompost*Anteil_V_fest*(1+Faktor_N2O_Behandlung))","v":{"$error":"#DIV/0!"}},{"$f":"FaktorenBG!F$43*(1+FaktorenBG!F$56)*IF(Auswahl_Behandlung_fest<5,$F93,0)","v":{"$error":"#N/A"}},{"$f":"FaktorenBG!G$43*(1+FaktorenBG!G$56)*IF(Auswahl_Behandlung_fest<5,$F93,0)","v":{"$error":"#N/A"}},{"$f":"FaktorenBG!H$43*(1+FaktorenBG!H$56)*IF(Auswahl_Behandlung_fest<5,$F93,0)","v":{"$error":"#N/A"}},null,null,"green rye conventional, at farm/kg/RER U",{"$f":"INDEX(SimaPro!$1:$1048576,AZ$1,MATCH(Substrates!$AY93,SimaPro!$1:$1,0))*$F93*1000","v":0},{"$f":"INDEX(SimaPro!$1:$1048576,BA$1,MATCH(Substrates!$AY93,SimaPro!$1:$1,0))*$F93*1000","v":0},{"$f":"INDEX(SimaPro!$1:$1048576,BB$1,MATCH(Substrates!$AY93,SimaPro!$1:$1,0))*$F93*1000","v":0},{"$f":"INDEX(SimaPro!$1:$1048576,BC$1,MATCH(Substrates!$AY93,SimaPro!$1:$1,0))*$F93*1000","v":0},"x",{"$f":"M93/Gasertrag_berechnet","v":{"$error":"#DIV/0!"}},{"$f":"AZ93/Belastung_Substrat","v":{"$error":"#DIV/0!"}}]
["Kleegras","Herbe et Trèfle","Clover grass",null,{"$f":"IF(sprache=1,A94,IF(sprache=2,B94,C94))","v":"Clover grass"},0,null,0,0,null,null,0,0,{"$nulls":5},{"$f":"(T94+U94)/2","v":42.5},25,60,{"$f":"(W94+X94)/2","v":82.5},69,96,{"$f":"(Z94+AA94)/2","v":5.2},3.5,6.9,{"$f":"AVERAGE(3.5,6.9)/AVERAGE(6.9,19.8)*100","v":38.951310861423217},{"$f":"AD94*Y94","v":3.6399999999999997},0.7,6.9,19.8,{"$f":"(AH94+AI94)/2","v":565},520,610,52,{"$f":"AJ94*$AG94/100","v":293.8},0,null,null,null,{"$f":"$M94*CH4_Gehalt*CH4_nichtabgedeckt*(1+Faktor_CH4_flüssig)*GärrestFlüssigMenge/(GärrestFestMenge+GärrestFlüssigMenge)","v":{"$error":"#N/A"}},{"$error":"#N/A"},{"$f":"IF(AR$137,F94*1000*S94/100*Y94/100*AB94/100*NH3emittiert*AR$2*(1+NH3plusAusbringung)*((1+Faktor_NH3fest_aus)*Anteil_V_fest+(1+Faktor_NH3_Ausbringung)*Anteil_V_flüssig),0)","v":{"$error":"#N/A"}},{"$error":"#DIV/0!"},{"$f":"FaktorenBG!F$43*(1+FaktorenBG!F$56)*IF(Auswahl_Behandlung_fest<5,$F94,0)","v":{"$error":"#N/A"}},{"$f":"FaktorenBG!G$43*(1+FaktorenBG!G$56)*IF(Auswahl_Behandlung_fest<5,$F94,0)","v":{"$error":"#N/A"}},{"$f":"FaktorenBG!H$43*(1+FaktorenBG!H$56)*IF(Auswahl_Behandlung_fest<5,$F94,0)","v":{"$error":"#N/A"}},null,null,"Grass silage IP, at farm/kg/CH U",{"$f":"INDEX(SimaPro!$1:$1048576,AZ$1,MATCH(Substrates!$AY94,SimaPro!$1:$1,0))*$F94*1000","v":0},{"$f":"INDEX(SimaPro!$1:$1048576,BA$1,MATCH(Substrates!$AY94,SimaPro!$1:$1,0))*$F94*1000","v":0},{"$f":"INDEX(SimaPro!$1:$1048576,BB$1,MATCH(Substrates!$AY94,SimaPro!$1:$1,0))*$F94*1000","v":0},{"$f":"INDEX(SimaPro!$1:$1048576,BC$1,MATCH(Substrates!$AY94,SimaPro!$1:$1,0))*$F94*1000","v":0},"x",{"$f":"M94/Gasertrag_berechnet","v":{"$error":"#DIV/0!"}},{"$f":"AZ94/Belastung_Substrat","v":{"$error":"#DIV/0!"}}]
["Gras IP","Herbe IP","Grass IP",null,{"$f":"IF(sprache=1,A95,IF(sprache=2,B95,C95))","v":"Grass IP"},0,null,0,0,null,null,{"$f":"F95*S95*V95/10","v":0},{"$f":"F95*S95*V95/10000*AG95","v":0},{"$nulls":5},{"$f":"(T95+U95)/2","v":42.5},25,60,{"$f":"(W95+X95)/2","v":82.5},69,96,{"$f":"(Z95+AA95)/2","v":5.2},3.5,6.9,{"$f":"AVERAGE(3.5,6.9)/AVERAGE(6.9,19.8)*100","v":38.951310861423217},{"$f":"AD95*Y95","v":3.6399999999999997},0.7,6.9,19.8,{"$f":"(AH95+AI95)/2","v":565},520,610,52,{"$f":"AJ95*$AG95/100","v":293.8},{"$f":"L95*50%*28.62%*12.5%","v":0},null,null,null,{"$f":"$M95*CH4_Gehalt*CH4_nichtabgedeckt*(1+Faktor_CH4_flüssig)*GärrestFlüssigMenge/(GärrestFestMenge+GärrestFlüssigMenge)","v":{"$error":"#N/A"}},{"$f":"F95*1000*S95/100*Y95/100*AB95/100*NH3emittiert*AnteilNH3Lagerung*(1+NH3plus)*((1+Faktor_NH3_Behandlung)*Anteil_V_fest+(1+FaktorNH3GülleBehandlung)*Anteil_V_flüssig)","v":{"$error":"#N/A"}},{"$f":"IF(AR$137,F95*1000*S95/100*Y95/100*AB95/100*NH3emittiert*AR$2*(1+NH3plusAusbringung)*((1+Faktor_NH3fest_aus)*Anteil_V_fest+(1+Faktor_NH3_Ausbringung)*Anteil_V_flüssig),0)","v":{"$error":"#N/A"}},{"$f":"F95*(N2O_Gülle*Anteil_V_flüssig*(1+Faktor_N2O_GülleBehandlung)+N2O_Kompost*Anteil_V_fest*(1+Faktor_N2O_Behandlung))","v":{"$error":"#DIV/0!"}},{"$f":"FaktorenBG!F$43*(1+FaktorenBG!F$56)*IF(Auswahl_Behandlung_fest<5,$F95,0)","v":{"$error":"#N/A"}},{"$f":"FaktorenBG!G$43*(1+FaktorenBG!G$56)*IF(Auswahl_Behandlung_fest<5,$F95,0)","v":{"$error":"#N/A"}},{"$f":"FaktorenBG!H$43*(1+FaktorenBG!H$56)*IF(Auswahl_Behandlung_fest<5,$F95,0)","v":{"$error":"#N/A"}},null,null,"Grass silage IP, at farm/kg/CH U",{"$f":"INDEX(SimaPro!$1:$1048576,AZ$1,MATCH(Substrates!$AY95,SimaPro!$1:$1,0))*$F95*1000","v":0},{"$f":"INDEX(SimaPro!$1:$1048576,BA$1,MATCH(Substrates!$AY95,SimaPro!$1:$1,0))*$F95*1000","v":0},{"$f":"INDEX(SimaPro!$1:$1048576,BB$1,MATCH(Substrates!$AY95,SimaPro!$1:$1,0))*$F95*1000","v":0},{"$f":"INDEX(SimaPro!$1:$1048576,BC$1,MATCH(Substrates!$AY95,SimaPro!$1:$1,0))*$F95*1000","v":0},"x",{"$f":"M95/Gasertrag_berechnet","v":{"$error":"#DIV/0!"}},{"$f":"AZ95/Belastung_Substrat","v":{"$error":"#DIV/0!"}}]
["Gras Bio","Herbe biologique","Grass Organic",null,{"$f":"IF(sprache=1,A96,IF(sprache=2,B96,C96))","v":"Grass Organic"},0,null,0,0,null,null,0,0,{"$nulls":5},42.5,25,60,82.5,69,96,5.2,3.5,6.9,38.951310861423217,3.6399999999999997,0.7,6.9,19.8,565,520,610,52,{"$f":"AJ96*$AG96/100","v":293.8},0,null,null,null,{"$f":"$M96*CH4_Gehalt*CH4_nichtabgedeckt*(1+Faktor_CH4_flüssig)*GärrestFlüssigMenge/(GärrestFestMenge+GärrestFlüssigMenge)","v":{"$error":"#N/A"}},{"$error":"#N/A"},{"$f":"IF(AR$137,F96*1000*S96/100*Y96/100*AB96/100*NH3emittiert*AR$2*(1+NH3plusAusbringung)*((1+Faktor_NH3fest_aus)*Anteil_V_fest+(1+Faktor_NH3_Ausbringung)*Anteil_V_flüssig),0)","v":{"$error":"#N/A"}},{"$error":"#DIV/0!"},{"$f":"FaktorenBG!F$43*(1+FaktorenBG!F$56)*IF(Auswahl_Behandlung_fest<5,$F96,0)","v":{"$error":"#N/A"}},{"$f":"FaktorenBG!G$43*(1+FaktorenBG!G$56)*IF(Auswahl_Behandlung_fest<5,$F96,0)","v":{"$error":"#N/A"}},{"$f":"FaktorenBG!H$43*(1+FaktorenBG!H$56)*IF(Auswahl_Behandlung_fest<5,$F96,0)","v":{"$error":"#N/A"}},null,null,"grass silage organic, at farm/kg/CH U",{"$f":"INDEX(SimaPro!$1:$1048576,AZ$1,MATCH(Substrates!$AY96,SimaPro!$1:$1,0))*$F96*1000","v":0},{"$f":"INDEX(SimaPro!$1:$1048576,BA$1,MATCH(Substrates!$AY96,SimaPro!$1:$1,0))*$F96*1000","v":0},{"$f":"INDEX(SimaPro!$1:$1048576,BB$1,MATCH(Substrates!$AY96,SimaPro!$1:$1,0))*$F96*1000","v":0},{"$f":"INDEX(SimaPro!$1:$1048576,BC$1,MATCH(Substrates!$AY96,SimaPro!$1:$1,0))*$F96*1000","v":0},"x",{"$f":"M96/Gasertrag_berechnet","v":{"$error":"#DIV/0!"}},{"$f":"AZ96/Belastung_Substrat","v":{"$error":"#DIV/0!"}}]
["Wiese extensiv","Pré agriculture extensive","Extensive meadow",null,{"$f":"IF(sprache=1,A97,IF(sprache=2,B97,C97))","v":"Extensive meadow"},0,null,0,0,null,null,0,0,{"$nulls":5},{"$f":"(T97+U97)/2","v":42.5},25,60,{"$f":"(W97+X97)/2","v":82.5},69,96,{"$f":"(Z97+AA97)/2","v":5.2},3.5,6.9,{"$f":"AVERAGE(3.5,6.9)/AVERAGE(6.9,19.8)*100","v":38.951310861423217},{"$f":"AD97*Y97","v":3.6399999999999997},0.7,6.9,19.8,{"$f":"(AH97+AI97)/2","v":565},520,610,54,{"$f":"AJ97*$AG97/100","v":305.10000000000002},0,null,null,null,{"$f":"$M97*CH4_Gehalt*CH4_nichtabgedeckt*(1+Faktor_CH4_flüssig)*GärrestFlüssigMenge/(GärrestFestMenge+GärrestFlüssigMenge)","v":{"$error":"#N/A"}},{"$error":"#N/A"},{"$f":"IF(AR$137,F97*1000*S97/100*Y97/100*AB97/100*NH3emittiert*AR$2*(1+NH3plusAusbringung)*((1+Faktor_NH3fest_aus)*Anteil_V_fest+(1+Faktor_NH3_Ausbringung)*Anteil_V_flüssig),0)","v":{"$error":"#N/A"}},{"$error":"#DIV/0!"},{"$f":"FaktorenBG!F$43*(1+FaktorenBG!F$56)*IF(Auswahl_Behandlung_fest<5,$F97,0)","v":{"$error":"#N/A"}},{"$f":"FaktorenBG!G$43*(1+FaktorenBG!G$56)*IF(Auswahl_Behandlung_fest<5,$F97,0)","v":{"$error":"#N/A"}},{"$f":"FaktorenBG!H$43*(1+FaktorenBG!H$56)*IF(Auswahl_Behandlung_fest<5,$F97,0)","v":{"$error":"#N/A"}},null,null,"Grass from natural meadow intensive IP, at field/kg/CH U",{"$f":"INDEX(SimaPro!$1:$1048576,AZ$1,MATCH(Substrates!$AY97,SimaPro!$1:$1,0))*$F97*1000","v":0},{"$f":"INDEX(SimaPro!$1:$1048576,BA$1,MATCH(Substrates!$AY97,SimaPro!$1:$1,0))*$F97*1000","v":0},{"$f":"INDEX(SimaPro!$1:$1048576,BB$1,MATCH(Substrates!$AY97,SimaPro!$1:$1,0))*$F97*1000","v":0},{"$f":"INDEX(SimaPro!$1:$1048576,BC$1,MATCH(Substrates!$AY97,SimaPro!$1:$1,0))*$F97*1000","v":0},"x",{"$f":"M97/Gasertrag_berechnet","v":{"$error":"#DIV/0!"}},{"$f":"AZ97/Belastung_Substrat","v":{"$error":"#DIV/0!"}}]
[]
["Glycerin","Glycérine","Glycerine",null,"Glycerine","t/a",{"$f":"Währung&\"/a\"","v":{"$error":"#N/A"}},"km","km",null,null,"kg","m3 Biogas/a",{"$nulls":42},"x",{"$f":"M99/Gasertrag_berechnet","v":{"$error":"#VALUE!"}},{"$f":"AZ99/Belastung_Substrat","v":{"$error":"#DIV/0!"}}]
["Glycerin aus tierischen Fetten","Glycérine provenant de graisses animales","Glycerine from animal fats",null,"Glycerine from animal fats",0,null,0,0,null,null,{"$f":"F100*S100*V100/10","v":0},{"$f":"F100*S100*V100/10000*AG100","v":0},{"$nulls":4},{"$f":"IF(F100>0,IF(G100/F100/1000<AX100,INDEX(menuesBG!$1:$1048576,Warnung,sprache),\"\"),\"\")","v":""},{"$f":"(T100+U100)/2","v":62.5},62.5,62.5,{"$f":"(W100+X100)/2","v":100},100,100,{"$f":"(Z100+AA100)/2","v":0},0,0,13,{"$f":"AD100*Y100","v":0},0.7,85,85,{"$f":"(AH100+AI100)/2","v":1160},{"$f":"1/S100/V100*10000*550","v":880},{"$f":"1/S100/V100*10000*900","v":1440},51,{"$f":"AJ100*$AG100/100","v":591.6},{"$f":"L100*50%*28.62%*12.5%","v":0},0,0,0,{"$f":"$M100*CH4_Gehalt*CH4_nichtabgedeckt*(1+Faktor_CH4_flüssig)*GärrestFlüssigMenge/(GärrestFestMenge+GärrestFlüssigMenge)","v":{"$error":"#N/A"}},{"$f":"F100*1000*S100/100*Y100/100*AB100/100*NH3emittiert*AnteilNH3Lagerung*(1+NH3plus)*((1+Faktor_NH3_Behandlung)*Anteil_V_fest+(1+FaktorNH3GülleBehandlung)*Anteil_V_flüssig)","v":{"$error":"#N/A"}},{"$f":"IF(AR$137,F100*1000*S100/100*Y100/100*AB100/100*NH3emittiert*AR$2*(1+NH3plusAusbringung)*((1+Faktor_NH3fest_aus)*Anteil_V_fest+(1+Faktor_NH3_Ausbringung)*Anteil_V_flüssig),0)","v":{"$error":"#N/A"}},{"$f":"F100*(N2O_Gülle*Anteil_V_flüssig*(1+Faktor_N2O_GülleBehandlung)+N2O_Kompost*Anteil_V_fest*(1+Faktor_N2O_Behandlung))","v":{"$error":"#DIV/0!"}},{"$f":"FaktorenBG!F$43*(1+FaktorenBG!F$56)*IF(Auswahl_Behandlung_fest<5,$F100,0)","v":{"$error":"#N/A"}},{"$f":"FaktorenBG!G$43*(1+FaktorenBG!G$56)*IF(Auswahl_Behandlung_fest<5,$F100,0)","v":{"$error":"#N/A"}},{"$f":"FaktorenBG!H$43*(1+FaktorenBG!H$56)*IF(Auswahl_Behandlung_fest<5,$F100,0)","v":{"$error":"#N/A"}},null,null,"glycerine, from animal fat, at esterification plant/kg/RER U",{"$f":"INDEX(SimaPro!$1:$1048576,AZ$1,MATCH(Substrates!$AY100,SimaPro!$1:$1,0))*$F100*1000","v":0},{"$f":"INDEX(SimaPro!$1:$1048576,BA$1,MATCH(Substrates!$AY100,SimaPro!$1:$1,0))*$F100*1000","v":0},{"$f":"INDEX(SimaPro!$1:$1048576,BB$1,MATCH(Substrates!$AY100,SimaPro!$1:$1,0))*$F100*1000","v":0},{"$f":"INDEX(SimaPro!$1:$1048576,BC$1,MATCH(Substrates!$AY100,SimaPro!$1:$1,0))*$F100*1000","v":0},"x",{"$error":"#DIV/0!"},{"$error":"#DIV/0!"}]
["Glycerin aus Altpflanzenöl","Glycérine provenant de déchets d'huile végétale","Glycerine from waste vegetable oil",null,"Glycerine from waste vegetable oil",0,null,0,0,null,null,0,0,{"$nulls":4},{"$f":"IF(F101>0,IF(G101/F101/1000<AX101,INDEX(menuesBG!$1:$1048576,Warnung,sprache),\"\"),\"\")","v":""},62.5,62.5,62.5,100,100,100,0,0,0,13,0,0.7,85,85,1344,{"$f":"1/S101/V101*10000*700","v":1120},{"$f":"1/S101/V101*10000*980","v":1568},51,685.44,0,0,0,0,{"$f":"$M101*CH4_Gehalt*CH4_nichtabgedeckt*(1+Faktor_CH4_flüssig)*GärrestFlüssigMenge/(GärrestFestMenge+GärrestFlüssigMenge)","v":{"$error":"#N/A"}},{"$f":"F101*1000*S101/100*Y101/100*AB101/100*NH3emittiert*AnteilNH3Lagerung*(1+NH3plus)*((1+Faktor_NH3_Behandlung)*Anteil_V_fest+(1+FaktorNH3GülleBehandlung)*Anteil_V_flüssig)","v":{"$error":"#N/A"}},{"$f":"IF(AR$137,F101*1000*S101/100*Y101/100*AB101/100*NH3emittiert*AR$2*(1+NH3plusAusbringung)*((1+Faktor_NH3fest_aus)*Anteil_V_fest+(1+Faktor_NH3_Ausbringung)*Anteil_V_flüssig),0)","v":{"$error":"#N/A"}},{"$f":"F101*(N2O_Gülle*Anteil_V_flüssig*(1+Faktor_N2O_GülleBehandlung)+N2O_Kompost*Anteil_V_fest*(1+Faktor_N2O_Behandlung))","v":{"$error":"#DIV/0!"}},{"$f":"FaktorenBG!F$43*(1+FaktorenBG!F$56)*IF(Auswahl_Behandlung_fest<5,$F101,0)","v":{"$error":"#N/A"}},{"$f":"FaktorenBG!G$43*(1+FaktorenBG!G$56)*IF(Auswahl_Behandlung_fest<5,$F101,0)","v":{"$error":"#N/A"}},{"$f":"FaktorenBG!H$43*(1+FaktorenBG!H$56)*IF(Auswahl_Behandlung_fest<5,$F101,0)","v":{"$error":"#N/A"}},null,null,"glycerine, from vegetable oil, at esterification plant/kg/RER U",{"$f":"INDEX(SimaPro!$1:$1048576,AZ$1,MATCH(Substrates!$AY101,SimaPro!$1:$1,0))*$F101*1000","v":0},{"$f":"INDEX(SimaPro!$1:$1048576,BA$1,MATCH(Substrates!$AY101,SimaPro!$1:$1,0))*$F101*1000","v":0},{"$f":"INDEX(SimaPro!$1:$1048576,BB$1,MATCH(Substrates!$AY101,SimaPro!$1:$1,0))*$F101*1000","v":0},{"$f":"INDEX(SimaPro!$1:$1048576,BC$1,MATCH(Substrates!$AY101,SimaPro!$1:$1,0))*$F101*1000","v":0},"x",{"$error":"#DIV/0!"},{"$error":"#DIV/0!"}]
["Glycerin aus Rapsöl","Glycérine de l'huile de colza","Glycerine from rapeseed oil",null,"Glycerine from rapeseed oil",0,null,0,0,null,null,{"$f":"F102*S102*V102/10","v":0},{"$f":"F102*S102*V102/10000*AG102","v":0},{"$nulls":4},{"$f":"IF(F102>0,IF(G102/F102/1000<AX102,INDEX(menuesBG!$1:$1048576,Warnung,sprache),\"\"),\"\")","v":""},{"$f":"(T102+U102)/2","v":62.5},62.5,62.5,{"$f":"(W102+X102)/2","v":100},100,100,{"$f":"(Z102+AA102)/2","v":0},0,0,13,{"$f":"AD102*Y102","v":0},0.7,85,85,{"$f":"(AH102+AI102)/2","v":1252},{"$f":"AVERAGE(AH$100:AH$101)","v":1000},{"$f":"AVERAGE(AI$100:AI$101)","v":1504},51,{"$f":"AJ102*$AG102/100","v":638.52},{"$f":"L102*50%*28.62%*12.5%","v":0},0,0,0,{"$f":"$M102*CH4_Gehalt*CH4_nichtabgedeckt*(1+Faktor_CH4_flüssig)*GärrestFlüssigMenge/(GärrestFestMenge+GärrestFlüssigMenge)","v":{"$error":"#N/A"}},{"$f":"F102*1000*S102/100*Y102/100*AB102/100*NH3emittiert*AnteilNH3Lagerung*(1+NH3plus)*((1+Faktor_NH3_Behandlung)*Anteil_V_fest+(1+FaktorNH3GülleBehandlung)*Anteil_V_flüssig)","v":{"$error":"#N/A"}},{"$f":"IF(AR$137,F102*1000*S102/100*Y102/100*AB102/100*NH3emittiert*AR$2*(1+NH3plusAusbringung)*((1+Faktor_NH3fest_aus)*Anteil_V_fest+(1+Faktor_NH3_Ausbringung)*Anteil_V_flüssig),0)","v":{"$error":"#N/A"}},{"$f":"F102*(N2O_Gülle*Anteil_V_flüssig*(1+Faktor_N2O_GülleBehandlung)+N2O_Kompost*Anteil_V_fest*(1+Faktor_N2O_Behandlung))","v":{"$error":"#DIV/0!"}},{"$f":"FaktorenBG!F$43*(1+FaktorenBG!F$56)*IF(Auswahl_Behandlung_fest<5,$F102,0)","v":{"$error":"#N/A"}},{"$f":"FaktorenBG!G$43*(1+FaktorenBG!G$56)*IF(Auswahl_Behandlung_fest<5,$F102,0)","v":{"$error":"#N/A"}},{"$f":"FaktorenBG!H$43*(1+FaktorenBG!H$56)*IF(Auswahl_Behandlung_fest<5,$F102,0)","v":{"$error":"#N/A"}},null,null,"glycerine, from rape oil, at esterification plant/kg/RER U",{"$f":"INDEX(SimaPro!$1:$1048576,AZ$1,MATCH(Substrates!$AY102,SimaPro!$1:$1,0))*$F102*1000","v":0},{"$f":"INDEX(SimaPro!$1:$1048576,BA$1,MATCH(Substrates!$AY102,SimaPro!$1:$1,0))*$F102*1000","v":0},{"$f":"INDEX(SimaPro!$1:$1048576,BB$1,MATCH(Substrates!$AY102,SimaPro!$1:$1,0))*$F102*1000","v":0},{"$f":"INDEX(SimaPro!$1:$1048576,BC$1,MATCH(Substrates!$AY102,SimaPro!$1:$1,0))*$F102*1000","v":0},"x",{"$f":"M102/Gasertrag_berechnet","v":{"$error":"#DIV/0!"}},{"$f":"AZ102/Belastung_Substrat","v":{"$error":"#DIV/0!"}}]
["Glycerin aus Sojaöl","Glycérine de l'huile de soja","Glycerine from soybean oil",null,"Glycerine from soybean oil",0,null,0,0,null,null,{"$f":"F103*S103*V103/10","v":0},{"$f":"F103*S103*V103/10000*AG103","v":0},{"$nulls":4},{"$f":"IF(F103>0,IF(G103/F103/1000<AX103,INDEX(menuesBG!$1:$1048576,Warnung,sprache),\"\"),\"\")","v":""},{"$f":"(T103+U103)/2","v":62.5},62.5,62.5,{"$f":"(W103+X103)/2","v":100},100,100,{"$f":"(Z103+AA103)/2","v":0},0,0,13,{"$f":"AD103*Y103","v":0},0.7,85,85,{"$f":"(AH103+AI103)/2","v":1252},{"$f":"AVERAGE(AH$100:AH$101)","v":1000},1504,51,{"$f":"AJ103*$AG103/100","v":638.52},{"$f":"L103*50%*28.62%*12.5%","v":0},0,0,0,{"$f":"$M103*CH4_Gehalt*CH4_nichtabgedeckt*(1+Faktor_CH4_flüssig)*GärrestFlüssigMenge/(GärrestFestMenge+GärrestFlüssigMenge)","v":{"$error":"#N/A"}},{"$f":"F103*1000*S103/100*Y103/100*AB103/100*NH3emittiert*AnteilNH3Lagerung*(1+NH3plus)*((1+Faktor_NH3_Behandlung)*Anteil_V_fest+(1+FaktorNH3GülleBehandlung)*Anteil_V_flüssig)","v":{"$error":"#N/A"}},{"$f":"IF(AR$137,F103*1000*S103/100*Y103/100*AB103/100*NH3emittiert*AR$2*(1+NH3plusAusbringung)*((1+Faktor_NH3fest_aus)*Anteil_V_fest+(1+Faktor_NH3_Ausbringung)*Anteil_V_flüssig),0)","v":{"$error":"#N/A"}},{"$f":"F103*(N2O_Gülle*Anteil_V_flüssig*(1+Faktor_N2O_GülleBehandlung)+N2O_Kompost*Anteil_V_fest*(1+Faktor_N2O_Behandlung))","v":{"$error":"#DIV/0!"}},{"$f":"FaktorenBG!F$43*(1+FaktorenBG!F$56)*IF(Auswahl_Behandlung_fest<5,$F103,0)","v":{"$error":"#N/A"}},{"$f":"FaktorenBG!G$43*(1+FaktorenBG!G$56)*IF(Auswahl_Behandlung_fest<5,$F103,0)","v":{"$error":"#N/A"}},{"$f":"FaktorenBG!H$43*(1+FaktorenBG!H$56)*IF(Auswahl_Behandlung_fest<5,$F103,0)","v":{"$error":"#N/A"}},null,null,"glycerine, from soybean oil, at esterification plant/kg/RER U",{"$f":"INDEX(SimaPro!$1:$1048576,AZ$1,MATCH(Substrates!$AY103,SimaPro!$1:$1,0))*$F103*1000","v":0},{"$f":"INDEX(SimaPro!$1:$1048576,BA$1,MATCH(Substrates!$AY103,SimaPro!$1:$1,0))*$F103*1000","v":0},{"$f":"INDEX(SimaPro!$1:$1048576,BB$1,MATCH(Substrates!$AY103,SimaPro!$1:$1,0))*$F103*1000","v":0},{"$f":"INDEX(SimaPro!$1:$1048576,BC$1,MATCH(Substrates!$AY103,SimaPro!$1:$1,0))*$F103*1000","v":0},"x",{"$f":"M103/Gasertrag_berechnet","v":{"$error":"#DIV/0!"}},{"$f":"AZ103/Belastung_Substrat","v":{"$error":"#DIV/0!"}}]
["Glycerin aus Palmöl","Glycérine de l'huile de palme","Glycerine from palm oil",null,"Glycerine from palm oil",0,null,0,0,null,null,0,0,{"$nulls":4},{"$f":"IF(F104>0,IF(G104/F104/1000<AX104,INDEX(menuesBG!$1:$1048576,Warnung,sprache),\"\"),\"\")","v":""},62.5,62.5,62.5,100,100,100,0,0,0,13,0,0.7,85,85,1252,1000,1504,51,638.52,0,0,0,0,{"$f":"$M104*CH4_Gehalt*CH4_nichtabgedeckt*(1+Faktor_CH4_flüssig)*GärrestFlüssigMenge/(GärrestFestMenge+GärrestFlüssigMenge)","v":{"$error":"#N/A"}},{"$f":"F104*1000*S104/100*Y104/100*AB104/100*NH3emittiert*AnteilNH3Lagerung*(1+NH3plus)*((1+Faktor_NH3_Behandlung)*Anteil_V_fest+(1+FaktorNH3GülleBehandlung)*Anteil_V_flüssig)","v":{"$error":"#N/A"}},{"$f":"IF(AR$137,F104*1000*S104/100*Y104/100*AB104/100*NH3emittiert*AR$2*(1+NH3plusAusbringung)*((1+Faktor_NH3fest_aus)*Anteil_V_fest+(1+Faktor_NH3_Ausbringung)*Anteil_V_flüssig),0)","v":{"$error":"#N/A"}},{"$f":"F104*(N2O_Gülle*Anteil_V_flüssig*(1+Faktor_N2O_GülleBehandlung)+N2O_Kompost*Anteil_V_fest*(1+Faktor_N2O_Behandlung))","v":{"$error":"#DIV/0!"}},{"$f":"FaktorenBG!F$43*(1+FaktorenBG!F$56)*IF(Auswahl_Behandlung_fest<5,$F104,0)","v":{"$error":"#N/A"}},{"$f":"FaktorenBG!G$43*(1+FaktorenBG!G$56)*IF(Auswahl_Behandlung_fest<5,$F104,0)","v":{"$error":"#N/A"}},{"$f":"FaktorenBG!H$43*(1+FaktorenBG!H$56)*IF(Auswahl_Behandlung_fest<5,$F104,0)","v":{"$error":"#N/A"}},null,null,"glycerine, from palm oil, at esterification plant/kg/RER U",{"$f":"INDEX(SimaPro!$1:$1048576,AZ$1,MATCH(Substrates!$AY104,SimaPro!$1:$1,0))*$F104*1000","v":0},{"$f":"INDEX(SimaPro!$1:$1048576,BA$1,MATCH(Substrates!$AY104,SimaPro!$1:$1,0))*$F104*1000","v":0},{"$f":"INDEX(SimaPro!$1:$1048576,BB$1,MATCH(Substrates!$AY104,SimaPro!$1:$1,0))*$F104*1000","v":0},{"$f":"INDEX(SimaPro!$1:$1048576,BC$1,MATCH(Substrates!$AY104,SimaPro!$1:$1,0))*$F104*1000","v":0},"x",{"$f":"M104/Gasertrag_berechnet","v":{"$error":"#DIV/0!"}},{"$f":"AZ104/Belastung_Substrat","v":{"$error":"#DIV/0!"}}]
[]
["Energiepflanzen-Silage","Ensilage de plantes énergétiques","Energy crop silage",null,"Energy crop silage","t/a",{"$f":"Währung&\"/a\"","v":{"$error":"#N/A"}},"km","km",null,null,"kg","m3 Biogas/a",{"$nulls":42},"x",{"$error":"#VALUE!"},{"$error":"#DIV/0!"}]
["Mais","Ensilage de maïs","Maize",null,"Maize",0,null,0,0,null,null,{"$f":"F107*S107*V107/10","v":0},{"$f":"F107*S107*V107/10000*AG107","v":0},{"$nulls":5},{"$f":"(T107+U107)/2","v":30},25,35,{"$f":"(W107+X107)/2","v":91},86,96,{"$f":"(Z107+AA107)/2","v":1.55},1.1000000000000001,2,{"$f":"AVERAGE(0.15,0.3)/AVERAGE(1.1,2)*100","v":14.516129032258062},{"$f":"AD107*Y107","v":1.0075000000000001},0.65,null,null,{"$f":"(AH107+AI107)/2","v":610},520,700,52,{"$f":"AJ107*$AG107/100","v":317.2},{"$f":"L107*50%*28.62%*12.5%","v":0},null,null,null,{"$f":"$M107*CH4_Gehalt*CH4_nichtabgedeckt*(1+Faktor_CH4_flüssig)*GärrestFlüssigMenge/(GärrestFestMenge+GärrestFlüssigMenge)","v":{"$error":"#N/A"}},{"$f":"F107*1000*S107/100*Y107/100*AB107/100*NH3emittiert*AnteilNH3Lagerung*(1+NH3plus)*((1+Faktor_NH3_Behandlung)*Anteil_V_fest+(1+FaktorNH3GülleBehandlung)*Anteil_V_flüssig)","v":{"$error":"#N/A"}},{"$f":"IF(AR$137,F107*1000*S107/100*Y107/100*AB107/100*NH3emittiert*AR$2*(1+NH3plusAusbringung)*((1+Faktor_NH3fest_aus)*Anteil_V_fest+(1+Faktor_NH3_Ausbringung)*Anteil_V_flüssig),0)","v":{"$error":"#N/A"}},{"$f":"F107*(N2O_Gülle*Anteil_V_flüssig*(1+Faktor_N2O_GülleBehandlung)+N2O_Kompost*Anteil_V_fest*(1+Faktor_N2O_Behandlung))","v":{"$error":"#DIV/0!"}},{"$f":"FaktorenBG!F$43*(1+FaktorenBG!F$56)*IF(Auswahl_Behandlung_fest<5,$F107,0)","v":{"$error":"#N/A"}},{"$f":"FaktorenBG!G$43*(1+FaktorenBG!G$56)*IF(Auswahl_Behandlung_fest<5,$F107,0)","v":{"$error":"#N/A"}},{"$f":"FaktorenBG!H$43*(1+FaktorenBG!H$56)*IF(Auswahl_Behandlung_fest<5,$F107,0)","v":{"$error":"#N/A"}},null,null,"Silage maize IP, at farm/kg/CH U",{"$f":"INDEX(SimaPro!$1:$1048576,AZ$1,MATCH(Substrates!$AY107,SimaPro!$1:$1,0))*$F107*1000","v":0},{"$f":"INDEX(SimaPro!$1:$1048576,BA$1,MATCH(Substrates!$AY107,SimaPro!$1:$1,0))*$F107*1000","v":0},{"$f":"INDEX(SimaPro!$1:$1048576,BB$1,MATCH(Substrates!$AY107,SimaPro!$1:$1,0))*$F107*1000","v":0},{"$f":"INDEX(SimaPro!$1:$1048576,BC$1,MATCH(Substrates!$AY107,SimaPro!$1:$1,0))*$F107*1000","v":0},"x",{"$error":"#DIV/0!"},{"$error":"#DIV/0!"}]
["Wiese intensiv","Pré agriculture intensive","Intense meadow",null,{"$f":"IF(sprache=1,A108,IF(sprache=2,B108,C108))","v":"Intense meadow"},0,null,0,0,null,null,{"$f":"F108*S108*V108/10","v":0},{"$f":"F108*S108*V108/10000*AG108","v":0},{"$nulls":5},{"$f":"(T108+U108)/2","v":42.5},25,60,{"$f":"(W108+X108)/2","v":82.5},69,96,{"$f":"(Z108+AA108)/2","v":5.2},3.5,6.9,38.951310861423217,{"$f":"AD108*Y108","v":3.6399999999999997},0.7,6.9,19.8,{"$f":"(AH108+AI108)/2","v":565},520,610,54,305.10000000000002,{"$f":"L108*50%*28.62%*12.5%","v":0},null,null,null,{"$f":"$M108*CH4_Gehalt*CH4_nichtabgedeckt*(1+Faktor_CH4_flüssig)*GärrestFlüssigMenge/(GärrestFestMenge+GärrestFlüssigMenge)","v":{"$error":"#N/A"}},{"$f":"F108*1000*S108/100*Y108/100*AB108/100*NH3emittiert*AnteilNH3Lagerung*(1+NH3plus)*((1+Faktor_NH3_Behandlung)*Anteil_V_fest+(1+FaktorNH3GülleBehandlung)*Anteil_V_flüssig)","v":{"$error":"#N/A"}},{"$f":"IF(AR$137,F108*1000*S108/100*Y108/100*AB108/100*NH3emittiert*AR$2*(1+NH3plusAusbringung)*((1+Faktor_NH3fest_aus)*Anteil_V_fest+(1+Faktor_NH3_Ausbringung)*Anteil_V_flüssig),0)","v":{"$error":"#N/A"}},{"$f":"F108*(N2O_Gülle*Anteil_V_flüssig*(1+Faktor_N2O_GülleBehandlung)+N2O_Kompost*Anteil_V_fest*(1+Faktor_N2O_Behandlung))","v":{"$error":"#DIV/0!"}},{"$f":"FaktorenBG!F$43*(1+FaktorenBG!F$56)*IF(Auswahl_Behandlung_fest<5,$F108,0)","v":{"$error":"#N/A"}},{"$f":"FaktorenBG!G$43*(1+FaktorenBG!G$56)*IF(Auswahl_Behandlung_fest<5,$F108,0)","v":{"$error":"#N/A"}},{"$f":"FaktorenBG!H$43*(1+FaktorenBG!H$56)*IF(Auswahl_Behandlung_fest<5,$F108,0)","v":{"$error":"#N/A"}},null,null,"Grass from meadow intensive IP, at field/kg/CH U",{"$f":"INDEX(SimaPro!$1:$1048576,AZ$1,MATCH(Substrates!$AY108,SimaPro!$1:$1,0))*$F108*1000","v":0},{"$f":"INDEX(SimaPro!$1:$1048576,BA$1,MATCH(Substrates!$AY108,SimaPro!$1:$1,0))*$F108*1000","v":0},{"$f":"INDEX(SimaPro!$1:$1048576,BB$1,MATCH(Substrates!$AY108,SimaPro!$1:$1,0))*$F108*1000","v":0},{"$f":"INDEX(SimaPro!$1:$1048576,BC$1,MATCH(Substrates!$AY108,SimaPro!$1:$1,0))*$F108*1000","v":0},"x",{"$error":"#DIV/0!"},{"$error":"#DIV/0!"}]
[]
["Klärschlamm und ähnliche Substrate","Cosubstrat, résidus organiques","Sewage sludge and similar substrates",null,"Sewage sludge and similar substrates","t/a",{"$f":"Währung&\"/a\"","v":{"$error":"#N/A"}},"km","km",null,null,"kg","m3 Biogas/a",{"$nulls":42},"x",{"$error":"#VALUE!"},{"$error":"#DIV/0!"}]
["Frischklärschlamm, nass","Boues d'épuration fraîches, humides","Fresh sludge, wet",null,{"$f":"IF(sprache=1,A111,IF(sprache=2,B111,C111))","v":"Fresh sludge, wet"},0,0,0,0,null,null,{"$f":"F111*S111*V111/10","v":0},{"$f":"F111*S111*V111/10000*AG111","v":0},{"$nulls":4},{"$f":"IF(F111>0,IF(G111/F111/1000<AX111,INDEX(menuesBG!$1:$1048576,Warnung,sprache),\"\"),\"\")","v":""},3.5,null,null,55,null,null,{"$f":"(Z111+AA111)/2","v":2.9930555555555554},{"$f":"Z$138","v":2.3277777777777775},3.6583333333333337,13,{"$f":"AD111*Y111","v":1.8457175925925919},{"$f":"AD$138","v":0.61666666666666647},45.65,50.55,475,450,500,67,{"$f":"AJ111*$AG111/100","v":318.25},{"$nulls":4},{"$f":"$M111*CH4_Gehalt*CH4_nichtabgedeckt*(1+Faktor_CH4_flüssig)*GärrestFlüssigMenge/(GärrestFestMenge+GärrestFlüssigMenge)","v":{"$error":"#N/A"}},{"$nulls":6},{"$f":"IF(F111>0,G111/F111/1000,0)","v":0},{"$nulls":6},"x",{"$f":"M111/Gasertrag_berechnet","v":{"$error":"#DIV/0!"}},{"$f":"AZ111/Belastung_Substrat","v":{"$error":"#DIV/0!"}}]
["Faulschlamm, nass","Boues digérées, humides","Digested sludge, wet",null,"Digested sludge, wet",0,0,0,0,null,null,0,0,{"$nulls":4},{"$f":"IF(F112>0,IF(G112/F112/1000<AX112,INDEX(menuesBG!$1:$1048576,Warnung,sprache),\"\"),\"\")","v":""},2.7,null,null,31,null,null,2.9930555555555554,2.3277777777777775,3.6583333333333337,13,1.8457175925925919,0.61666666666666647,45.65,50.55,60,45,75,50,30,{"$nulls":4},{"$f":"$M112*CH4_Gehalt*CH4_nichtabgedeckt*(1+Faktor_CH4_flüssig)*GärrestFlüssigMenge/(GärrestFestMenge+GärrestFlüssigMenge)","v":{"$error":"#N/A"}},{"$nulls":6},0,{"$nulls":6},"x",{"$error":"#DIV/0!"},{"$error":"#DIV/0!"}]
["Faulschlamm, entwässert","Boues digérées, égouttées","Digested sludge, dewatered",null,"Digested sludge, dewatered",0,0,0,0,null,null,0,0,{"$nulls":4},{"$f":"IF(F113>0,IF(G113/F113/1000<AX113,INDEX(menuesBG!$1:$1048576,Warnung,sprache),\"\"),\"\")","v":""},36,null,null,31,null,null,2.9930555555555554,2.3277777777777775,3.6583333333333337,13,1.8457175925925919,0.61666666666666647,45.65,50.55,60,45,75,50,30,{"$nulls":4},{"$f":"$M113*CH4_Gehalt*CH4_nichtabgedeckt*(1+Faktor_CH4_flüssig)*GärrestFlüssigMenge/(GärrestFestMenge+GärrestFlüssigMenge)","v":{"$error":"#N/A"}},{"$nulls":6},0,{"$nulls":6},"x",{"$error":"#DIV/0!"},{"$error":"#DIV/0!"}]
["Hausklärschlamm","Boues d'épuration domestiques","Domestic sewage sludge",null,"Domestic sewage sludge",0,0,0,0,null,null,0,0,{"$nulls":4},{"$f":"IF(F114>0,IF(G114/F114/1000<AX114,INDEX(menuesBG!$1:$1048576,Warnung,sprache),\"\"),\"\")","v":""},{"$f":"(T114+U114)/2","v":5},5,5,{"$f":"(W114+X114)/2","v":73.900000000000006},{"$f":"W$138","v":73.900000000000006},{"$f":"X$138","v":73.900000000000006},2.9930555555555554,2.3277777777777775,3.6583333333333337,13,1.8457175925925919,{"$f":"AD$138","v":0.61666666666666647},45.65,50.55,{"$f":"(AH114+AI114)/2","v":492},{"$f":"AH$138","v":376},{"$f":"AI$138","v":608},57,280.44,{"$nulls":4},{"$f":"$M114*CH4_Gehalt*CH4_nichtabgedeckt*(1+Faktor_CH4_flüssig)*GärrestFlüssigMenge/(GärrestFestMenge+GärrestFlüssigMenge)","v":{"$error":"#N/A"}},{"$nulls":6},{"$f":"IF(F114>0,G114/F114/1000,0)","v":0},{"$nulls":6},"x",{"$error":"#DIV/0!"},{"$error":"#DIV/0!"}]
["Schlachtabfälle Kategorie 1","Déchets d'abattoir catégorie 1","Slaughterhouse waste Category 1",null,{"$f":"IF(sprache=1,A115,IF(sprache=2,B115,C115))","v":"Slaughterhouse waste Category 1"},0,0,0,0,null,null,{"$f":"F115*S115*V115/10","v":0},{"$f":"F115*S115*V115/10000*AG115","v":0},{"$nulls":4},{"$f":"IF(F115>0,IF(G115/F115/1000<AX115,INDEX(menuesBG!$1:$1048576,Warnung,sprache),\"\"),\"\")","v":""},{"$f":"(T115+U115)/2","v":30.7},{"$f":"T$138","v":30.7},{"$f":"U$138","v":30.7},{"$f":"(W115+X115)/2","v":73.900000000000006},{"$f":"W$138","v":73.900000000000006},{"$f":"X$138","v":73.900000000000006},{"$f":"(Z115+AA115)/2","v":1.85},0.1,3.6,{"$f":"AVERAGE(0.02,1.5)/AVERAGE(0.1,3.6)*100","v":41.081081081081081},{"$f":"AD115*Y115","v":1.1408333333333329},0.61666666666666647,45.65,50.55,{"$f":"(AH115+AI115)/2","v":688},{"$f":"AH$138","v":376},1000,59,{"$f":"AJ115*$AG115/100","v":405.92},{"$f":"L115*50%*28.62%*12.5%","v":0},null,null,null,{"$f":"$M115*CH4_Gehalt*CH4_nichtabgedeckt*(1+Faktor_CH4_flüssig)*GärrestFlüssigMenge/(GärrestFestMenge+GärrestFlüssigMenge)","v":{"$error":"#N/A"}},{"$nulls":6},{"$f":"IF(F115>0,G115/F115/1000,0)","v":0},{"$nulls":6},{"$f":"$F115*1000","v":0},{"$f":"M115/Gasertrag_berechnet","v":{"$error":"#DIV/0!"}},{"$f":"AZ115/Belastung_Substrat","v":{"$error":"#DIV/0!"}}]
[]
["Chemikalien","Supports achetés","Chemicals",null,"Chemicals","t/a",{"$f":"Währung&\"/a\"","v":{"$error":"#N/A"}},"km","km",null,null,"kg","m3 Biogas/a",{"$nulls":43},{"$error":"#VALUE!"},{"$error":"#DIV/0!"}]
["Harnstoff","Urée","Urea",null,"Urea",0,null,0,0,{"$nulls":8},{"$f":"IF(F118>0,IF(G118/F118/1000<AX118,INDEX(menuesBG!$1:$1048576,Warnung,sprache),\"\"),\"\")","v":""},{"$nulls":32},"Urea, as N, at regional storehouse/RER U",{"$f":"INDEX(SimaPro!$1:$1048576,AZ$1,MATCH(Substrates!$AY118,SimaPro!$1:$1,0))*$F118*1000","v":0},{"$f":"INDEX(SimaPro!$1:$1048576,BA$1,MATCH(Substrates!$AY118,SimaPro!$1:$1,0))*$F118*1000","v":0},{"$f":"INDEX(SimaPro!$1:$1048576,BB$1,MATCH(Substrates!$AY118,SimaPro!$1:$1,0))*$F118*1000","v":0},{"$f":"INDEX(SimaPro!$1:$1048576,BC$1,MATCH(Substrates!$AY118,SimaPro!$1:$1,0))*$F118*1000","v":0},{"$f":"$F118*1000*46.6%","v":0},{"$error":"#DIV/0!"},{"$error":"#DIV/0!"}]
["NaOH","NaOH","Sodium hydroxide",null,"Sodium hydroxide",0,null,0,0,{"$nulls":8},{"$f":"IF(F119>0,IF(G119/F119/1000<AX119,INDEX(menuesBG!$1:$1048576,Warnung,sprache),\"\"),\"\")","v":""},{"$nulls":32},"Sodium hydroxide, 50% in H2O, production mix, at plant/RER U",{"$f":"INDEX(SimaPro!$1:$1048576,AZ$1,MATCH(Substrates!$AY119,SimaPro!$1:$1,0))*$F119*1000","v":0},{"$f":"INDEX(SimaPro!$1:$1048576,BA$1,MATCH(Substrates!$AY119,SimaPro!$1:$1,0))*$F119*1000","v":0},{"$f":"INDEX(SimaPro!$1:$1048576,BB$1,MATCH(Substrates!$AY119,SimaPro!$1:$1,0))*$F119*1000","v":0},{"$f":"INDEX(SimaPro!$1:$1048576,BC$1,MATCH(Substrates!$AY119,SimaPro!$1:$1,0))*$F119*1000","v":0},{"$f":"$F119*1000*50%","v":0},{"$error":"#DIV/0!"},{"$error":"#DIV/0!"}]
["Wasserstoffperoxid","peroxyde d'hydrogène","Hydrogen peroxide",null,"Hydrogen peroxide",0,null,0,0,{"$nulls":8},{"$f":"IF(F120>0,IF(G120/F120/1000<AX120,INDEX(menuesBG!$1:$1048576,Warnung,sprache),\"\"),\"\")","v":""},{"$nulls":32},"Hydrogen peroxide, 50% in H2O, at plant/RER U",{"$f":"INDEX(SimaPro!$1:$1048576,AZ$1,MATCH(Substrates!$AY120,SimaPro!$1:$1,0))*$F120*1000","v":0},{"$f":"INDEX(SimaPro!$1:$1048576,BA$1,MATCH(Substrates!$AY120,SimaPro!$1:$1,0))*$F120*1000","v":0},{"$f":"INDEX(SimaPro!$1:$1048576,BB$1,MATCH(Substrates!$AY120,SimaPro!$1:$1,0))*$F120*1000","v":0},{"$f":"INDEX(SimaPro!$1:$1048576,BC$1,MATCH(Substrates!$AY120,SimaPro!$1:$1,0))*$F120*1000","v":0},{"$f":"$F120*1000*35%","v":0},{"$f":"M120/Gasertrag_berechnet","v":{"$error":"#DIV/0!"}},{"$f":"AZ120/Belastung_Substrat","v":{"$error":"#DIV/0!"}}]
["Eisenchlorid","chlorure ferrique","Iron (III) chloride",null,{"$f":"IF(sprache=1,A121,IF(sprache=2,B121,C121))","v":"Iron (III) chloride"},0,null,0,0,{"$nulls":8},{"$f":"IF(F121>0,IF(G121/F121/1000<AX121,INDEX(menuesBG!$1:$1048576,Warnung,sprache),\"\"),\"\")","v":""},{"$nulls":32},"Iron (III) chloride, 40% in H2O, at plant/CH U",{"$f":"INDEX(SimaPro!$1:$1048576,AZ$1,MATCH(Substrates!$AY121,SimaPro!$1:$1,0))*$F121*1000","v":0},{"$f":"INDEX(SimaPro!$1:$1048576,BA$1,MATCH(Substrates!$AY121,SimaPro!$1:$1,0))*$F121*1000","v":0},{"$f":"INDEX(SimaPro!$1:$1048576,BB$1,MATCH(Substrates!$AY121,SimaPro!$1:$1,0))*$F121*1000","v":0},{"$f":"INDEX(SimaPro!$1:$1048576,BC$1,MATCH(Substrates!$AY121,SimaPro!$1:$1,0))*$F121*1000","v":0},{"$f":"$F121*1000*40%","v":0},{"$f":"M121/Gasertrag_berechnet","v":{"$error":"#DIV/0!"}},{"$f":"AZ121/Belastung_Substrat","v":{"$error":"#DIV/0!"}}]
[]
["Industrieabwässer und Substrate","Eaux usées industrielles et substrats","Industrial wastewater and substrates",null,{"$f":"IF(sprache=1,A123,IF(sprache=2,B123,C123))","v":"Industrial wastewater and substrates"},{"$nulls":50},{"$f":"$F123*1000","v":0},{"$f":"M123/Gasertrag_berechnet","v":{"$error":"#DIV/0!"}},{"$f":"AZ123/Belastung_Substrat","v":{"$error":"#DIV/0!"}}]
["Abwasser, Papierfabrik","Eaux usées, papeterie","Effluent, paper mill",null,{"$f":"IF(sprache=1,A124,IF(sprache=2,B124,C124))","v":"Effluent, paper mill"},0,0,0,0,{"$f":"IF(F124>0,IF(G124/F124/1000<AX124,INDEX(menuesBG!$1:$1048576,Warnung,sprache),\"\"),\"\")","v":""},null,{"$f":"F124*S124*V124/10","v":0},{"$f":"F124*S124*V124/10000*AG124","v":0},{"$nulls":5},0.45340000000000003,null,null,{"$f":"1.075*69.7","v":74.927499999999995},null,null,{"$f":"(Z124+AA124)/2","v":6.8372298191442429E-2},{"$f":"3.1/1000/(S124/100*1000)*100","v":6.8372298191442429E-2},{"$f":"Z124","v":6.8372298191442429E-2},100,{"$f":"AD124*Y124","v":9.4838994265549162E-2},{"$f":"4.3/3.1","v":1.3870967741935483},null,null,676,650,700,67,{"$f":"AJ124*$AG124/100","v":452.92},{"$nulls":4},0,{"$nulls":6},{"$f":"IF(F124>0,G124/F124/1000,0)","v":0},{"$nulls":6},{"$f":"$F124*1000","v":0},{"$f":"M124/Gasertrag_berechnet","v":{"$error":"#DIV/0!"}},{"$f":"AZ124/Belastung_Substrat","v":{"$error":"#DIV/0!"}}]
[]
["Total","Total","Total",null,"Total",{"$f":"SUM(F8:F124)","v":0},{"$f":"SUM(G8:G124)","v":{"$error":"#N/A"}},{"$nulls":4},{"$f":"SUM(L8:L124)","v":0},{"$f":"SUM(M8:M124)","v":0},{"$nulls":25},{"$f":"SUM(AM8:AM124)","v":0},{"$f":"SUM(AN8:AN124)","v":0},{"$f":"SUM(AO8:AO124)","v":0},{"$f":"SUM(AP8:AP124)+AP137","v":{"$error":"#N/A"}},{"$f":"SUM(AQ8:AQ124)","v":{"$error":"#N/A"}},{"$error":"#N/A"},{"$error":"#DIV/0!"},{"$error":"#N/A"},{"$error":"#N/A"},{"$error":"#N/A"},null,null,null,{"$f":"SUM(AZ8:AZ124)","v":0},{"$f":"SUM(BA8:BA124)","v":0},{"$f":"SUM(BB8:BB124)","v":0},{"$f":"SUM(BC8:BC124)","v":0},null,{"$error":"#DIV/0!"},{"$error":"#DIV/0!"}]
[]
["Tonnenkilometer Transport, Traktor","Transport de tonnes-kilomètres, tracteur","Tonne-kilometres transport, tractor",null,{"$f":"IF(sprache=1,A128,IF(sprache=2,B128,C128))","v":"Tonne-kilometres transport, tractor"},{"$f":"SUMPRODUCT(H8:H124,$F8:$F124)","v":0},{"$nulls":44},"Transport, tractor and trailer/CH U",{"$f":"INDEX(SimaPro!$1:$1048576,AZ$1,MATCH(Substrates!$AY128,SimaPro!$1:$1,0))*$F128","v":0},{"$f":"INDEX(SimaPro!$1:$1048576,BA$1,MATCH(Substrates!$AY128,SimaPro!$1:$1,0))*$F128","v":0},{"$f":"INDEX(SimaPro!$1:$1048576,BB$1,MATCH(Substrates!$AY128,SimaPro!$1:$1,0))*$F128","v":0},{"$f":"INDEX(SimaPro!$1:$1048576,BC$1,MATCH(Substrates!$AY128,SimaPro!$1:$1,0))*$F128","v":0}]
["Tonnenkilometer Transport, Lkw","Transport de tonnes-kilomètres, camion","Tonne-kilometres transport, truck",null,"Tonne-kilometres transport, truck",{"$f":"SUMPRODUCT(I8:I124,$F8:$F124)","v":0},{"$nulls":44},"transport, freight, lorry 16-32 metric ton, fleet average/RER U",{"$f":"INDEX(SimaPro!$1:$1048576,AZ$1,MATCH(Substrates!$AY129,SimaPro!$1:$1,0))*$F129","v":0},{"$f":"INDEX(SimaPro!$1:$1048576,BA$1,MATCH(Substrates!$AY129,SimaPro!$1:$1,0))*$F129","v":0},{"$f":"INDEX(SimaPro!$1:$1048576,BB$1,MATCH(Substrates!$AY129,SimaPro!$1:$1,0))*$F129","v":0},{"$f":"INDEX(SimaPro!$1:$1048576,BC$1,MATCH(Substrates!$AY129,SimaPro!$1:$1,0))*$F129","v":0}]
["Tonnenkilometer Transport, Total","Tonnes-kilomètres de transport, total","Tonne-kilometres transport, total",null,"Tonne-kilometres transport, total",{"$f":"tkm_lkw+tkm_traktor","v":0}]
["Einnahmen Substratentsorgung","Recettes de l'élimination des substrats","Substrate disposal revenue",null,"Substrate disposal revenue",{"$f":"SUMIF(Substrates!G25:G90,\">0\",Substrates!G25:G90)","v":0}]
["Ausgaben für Substrate","Dépenses relatives aux substrats","Expenditure on substrates",null,"Expenditure on substrates",{"$f":"SUMIF(Substrates!G25:G90,\"<0\",Substrates!G25:G90)","v":0}]
["Einnahmen Klärschlammentsorgung","Recettes de l'élimination des boues d'épuration","Revenue sewage sludge disposal",null,"Revenue sewage sludge disposal",{"$f":"SUMIF(Substrates!G111:G115,\">0\",Substrates!G111:G115)","v":0}]
["Ausgaben für Klärschlamm","Dépenses relatives aux boues d'épuration","Expenditure on sewage sludge",null,"Expenditure on sewage sludge",{"$f":"SUMIF(Substrates!G111:G115,\"<0\",Substrates!G111:G115)","v":0}]
[{"$nulls":4},{"$f":"Substrates!G4","v":"Financial income (plus) or expense (minus), excluding transport costs"},{"$f":"F131+F132+F133+F134","v":0}]
[]
["Einkauf"," Achat "," Purchase ",null,{"$f":"IF(sprache=1,A137,IF(sprache=2,B137,C137))","v":" Purchase "},{"$f":"G137/SUM(F25:F90)","v":{"$error":"#DIV/0!"}},{"$f":"SUMIF(G8:G124,\"<0\",G8:G124)","v":0},{"$nulls":30},{"$f":"SUM(AL25:AL93)","v":0},null,null,null,{"$f":"MainInput!P88*CH4_GärgutFestLager_Standard*(1+Faktor_CH4)","v":{"$error":"#N/A"}},null,{"$f":"AND(Preis_Entsorgung_flüssig<0,Auswahl_Verwendung_flüssig<5)","v":{"$error":"#N/A"}}]
["Entsorgung"," Élimination "," Disposal ",null,{"$f":"IF(sprache=1,A138,IF(sprache=2,B138,C138))","v":" Disposal "},{"$f":"G138/SUM(F25:F90)","v":{"$error":"#DIV/0!"}},{"$f":"SUMIF(G8:G124,\">0\",G8:G124)","v":0},{"$nulls":4},{"$f":"1*S138*V138/10","v":226.87299999999999},{"$f":"1*S138*V138/10000*AG138","v":111.621516},{"$nulls":5},{"$f":"(T138+U138)/2","v":30.7},30.7,30.7,{"$f":"(W138+X138)/2","v":73.900000000000006},73.900000000000006,73.900000000000006,{"$f":"(Z138+AA138)/2","v":2.9930555555555554},2.3277777777777775,3.6583333333333337,null,{"$f":"AD138*Y138","v":1.8457175925925919},0.61666666666666647,45.65,50.55,{"$f":"(AH138+AI138)/2","v":492},376,608,57,{"$f":"AJ138*$AG138/100","v":280.44}]
["Durchschnitt"," Moyenne "," Average ",null,{"$f":"IF(sprache=1,A139,IF(sprache=2,B139,C139))","v":" Average "},{"$f":"SUM(F25:F108)/F126","v":{"$error":"#DIV/0!"}},{"$f":"SUM(G25:G90)/SUM(F25:F90)/1000","v":{"$error":"#DIV/0!"}},null,{"$f":"tkm_lkw/F126","v":{"$error":"#DIV/0!"}},{"$nulls":29},"emission, CH4, biogenic/kg/CH U","emission, NH3/kg/CH U","emission, N2O/kg/CH U","emission, CH4, biogenic/kg/CH U","emission, NH3/kg/CH U","emission, NH3/kg/CH U","emission, N2O/kg/CH U","emission, H2S/kg/CH U","emission, NMVOC/kg/CH U","emission, NOx/kg/CH U"]
["Zurück zur Prüfung","Retour à tester","Back to the exam sheet",null,{"$f":"IF(sprache=1,A140,IF(sprache=2,B140,C140))","v":"Back to the exam sheet"}]
[{"$nulls":19},"Diese Zahlen müssen noch kontrolliert werden. Bisher wurde der Durchschnitt verwendet.",{"$nulls":14},"Eco-indicator",null,null,{"$f":"DirekteEmissionen!A29","v":29},{"$f":"INDEX(DirekteEmissionen!$1:$1048576,Substrates!$AL141,MATCH(Substrates!AM$139,DirekteEmissionen!$28:$28,0))","v":0.17401618999999999},{"$f":"INDEX(DirekteEmissionen!$1:$1048576,Substrates!$AL141,MATCH(Substrates!AN$139,DirekteEmissionen!$28:$28,0))","v":4.9680543999999998},{"$f":"INDEX(DirekteEmissionen!$1:$1048576,Substrates!$AL141,MATCH(Substrates!AO$139,DirekteEmissionen!$28:$28,0))","v":3.1491600000000002},{"$f":"INDEX(DirekteEmissionen!$1:$1048576,Substrates!$AL141,MATCH(Substrates!AP$139,DirekteEmissionen!$28:$28,0))","v":0.17401618999999999},{"$f":"INDEX(DirekteEmissionen!$1:$1048576,Substrates!$AL141,MATCH(Substrates!AQ$139,DirekteEmissionen!$28:$28,0))","v":4.9680543999999998},{"$f":"INDEX(DirekteEmissionen!$1:$1048576,Substrates!$AL141,MATCH(Substrates!AR$139,DirekteEmissionen!$28:$28,0))","v":4.9680543999999998},{"$f":"INDEX(DirekteEmissionen!$1:$1048576,Substrates!$AL141,MATCH(Substrates!AS$139,DirekteEmissionen!$28:$28,0))","v":3.1491600000000002},{"$f":"INDEX(DirekteEmissionen!$1:$1048576,Substrates!$AL141,MATCH(Substrates!AT$139,DirekteEmissionen!$28:$28,0))","v":0},{"$f":"INDEX(DirekteEmissionen!$1:$1048576,Substrates!$AL141,MATCH(Substrates!AU$139,DirekteEmissionen!$28:$28,0))","v":5.8419199999999998E-2},{"$f":"INDEX(DirekteEmissionen!$1:$1048576,Substrates!$AL141,MATCH(Substrates!AV$139,DirekteEmissionen!$28:$28,0))","v":4.4477209999999996}]
[{"$nulls":4},"*) Die Literaturwerte beziehen sich auf das Ausgangsmaterial. Hier wird geschätzt, wie viel Ammonium nach dem Abbau vorhanden sein wird.",{"$nulls":29},"IPCC GWP 100a",null,null,{"$f":"DirekteEmissionen!A63","v":63},{"$f":"INDEX(DirekteEmissionen!$1:$1048576,Substrates!$AL142,MATCH(Substrates!AM$139,DirekteEmissionen!$28:$28,0))","v":27.75},{"$f":"INDEX(DirekteEmissionen!$1:$1048576,Substrates!$AL142,MATCH(Substrates!AN$139,DirekteEmissionen!$28:$28,0))","v":0},{"$f":"INDEX(DirekteEmissionen!$1:$1048576,Substrates!$AL142,MATCH(Substrates!AO$139,DirekteEmissionen!$28:$28,0))","v":265},{"$f":"INDEX(DirekteEmissionen!$1:$1048576,Substrates!$AL142,MATCH(Substrates!AP$139,DirekteEmissionen!$28:$28,0))","v":27.75},{"$f":"INDEX(DirekteEmissionen!$1:$1048576,Substrates!$AL142,MATCH(Substrates!AQ$139,DirekteEmissionen!$28:$28,0))","v":0},{"$f":"INDEX(DirekteEmissionen!$1:$1048576,Substrates!$AL142,MATCH(Substrates!AR$139,DirekteEmissionen!$28:$28,0))","v":0},{"$f":"INDEX(DirekteEmissionen!$1:$1048576,Substrates!$AL142,MATCH(Substrates!AS$139,DirekteEmissionen!$28:$28,0))","v":265},{"$f":"INDEX(DirekteEmissionen!$1:$1048576,Substrates!$AL142,MATCH(Substrates!AT$139,DirekteEmissionen!$28:$28,0))","v":0},{"$f":"INDEX(DirekteEmissionen!$1:$1048576,Substrates!$AL142,MATCH(Substrates!AU$139,DirekteEmissionen!$28:$28,0))","v":0},{"$f":"INDEX(DirekteEmissionen!$1:$1048576,Substrates!$AL142,MATCH(Substrates!AV$139,DirekteEmissionen!$28:$28,0))","v":0}]
[{"$nulls":4},"Es wurde berücksichtigt, dass nicht alle Substrate gleich gut abbaubar sind und dass daher mehr oder weniger Ammonium frei wird. (vgl. auch Edelmann Ökobilanz S. 34, S. 67 ff)",{"$nulls":29},"Cumulative Energy Demand, differenziert V1.04 /  CED, non-renewable",null,null,null,{"$f":"AP143","v":0},0,{"$f":"AS143","v":0},0,0,{"$f":"AQ143","v":0},0,0,0,0]
[{"$nulls":4},"Annahme, dass bei höherer Gasproduktion auch prozentual mehr Stickstoff frei wird; bei Mist geht vor der Gärung schon einiges verloren;",{"$nulls":29},"Ecological Scarcity 2006 V1.02 /  Ecological scarcity 2006",null,null,{"$f":"DirekteEmissionen!A93","v":93},{"$f":"INDEX(DirekteEmissionen!$1:$1048576,Substrates!$AL144,MATCH(Substrates!AM$139,DirekteEmissionen!$28:$28,0))","v":12000},{"$f":"INDEX(DirekteEmissionen!$1:$1048576,Substrates!$AL144,MATCH(Substrates!AN$139,DirekteEmissionen!$28:$28,0))","v":67000},{"$f":"INDEX(DirekteEmissionen!$1:$1048576,Substrates!$AL144,MATCH(Substrates!AO$139,DirekteEmissionen!$28:$28,0))","v":140000},{"$f":"INDEX(DirekteEmissionen!$1:$1048576,Substrates!$AL144,MATCH(Substrates!AP$139,DirekteEmissionen!$28:$28,0))","v":12000},{"$f":"INDEX(DirekteEmissionen!$1:$1048576,Substrates!$AL144,MATCH(Substrates!AQ$139,DirekteEmissionen!$28:$28,0))","v":67000},{"$f":"INDEX(DirekteEmissionen!$1:$1048576,Substrates!$AL144,MATCH(Substrates!AR$139,DirekteEmissionen!$28:$28,0))","v":67000},{"$f":"INDEX(DirekteEmissionen!$1:$1048576,Substrates!$AL144,MATCH(Substrates!AS$139,DirekteEmissionen!$28:$28,0))","v":140000},{"$f":"INDEX(DirekteEmissionen!$1:$1048576,Substrates!$AL144,MATCH(Substrates!AT$139,DirekteEmissionen!$28:$28,0))","v":39000},{"$f":"INDEX(DirekteEmissionen!$1:$1048576,Substrates!$AL144,MATCH(Substrates!AU$139,DirekteEmissionen!$28:$28,0))","v":14000},{"$f":"INDEX(DirekteEmissionen!$1:$1048576,Substrates!$AL144,MATCH(Substrates!AV$139,DirekteEmissionen!$28:$28,0))","v":39000}]
[{"$nulls":4},"Gülle und Mist haben schon vor der Gärung einen gewissen Ammoniumanteil, da sie schon durch den Verdauungstrakt gingen. Pflanzliche Substrate hingegen haben vor der Gärung noch",{"$nulls":44},"Substrate"]
[{"$nulls":4},"wenig Ammonium. Ein Teil des Stickstoffs wird in der Bakterienbiomasse gebunden, ein Teil bleibt im unvergorenen Rest:",{"$nulls":29},"Eco-indicator",null,null,null,{"$f":"AM141*AM$126","v":0},0,0,{"$error":"#N/A"},{"$f":"AQ141*AQ$126","v":{"$error":"#N/A"}},{"$error":"#N/A"},{"$error":"#DIV/0!"},{"$f":"AT141*AT$126","v":{"$error":"#N/A"}},{"$error":"#N/A"},{"$error":"#N/A"},null,{"$f":"TRANSPOSE(AZ126:BC126)","v":0}]
[{"$nulls":4},"wenig Stickstoff, wenig Gas: weniger Ammonium wird freigesetzt",{"$nulls":29},"IPCC GWP 100a",null,null,null,{"$f":"AM142*AM$126","v":0},0,0,{"$f":"AP142*AP$126","v":{"$error":"#N/A"}},{"$f":"AQ142*AQ$126","v":{"$error":"#N/A"}},{"$error":"#N/A"},{"$error":"#DIV/0!"},{"$error":"#N/A"},{"$error":"#N/A"},{"$error":"#N/A"},null,0]
[{"$nulls":4},"wenig Stickstoff, viel Gas: sehr wenig wird freigesetzt; viel in Biomasse! (Fett)",{"$nulls":29},"Cumulative Energy Demand, differenziert V1.04 /  CED, non-renewable",null,null,null,0,0,0,{"$f":"AP143*AP$126","v":{"$error":"#N/A"}},{"$error":"#N/A"},{"$error":"#N/A"},{"$error":"#DIV/0!"},{"$error":"#N/A"},{"$error":"#N/A"},{"$error":"#N/A"},null,0]
[{"$nulls":4},"sehr viel Stickstoff, hoher Abbau: (sehr) viel wird freigesetzt (Eiweiss bei Fleisch und Blut)",{"$nulls":29},"Ecological Scarcity 2006 V1.02 /  Ecological scarcity 2006",null,null,null,0,0,0,{"$f":"AP144*AP$126","v":{"$error":"#N/A"}},{"$error":"#N/A"},{"$error":"#N/A"},{"$error":"#DIV/0!"},{"$error":"#N/A"},{"$error":"#N/A"},{"$error":"#N/A"},null,0]
[]
[{"$nulls":4},"Zahlen gültig für Aufstallungssystem nach Wirz Taschenbuch: Laufstallmist + viel Vollgülle (10-40% eingestreut) pro Jahr"]
[{"$nulls":4},"Biogaserträge eher konservativ gerechnet: Biogas aus Nachgärbehälter nicht eingerechnet! Die CH4-Ertragszahlen sind abgeglichen mit Ökostrom Schweiz und Genesys."]
[{"$nulls":4},"Gülleverdünnung ist mit 1:1 gerechnet (Abwasser aus Stallreinigung und Tierpflege, Platzwasser…)"]
[{"$nulls":18},"Landwrtschaft / Substrate:      Ökostrom Schweiz, A. Wellinger 2012"]
[{"$nulls":18},"Klärschlamm:                           eigene Messwerte aus zahlreichen Messungen, A. Wellinger 2012"]
[{"$nulls":18},"Ergänzungen M. Stucki, 2011"]
[{"$nulls":18},"Default Wert, Durchschnitt der Substrate"]
[{"$nulls":18},"Aktualisierung TS-Gehalte 2019 mit A. Wellinger & A. Utiger auf Datengrundlage des Berichts \"Bestimmung der TS- und OS-Gehalte von Ausgangsmaterialien für die Feststoffvergärung"]

{"sheet":"Results","index":3,"n_rows":51,"n_cols":8,"rows_kept":51,"cut":false,"hidden":false,"merged":[]}
[null,null,"Deutsch","Französisch","English",{"$f":"OFFSET(C1:C51,0,sprache-1)","v":"English"}]
[null,2,null,null,null,0,{"$f":"MainInput!G2","v":"naturemade star certification: Energy products from biogas plants"}]
[{"$nulls":5},0,{"$f":"IF(NOT(name=0),name,\"\")","v":""}]
[null,null,"Link zur Eingabeseite","Lien vers la page d'entrée principale","Link to the main input page","Link to the main input page",{"$f":"F4","v":"Link to the main input page"}]
[null,null,"Globales Kriterium Resultate Übersicht","Aperçu des résultats","Global criterion results overview","Global criterion results overview",{"$f":"F5","v":"Global criterion results overview"}]
[{"$nulls":5},0,null,{"$f":"menuesBG!$D$29","v":"Eco-indicator 99 points"}]
[null,null,"Prüfwert naturemade star","Test de valeur naturemade star","Test value naturemade star","Test value naturemade star",{"$f":"F7","v":"Test value naturemade star"},{"$f":"H51","v":{"$error":"#N/A"}}]
[null,null,{"$f":"name","v":0},{"$f":"name","v":0},{"$f":"name","v":0},0,{"$f":"F8","v":0},{"$f":"H37","v":{"$error":"#N/A"}}]
[null,null,"Erfüllungsgrad globales Kriterium","Degré de réalisation du critère global","Degree of fulfilment of global criterion","Degree of fulfilment of global criterion",{"$f":"F9","v":"Degree of fulfilment of global criterion"},{"$f":"H8/H7","v":{"$error":"#N/A"}}]
[{"$nulls":5},0]
[null,null,"Grenzwert Umweltbelastung eingehalten","Limite des nuisances environnementales respectée","Environmental impact threshold value met","Environmental impact threshold value met",{"$f":"IF(H11>0,F11,F14)","v":{"$error":"#N/A"}},{"$f":"IF(H8<H7,1,-1)","v":{"$error":"#N/A"}}]
[null,null,"Die Daten sind plausibel","Les données sont plausibles","data is plausible","data is plausible",{"$f":"IF(H12>0,F12,F16)","v":"The data is not plausible, please check your entries"},{"$f":"MainInput!I105","v":0}]
[null,null,"Die naturemade star-Prüfung ist bestanden","Le test de naturemade star est réussi","The naturemade star test has been passed","The naturemade star test has been passed",{"$f":"IF(H13>0,F13,IF(H12<=0,F18,F17))","v":{"$error":"#N/A"}},{"$f":"SUM(H11:H12)","v":{"$error":"#N/A"}}]
[null,null,"Grenzwert Umweltbelastung überschritten","Dépassement de la limite des nuisances environnementales","Environmental impact threshold value exceeded","Environmental impact threshold value exceeded",""]
[null,null,"Die Nutzung von Energiepflanzen ist nicht erlaubt","L'utilisation de cultures énergétiques n'est pas autorisée","Use of energy crops is not allowed","Use of energy crops is not allowed",""]
[null,null,"Die Daten sind nicht plausibel, bitte überprüfen Sie Ihre Eingaben","Les données ne sont pas plausibles, veuillez vérifier vos entrées","The data is not plausible, please check your entries","The data is not plausible, please check your entries",""]
[null,null,"Die naturemade star-Prüfung ist nicht bestanden","Le test de naturemade star n'est pas réussi","The naturemade star test has not been passed","The naturemade star test has not been passed",""]
[null,null,"Die naturemade star-Prüfung ist teilweise nicht bestanden","Le test de naturemade star est partiellement raté","The naturemade star test has partially not been passed","The naturemade star test has partially not been passed"]
[null,null,"naturemade star zertifizierbare Energiemenge","quantité d'énergie certifiable naturemade star","naturemade star certifiable energy quantity","naturemade star certifiable energy quantity",{"$f":"F19","v":"naturemade star certifiable energy quantity"},"kWh"]
[null,null,"Gas","Gaz","Gas","Gas",{"$f":"F20","v":"Gas"},{"$f":"MainInput!H62+MainInput!H63-MainInput!H53*((MainInput!H62+MainInput!H63)/(MainInput!H62+MainInput!H63+MainInput!H73+MainInput!H79))","v":{"$error":"#DIV/0!"}}]
[null,null,"Strom","Électricité","Electricity","Electricity",{"$f":"F21","v":"Electricity"},{"$f":"MainInput!H73-MainInput!H53*((MainInput!H73)/(MainInput!H62+MainInput!H63+MainInput!H73+MainInput!H79))","v":{"$error":"#DIV/0!"}}]
[null,null,"Wärme","Chaleur","Heat","Heat",{"$f":"F22","v":"Heat"},{"$f":"MainInput!H79-MainInput!H53*((MainInput!H79)/(MainInput!H62+MainInput!H63+MainInput!H73+MainInput!H79))","v":{"$error":"#DIV/0!"}}]
[{"$nulls":5},0]
[null,null,"Ökobilanz Resultate","Résultats de l'analyse d'impact du cycle de vie","Life cycle impact assessment results","Life cycle impact assessment results",{"$f":"F24","v":"Life cycle impact assessment results"}]
[{"$nulls":5},0]
[null,4,null,null,null,0,{"$f":"name","v":0},{"$f":"menuesBG!$D$29","v":"Eco-indicator 99 points"}]
[{"$nulls":5},0,{"$f":"EPD!F4","v":"Infrastructure"},{"$f":"SUM(LCIAbg!$C$8:$E$8)","v":{"$error":"#N/A"}}]
[{"$nulls":5},0,{"$f":"EPD!F5","v":"External energy demand"},{"$f":"MainInput!V52","v":{"$error":"#N/A"}}]
[{"$nulls":5},0,{"$f":"EPD!F6","v":"Purchased substrates"},{"$f":"Substrates!AX146+MainInput!V23","v":0}]
[{"$nulls":5},0,{"$f":"EPD!F7","v":"Direct emissions (e.g. slurry storage, post-rotting)"},{"$f":"LCIAbg!$N$8","v":{"$error":"#N/A"}}]
[{"$nulls":5},0,{"$f":"EPD!F8","v":"Transports"},{"$f":"SUM(Substrates!AZ128:AZ129,MainInput!V102)","v":0}]
[{"$nulls":5},0,{"$f":"EPD!F9","v":"Biogas losses (methane slip, treatment, interruptions)"},{"$f":"MainInput!V59","v":0}]
[{"$nulls":5},0,{"$f":"EPD!F10","v":"Biomethane: sales and consumption outside the plant (11.4 kWh Ho/m3)"},{"$f":"MainInput!V62","v":0}]
[{"$nulls":5},0,{"$f":"EPD!F11","v":"Biogas: sale and consumption outside the plant (6.5 kWh Ho/m3)"},{"$f":"MainInput!V63","v":0}]
[{"$nulls":5},0,{"$f":"EPD!F12","v":"Incineration"},{"$f":"SUM(MainInput!V60,MainInput!V64,MainInput!V66,MainInput!V76)","v":0}]
[{"$nulls":5},0,{"$f":"EPD!F13","v":"Treatment and storage of digestate"},{"$f":"SUM(LCIAbg!$F$8:$L$8)","v":{"$error":"#N/A"}}]
[null,null,"Total","Total","Total","Total",{"$f":"F37","v":"Total"},{"$f":"SUM(H27:H36)","v":{"$error":"#N/A"}}]
[{"$nulls":5},0]
[null,null,"Zusammensetzung naturemade star Prüfwert","Composition valeur d'essai naturemade star","Composition naturemade star test value","Composition naturemade star test value",{"$f":"F39","v":"Composition naturemade star test value"},{"$f":"menuesBG!$D$29","v":"Eco-indicator 99 points"}]
[{"$nulls":5},0,{"$f":"EPD!F18","v":"Limit value, electricity"},{"$f":"MainInput!AA73","v":0}]
[{"$nulls":5},0,{"$f":"EPD!F19","v":"Limit value, heat"},{"$f":"MainInput!AA79","v":0}]
[{"$nulls":5},0,{"$f":"EPD!F20","v":"Limit value, biomethane"},{"$f":"MainInput!AA62","v":0}]
[{"$nulls":5},0,{"$f":"EPD!F21","v":"Limit value, biogas"},{"$f":"MainInput!AA63","v":0}]
[{"$nulls":5},0,{"$f":"EPD!F22","v":"Reference, disposal"},{"$f":"MainInput!AA16","v":{"$error":"#N/A"}}]
[{"$nulls":5},0,{"$f":"EPD!F23","v":"Reference, liquid manure storage"},{"$f":"MainInput!AA15","v":{"$error":"#N/A"}}]
[{"$nulls":5},0,{"$f":"EPD!F24","v":"Reference, compost"},{"$f":"EPD!H24","v":{"$error":"#N/A"}}]
[{"$nulls":5},0,{"$f":"EPD!F25","v":"Reference, fresh sewage sludge"},{"$f":"EPD!H25","v":0}]
[{"$nulls":5},0,{"$f":"EPD!F26","v":"Reference, waste water, paper mill"},{"$f":"MainInput!AA22","v":0}]
[{"$nulls":5},0,{"$f":"EPD!F27","v":"Reference, fuel, cement plant"},{"$f":"EPD!H27","v":{"$error":"#N/A"}}]
[{"$nulls":5},0,{"$f":"EPD!F28","v":"Reference, direct emissions"},{"$f":"SUM(Substrates!AM146:AO146)","v":0}]
[null,null,"Summe, naturemade star Prüfwert","Total, valeur du test naturemade star","Total, naturemade star test value","Total, naturemade star test value",{"$f":"F51","v":"Total, naturemade star test value"},{"$f":"SUM(H40:H50)","v":{"$error":"#N/A"}}]

{"sheet":"Plant types","index":4,"n_rows":15,"n_cols":8,"rows_kept":15,"cut":false,"hidden":false,"merged":[[5,1,7,1]]}
[]
[null,"Auswahlhilfe Anlagentyp"]
[]
[]
[null,"Bezeichnung/Auswahl","Andere Bezeichnungen","Hauptsubstrat","Infrastruktur und Standort","Verwendung Gärrest","Hauptzweck","Referenz Co-Produkte"]
[null,"Grüngut und industrielle Vergärungsanlagen","Kompogas","Grüngut, Verschiedene Substrate aus Haushalten und Betrieben","Inkl. Vor- und Nachbehandlung, in Industriegebiet","Kompost","Energie","Kompost"]
[null,null,null,"Gastroabfälle, Schlachtabfälle Kat. 2 und 3","Inkl. Vor- und Nachbehandlung, in Industriegebiet, Hygienisierung","Kompost","Energie","Kompost"]
[null,null,"Industrielle Vergärung","Schlachtabfälle, Tierkadaver, Kategorie 1, (auch in kleinen Anteilen)","Inkl. Vor- und Nachbehandlung, in Industriegebiet oder Grüngutanlage, Hygienisierung","Verbrennung in KVA oder Zementwerk","Abfallbehandlung","Direkte Verbrennung von Kat. 1, keine Referenz für andere Inputs"]
[null,"Landwirtschaft",null,"50% Gülle und Mist plus Co-Substrat","Teilweise Vor- und Nachbehandlung, beim Bauernhof in Landwirtschaftszone","Hofdünger, evtl. Kompost","Energie","Direkte Ausbringung"]
[null,"Kläranlage",null,"Klärschlamm","Hauptsächlich Gärbehälter, bei kommunaler Kläranlage","Verbrennung","Abfallbehandlung",{"$f":"H8","v":"Direkte Verbrennung von Kat. 1, keine Referenz für andere Inputs"}]
[]
[null,"Energiepflanzen, Nicht zur naturemade Prüfung zugelassen",null,"Energiepflanzen (Mais, Grassilage, Grünroggen, GPS, etc.)",{"$f":"E9","v":"Teilweise Vor- und Nachbehandlung, beim Bauernhof in Landwirtschaftszone"},"Hofdünger, evtl. Kompost","Energie","Keine"]
[null,"Industrielle Abwässer (Prüfung z.Zt. nur für Einzelfälle möglich)","Industrielle Vergärung","Abwasser aus einem Produktionsprozess","Hauptsächlich Gärbehälter, Industriebetrieb in dem Abwässer anfallen","Einleitung in Gewässer bzw. kommunale Kläranlage","Vorklärung","Abbau CSB in Vorklärung oder kommunaler Kläranlage"]
[]
[null,"Zurück zur Eingabe"]

{"sheet":"OwnCalculations","index":5,"n_rows":0,"n_cols":0,"rows_kept":0,"cut":false,"hidden":false,"merged":[]}

{"sheet":"EPD","index":6,"n_rows":56,"n_cols":18,"rows_kept":56,"cut":false,"hidden":false,"merged":[]}
[{"$nulls":11},29,35,34,31]
[29,"Deutsch","Französisch","Englisch",{"$f":"OFFSET(B2:B56,0,sprache-1)","v":"Englisch"},{"$f":"name","v":0},null,{"$f":"L2","v":"Eco-indicator 99 points"},"Anteil",null,null,{"$f":"INDEX(menuesBG!$1:$1048576,L1,sprache)","v":"Eco-indicator 99 points"},{"$f":"INDEX(menuesBG!$1:$1048576,$M1,sprache)","v":"Carbon footprint 100a 2013"},{"$f":"INDEX(menuesBG!$1:$1048576,N1,sprache)","v":"Demand for non-renewable energy resources"},{"$f":"INDEX(menuesBG!$1:$1048576,O1,sprache)","v":"Ecological scarcity points 2013"},{"$f":"M2","v":"Carbon footprint 100a 2013"},{"$f":"N2","v":"Demand for non-renewable energy resources"},{"$f":"O2","v":"Ecological scarcity points 2013"}]
[56,null,null,null,0,null,null,{"$f":"L3","v":"Pkt"},null,null,null,"Pkt","kg CO2-eq","MJ-eq","Pkt","%","%","%"]
[50,"Infrastruktur","Infrastructure","Infrastructure","Infrastructure",{"$f":"E4","v":"Infrastructure"},null,null,{"$f":"L4/L$14","v":{"$error":"#N/A"}},null,null,{"$f":"Results!H27","v":{"$error":"#N/A"}},{"$f":"SUM(LCIAbg!$C$9:$E$9)","v":{"$error":"#N/A"}},{"$f":"SUM(LCIAbg!$C$10:$E$10)","v":{"$error":"#N/A"}},{"$f":"SUM(LCIAbg!$C$11:$E$11)","v":{"$error":"#N/A"}},{"$f":"M4/M$14","v":{"$error":"#N/A"}},{"$f":"N4/N$14","v":{"$error":"#N/A"}},{"$f":"O4/O$14","v":{"$error":"#N/A"}}]
[45,"Fremdenergiebedarf","Consommations d'énergie additionnelle","External energy demand","External energy demand",{"$f":"E5","v":"External energy demand"},null,null,{"$error":"#N/A"},null,null,{"$f":"Results!H28","v":{"$error":"#N/A"}},{"$f":"MainInput!W52","v":{"$error":"#N/A"}},{"$f":"MainInput!X52","v":{"$error":"#N/A"}},{"$f":"MainInput!Y52","v":{"$error":"#N/A"}},{"$error":"#N/A"},{"$error":"#N/A"},{"$error":"#N/A"}]
[46,"eingekaufte Substrate","Substrats achetés","Purchased substrates","Purchased substrates","Purchased substrates",null,null,{"$error":"#N/A"},null,null,{"$f":"Results!H29","v":0},{"$f":"Substrates!$AX147+MainInput!W23","v":0},{"$f":"Substrates!$AX148+MainInput!X23","v":0},{"$f":"Substrates!$AX149+MainInput!Y23","v":0},{"$error":"#N/A"},{"$error":"#N/A"},{"$error":"#N/A"}]
[20,"direkte Emissionen (z.B. Güllelager, Nachrotte)","Émissions directes","Direct emissions (e.g. slurry storage, post-rotting)","Direct emissions (e.g. slurry storage, post-rotting)","Direct emissions (e.g. slurry storage, post-rotting)",null,null,{"$error":"#N/A"},null,null,{"$f":"Results!H30","v":{"$error":"#N/A"}},{"$f":"LCIAbg!$N$9","v":{"$error":"#N/A"}},{"$f":"LCIAbg!$N$10","v":{"$error":"#N/A"}},{"$f":"LCIAbg!$N$11","v":{"$error":"#N/A"}},{"$error":"#N/A"},{"$error":"#N/A"},{"$error":"#N/A"}]
[47,"Transporte","Transports","Transports","Transports","Transports",null,null,{"$error":"#N/A"},null,null,{"$f":"Results!H31","v":0},{"$f":"SUM(Substrates!BA128:BA129,MainInput!W102)","v":0},{"$f":"SUM(Substrates!BB128:BB129,MainInput!X102)","v":0},{"$f":"SUM(Substrates!BC128:BC129,MainInput!Y102)","v":0},{"$error":"#N/A"},{"$error":"#N/A"},{"$error":"#N/A"}]
[24,"Biogas Verluste","Pertes de biogaz (volatilisation, conditionnement et interruptions)","Biogas losses (methane slip, treatment, interruptions)","Biogas losses (methane slip, treatment, interruptions)","Biogas losses (methane slip, treatment, interruptions)",null,null,{"$error":"#N/A"},null,null,{"$f":"Results!H32","v":0},{"$f":"MainInput!W59","v":0},{"$f":"MainInput!X59","v":0},{"$f":"MainInput!Y59","v":0},{"$error":"#N/A"},{"$error":"#N/A"},{"$error":"#N/A"}]
[16,"Biomethan: Verkauf und ausserhalb Verbrauch ","Biométhane: vente et conso. hors installation (11.4 kWh Ho/m3)","Biomethane: sales and consumption outside the plant (11.4 kWh Ho/m3)","Biomethane: sales and consumption outside the plant (11.4 kWh Ho/m3)","Biomethane: sales and consumption outside the plant (11.4 kWh Ho/m3)",null,null,{"$error":"#N/A"},null,null,{"$f":"Results!H33","v":0},{"$f":"MainInput!W62","v":0},{"$f":"MainInput!X62","v":0},{"$f":"MainInput!Y62","v":0},{"$error":"#N/A"},{"$error":"#N/A"},{"$error":"#N/A"}]
[116,"Biogas: Verkauf und ausserhalb Verbrauch","Biogaz: vente et conso. hors installation (6.5 kWh Ho/m3)","Biogas: sale and consumption outside the plant (6.5 kWh Ho/m3)","Biogas: sale and consumption outside the plant (6.5 kWh Ho/m3)","Biogas: sale and consumption outside the plant (6.5 kWh Ho/m3)",null,null,{"$error":"#N/A"},null,null,{"$f":"Results!H34","v":0},{"$f":"MainInput!W63","v":0},{"$f":"MainInput!X63","v":0},{"$f":"MainInput!Y63","v":0},{"$error":"#N/A"},{"$error":"#N/A"},{"$error":"#N/A"}]
[48,"Verbrennung","Combustion","Incineration","Incineration","Incineration",null,null,{"$error":"#N/A"},null,null,{"$f":"Results!H35","v":0},{"$f":"SUM(MainInput!W60,MainInput!W64,MainInput!W66,MainInput!W76)","v":0},{"$f":"SUM(MainInput!X60,MainInput!X64,MainInput!X66,MainInput!X76)","v":0},{"$f":"SUM(MainInput!Y60,MainInput!Y64,MainInput!Y66,MainInput!Y76)","v":0},{"$error":"#N/A"},{"$error":"#N/A"},{"$error":"#N/A"}]
[28,"Gärreste Behandlung und Lagerung","Traitement et stockage du digestat","Treatment and storage of digestate","Treatment and storage of digestate","Treatment and storage of digestate",null,null,{"$error":"#N/A"},null,null,{"$f":"Results!H36","v":{"$error":"#N/A"}},{"$f":"SUM(LCIAbg!$F$9:$K$9)","v":{"$error":"#N/A"}},{"$f":"SUM(LCIAbg!$F$10:$K$10)","v":{"$error":"#N/A"}},{"$f":"SUM(LCIAbg!$F$11:$K$11)","v":{"$error":"#N/A"}},{"$error":"#N/A"},{"$error":"#N/A"},{"$error":"#N/A"}]
[17,"Total","Total","Total","Total","Total",null,null,{"$f":"SUM(I4:I13)","v":{"$error":"#N/A"}},null,null,{"$f":"SUM(L4:L13)","v":{"$error":"#N/A"}},{"$f":"SUM(M4:M13)","v":{"$error":"#N/A"}},{"$f":"SUM(N4:N13)","v":{"$error":"#N/A"}},{"$f":"SUM(O4:O13)","v":{"$error":"#N/A"}},{"$f":"SUM(P4:P13)","v":{"$error":"#N/A"}},{"$f":"SUM(Q4:Q13)","v":{"$error":"#N/A"}},{"$error":"#N/A"}]
[49,null,null,null,0]
[56,"naturemade Prüfwert","Valeur de contrôle naturemade ","naturemade certification value","naturemade certification value",{"$f":"E16","v":"naturemade certification value"},{"$f":"F14","v":"Total"},null,null,null,{"$f":"name","v":0},null,null,null,{"$f":"INDEX(menuesBG!$1:$1048576,$A15,sprache)","v":"Environmental product declaration"}]
[null,"Total","Total","Total","Total",null,"a",{"$nulls":4},{"$f":"L3","v":"Pkt"},{"$f":"M3","v":"kg CO2-eq"},{"$f":"N3","v":"MJ-eq"},{"$f":"O3","v":"Pkt"}]
[51,"Grenzwert Strom","Valeur-limite courant","Limit value, electricity","Limit value, electricity",{"$f":"E18","v":"Limit value, electricity"},{"$f":"INDEX(Prüfwert!$1:$1048576,8,MATCH($A18,Prüfwert!$1:$1,0))","v":0},{"$f":"Results!H40","v":0},{"$f":"H18/H$29","v":{"$error":"#N/A"}},null,{"$f":"REPLACE(F18,1,IF(sprache=3,13,IF(sprache=1,10,14)),\"\")&\", kWh\"","v":"electricity, kWh"},{"$f":"IF($G18>0,$I18*L$14/$G18,0)","v":0},{"$f":"IF($G18>0,$I18*M$14/$G18,0)","v":0},0,0]
[52,"Grenzwert Wärme","Valeur-limite chaleur","Limit value, heat","Limit value, heat",{"$f":"E19","v":"Limit value, heat"},{"$f":"INDEX(Prüfwert!$1:$1048576,8,MATCH($A19,Prüfwert!$1:$1,0))","v":0},{"$f":"Results!H41","v":0},{"$error":"#N/A"},null,{"$f":"REPLACE(F19,1,IF(sprache=3,13,IF(sprache=1,10,14)),\"\")&\", kWh\"","v":"heat, kWh"},{"$f":"IF($G19>0,$I19*L$14/$G19,0)","v":0},0,0,0]
[53,"Grenzwert Biomethan","Valeur-limite biométhane","Limit value, biomethane","Limit value, biomethane","Limit value, biomethane",{"$f":"INDEX(Prüfwert!$1:$1048576,8,MATCH($A20,Prüfwert!$1:$1,0))","v":0},{"$f":"Results!H42","v":0},{"$error":"#N/A"},null,{"$f":"REPLACE(F20,1,IF(sprache=3,13,IF(sprache=1,10,14)),\"\")&\", kWh\"","v":"biomethane, kWh"},{"$f":"IF($G20>0,$I20*L$14/$G20,0)","v":0},0,0,0]
[117,"Grenzwert Biogas","Valeur-limite biogaz","Limit value, biogas","Limit value, biogas","Limit value, biogas",{"$f":"INDEX(Prüfwert!$1:$1048576,8,MATCH($A21,Prüfwert!$1:$1,0))","v":0},{"$f":"Results!H43","v":0},{"$error":"#N/A"},null,{"$f":"REPLACE(F21,1,IF(sprache=3,13,IF(sprache=1,10,14)),\"\")&\", kWh\"","v":"biogas, kWh"},{"$f":"IF($G21>0,$I21*L$14/$G21,0)","v":0},0,0,0]
[54,"Referenz, Entsorgung","Référence pour le traitement des déchets","Reference, disposal","Reference, disposal","Reference, disposal",{"$f":"INDEX(Prüfwert!$1:$1048576,6,MATCH($A22,Prüfwert!$1:$1,0))","v":0},{"$f":"Results!H44","v":{"$error":"#N/A"}},{"$error":"#N/A"}]
[88,"Referenz, Güllelager","Référence pour le dépôt de lisier","Reference, liquid manure storage","Reference, liquid manure storage","Reference, liquid manure storage",{"$f":"INDEX(Prüfwert!$1:$1048576,4,MATCH($A23,Prüfwert!$1:$1,0))","v":0},{"$f":"Results!H45","v":{"$error":"#N/A"}},{"$error":"#N/A"}]
[89,"Referenz, Kompost","Référence pour le compost","Reference, compost","Reference, compost","Reference, compost",{"$f":"INDEX(Prüfwert!$1:$1048576,8,MATCH($A24,Prüfwert!$1:$1,0))","v":0},{"$f":"INDEX(Prüfwert!$1:$1048576,10,MATCH($A24,Prüfwert!$1:$1,0))","v":{"$error":"#N/A"}},{"$error":"#N/A"}]
[90,"Referenz, Frischklärschlamm","Référence pour les boues d'épuration fraîches","Reference, fresh sewage sludge","Reference, fresh sewage sludge","Reference, fresh sewage sludge",{"$f":"INDEX(Prüfwert!$1:$1048576,5,MATCH($A25,Prüfwert!$1:$1,0))","v":0},{"$f":"INDEX(Prüfwert!$1:$1048576,10,MATCH($A25,Prüfwert!$1:$1,0))","v":0},{"$error":"#N/A"}]
[121,"Referenz, Abwasser, Papierfabrik","Référence, eaux usées, papeterie","Reference, waste water, paper mill","Reference, waste water, paper mill","Reference, waste water, paper mill",{"$f":"INDEX(Prüfwert!$1:$1048576,5,MATCH($A26,Prüfwert!$1:$1,0))","v":0},{"$f":"Results!H48","v":0},{"$error":"#N/A"}]
[101,"Referenz, Brennstoff, Zementwerk","Référence pour le carburant, en cimenterie","Reference, fuel, cement plant","Reference, fuel, cement plant","Reference, fuel, cement plant",{"$f":"INDEX(Prüfwert!$1:$1048576,5,MATCH($A27,Prüfwert!$1:$1,0))","v":0},{"$f":"INDEX(Prüfwert!$1:$1048576,10,MATCH($A27,Prüfwert!$1:$1,0))","v":{"$error":"#N/A"}},{"$error":"#N/A"}]
[63,"Referenz, direkte Emissionen","Référence pour les émissions directes","Reference, direct emissions","Reference, direct emissions","Reference, direct emissions",null,{"$f":"Results!H50","v":0},{"$error":"#N/A"}]
[17,"Total","Total","Total","Total","Total",null,{"$f":"SUM(H18:H28)","v":{"$error":"#N/A"}},{"$error":"#N/A"},null,{"$f":"Results!G9","v":"Degree of fulfilment of global criterion"},null,null,null,{"$f":"L14/H29","v":{"$error":"#N/A"}}]
[null,"Einfache Distanz Anlage - Ausbringung/Entsorgung","Distance simple installation - épandage/traitement des déchets","Simple distance plant - Spreading/Disposal","Simple distance plant - Spreading/Disposal"]
[106,"Allokation nach Exergie-Gehalt (ecoinvent)","Allocation d'après contenu exégétique (fiche supplémentaire)","Allocation according to exergy content (ecoinvent)","Allocation according to exergy content (ecoinvent)",{"$f":"E31","v":"Allocation according to exergy content (ecoinvent)"},{"$f":"F29","v":"Total"},null,null,null,{"$f":"name","v":0},null,null,null,{"$f":"F31","v":"Allocation according to exergy content (ecoinvent)"}]
[null,"Einspeisung in Fernwärmenetz","Alimentation chauffage à distance / pertes de distribution","Feed into a heat network / distribution losses district heating network","Feed into a heat network / distribution losses district heating network",{"$f":"E32","v":"Feed into a heat network / distribution losses district heating network"},"a","kWh",null,null,null,{"$f":"L17","v":"Pkt"},{"$f":"M17","v":"kg CO2-eq"},"MJ-eq","Pkt"]
[51,"Grenzwert Strom","Valeur-limite courant","Limit value, electricity","Limit value, electricity",{"$f":"E33","v":"Limit value, electricity"},{"$f":"INDEX(Prüfwert!$1:$1048576,8,MATCH($A33,Prüfwert!$1:$1,0))","v":0},{"$f":"G33","v":0},{"$f":"(1-SUM(I$37:I$42))*H33/SUM(H$33:H$36)","v":{"$error":"#DIV/0!"}},null,{"$f":"REPLACE(F33,1,TextEPD,\"\")&\", kWh\"","v":"electricity, kWh"},{"$f":"IF($G33>0,($I33*L$38+L$12*$H33/SUM($H$33:$H$34))/$G33,0)","v":0},0,0,0]
[52,"Grenzwert Wärme","Valeur-limite chaleur","Limit value, heat","Limit value, heat","Limit value, heat",{"$f":"INDEX(Prüfwert!$1:$1048576,8,MATCH($A34,Prüfwert!$1:$1,0))","v":0},{"$f":"0.17*G34","v":0},{"$f":"(1-SUM(I$37:I$42))*H34/SUM(H$33:H$36)","v":{"$error":"#DIV/0!"}},null,{"$f":"REPLACE(F34,1,TextEPD,\"\")&\", kWh\"","v":"heat, kWh"},0,0,0,0]
[53,"Grenzwert Biomethan","Valeur-limite biométhane","Limit value, biomethane","Limit value, biomethane","Limit value, biomethane",{"$f":"INDEX(Prüfwert!$1:$1048576,8,MATCH($A35,Prüfwert!$1:$1,0))","v":0},{"$f":"G35","v":0},{"$error":"#DIV/0!"},null,{"$f":"REPLACE(F35,1,TextEPD,\"\")&\", kWh\"","v":"biomethane, kWh"},{"$f":"IF($G35>0,($I35/SUM($I$35:$I$36)*(L$14-SUM(L$39:L$40,L$10:L$11))+L10)/$G35,0)","v":0},{"$f":"IF($G35>0,($I35/SUM($I$35:$I$36)*(M$14-SUM(M$39:M$40,M$10:M$11))+M10)/$G35,0)","v":0},0,0]
[117,"Grenzwert Biogas","Valeur-limite biogaz","Limit value, biogas","Limit value, biogas","Limit value, biogas",{"$f":"INDEX(Prüfwert!$1:$1048576,8,MATCH($A36,Prüfwert!$1:$1,0))","v":0},{"$f":"G36","v":0},{"$error":"#DIV/0!"},null,{"$f":"REPLACE(F36,1,TextEPD,\"\")&\", kWh\"","v":"biogas, kWh"},{"$f":"IF($G36>0,($I36/SUM($I$35:$I$36)*(L$14-SUM(L$39:L$40,L$10:L$11))+L11)/$G36,0)","v":0},{"$f":"IF($G36>0,($I36/SUM($I$35:$I$36)*(M$14-SUM(M$39:M$40,M$10:M$11))+M11)/$G36,0)","v":0},0,0]
[54,"Referenz, Entsorgung","Référence pour le traitement des déchets","Reference, disposal","Reference, disposal","Reference, disposal",{"$f":"Substrates!F135","v":0},null,{"$f":"IF(G43>0,G37/G$43*H$44,0)","v":0}]
[88,"Referenz, Güllelager","Référence pour le dépôt de lisier","Reference, liquid manure storage","Reference, liquid manure storage","Reference, liquid manure storage",null,null,0,null,"Total",{"$f":"L14-SUM(L10:L12)","v":{"$error":"#N/A"}},{"$f":"M14-SUM(M10:M12)","v":{"$error":"#N/A"}},{"$error":"#N/A"},{"$error":"#N/A"},"ohne getrennt alloziert"]
[89,"Referenz, Kompost","Référence pour le compost","Reference, compost","Reference, compost","Reference, compost",{"$f":"Preis_Entsorgung_fest","v":0},null,0,null,"Kontrolle",{"$f":"$G33*L33","v":0},0,0,0]
[90,"Referenz, Frischklärschlamm","Référence pour les boues d'épuration fraîches","Reference, fresh sewage sludge","Reference, fresh sewage sludge","Reference, fresh sewage sludge",null,null,0,null,null,0,0,0,0]
[101,"Referenz, Brennstoff, Zementwerk","Référence pour le carburant, en cimenterie","Reference, fuel, cement plant","Reference, fuel, cement plant","Reference, fuel, cement plant",null,null,0,null,null,0,0,0,0]
[63,"Referenz, direkte Emissionen","Référence pour les émissions directes","Reference, direct emissions","Reference, direct emissions","Reference, direct emissions",null,null,0,null,null,0,0,0,0]
[17,"Total","Total","Total","Total","Total",{"$f":"SUM(G37:G42)","v":0},null,{"$f":"H44/H$29","v":{"$error":"#N/A"}},null,"Total, Kontrolle",{"$f":"SUM(L39:L42)","v":0},{"$f":"SUM(M39:M42)","v":0},{"$f":"SUM(N39:N42)","v":0},0]
[null,"Achtung hier bitte Wert für Anteil Nebenprodukte an Gesamtertrag eingeben","Attention : Veuillez indiquer ici la valeur de la part des sous-produits dans le rendement total.","Please enter here the value for the share of by-products in the total yield.","Please enter here the value for the share of by-products in the total yield.",{"$f":"E44","v":"Please enter here the value for the share of by-products in the total yield."},null,0]
[{"$nulls":4},0]
[{"$nulls":4},0]
[{"$nulls":4},0]
[{"$nulls":4},0]
[{"$nulls":4},0]
[{"$nulls":4},0]
[{"$nulls":4},0]
[{"$nulls":4},0]
[{"$nulls":4},0]
[{"$nulls":4},0]
[{"$nulls":4},0]
[{"$nulls":4},0]

{"sheet":"SimaPro","index":7,"n_rows":501,"n_cols":106,"rows_kept":501,"cut":false,"hidden":true,"merged":[]}
[null,null,{"$f":"$B$2+10","v":117},null,{"$f":"INDEX($1:$1048576,$C1,COLUMN())","v":"anaerobic digestion plant covered, agriculture/CH/I U"},{"$f":"INDEX($1:$1048576,$C1,COLUMN())","v":"Anaerobic digestion plant, sewage sludge/CH/I U"},{"$f":"INDEX($1:$1048576,$C1,COLUMN())","v":"anaerobic digestion plant, biowaste/CH/I U"},{"$f":"INDEX($1:$1048576,$C1,COLUMN())","v":"tap water, unspecified natural origin RER, at user/kg/RER U"},{"$f":"INDEX($1:$1048576,$C1,COLUMN())","v":"Electricity, medium voltage {CH}| market for | Cut-off, S"},{"$f":"INDEX($1:$1048576,$C1,COLUMN())","v":"Electricity, medium voltage {DE}| market for | Cut-off, S"},{"$f":"INDEX($1:$1048576,$C1,COLUMN())","v":"Electricity, medium voltage {HU}| market for | Cut-off, S"},{"$f":"INDEX($1:$1048576,$C1,COLUMN())","v":"Electricity, medium voltage {DK}| market for | Cut-off, S"},{"$f":"INDEX($1:$1048576,$C1,COLUMN())","v":"Electricity, medium voltage {GB}| market for | Cut-off, S"},{"$f":"INDEX($1:$1048576,$C1,COLUMN())","v":"Electricity, medium voltage {ES}| market for | Cut-off, S"},{"$f":"INDEX($1:$1048576,$C1,COLUMN())","v":"electricity, medium voltage, naturemade star, at grid/CH U"},{"$f":"INDEX($1:$1048576,$C1,COLUMN())","v":"electricity, medium voltage, renewable, at grid/kWh/RER U"},{"$f":"INDEX($1:$1048576,$C1,COLUMN())","v":"light fuel oil, burned in industrial furnace 1MW, non-modulating/MJ/RER U"},{"$f":"INDEX($1:$1048576,$C1,COLUMN())","v":"oil combustion, in cogen with ignition gas engine/MJ/CH U"},{"$f":"INDEX($1:$1048576,$C1,COLUMN())","v":"diesel, burned in building machine, average/MJ/CH U"},{"$f":"INDEX($1:$1048576,$C1,COLUMN())","v":"Natural gas, burned in boiler condensing modulating >100kW/RER U"},{"$f":"INDEX($1:$1048576,$C1,COLUMN())","v":"biomethane, burned in boiler condensing modulating >100kW/RER U"},{"$f":"INDEX($1:$1048576,$C1,COLUMN())","v":"biomethane, naturemade star, burned in boiler condensing modulating >100kW/RER U"},{"$f":"INDEX($1:$1048576,$C1,COLUMN())","v":"Heat from waste, at municipal waste incineration plant/CH U"},{"$f":"INDEX($1:$1048576,$C1,COLUMN())","v":"Heat, digester sludge, at incineration plant, future, allocation price/CH U"},{"$f":"INDEX($1:$1048576,$C1,COLUMN())","v":"Wood chips, from forest, mixed, burned in furnace 1000kW/CH U"},{"$f":"INDEX($1:$1048576,$C1,COLUMN())","v":"Pellets, mixed, burned in furnace 50kW/CH U"},{"$f":"INDEX($1:$1048576,$C1,COLUMN())","v":"transport, district heat network, average/CH/I U"},{"$f":"INDEX($1:$1048576,$C1,COLUMN())","v":"transport, freight, lorry 16-32 metric ton, fleet average/RER U"},{"$f":"INDEX($1:$1048576,$C1,COLUMN())","v":"Transport, tractor and trailer/CH U"},{"$f":"INDEX($1:$1048576,$C1,COLUMN())","v":"biogas, vented/CH U"},{"$f":"INDEX($1:$1048576,$C1,COLUMN())","v":"methane, 96 vol-%, purification and distribution/kWh/CH U"},{"$f":"INDEX($1:$1048576,$C1,COLUMN())","v":"raw biogas, distribution/kWh/CH U"},{"$f":"INDEX($1:$1048576,$C1,COLUMN())","v":"biogas, burned in production flare/MJ/GLO U"},{"$f":"INDEX($1:$1048576,$C1,COLUMN())","v":"biogas combustion, in cogen with biogas engine/MJ/CH U"},{"$f":"INDEX($1:$1048576,$C1,COLUMN())","v":"biogas combustion, in cogen with ignition gas engine/MJ/CH U"},{"$f":"INDEX($1:$1048576,$C1,COLUMN())","v":"biogas combustion, in cogen 200kWe lean burn/MJ/CH U"},{"$f":"INDEX($1:$1048576,$C1,COLUMN())","v":"biogas combustion, in micro gas turbine 100kWe/MJ/CH U"},{"$f":"INDEX($1:$1048576,$C1,COLUMN())","v":"biogas, burned in industrial furnace >100kW/RER U"},{"$f":"INDEX($1:$1048576,$C1,COLUMN())","v":"emission, NOx/kg/CH U"},{"$f":"INDEX($1:$1048576,$C1,COLUMN())","v":"transport, district heat network, average/CH/I U"},{"$f":"INDEX($1:$1048576,$C1,COLUMN())","v":"application, digested matter, on agricultural land/kg/CH U"},{"$f":"INDEX($1:$1048576,$C1,COLUMN())","v":"application, digested matter, liquid, on agricultural land/m3/CH U"},{"$f":"INDEX($1:$1048576,$C1,COLUMN())","v":"disposal, digester sludge, to municipal incineration/kg/CH U"},{"$f":"INDEX($1:$1048576,$C1,COLUMN())","v":"digester sewage sludge, in cement plant/kg/CH U"},{"$f":"INDEX($1:$1048576,$C1,COLUMN())","v":"Treatment, sewage, to wastewater treatment, class 4/CH U"},{"$f":"INDEX($1:$1048576,$C1,COLUMN())","v":"treatment, sugar factory effluent, to wastewater treatment, class 4/HU U"},{"$f":"INDEX($1:$1048576,$C1,COLUMN())","v":"treatment, paper production, pre-treated by digestion, to wastewater treatment, class 3/m3/CH U"},{"$f":"INDEX($1:$1048576,$C1,COLUMN())","v":"apple ÖLN, at farm/kg/CH S"},{"$f":"INDEX($1:$1048576,$C1,COLUMN())","v":"bread, at bakery/kg/CH S"},{"$f":"INDEX($1:$1048576,$C1,COLUMN())","v":"meat mixed, IP, at slaughterhouse/kg/CH S"},{"$f":"INDEX($1:$1048576,$C1,COLUMN())","v":"vegetables mean, IP, at farm/kg/CH S"},{"$f":"INDEX($1:$1048576,$C1,COLUMN())","v":"by-products, wheat milling, at plant/kg/CH S"},{"$f":"INDEX($1:$1048576,$C1,COLUMN())","v":"yeast, at plant/kg/RER S"},{"$f":"INDEX($1:$1048576,$C1,COLUMN())","v":"raw milk, silo zone, at farm/kg/CH S"},{"$f":"INDEX($1:$1048576,$C1,COLUMN())","v":"whey, at cheese dairy/kg/CH S"},{"$f":"INDEX($1:$1048576,$C1,COLUMN())","v":"Soybean lecithin, at oil mill/GLO U"},{"$f":"INDEX($1:$1048576,$C1,COLUMN())","v":"Rape oil, at oil mill/RER U"},{"$f":"INDEX($1:$1048576,$C1,COLUMN())","v":"wheat straw IP, at farm/kg/CH U"},{"$f":"INDEX($1:$1048576,$C1,COLUMN())","v":"Syrup, from sugar beet molasses, at distillery/CH U"},{"$f":"INDEX($1:$1048576,$C1,COLUMN())","v":"grass silage IP, at farm/kg/CH U"},{"$f":"INDEX($1:$1048576,$C1,COLUMN())","v":"grass silage organic, at farm/kg/CH U"},{"$f":"INDEX($1:$1048576,$C1,COLUMN())","v":"Hay intensive IP, at farm/CH U"},{"$f":"INDEX($1:$1048576,$C1,COLUMN())","v":"Potatoes IP, at farm/CH U"},{"$f":"INDEX($1:$1048576,$C1,COLUMN())","v":"Clover seed IP, at farm/CH U"},{"$f":"INDEX($1:$1048576,$C1,COLUMN())","v":"silage maize IP, at farm/kg/CH U"},{"$f":"INDEX($1:$1048576,$C1,COLUMN())","v":"Molasses, from sugar beet, at sugar refinery/CH U"},{"$f":"INDEX($1:$1048576,$C1,COLUMN())","v":"Rape meal, at oil mill/RER U"},{"$f":"INDEX($1:$1048576,$C1,COLUMN())","v":"rye grains IP, at farm/kg/CH U"},{"$f":"INDEX($1:$1048576,$C1,COLUMN())","v":"sugar beets IP, at farm/kg/CH U"},{"$f":"INDEX($1:$1048576,$C1,COLUMN())","v":"green rye conventional, at farm/kg/RER U"},{"$f":"INDEX($1:$1048576,$C1,COLUMN())","v":"grass from meadow intensive IP, at field/kg/CH U"},{"$f":"INDEX($1:$1048576,$C1,COLUMN())","v":"grass from natural meadow intensive IP, at field/kg/CH U"},{"$f":"INDEX($1:$1048576,$C1,COLUMN())","v":"Vegetable oil, from waste cooking oil, at plant/CH U"},{"$f":"INDEX($1:$1048576,$C1,COLUMN())","v":"Vinasse, at fermentation plant/CH U"},{"$f":"INDEX($1:$1048576,$C1,COLUMN())","v":"glycerine, from vegetable oil, at esterification plant/kg/RER U"},{"$f":"INDEX($1:$1048576,$C1,COLUMN())","v":"glycerine, from animal fat, at esterification plant/kg/RER U"},{"$f":"INDEX($1:$1048576,$C1,COLUMN())","v":"glycerine, from vegetable oil, at esterification plant/kg/RER U"},{"$f":"INDEX($1:$1048576,$C1,COLUMN())","v":"glycerine, from rape oil, at esterification plant/kg/RER U"},{"$f":"INDEX($1:$1048576,$C1,COLUMN())","v":"glycerine, from soybean oil, at esterification plant/kg/RER U"},{"$f":"INDEX($1:$1048576,$C1,COLUMN())","v":"glycerine, from palm oil, at esterification plant/kg/RER U"},{"$f":"INDEX($1:$1048576,$C1,COLUMN())","v":"Pulps, from sugar beet, at sugar refinery/CH U"},{"$f":"INDEX($1:$1048576,$C1,COLUMN())","v":"Urea, as N, at regional storehouse/RER U"},{"$f":"INDEX($1:$1048576,$C1,COLUMN())","v":"Sodium hydroxide, 50% in H2O, production mix, at plant/RER U"},{"$f":"INDEX($1:$1048576,$C1,COLUMN())","v":"Hydrogen peroxide, 50% in H2O, at plant/RER U"},{"$f":"INDEX($1:$1048576,$C1,COLUMN())","v":"Iron (III) chloride, 40% in H2O, at plant/CH U"},{"$f":"INDEX($1:$1048576,$C1,COLUMN())","v":"threshold value, methane/kWh/CH U"},{"$f":"INDEX($1:$1048576,$C1,COLUMN())","v":"threshold value, heat/kWh/CH U"},{"$f":"INDEX($1:$1048576,$C1,COLUMN())","v":"threshold value, electricity/kWh/CH U"},{"$f":"INDEX($1:$1048576,$C1,COLUMN())","v":"threshold value, cooling/kWh/CH U"},{"$f":"INDEX($1:$1048576,$C1,COLUMN())","v":"reference value, manure/kg/CH U"},{"$f":"INDEX($1:$1048576,$C1,COLUMN())","v":"reference value, manure/kg/DE U"},{"$f":"INDEX($1:$1048576,$C1,COLUMN())","v":"reference value, manure/kg/DK U"},{"$f":"INDEX($1:$1048576,$C1,COLUMN())","v":"reference value, manure/kg/GB U"},{"$f":"INDEX($1:$1048576,$C1,COLUMN())","v":"reference value, manure/kg/HU U"},{"$f":"INDEX($1:$1048576,$C1,COLUMN())","v":"reference value, manure/kg/ES U"},{"$f":"INDEX($1:$1048576,$C1,COLUMN())","v":"reference value, digested matter, liquid/kg/CH U"},{"$f":"INDEX($1:$1048576,$C1,COLUMN())","v":"reference value, digested matter, solid/kg/CH U"},{"$f":"INDEX($1:$1048576,$C1,COLUMN())","v":"reference value, co-substrate disposal/CHF/CH U"},{"$f":"INDEX($1:$1048576,$C1,COLUMN())","v":"reference value, raw sewage sludge treatment/kg/CH U"},{"$f":"INDEX($1:$1048576,$C1,COLUMN())","v":"reference value, fuel from digester sludge/kg/CH U"},{"$f":"INDEX($1:$1048576,$C1,COLUMN())","v":"reference value, paper production effluent/kg/CH U"},{"$f":"INDEX($1:$1048576,$C1,COLUMN())","v":0},{"$f":"INDEX($1:$1048576,$C1,COLUMN())","v":0},{"$f":"INDEX($1:$1048576,$C1,COLUMN())","v":0},{"$f":"INDEX($1:$1048576,$C1,COLUMN())","v":0},{"$f":"INDEX($1:$1048576,$C1,COLUMN())","v":0}]
["Eco-indicator 99 (H) V2.10 / Europe EI 99 H/A",{"$f":"MATCH(A2,D:D,0)","v":107},{"$f":"$B2+11","v":118},{"$f":"ROW()","v":2},{"$f":"INDEX($1:$1048576,$C2,COLUMN())","v":1.1202814999999999},{"$f":"INDEX($1:$1048576,$C2,COLUMN())","v":0.22316032999999999},{"$f":"INDEX($1:$1048576,$C2,COLUMN())","v":3.8709558999999998},{"$f":"INDEX($1:$1048576,$C2,COLUMN())","v":2.6856211000000001E-2},{"$f":"INDEX($1:$1048576,$C2,COLUMN())","v":7.7551724000000004E-3},{"$f":"INDEX($1:$1048576,$C2,COLUMN())","v":2.179062E-2},{"$f":"INDEX($1:$1048576,$C2,COLUMN())","v":3.0534234E-2},{"$f":"INDEX($1:$1048576,$C2,COLUMN())","v":1.7094893999999999E-2},{"$f":"INDEX($1:$1048576,$C2,COLUMN())","v":2.9890849000000001E-2},{"$f":"INDEX($1:$1048576,$C2,COLUMN())","v":2.8508487999999998E-2},{"$f":"INDEX($1:$1048576,$C2,COLUMN())","v":1.1786945E-3},{"$f":"INDEX($1:$1048576,$C2,COLUMN())","v":2.4904208E-3},{"$f":"INDEX($1:$1048576,$C2,COLUMN())","v":2.3107165999999998E-2},{"$f":"INDEX($1:$1048576,$C2,COLUMN())","v":2.4387327E-2},{"$f":"INDEX($1:$1048576,$C2,COLUMN())","v":3.1423139000000003E-2},{"$f":"INDEX($1:$1048576,$C2,COLUMN())","v":1.9630523E-2},{"$f":"INDEX($1:$1048576,$C2,COLUMN())","v":1.5669450000000001E-2},{"$f":"INDEX($1:$1048576,$C2,COLUMN())","v":5.6241117E-3},{"$f":"INDEX($1:$1048576,$C2,COLUMN())","v":0},{"$f":"INDEX($1:$1048576,$C2,COLUMN())","v":7.6548136999999997E-3},{"$f":"INDEX($1:$1048576,$C2,COLUMN())","v":1.10153E-2},{"$f":"INDEX($1:$1048576,$C2,COLUMN())","v":8.1645636000000008E-3},{"$f":"INDEX($1:$1048576,$C2,COLUMN())","v":1.8041395999999999E-4},{"$f":"INDEX($1:$1048576,$C2,COLUMN())","v":1.9633494000000001E-2},{"$f":"INDEX($1:$1048576,$C2,COLUMN())","v":3.8704224000000002E-2},{"$f":"INDEX($1:$1048576,$C2,COLUMN())","v":1.2469478000000001E-2},{"$f":"INDEX($1:$1048576,$C2,COLUMN())","v":8.0497668999999995E-5},{"$f":"INDEX($1:$1048576,$C2,COLUMN())","v":1.3248165E-4},{"$f":"INDEX($1:$1048576,$C2,COLUMN())","v":4.1329888E-3},{"$f":"INDEX($1:$1048576,$C2,COLUMN())","v":6.8145254000000002E-3},{"$f":"INDEX($1:$1048576,$C2,COLUMN())","v":6.8324414E-3},{"$f":"INDEX($1:$1048576,$C2,COLUMN())","v":6.8722653000000003E-3},{"$f":"INDEX($1:$1048576,$C2,COLUMN())","v":6.6364822E-3},{"$f":"INDEX($1:$1048576,$C2,COLUMN())","v":6.2607935999999999E-3},{"$f":"INDEX($1:$1048576,$C2,COLUMN())","v":4.4477209999999996},{"$f":"INDEX($1:$1048576,$C2,COLUMN())","v":1.8041395999999999E-4},{"$f":"INDEX($1:$1048576,$C2,COLUMN())","v":55.835211999999999},{"$f":"INDEX($1:$1048576,$C2,COLUMN())","v":56.857430999999998},{"$f":"INDEX($1:$1048576,$C2,COLUMN())","v":5.9220683999999997},{"$f":"INDEX($1:$1048576,$C2,COLUMN())","v":59.342305000000003},{"$f":"INDEX($1:$1048576,$C2,COLUMN())","v":5.1576711999999997E-2},{"$f":"INDEX($1:$1048576,$C2,COLUMN())","v":0.21488636999999999},{"$f":"INDEX($1:$1048576,$C2,COLUMN())","v":3.1186946E-2},{"$f":"INDEX($1:$1048576,$C2,COLUMN())","v":4.3371291999999999E-2},{"$f":"INDEX($1:$1048576,$C2,COLUMN())","v":0.19922276999999999},{"$f":"INDEX($1:$1048576,$C2,COLUMN())","v":3.3835951},{"$f":"INDEX($1:$1048576,$C2,COLUMN())","v":8.5317971000000006E-2},{"$f":"INDEX($1:$1048576,$C2,COLUMN())","v":6.9144761999999999E-2},{"$f":"INDEX($1:$1048576,$C2,COLUMN())","v":5.1351029999999999E-2},{"$f":"INDEX($1:$1048576,$C2,COLUMN())","v":0.16934110999999999},{"$f":"INDEX($1:$1048576,$C2,COLUMN())","v":8.6701998000000002E-2},{"$f":"INDEX($1:$1048576,$C2,COLUMN())","v":1.0494498999999999},{"$f":"INDEX($1:$1048576,$C2,COLUMN())","v":1.1411245999999999},{"$f":"INDEX($1:$1048576,$C2,COLUMN())","v":6.6147995000000001E-2},{"$f":"INDEX($1:$1048576,$C2,COLUMN())","v":2.4119439999999999E-2},{"$f":"INDEX($1:$1048576,$C2,COLUMN())","v":3.4792174000000002E-2},{"$f":"INDEX($1:$1048576,$C2,COLUMN())","v":4.3218413999999997E-2},{"$f":"INDEX($1:$1048576,$C2,COLUMN())","v":0.12855459999999999},{"$f":"INDEX($1:$1048576,$C2,COLUMN())","v":3.8401250999999997E-2},{"$f":"INDEX($1:$1048576,$C2,COLUMN())","v":2.6938026000000002},{"$f":"INDEX($1:$1048576,$C2,COLUMN())","v":2.0938855999999999E-2},{"$f":"INDEX($1:$1048576,$C2,COLUMN())","v":1.8123849000000001E-2},{"$f":"INDEX($1:$1048576,$C2,COLUMN())","v":0.2435765},{"$f":"INDEX($1:$1048576,$C2,COLUMN())","v":0.15934189000000001},{"$f":"INDEX($1:$1048576,$C2,COLUMN())","v":1.1710329E-2},{"$f":"INDEX($1:$1048576,$C2,COLUMN())","v":4.7983638000000002E-2},{"$f":"INDEX($1:$1048576,$C2,COLUMN())","v":1.3784965999999999E-2},{"$f":"INDEX($1:$1048576,$C2,COLUMN())","v":1.0637446E-2},{"$f":"INDEX($1:$1048576,$C2,COLUMN())","v":1.3148842000000001E-2},{"$f":"INDEX($1:$1048576,$C2,COLUMN())","v":3.3223924000000001E-3},{"$f":"INDEX($1:$1048576,$C2,COLUMN())","v":1.4619866E-2},{"$f":"INDEX($1:$1048576,$C2,COLUMN())","v":2.8969559999999998E-2},{"$f":"INDEX($1:$1048576,$C2,COLUMN())","v":1.4619866E-2},{"$f":"INDEX($1:$1048576,$C2,COLUMN())","v":0.46450736999999998},{"$f":"INDEX($1:$1048576,$C2,COLUMN())","v":0.42199742000000001},{"$f":"INDEX($1:$1048576,$C2,COLUMN())","v":0.18302265000000001},{"$f":"INDEX($1:$1048576,$C2,COLUMN())","v":2.4965225999999999E-3},{"$f":"INDEX($1:$1048576,$C2,COLUMN())","v":0.37133206000000002},{"$f":"INDEX($1:$1048576,$C2,COLUMN())","v":6.2868839999999995E-2},{"$f":"INDEX($1:$1048576,$C2,COLUMN())","v":9.3247556999999995E-2},{"$f":"INDEX($1:$1048576,$C2,COLUMN())","v":5.5878419999999998E-2},{"$f":"INDEX($1:$1048576,$C2,COLUMN())","v":9.4314771999999998E-3},{"$f":"INDEX($1:$1048576,$C2,COLUMN())","v":9.6189563999999998E-3},{"$f":"INDEX($1:$1048576,$C2,COLUMN())","v":1.6873467E-2},{"$f":"INDEX($1:$1048576,$C2,COLUMN())","v":2.5983502000000002E-3},{"$f":"INDEX($1:$1048576,$C2,COLUMN())","v":3.3569795999999999E-6},{"$f":"INDEX($1:$1048576,$C2,COLUMN())","v":8.6202727000000008E-6},{"$f":"INDEX($1:$1048576,$C2,COLUMN())","v":6.8593750999999998E-6},{"$f":"INDEX($1:$1048576,$C2,COLUMN())","v":1.1657858000000001E-5},{"$f":"INDEX($1:$1048576,$C2,COLUMN())","v":1.1899127999999999E-5},{"$f":"INDEX($1:$1048576,$C2,COLUMN())","v":1.1139473E-5},{"$f":"INDEX($1:$1048576,$C2,COLUMN())","v":2.4415176999999997E-4},{"$f":"INDEX($1:$1048576,$C2,COLUMN())","v":1.0290385000000001E-3},{"$f":"INDEX($1:$1048576,$C2,COLUMN())","v":3.8237027E-2},{"$f":"INDEX($1:$1048576,$C2,COLUMN())","v":7.2851484000000001E-3},{"$f":"INDEX($1:$1048576,$C2,COLUMN())","v":2.7296597999999998E-2},{"$f":"INDEX($1:$1048576,$C2,COLUMN())","v":7.6893820000000002E-2},{"$f":"INDEX($1:$1048576,$C2,COLUMN())","v":0},{"$f":"INDEX($1:$1048576,$C2,COLUMN())","v":0},{"$f":"INDEX($1:$1048576,$C2,COLUMN())","v":0},{"$f":"INDEX($1:$1048576,$C2,COLUMN())","v":0},{"$f":"INDEX($1:$1048576,$C2,COLUMN())","v":0}]
["IPCC 2013 GWP 100a with RFI V1.04",{"$f":"MATCH(A3,D:D,0)","v":227},{"$f":"$B3+10","v":237},{"$f":"ROW()","v":3},{"$f":"INDEX($1:$1048576,$C3,COLUMN())","v":9.6459115999999998},{"$f":"INDEX($1:$1048576,$C3,COLUMN())","v":2.0817703000000001},{"$f":"INDEX($1:$1048576,$C3,COLUMN())","v":41.245741000000002},{"$f":"INDEX($1:$1048576,$C3,COLUMN())","v":0.43377016000000002},{"$f":"INDEX($1:$1048576,$C3,COLUMN())","v":9.8195332999999996E-2},{"$f":"INDEX($1:$1048576,$C3,COLUMN())","v":0.61522162000000002},{"$f":"INDEX($1:$1048576,$C3,COLUMN())","v":0.46872118000000002},{"$f":"INDEX($1:$1048576,$C3,COLUMN())","v":0.32377841000000002},{"$f":"INDEX($1:$1048576,$C3,COLUMN())","v":0.37382535},{"$f":"INDEX($1:$1048576,$C3,COLUMN())","v":0.31993857999999997},{"$f":"INDEX($1:$1048576,$C3,COLUMN())","v":1.2618241000000001E-2},{"$f":"INDEX($1:$1048576,$C3,COLUMN())","v":2.8919218999999999E-2},{"$f":"INDEX($1:$1048576,$C3,COLUMN())","v":0.35511542000000001},{"$f":"INDEX($1:$1048576,$C3,COLUMN())","v":0.35963353999999997},{"$f":"INDEX($1:$1048576,$C3,COLUMN())","v":0.39764158999999999},{"$f":"INDEX($1:$1048576,$C3,COLUMN())","v":0.26504651000000001},{"$f":"INDEX($1:$1048576,$C3,COLUMN())","v":0.18548255},{"$f":"INDEX($1:$1048576,$C3,COLUMN())","v":0.12373965000000001},{"$f":"INDEX($1:$1048576,$C3,COLUMN())","v":0},{"$f":"INDEX($1:$1048576,$C3,COLUMN())","v":6.4853483000000003E-2},{"$f":"INDEX($1:$1048576,$C3,COLUMN())","v":1.6797880000000001E-2},{"$f":"INDEX($1:$1048576,$C3,COLUMN())","v":3.4773997000000001E-2},{"$f":"INDEX($1:$1048576,$C3,COLUMN())","v":3.1971303E-3},{"$f":"INDEX($1:$1048576,$C3,COLUMN())","v":0.1860802},{"$f":"INDEX($1:$1048576,$C3,COLUMN())","v":0.31627283},{"$f":"INDEX($1:$1048576,$C3,COLUMN())","v":1.9884818},{"$f":"INDEX($1:$1048576,$C3,COLUMN())","v":1.7409274999999999E-3},{"$f":"INDEX($1:$1048576,$C3,COLUMN())","v":2.2635983E-3},{"$f":"INDEX($1:$1048576,$C3,COLUMN())","v":3.50607E-2},{"$f":"INDEX($1:$1048576,$C3,COLUMN())","v":1.3300892999999999E-2},{"$f":"INDEX($1:$1048576,$C3,COLUMN())","v":2.3246961E-2},{"$f":"INDEX($1:$1048576,$C3,COLUMN())","v":3.7012110000000001E-2},{"$f":"INDEX($1:$1048576,$C3,COLUMN())","v":2.7611261000000001E-3},{"$f":"INDEX($1:$1048576,$C3,COLUMN())","v":4.0108635E-4},{"$f":"INDEX($1:$1048576,$C3,COLUMN())","v":0},{"$f":"INDEX($1:$1048576,$C3,COLUMN())","v":3.1971303E-3},{"$f":"INDEX($1:$1048576,$C3,COLUMN())","v":3.4506383999999999},{"$f":"INDEX($1:$1048576,$C3,COLUMN())","v":1.322713},{"$f":"INDEX($1:$1048576,$C3,COLUMN())","v":53.293982},{"$f":"INDEX($1:$1048576,$C3,COLUMN())","v":83.806855999999996},{"$f":"INDEX($1:$1048576,$C3,COLUMN())","v":0.43343807000000001},{"$f":"INDEX($1:$1048576,$C3,COLUMN())","v":2.8380448},{"$f":"INDEX($1:$1048576,$C3,COLUMN())","v":0.49922933000000003},{"$f":"INDEX($1:$1048576,$C3,COLUMN())","v":0.14767585},{"$f":"INDEX($1:$1048576,$C3,COLUMN())","v":1.0290319000000001},{"$f":"INDEX($1:$1048576,$C3,COLUMN())","v":13.539123999999999},{"$f":"INDEX($1:$1048576,$C3,COLUMN())","v":0.51963713},{"$f":"INDEX($1:$1048576,$C3,COLUMN())","v":0.31007410000000002},{"$f":"INDEX($1:$1048576,$C3,COLUMN())","v":0.55494337000000005},{"$f":"INDEX($1:$1048576,$C3,COLUMN())","v":0.95460244999999999},{"$f":"INDEX($1:$1048576,$C3,COLUMN())","v":0.49799823999999998},{"$f":"INDEX($1:$1048576,$C3,COLUMN())","v":10.409007000000001},{"$f":"INDEX($1:$1048576,$C3,COLUMN())","v":2.6307475},{"$f":"INDEX($1:$1048576,$C3,COLUMN())","v":9.7867872999999994E-2},{"$f":"INDEX($1:$1048576,$C3,COLUMN())","v":0.3107837},{"$f":"INDEX($1:$1048576,$C3,COLUMN())","v":8.7099865999999998E-2},{"$f":"INDEX($1:$1048576,$C3,COLUMN())","v":7.5660719000000001E-2},{"$f":"INDEX($1:$1048576,$C3,COLUMN())","v":0.22039791},{"$f":"INDEX($1:$1048576,$C3,COLUMN())","v":0.10490057},{"$f":"INDEX($1:$1048576,$C3,COLUMN())","v":3.1691595000000001},{"$f":"INDEX($1:$1048576,$C3,COLUMN())","v":5.6959546999999999E-2},{"$f":"INDEX($1:$1048576,$C3,COLUMN())","v":0.11457455},{"$f":"INDEX($1:$1048576,$C3,COLUMN())","v":0.56102805},{"$f":"INDEX($1:$1048576,$C3,COLUMN())","v":0.38890174999999999},{"$f":"INDEX($1:$1048576,$C3,COLUMN())","v":5.5972186E-2},{"$f":"INDEX($1:$1048576,$C3,COLUMN())","v":3.7781716999999999E-2},{"$f":"INDEX($1:$1048576,$C3,COLUMN())","v":2.6730118000000001E-2},{"$f":"INDEX($1:$1048576,$C3,COLUMN())","v":2.3989527E-2},{"$f":"INDEX($1:$1048576,$C3,COLUMN())","v":0.13233481999999999},{"$f":"INDEX($1:$1048576,$C3,COLUMN())","v":2.1613257E-2},{"$f":"INDEX($1:$1048576,$C3,COLUMN())","v":0.12896605},{"$f":"INDEX($1:$1048576,$C3,COLUMN())","v":0.33318985000000001},{"$f":"INDEX($1:$1048576,$C3,COLUMN())","v":0.12896605},{"$f":"INDEX($1:$1048576,$C3,COLUMN())","v":1.1333820999999999},{"$f":"INDEX($1:$1048576,$C3,COLUMN())","v":1.0894212000000001},{"$f":"INDEX($1:$1048576,$C3,COLUMN())","v":0.70449589000000001},{"$f":"INDEX($1:$1048576,$C3,COLUMN())","v":1.4752965E-2},{"$f":"INDEX($1:$1048576,$C3,COLUMN())","v":3.5942552000000001},{"$f":"INDEX($1:$1048576,$C3,COLUMN())","v":1.0405936},{"$f":"INDEX($1:$1048576,$C3,COLUMN())","v":1.1573009000000001},{"$f":"INDEX($1:$1048576,$C3,COLUMN())","v":0.76409797000000002},{"$f":"INDEX($1:$1048576,$C3,COLUMN())","v":0.12810348999999999},{"$f":"INDEX($1:$1048576,$C3,COLUMN())","v":0.12987278999999999},{"$f":"INDEX($1:$1048576,$C3,COLUMN())","v":0.22413593000000001},{"$f":"INDEX($1:$1048576,$C3,COLUMN())","v":1.8602695999999998E-2},{"$f":"INDEX($1:$1048576,$C3,COLUMN())","v":4.2786E-5},{"$f":"INDEX($1:$1048576,$C3,COLUMN())","v":2.3667086E-4},{"$f":"INDEX($1:$1048576,$C3,COLUMN())","v":1.2737965000000001E-4},{"$f":"INDEX($1:$1048576,$C3,COLUMN())","v":1.4614726E-4},{"$f":"INDEX($1:$1048576,$C3,COLUMN())","v":1.8173319E-4},{"$f":"INDEX($1:$1048576,$C3,COLUMN())","v":1.2593972000000001E-4},{"$f":"INDEX($1:$1048576,$C3,COLUMN())","v":3.8225554999999998E-3},{"$f":"INDEX($1:$1048576,$C3,COLUMN())","v":1.6111113E-2},{"$f":"INDEX($1:$1048576,$C3,COLUMN())","v":0.59865696999999995},{"$f":"INDEX($1:$1048576,$C3,COLUMN())","v":8.4647179000000003E-2},{"$f":"INDEX($1:$1048576,$C3,COLUMN())","v":0.36480127000000001},{"$f":"INDEX($1:$1048576,$C3,COLUMN())","v":1.5522024999999999},{"$f":"INDEX($1:$1048576,$C3,COLUMN())","v":0},{"$f":"INDEX($1:$1048576,$C3,COLUMN())","v":0},{"$f":"INDEX($1:$1048576,$C3,COLUMN())","v":0},{"$f":"INDEX($1:$1048576,$C3,COLUMN())","v":0},{"$f":"INDEX($1:$1048576,$C3,COLUMN())","v":0}]
["Cumulative Energy Demand, differenziert V1.04 / CED, non-renewable",{"$f":"MATCH(A4,D:D,0)","v":349},{"$f":"$B4+10","v":359},{"$f":"ROW()","v":4},{"$f":"INDEX($1:$1048576,$C4,COLUMN())","v":113.85905},{"$f":"INDEX($1:$1048576,$C4,COLUMN())","v":18.377621999999999},{"$f":"INDEX($1:$1048576,$C4,COLUMN())","v":490.07040000000001},{"$f":"INDEX($1:$1048576,$C4,COLUMN())","v":7.3437758999999998},{"$f":"INDEX($1:$1048576,$C4,COLUMN())","v":4.6646599000000002},{"$f":"INDEX($1:$1048576,$C4,COLUMN())","v":8.9743510999999998},{"$f":"INDEX($1:$1048576,$C4,COLUMN())","v":12.253833},{"$f":"INDEX($1:$1048576,$C4,COLUMN())","v":4.4825818000000002},{"$f":"INDEX($1:$1048576,$C4,COLUMN())","v":9.7454263000000001},{"$f":"INDEX($1:$1048576,$C4,COLUMN())","v":7.7765722999999998},{"$f":"INDEX($1:$1048576,$C4,COLUMN())","v":0.10990161},{"$f":"INDEX($1:$1048576,$C4,COLUMN())","v":0.29058321999999998},{"$f":"INDEX($1:$1048576,$C4,COLUMN())","v":4.7234866000000002},{"$f":"INDEX($1:$1048576,$C4,COLUMN())","v":4.5945083000000002},{"$f":"INDEX($1:$1048576,$C4,COLUMN())","v":5.2771273000000001},{"$f":"INDEX($1:$1048576,$C4,COLUMN())","v":4.3627019000000002},{"$f":"INDEX($1:$1048576,$C4,COLUMN())","v":1.1761693},{"$f":"INDEX($1:$1048576,$C4,COLUMN())","v":1.1017815},{"$f":"INDEX($1:$1048576,$C4,COLUMN())","v":0},{"$f":"INDEX($1:$1048576,$C4,COLUMN())","v":0.86972704999999995},{"$f":"INDEX($1:$1048576,$C4,COLUMN())","v":0.28995820999999999},{"$f":"INDEX($1:$1048576,$C4,COLUMN())","v":0.62836199000000004},{"$f":"INDEX($1:$1048576,$C4,COLUMN())","v":0.1120796},{"$f":"INDEX($1:$1048576,$C4,COLUMN())","v":2.7697672},{"$f":"INDEX($1:$1048576,$C4,COLUMN())","v":4.6316800000000002},{"$f":"INDEX($1:$1048576,$C4,COLUMN())","v":0},{"$f":"INDEX($1:$1048576,$C4,COLUMN())","v":1.1664991E-2},{"$f":"INDEX($1:$1048576,$C4,COLUMN())","v":1.9830483999999999E-2},{"$f":"INDEX($1:$1048576,$C4,COLUMN())","v":0},{"$f":"INDEX($1:$1048576,$C4,COLUMN())","v":4.0694498000000003E-2},{"$f":"INDEX($1:$1048576,$C4,COLUMN())","v":4.7495755000000001E-2},{"$f":"INDEX($1:$1048576,$C4,COLUMN())","v":3.5987559000000002E-2},{"$f":"INDEX($1:$1048576,$C4,COLUMN())","v":1.9703741E-2},{"$f":"INDEX($1:$1048576,$C4,COLUMN())","v":1.7875002000000001E-3},{"$f":"INDEX($1:$1048576,$C4,COLUMN())","v":0},{"$f":"INDEX($1:$1048576,$C4,COLUMN())","v":0.1120796},{"$f":"INDEX($1:$1048576,$C4,COLUMN())","v":49.862819999999999},{"$f":"INDEX($1:$1048576,$C4,COLUMN())","v":19.017469999999999},{"$f":"INDEX($1:$1048576,$C4,COLUMN())","v":419.26762000000002},{"$f":"INDEX($1:$1048576,$C4,COLUMN())","v":2328.4213},{"$f":"INDEX($1:$1048576,$C4,COLUMN())","v":5.3151238000000003},{"$f":"INDEX($1:$1048576,$C4,COLUMN())","v":43.467542000000002},{"$f":"INDEX($1:$1048576,$C4,COLUMN())","v":6.6762002999999996},{"$f":"INDEX($1:$1048576,$C4,COLUMN())","v":1.5789483},{"$f":"INDEX($1:$1048576,$C4,COLUMN())","v":11.952499},{"$f":"INDEX($1:$1048576,$C4,COLUMN())","v":94.411681999999999},{"$f":"INDEX($1:$1048576,$C4,COLUMN())","v":3.9641310000000001},{"$f":"INDEX($1:$1048576,$C4,COLUMN())","v":2.8153844000000001},{"$f":"INDEX($1:$1048576,$C4,COLUMN())","v":8.9965655000000009},{"$f":"INDEX($1:$1048576,$C4,COLUMN())","v":4.9674886000000003},{"$f":"INDEX($1:$1048576,$C4,COLUMN())","v":2.7906745000000002},{"$f":"INDEX($1:$1048576,$C4,COLUMN())","v":33.174447999999998},{"$f":"INDEX($1:$1048576,$C4,COLUMN())","v":21.694472999999999},{"$f":"INDEX($1:$1048576,$C4,COLUMN())","v":0.64454557999999995},{"$f":"INDEX($1:$1048576,$C4,COLUMN())","v":5.0917567999999997},{"$f":"INDEX($1:$1048576,$C4,COLUMN())","v":0.54378972000000003},{"$f":"INDEX($1:$1048576,$C4,COLUMN())","v":0.49356214999999998},{"$f":"INDEX($1:$1048576,$C4,COLUMN())","v":2.2985310000000001},{"$f":"INDEX($1:$1048576,$C4,COLUMN())","v":0.78467224000000002},{"$f":"INDEX($1:$1048576,$C4,COLUMN())","v":20.098161999999999},{"$f":"INDEX($1:$1048576,$C4,COLUMN())","v":0.38354432999999999},{"$f":"INDEX($1:$1048576,$C4,COLUMN())","v":1.2860362999999999},{"$f":"INDEX($1:$1048576,$C4,COLUMN())","v":4.6199390999999999},{"$f":"INDEX($1:$1048576,$C4,COLUMN())","v":2.2385139000000001},{"$f":"INDEX($1:$1048576,$C4,COLUMN())","v":0.27398787000000002},{"$f":"INDEX($1:$1048576,$C4,COLUMN())","v":0.33616061000000003},{"$f":"INDEX($1:$1048576,$C4,COLUMN())","v":0.13526832999999999},{"$f":"INDEX($1:$1048576,$C4,COLUMN())","v":0.12038635},{"$f":"INDEX($1:$1048576,$C4,COLUMN())","v":3.0833729000000001},{"$f":"INDEX($1:$1048576,$C4,COLUMN())","v":0.23603183999999999},{"$f":"INDEX($1:$1048576,$C4,COLUMN())","v":3.4277994999999999},{"$f":"INDEX($1:$1048576,$C4,COLUMN())","v":6.6899984000000003},{"$f":"INDEX($1:$1048576,$C4,COLUMN())","v":3.4277994999999999},{"$f":"INDEX($1:$1048576,$C4,COLUMN())","v":11.340457000000001},{"$f":"INDEX($1:$1048576,$C4,COLUMN())","v":8.7725588000000005},{"$f":"INDEX($1:$1048576,$C4,COLUMN())","v":7.9917385999999997},{"$f":"INDEX($1:$1048576,$C4,COLUMN())","v":0.16909608000000001},{"$f":"INDEX($1:$1048576,$C4,COLUMN())","v":65.197160999999994},{"$f":"INDEX($1:$1048576,$C4,COLUMN())","v":19.490292},{"$f":"INDEX($1:$1048576,$C4,COLUMN())","v":21.535692000000001},{"$f":"INDEX($1:$1048576,$C4,COLUMN())","v":13.856147999999999},{"$f":"INDEX($1:$1048576,$C4,COLUMN())","v":2.1268685999999999},{"$f":"INDEX($1:$1048576,$C4,COLUMN())","v":2.1377239000000001},{"$f":"INDEX($1:$1048576,$C4,COLUMN())","v":3.7050474000000002},{"$f":"INDEX($1:$1048576,$C4,COLUMN())","v":0.11010881},{"$f":"INDEX($1:$1048576,$C4,COLUMN())","v":1.8042921999999999E-3},{"$f":"INDEX($1:$1048576,$C4,COLUMN())","v":3.4204264E-3},{"$f":"INDEX($1:$1048576,$C4,COLUMN())","v":1.7360129E-3},{"$f":"INDEX($1:$1048576,$C4,COLUMN())","v":3.7095795999999999E-3},{"$f":"INDEX($1:$1048576,$C4,COLUMN())","v":4.6502319999999998E-3},{"$f":"INDEX($1:$1048576,$C4,COLUMN())","v":2.9712593000000001E-3},{"$f":"INDEX($1:$1048576,$C4,COLUMN())","v":2.0044056000000001E-2},{"$f":"INDEX($1:$1048576,$C4,COLUMN())","v":8.4480667999999995E-2},{"$f":"INDEX($1:$1048576,$C4,COLUMN())","v":3.1391339999999999},{"$f":"INDEX($1:$1048576,$C4,COLUMN())","v":0.56634165000000003},{"$f":"INDEX($1:$1048576,$C4,COLUMN())","v":6.0640739000000004},{"$f":"INDEX($1:$1048576,$C4,COLUMN())","v":25.725349999999999},{"$f":"INDEX($1:$1048576,$C4,COLUMN())","v":0},{"$f":"INDEX($1:$1048576,$C4,COLUMN())","v":0},{"$f":"INDEX($1:$1048576,$C4,COLUMN())","v":0},{"$f":"INDEX($1:$1048576,$C4,COLUMN())","v":0},{"$f":"INDEX($1:$1048576,$C4,COLUMN())","v":0}]
["Ecological Scarcity 2013, categories, res. cor. V1.03 / Ecological scarcity 2013",{"$f":"MATCH(A5,D:D,0)","v":472},{"$f":"$B5+10","v":482},{"$f":"ROW()","v":5},{"$f":"INDEX($1:$1048576,$C5,COLUMN())","v":15026.188},{"$f":"INDEX($1:$1048576,$C5,COLUMN())","v":3040.6156000000001},{"$f":"INDEX($1:$1048576,$C5,COLUMN())","v":75918.672999999995},{"$f":"INDEX($1:$1048576,$C5,COLUMN())","v":934.12477000000001},{"$f":"INDEX($1:$1048576,$C5,COLUMN())","v":177.73539},{"$f":"INDEX($1:$1048576,$C5,COLUMN())","v":453.15663000000001},{"$f":"INDEX($1:$1048576,$C5,COLUMN())","v":525.49215000000004},{"$f":"INDEX($1:$1048576,$C5,COLUMN())","v":274.23944},{"$f":"INDEX($1:$1048576,$C5,COLUMN())","v":389.32355999999999},{"$f":"INDEX($1:$1048576,$C5,COLUMN())","v":392.02352999999999},{"$f":"INDEX($1:$1048576,$C5,COLUMN())","v":25.719937000000002},{"$f":"INDEX($1:$1048576,$C5,COLUMN())","v":46.894489},{"$f":"INDEX($1:$1048576,$C5,COLUMN())","v":242.46781999999999},{"$f":"INDEX($1:$1048576,$C5,COLUMN())","v":256.65120999999999},{"$f":"INDEX($1:$1048576,$C5,COLUMN())","v":415.48111},{"$f":"INDEX($1:$1048576,$C5,COLUMN())","v":164.81960000000001},{"$f":"INDEX($1:$1048576,$C5,COLUMN())","v":233.89213000000001},{"$f":"INDEX($1:$1048576,$C5,COLUMN())","v":109.65618000000001},{"$f":"INDEX($1:$1048576,$C5,COLUMN())","v":0},{"$f":"INDEX($1:$1048576,$C5,COLUMN())","v":339.71348999999998},{"$f":"INDEX($1:$1048576,$C5,COLUMN())","v":95.210719999999995},{"$f":"INDEX($1:$1048576,$C5,COLUMN())","v":97.144915999999995},{"$f":"INDEX($1:$1048576,$C5,COLUMN())","v":5.4273455000000004},{"$f":"INDEX($1:$1048576,$C5,COLUMN())","v":251.44507999999999},{"$f":"INDEX($1:$1048576,$C5,COLUMN())","v":463.31988000000001},{"$f":"INDEX($1:$1048576,$C5,COLUMN())","v":859.92828999999995},{"$f":"INDEX($1:$1048576,$C5,COLUMN())","v":1.2522221},{"$f":"INDEX($1:$1048576,$C5,COLUMN())","v":1.8277922},{"$f":"INDEX($1:$1048576,$C5,COLUMN())","v":44.411498000000002},{"$f":"INDEX($1:$1048576,$C5,COLUMN())","v":65.943900999999997},{"$f":"INDEX($1:$1048576,$C5,COLUMN())","v":69.515546999999998},{"$f":"INDEX($1:$1048576,$C5,COLUMN())","v":74.941070999999994},{"$f":"INDEX($1:$1048576,$C5,COLUMN())","v":59.766216999999997},{"$f":"INDEX($1:$1048576,$C5,COLUMN())","v":56.411200999999998},{"$f":"INDEX($1:$1048576,$C5,COLUMN())","v":39000},{"$f":"INDEX($1:$1048576,$C5,COLUMN())","v":5.4273455000000004},{"$f":"INDEX($1:$1048576,$C5,COLUMN())","v":1168190.8},{"$f":"INDEX($1:$1048576,$C5,COLUMN())","v":1192349.8999999999},{"$f":"INDEX($1:$1048576,$C5,COLUMN())","v":86913.172000000006},{"$f":"INDEX($1:$1048576,$C5,COLUMN())","v":1641491.2},{"$f":"INDEX($1:$1048576,$C5,COLUMN())","v":3905.1736000000001},{"$f":"INDEX($1:$1048576,$C5,COLUMN())","v":28269.486000000001},{"$f":"INDEX($1:$1048576,$C5,COLUMN())","v":1975.2331999999999},{"$f":"INDEX($1:$1048576,$C5,COLUMN())","v":713.00482999999997},{"$f":"INDEX($1:$1048576,$C5,COLUMN())","v":3197.7555000000002},{"$f":"INDEX($1:$1048576,$C5,COLUMN())","v":27182.091},{"$f":"INDEX($1:$1048576,$C5,COLUMN())","v":855.18750999999997},{"$f":"INDEX($1:$1048576,$C5,COLUMN())","v":1096.8227999999999},{"$f":"INDEX($1:$1048576,$C5,COLUMN())","v":927.86649999999997},{"$f":"INDEX($1:$1048576,$C5,COLUMN())","v":1516.2409},{"$f":"INDEX($1:$1048576,$C5,COLUMN())","v":783.06817999999998},{"$f":"INDEX($1:$1048576,$C5,COLUMN())","v":14466.371999999999},{"$f":"INDEX($1:$1048576,$C5,COLUMN())","v":9628.0306},{"$f":"INDEX($1:$1048576,$C5,COLUMN())","v":550.096},{"$f":"INDEX($1:$1048576,$C5,COLUMN())","v":227.52576999999999},{"$f":"INDEX($1:$1048576,$C5,COLUMN())","v":317.87313999999998},{"$f":"INDEX($1:$1048576,$C5,COLUMN())","v":248.45686000000001},{"$f":"INDEX($1:$1048576,$C5,COLUMN())","v":1029.6804999999999},{"$f":"INDEX($1:$1048576,$C5,COLUMN())","v":798.06155000000001},{"$f":"INDEX($1:$1048576,$C5,COLUMN())","v":11949.826999999999},{"$f":"INDEX($1:$1048576,$C5,COLUMN())","v":185.49520999999999},{"$f":"INDEX($1:$1048576,$C5,COLUMN())","v":316.16967},{"$f":"INDEX($1:$1048576,$C5,COLUMN())","v":2054.8199},{"$f":"INDEX($1:$1048576,$C5,COLUMN())","v":2377.8107},{"$f":"INDEX($1:$1048576,$C5,COLUMN())","v":211.78297000000001},{"$f":"INDEX($1:$1048576,$C5,COLUMN())","v":306.29455000000002},{"$f":"INDEX($1:$1048576,$C5,COLUMN())","v":120.10393999999999},{"$f":"INDEX($1:$1048576,$C5,COLUMN())","v":90.234363000000002},{"$f":"INDEX($1:$1048576,$C5,COLUMN())","v":151.14988},{"$f":"INDEX($1:$1048576,$C5,COLUMN())","v":55.374447000000004},{"$f":"INDEX($1:$1048576,$C5,COLUMN())","v":142.27323000000001},{"$f":"INDEX($1:$1048576,$C5,COLUMN())","v":276.24950000000001},{"$f":"INDEX($1:$1048576,$C5,COLUMN())","v":142.27323000000001},{"$f":"INDEX($1:$1048576,$C5,COLUMN())","v":3920.6516000000001},{"$f":"INDEX($1:$1048576,$C5,COLUMN())","v":3401.7422000000001},{"$f":"INDEX($1:$1048576,$C5,COLUMN())","v":1281.4287999999999},{"$f":"INDEX($1:$1048576,$C5,COLUMN())","v":45.250048},{"$f":"INDEX($1:$1048576,$C5,COLUMN())","v":3454.2310000000002},{"$f":"INDEX($1:$1048576,$C5,COLUMN())","v":1348.2847999999999},{"$f":"INDEX($1:$1048576,$C5,COLUMN())","v":1292.0724},{"$f":"INDEX($1:$1048576,$C5,COLUMN())","v":1400.3979999999999},{"$f":"INDEX($1:$1048576,$C5,COLUMN())","v":76.642319000000001},{"$f":"INDEX($1:$1048576,$C5,COLUMN())","v":80.761602999999994},{"$f":"INDEX($1:$1048576,$C5,COLUMN())","v":138.24521999999999},{"$f":"INDEX($1:$1048576,$C5,COLUMN())","v":54.218124000000003},{"$f":"INDEX($1:$1048576,$C5,COLUMN())","v":7.4856575999999994E-2},{"$f":"INDEX($1:$1048576,$C5,COLUMN())","v":0.17813954000000001},{"$f":"INDEX($1:$1048576,$C5,COLUMN())","v":0.11104559},{"$f":"INDEX($1:$1048576,$C5,COLUMN())","v":0.15420213999999999},{"$f":"INDEX($1:$1048576,$C5,COLUMN())","v":0.20526536000000001},{"$f":"INDEX($1:$1048576,$C5,COLUMN())","v":0.15521462999999999},{"$f":"INDEX($1:$1048576,$C5,COLUMN())","v":6.0359978999999999},{"$f":"INDEX($1:$1048576,$C5,COLUMN())","v":25.440217000000001},{"$f":"INDEX($1:$1048576,$C5,COLUMN())","v":945.30798000000004},{"$f":"INDEX($1:$1048576,$C5,COLUMN())","v":107.04373},{"$f":"INDEX($1:$1048576,$C5,COLUMN())","v":223.62377000000001},{"$f":"INDEX($1:$1048576,$C5,COLUMN())","v":3357.3582999999999},{"$f":"INDEX($1:$1048576,$C5,COLUMN())","v":0},{"$f":"INDEX($1:$1048576,$C5,COLUMN())","v":0},{"$f":"INDEX($1:$1048576,$C5,COLUMN())","v":0},{"$f":"INDEX($1:$1048576,$C5,COLUMN())","v":0},{"$f":"INDEX($1:$1048576,$C5,COLUMN())","v":0}]
[]
[]
[null,null,"Calculation: ","Compare"]
[null,null,"Results: ","Impact assessment"]
[null,null,"Product 1: ","0.0001 p anaerobic digestion plant covered, agriculture/CH/I U (of project ESU database 2021 UVEK)"]
[null,null,"Product 2: ","1.2E-5 p Anaerobic digestion plant, sewage sludge/CH/I U (of project ESU database 2021 UVEK)"]
[null,null,"Product 3: ","6.67E-5 p anaerobic digestion plant, biowaste/CH/I U (of project ESU database 2021 UVEK)"]
[null,null,"Product 4: ","1 ton tap water, unspecified natural origin RER, at user/kg/RER U (of project ESU database 2021 UVEK)"]
[null,null,"Product 5: ","1 kWh Electricity, medium voltage {CH}| market for | Cut-off, S (of project Ecoinvent 3 - allocation, cut-off by classification - system)"]
[null,null,"Product 6: ","1 kWh Electricity, medium voltage {DE}| market for | Cut-off, S (of project Ecoinvent 3 - allocation, cut-off by classification - system)"]
[null,null,"Product 7: ","1 kWh Electricity, medium voltage {HU}| market for | Cut-off, S (of project Ecoinvent 3 - allocation, cut-off by classification - system)"]
[null,null,"Product 8: ","1 kWh Electricity, medium voltage {DK}| market for | Cut-off, S (of project Ecoinvent 3 - allocation, cut-off by classification - system)"]
[null,null,"Product 9: ","1 kWh Electricity, medium voltage {GB}| market for | Cut-off, S (of project Ecoinvent 3 - allocation, cut-off by classification - system)"]
[null,null,"Product 10: ","1 kWh Electricity, medium voltage {ES}| market for | Cut-off, S (of project Ecoinvent 3 - allocation, cut-off by classification - system)"]
[null,null,"Product 11: ","1 kWh electricity, medium voltage, naturemade star, at grid/CH U (of project 208 naturemade KWM)"]
[null,null,"Product 12: ","1 kWh electricity, medium voltage, renewable, at grid/kWh/RER U (of project ESU database 2021 UVEK)"]
[null,null,"Product 13: ","1 kWh light fuel oil, burned in industrial furnace 1MW, non-modulating/MJ/RER U (of project ESU database 2021 UVEK)"]
[null,null,"Product 14: ","1 kWh oil combustion, in cogen with ignition gas engine/MJ/CH U (of project 208 naturemade KWM)"]
[null,null,"Product 15: ","1 kWh diesel, burned in building machine, average/MJ/CH U (of project ESU database 2021 UVEK)"]
[null,null,"Product 16: ","1 kWh Natural gas, burned in boiler condensing modulating >100kW/RER U (of project ESU database 2021 UVEK)"]
[null,null,"Product 17: ","1 kWh biomethane, burned in boiler condensing modulating >100kW/RER U (of project 208 naturemade KWM)"]
[null,null,"Product 18: ","1 kWh biomethane, naturemade star, burned in boiler condensing modulating >100kW/RER U (of project 208 naturemade KWM)"]
[null,null,"Product 19: ","1 kWh Heat from waste, at municipal waste incineration plant/CH U (of project ESU database 2021 UVEK)"]
[null,null,"Product 20: ","1 kWh Heat, digester sludge, at incineration plant, future, allocation price/CH U (of project ESU database 2021 UVEK)"]
[null,null,"Product 21: ","1 kWh Wood chips, from forest, mixed, burned in furnace 1000kW/CH U (of project ESU database 2021 UVEK)"]
[null,null,"Product 22: ","1 kWh Pellets, mixed, burned in furnace 50kW/CH U (of project ESU database 2021 UVEK)"]
[null,null,"Product 23: ","1 kWh transport, district heat network, average/CH/I U (of project 208 naturemade KWM)"]
[null,null,"Product 24: ","1 tkm transport, freight, lorry 16-32 metric ton, fleet average/RER U (of project ESU database 2021 UVEK)"]
[null,null,"Product 25: ","1 tkm Transport, tractor and trailer/CH U (of project ESU database 2021 UVEK)"]
[null,null,"Product 26: ","1 kWh biogas, vented/CH U (of project 208 naturemade KWM)"]
[null,null,"Product 27: ","1 kWh methane, 96 vol-%, purification and distribution/kWh/CH U (of project 208 naturemade KWM)"]
[null,null,"Product 28: ","1 kWh raw biogas, distribution/kWh/CH U (of project 208 naturemade KWM)"]
[null,null,"Product 29: ","1 kWh biogas, burned in production flare/MJ/GLO U (of project 208 naturemade KWM)"]
[null,null,"Product 30: ","1 kWh biogas combustion, in cogen with biogas engine/MJ/CH U (of project 208 naturemade KWM)"]
[null,null,"Product 31: ","1 kWh biogas combustion, in cogen with ignition gas engine/MJ/CH U (of project 208 naturemade KWM)"]
[null,null,"Product 32: ","1 kWh biogas combustion, in cogen 200kWe lean burn/MJ/CH U (of project 208 naturemade KWM)"]
[null,null,"Product 33: ","1 kWh biogas combustion, in micro gas turbine 100kWe/MJ/CH U (of project 208 naturemade KWM)"]
[null,null,"Product 34: ","1 kWh biogas, burned in industrial furnace >100kW/RER U (of project 208 naturemade KWM)"]
[null,null,"Product 35: ","1 kg emission, NOx/kg/CH U (of project 208 naturemade KWM)"]
[null,null,"Product 36: ","1 kWh transport, district heat network, average/CH/I U (of project 208 naturemade KWM)"]
[null,null,"Product 37: ","1 ton application, digested matter, on agricultural land/kg/CH U (of project 208 naturemade KWM)"]
[null,null,"Product 38: ","1 m3 application, digested matter, liquid, on agricultural land/m3/CH U (of project 208 naturemade KWM)"]
[null,null,"Product 39: ","1 ton disposal, digester sludge, to municipal incineration/kg/CH U (of project ESU database 2021 UVEK)"]
[null,null,"Product 40: ","1 ton digester sewage sludge, in cement plant/kg/CH U (of project 208 naturemade KWM)"]
[null,null,"Product 41: ","1 m3 Treatment, sewage, to wastewater treatment, class 4/CH U (of project ESU database 2021 UVEK)"]
[null,null,"Product 42: ","1 m3 treatment, sugar factory effluent, to wastewater treatment, class 4/HU U (of project 208 naturemade KWM)"]
[null,null,"Product 43: ","1 m3 treatment, paper production, pre-treated by digestion, to wastewater treatment, class 3/m3/CH U (of project 208 naturemade KWM)"]
[null,null,"Product 44: ","1 kg apple ÖLN, at farm/kg/CH S (of project ESU food database 2021)"]
[null,null,"Product 45: ","1 kg bread, at bakery/kg/CH S (of project ESU food database 2021)"]
[null,null,"Product 46: ","1 kg meat mixed, IP, at slaughterhouse/kg/CH S (of project ESU food database 2021)"]
[null,null,"Product 47: ","1 kg vegetables mean, IP, at farm/kg/CH S (of project ESU food database 2021)"]
[null,null,"Product 48: ","1 kg by-products, wheat milling, at plant/kg/CH S (of project ESU food database 2021)"]
[null,null,"Product 49: ","1 kg yeast, at plant/kg/RER S (of project ESU food database 2021)"]
[null,null,"Product 50: ","1 kg raw milk, silo zone, at farm/kg/CH S (of project ESU food database 2021)"]
[null,null,"Product 51: ","1 kg whey, at cheese dairy/kg/CH S (of project ESU food database 2021)"]
[null,null,"Product 52: ","1 kg Soybean lecithin, at oil mill/GLO U (of project 208 naturemade KWM)"]
[null,null,"Product 53: ","1 kg Rape oil, at oil mill/RER U (of project ESU database 2021 UVEK)"]
[null,null,"Product 54: ","1 kg wheat straw IP, at farm/kg/CH U (of project ESU database 2021 UVEK)"]
[null,null,"Product 55: ","1 kg Syrup, from sugar beet molasses, at distillery/CH U (of project ESU database 2021 UVEK)"]
[null,null,"Product 56: ","0.35 kg grass silage IP, at farm/kg/CH U (of project ESU database 2021 UVEK)"]
[null,null,"Product 57: ","0.35 kg grass silage organic, at farm/kg/CH U (of project ESU database 2021 UVEK)"]
[null,null,"Product 58: ","1 kg Hay intensive IP, at farm/CH U (of project ESU database 2021 UVEK)"]
[null,null,"Product 59: ","1 kg Potatoes IP, at farm/CH U (of project ESU database 2021 UVEK)"]
[null,null,"Product 60: ","1 kg Clover seed IP, at farm/CH U (of project ESU database 2021 UVEK)"]
[null,null,"Product 61: ","1 kg silage maize IP, at farm/kg/CH U (of project ESU database 2021 UVEK)"]
[null,null,"Product 62: ","1 kg Molasses, from sugar beet, at sugar refinery/CH U (of project ESU database 2021 UVEK)"]
[null,null,"Product 63: ","1 kg Rape meal, at oil mill/RER U (of project ESU database 2021 UVEK)"]
[null,null,"Product 64: ","1 kg rye grains IP, at farm/kg/CH U (of project ESU database 2021 UVEK)"]
[null,null,"Product 65: ","1 kg sugar beets IP, at farm/kg/CH U (of project ESU database 2021 UVEK)"]
[null,null,"Product 66: ","1 kg green rye conventional, at farm/kg/RER U (of project 208 naturemade KWM)"]
[null,null,"Product 67: ","0.125 kg grass from meadow intensive IP, at field/kg/CH U (of project ESU database 2021 UVEK)"]
[null,null,"Product 68: ","0.125 kg grass from natural meadow intensive IP, at field/kg/CH U (of project ESU database 2021 UVEK)"]
[null,null,"Product 69: ","1 kg Vegetable oil, from waste cooking oil, at plant/CH U (of project ESU database 2021 UVEK)"]
[null,null,"Product 70: ","1 kg Vinasse, at fermentation plant/CH U (of project ESU database 2021 UVEK)"]
[null,null,"Product 71: ","1 kg glycerine, from vegetable oil, at esterification plant/kg/RER U (of project 208 naturemade KWM)"]
[null,null,"Product 72: ","1 kg glycerine, from animal fat, at esterification plant/kg/RER U (of project 208 naturemade KWM)"]
[null,null,"Product 73: ","1 kg glycerine, from vegetable oil, at esterification plant/kg/RER U (of project 208 naturemade KWM)"]
[null,null,"Product 74: ","1 kg glycerine, from rape oil, at esterification plant/kg/RER U (of project ESU database 2021 UVEK)"]
[null,null,"Product 75: ","1 kg glycerine, from soybean oil, at esterification plant/kg/RER U (of project 208 naturemade KWM)"]
[null,null,"Product 76: ","1 kg glycerine, from palm oil, at esterification plant/kg/RER U (of project 208 naturemade KWM)"]
[null,null,"Product 77: ","1 kg Pulps, from sugar beet, at sugar refinery/CH U (of project ESU database 2021 UVEK)"]
[null,null,"Product 78: ","1 kg Urea, as N, at regional storehouse/RER U (of project ESU database 2021 UVEK)"]
[null,null,"Product 79: ","1 kg Sodium hydroxide, 50% in H2O, production mix, at plant/RER U (of project ESU database 2021 UVEK)"]
[null,null,"Product 80: ","1 kg Hydrogen peroxide, 50% in H2O, at plant/RER U (of project ESU database 2021 UVEK)"]
[null,null,"Product 81: ","1 kg Iron (III) chloride, 40% in H2O, at plant/CH U (of project ESU database 2021 UVEK)"]
[null,null,"Product 82: ","1 kWh threshold value, methane/kWh/CH U (of project 208 naturemade KWM)"]
[null,null,"Product 83: ","1 kWh threshold value, heat/kWh/CH U (of project 208 naturemade KWM)"]
[null,null,"Product 84: ","1 kWh threshold value, electricity/kWh/CH U (of project 208 naturemade KWM)"]
[null,null,"Product 85: ","1 kWh threshold value, cooling/kWh/CH U (of project 208 naturemade KWM)"]
[null,null,"Product 86: ","1 kg reference value, manure/kg/CH U (of project 208 naturemade KWM)"]
[null,null,"Product 87: ","1 kg reference value, manure/kg/DE U (of project 208 naturemade KWM)"]
[null,null,"Product 88: ","1 kg reference value, manure/kg/DK U (of project 208 naturemade KWM)"]
[null,null,"Product 89: ","1 kg reference value, manure/kg/GB U (of project 208 naturemade KWM)"]
[null,null,"Product 90: ","1 kg reference value, manure/kg/HU U (of project 208 naturemade KWM)"]
[null,null,"Product 91: ","1 kg reference value, manure/kg/ES U (of project 208 naturemade KWM)"]
[null,null,"Product 92: ","1 kg reference value, digested matter, liquid/kg/CH U (of project 208 naturemade KWM)"]
[null,null,"Product 93: ","1 kg reference value, digested matter, solid/kg/CH U (of project 208 naturemade KWM)"]
[null,null,"Product 94: ","1 CHF reference value, co-substrate disposal/CHF/CH U (of project 208 naturemade KWM)"]
[null,null,"Product 95: ","1 kg reference value, raw sewage sludge treatment/kg/CH U (of project 208 naturemade KWM)"]
[null,null,"Product 96: ","1 kg reference value, fuel from digester sludge/kg/CH U (of project 208 naturemade KWM)"]
[null,null,"Product 97: ","1 m3 reference value, paper production effluent/kg/CH U (of project 208 naturemade KWM)"]
[null,null,"Method: ","Eco-indicator 99 (H) V2.10 / Europe EI 99 H/A"]
[null,null,"Indicator: ","Single score"]
[null,null,"Skip categories: ","Never"]
[null,null,"Default units: ","Yes"]
[null,null,"Exclude infrastructure processes: ","No"]
[null,null,"Exclude long-term emissions: ","Yes"]
[null,null,"Per impact category: ","No"]
[null,null,"Sorted on item: ","Damage category"]
[null,null,"Sort order: ","Ascending"]
[]
[null,null,"Damage category","Unit","anaerobic digestion plant covered, agriculture/CH/I U","Anaerobic digestion plant, sewage sludge/CH/I U","anaerobic digestion plant, biowaste/CH/I U","tap water, unspecified natural origin RER, at user/kg/RER U","Electricity, medium voltage {CH}| market for | Cut-off, S","Electricity, medium voltage {DE}| market for | Cut-off, S","Electricity, medium voltage {HU}| market for | Cut-off, S","Electricity, medium voltage {DK}| market for | Cut-off, S","Electricity, medium voltage {GB}| market for | Cut-off, S","Electricity, medium voltage {ES}| market for | Cut-off, S","electricity, medium voltage, naturemade star, at grid/CH U","electricity, medium voltage, renewable, at grid/kWh/RER U","light fuel oil, burned in industrial furnace 1MW, non-modulating/MJ/RER U","oil combustion, in cogen with ignition gas engine/MJ/CH U","diesel, burned in building machine, average/MJ/CH U","Natural gas, burned in boiler condensing modulating >100kW/RER U","biomethane, burned in boiler condensing modulating >100kW/RER U","biomethane, naturemade star, burned in boiler condensing modulating >100kW/RER U","Heat from waste, at municipal waste incineration plant/CH U","Heat, digester sludge, at incineration plant, future, allocation price/CH U","Wood chips, from forest, mixed, burned in furnace 1000kW/CH U","Pellets, mixed, burned in furnace 50kW/CH U","transport, district heat network, average/CH/I U","transport, freight, lorry 16-32 metric ton, fleet average/RER U","Transport, tractor and trailer/CH U","biogas, vented/CH U","methane, 96 vol-%, purification and distribution/kWh/CH U","raw biogas, distribution/kWh/CH U","biogas, burned in production flare/MJ/GLO U","biogas combustion, in cogen with biogas engine/MJ/CH U","biogas combustion, in cogen with ignition gas engine/MJ/CH U","biogas combustion, in cogen 200kWe lean burn/MJ/CH U","biogas combustion, in micro gas turbine 100kWe/MJ/CH U","biogas, burned in industrial furnace >100kW/RER U","emission, NOx/kg/CH U","transport, district heat network, average/CH/I U","application, digested matter, on agricultural land/kg/CH U","application, digested matter, liquid, on agricultural land/m3/CH U","disposal, digester sludge, to municipal incineration/kg/CH U","digester sewage sludge, in cement plant/kg/CH U","Treatment, sewage, to wastewater treatment, class 4/CH U","treatment, sugar factory effluent, to wastewater treatment, class 4/HU U","treatment, paper production, pre-treated by digestion, to wastewater treatment, class 3/m3/CH U","apple ÖLN, at farm/kg/CH S","bread, at bakery/kg/CH S","meat mixed, IP, at slaughterhouse/kg/CH S","vegetables mean, IP, at farm/kg/CH S","by-products, wheat milling, at plant/kg/CH S","yeast, at plant/kg/RER S","raw milk, silo zone, at farm/kg/CH S","whey, at cheese dairy/kg/CH S","Soybean lecithin, at oil mill/GLO U","Rape oil, at oil mill/RER U","wheat straw IP, at farm/kg/CH U","Syrup, from sugar beet molasses, at distillery/CH U","grass silage IP, at farm/kg/CH U","grass silage organic, at farm/kg/CH U","Hay intensive IP, at farm/CH U","Potatoes IP, at farm/CH U","Clover seed IP, at farm/CH U","silage maize IP, at farm/kg/CH U","Molasses, from sugar beet, at sugar refinery/CH U","Rape meal, at oil mill/RER U","rye grains IP, at farm/kg/CH U","sugar beets IP, at farm/kg/CH U","green rye conventional, at farm/kg/RER U","grass from meadow intensive IP, at field/kg/CH U","grass from natural meadow intensive IP, at field/kg/CH U","Vegetable oil, from waste cooking oil, at plant/CH U","Vinasse, at fermentation plant/CH U","glycerine, from vegetable oil, at esterification plant/kg/RER U","glycerine, from animal fat, at esterification plant/kg/RER U","glycerine, from vegetable oil, at esterification plant/kg/RER U","glycerine, from rape oil, at esterification plant/kg/RER U","glycerine, from soybean oil, at esterification plant/kg/RER U","glycerine, from palm oil, at esterification plant/kg/RER U","Pulps, from sugar beet, at sugar refinery/CH U","Urea, as N, at regional storehouse/RER U","Sodium hydroxide, 50% in H2O, production mix, at plant/RER U","Hydrogen peroxide, 50% in H2O, at plant/RER U","Iron (III) chloride, 40% in H2O, at plant/CH U","threshold value, methane/kWh/CH U","threshold value, heat/kWh/CH U","threshold value, electricity/kWh/CH U","threshold value, cooling/kWh/CH U","reference value, manure/kg/CH U","reference value, manure/kg/DE U","reference value, manure/kg/DK U","reference value, manure/kg/GB U","reference value, manure/kg/HU U","reference value, manure/kg/ES U","reference value, digested matter, liquid/kg/CH U","reference value, digested matter, solid/kg/CH U","reference value, co-substrate disposal/CHF/CH U","reference value, raw sewage sludge treatment/kg/CH U","reference value, fuel from digester sludge/kg/CH U","reference value, paper production effluent/kg/CH U"]
[null,null,"Total","Pt",1.1202814999999999,0.22316032999999999,3.8709558999999998,2.6856211000000001E-2,7.7551724000000004E-3,2.179062E-2,3.0534234E-2,1.7094893999999999E-2,2.9890849000000001E-2,2.8508487999999998E-2,1.1786945E-3,2.4904208E-3,2.3107165999999998E-2,2.4387327E-2,3.1423139000000003E-2,1.9630523E-2,1.5669450000000001E-2,5.6241117E-3,0,7.6548136999999997E-3,1.10153E-2,8.1645636000000008E-3,1.8041395999999999E-4,1.9633494000000001E-2,3.8704224000000002E-2,1.2469478000000001E-2,8.0497668999999995E-5,1.3248165E-4,4.1329888E-3,6.8145254000000002E-3,6.8324414E-3,6.8722653000000003E-3,6.6364822E-3,6.2607935999999999E-3,4.4477209999999996,1.8041395999999999E-4,55.835211999999999,56.857430999999998,5.9220683999999997,59.342305000000003,5.1576711999999997E-2,0.21488636999999999,3.1186946E-2,4.3371291999999999E-2,0.19922276999999999,3.3835951,8.5317971000000006E-2,6.9144761999999999E-2,5.1351029999999999E-2,0.16934110999999999,8.6701998000000002E-2,1.0494498999999999,1.1411245999999999,6.6147995000000001E-2,2.4119439999999999E-2,3.4792174000000002E-2,4.3218413999999997E-2,0.12855459999999999,3.8401250999999997E-2,2.6938026000000002,2.0938855999999999E-2,1.8123849000000001E-2,0.2435765,0.15934189000000001,1.1710329E-2,4.7983638000000002E-2,1.3784965999999999E-2,1.0637446E-2,1.3148842000000001E-2,3.3223924000000001E-3,1.4619866E-2,2.8969559999999998E-2,1.4619866E-2,0.46450736999999998,0.42199742000000001,0.18302265000000001,2.4965225999999999E-3,0.37133206000000002,6.2868839999999995E-2,9.3247556999999995E-2,5.5878419999999998E-2,9.4314771999999998E-3,9.6189563999999998E-3,1.6873467E-2,2.5983502000000002E-3,3.3569795999999999E-6,8.6202727000000008E-6,6.8593750999999998E-6,1.1657858000000001E-5,1.1899127999999999E-5,1.1139473E-5,2.4415176999999997E-4,1.0290385000000001E-3,3.8237027E-2,7.2851484000000001E-3,2.7296597999999998E-2,7.6893820000000002E-2]
[null,null,"Human Health","Pt",0.50565059999999995,8.7547354999999993E-2,2.0094470000000002,1.4853732999999999E-2,5.1407780000000004E-3,1.5216756999999999E-2,2.1274036E-2,1.0769320000000001E-2,1.1845431E-2,2.0043823999999998E-2,6.5536901999999997E-4,1.449575E-3,6.1783039999999999E-3,7.6841523000000002E-3,1.2509932E-2,4.1512555000000001E-3,5.9713255999999998E-3,3.0145346999999999E-3,0,5.3805800000000003E-3,9.2907006E-3,4.8746596000000001E-3,1.25382E-4,7.7018763000000004E-3,2.3338866E-2,1.2469478000000001E-2,2.7566692999999999E-5,4.2498996999999999E-5,4.0280979000000003E-3,6.1238185000000002E-3,6.1275482999999997E-3,6.1966412000000002E-3,6.0016753999999999E-3,5.6980047000000002E-3,4.0482680000000002,1.25382E-4,55.547938000000002,56.670623999999997,4.4031478000000002,52.798001999999997,3.7888245000000001E-2,0.13287901999999999,1.7897384999999998E-2,1.2423579000000001E-2,7.0735021999999995E-2,0.82446671999999999,2.6984412999999999E-2,2.4528596E-2,1.2295037999999999E-2,4.5237876000000003E-2,2.3361004000000001E-2,0.54813571000000005,0.2173968,4.9598339999999998E-2,4.9268068E-3,7.5954615000000001E-3,4.4681169999999997E-3,4.9259085000000001E-2,9.2027425999999992E-3,0.61925715000000003,4.7756188999999996E-3,-4.3959943000000001E-4,4.6391463000000001E-2,5.7755608E-2,-1.4042574E-3,7.7652978000000003E-3,2.7042474E-3,2.2210430999999998E-3,3.4145533E-3,-3.2476330999999997E-5,3.6610859E-3,7.2666665000000004E-3,3.6610859E-3,8.9313909999999996E-2,0.10253709,7.1372296000000002E-2,-1.0482043000000001E-4,0.13949734,3.5810832000000001E-2,3.0839900999999999E-2,3.0984535000000001E-2,1.8236636000000001E-3,2.0341152E-3,3.5855055999999999E-3,1.4722368999999999E-3,2.1841897000000001E-6,5.9626816999999998E-6,4.2948930000000002E-6,4.6984345999999999E-6,8.2341615999999995E-6,7.7728320000000004E-6,1.5948146999999999E-4,6.7217440000000002E-4,2.4976667000000001E-2,5.1578199E-3,5.7020480000000004E-3,4.9288626000000002E-2]
[null,null,"Ecosystem Quality","Pt",0.33569590999999999,9.6709658000000004E-2,0.79718960999999999,1.7218467E-3,6.4752413000000004E-4,1.0847662000000001E-3,1.5716930999999999E-3,2.3430492999999999E-3,1.7675986E-3,1.2384313E-3,2.0168393E-4,3.5816301000000001E-4,5.0706118999999995E-4,5.8327369999999995E-4,1.2747081999999999E-3,2.9973914999999998E-4,7.4163635000000002E-3,4.7798485E-4,0,4.9607613000000005E-4,1.1579413999999999E-3,2.2814993999999999E-3,8.4565794000000003E-6,3.0450907000000001E-3,2.4414125000000002E-3,0,1.7992636E-5,3.0587479999999997E-5,1.0489091E-4,5.8345130999999998E-4,5.8051996E-4,5.7844223000000003E-4,5.8734879999999996E-4,5.5994715999999999E-4,0.39945296000000002,8.4565794000000003E-6,0.14410349,0.13006818000000001,0.30583701000000002,4.8671869000000001,4.6104594999999996E-3,1.7870357999999999E-2,3.0155833000000002E-3,2.6316613999999999E-2,0.10131547,2.3965527999999998,4.7916226999999999E-2,3.7121567000000001E-2,2.4468277E-2,0.11529138,5.8205393000000001E-2,0.47653229000000003,0.85968350999999998,1.4534698E-2,1.7633815E-3,2.5524308999999998E-2,3.7247477000000001E-2,7.5303315999999995E-2,2.7044998000000001E-2,2.0197216,1.5003789999999999E-2,1.5402865999999999E-2,0.18352510999999999,9.4870835000000001E-2,1.2250428000000001E-2,3.9315610000000001E-2,1.0679423E-2,8.0585158000000007E-3,6.1454052999999995E-4,2.6798998000000002E-3,5.0905020999999996E-4,8.0391092999999999E-4,5.0905020999999996E-4,0.34141742000000003,0.30362038000000002,9.6550236999999997E-2,2.2800915999999999E-3,1.6833898999999999E-2,3.3470940000000001E-3,3.1386338999999999E-3,4.8393463999999997E-3,1.1679481E-4,1.4687218E-4,2.4197950999999999E-4,3.9473494999999999E-4,3.1519566E-7,4.7916142999999996E-7,9.5101759999999998E-7,7.3522358999999999E-7,6.6175904000000003E-7,5.3678586000000005E-7,2.778153E-5,1.1709218E-4,4.3509131000000001E-3,3.8184896999999998E-4,3.5357465E-4,6.4892366999999996E-3]
[null,null,"Resources","Pt",0.27893502999999997,3.8903321999999997E-2,1.0643194,1.0280631E-2,1.9668703E-3,5.4890978000000003E-3,7.688505E-3,3.9825242000000004E-3,1.6277819999999998E-2,7.2262328000000002E-3,3.2164158999999998E-4,6.8268278000000002E-4,1.6421801E-2,1.6119900999999999E-2,1.7638497999999999E-2,1.5179529000000001E-2,2.2817610000000002E-3,2.1315921999999999E-3,0,1.7781575E-3,5.6665754000000004E-4,1.0084046000000001E-3,4.6575381000000003E-5,8.8865274999999997E-3,1.2923944999999999E-2,0,3.4938338999999997E-5,5.9395175999999998E-5,0,1.0725562E-4,1.2437316999999999E-4,9.7181848000000003E-5,4.7457991999999997E-5,2.8417712000000002E-6,0,4.6575381000000003E-5,0.14317086000000001,5.6739469000000001E-2,1.2130836,1.6771160000000001,9.0780072999999996E-3,6.4136997000000001E-2,1.0273977E-2,4.6310993000000002E-3,2.7172285000000001E-2,0.16257558,1.0417331E-2,7.4945988999999998E-3,1.4587714E-2,8.8118562000000008E-3,5.1356003999999999E-3,2.4781882000000002E-2,6.4044315000000004E-2,2.0149562000000001E-3,1.7429251E-2,1.6724035E-3,1.5028204999999999E-3,3.9921961000000004E-3,2.1535104000000001E-3,5.4823900000000002E-2,1.1594474E-3,3.1605823E-3,1.3659928E-2,6.7154464000000001E-3,8.6415809000000004E-4,9.0273084000000003E-4,4.0129508999999999E-4,3.5788668999999998E-4,9.1197479000000008E-3,6.7496894999999996E-4,1.0449730000000001E-2,2.0898982999999999E-2,1.0449730000000001E-2,3.3776043999999998E-2,1.5839954E-2,1.5100117E-2,3.2125146E-4,0.21500082000000001,2.3710913E-2,5.9269020999999998E-2,2.0054539E-2,7.4910187999999997E-3,7.437969E-3,1.3045981999999999E-2,7.3137839000000004E-4,8.5759422999999998E-7,2.1784295E-6,1.6134645000000001E-6,6.2242003000000003E-6,3.0032073000000001E-6,2.8298551999999999E-6,5.6888765000000001E-5,2.3977188000000001E-4,8.9094471000000005E-3,1.7454795E-3,2.1240976000000002E-2,2.1115956000000002E-2]
[]
[]
[]
[]
[]
[]
[null,null,"Calculation: ","Compare"]
[null,null,"Results: ","Impact assessment"]
[null,null,"Product 1: ","0.0001 p anaerobic digestion plant covered, agriculture/CH/I U (of project ESU database 2021 UVEK)"]
[null,null,"Product 2: ","1.2E-5 p Anaerobic digestion plant, sewage sludge/CH/I U (of project ESU database 2021 UVEK)"]
[null,null,"Product 3: ","6.67E-5 p anaerobic digestion plant, biowaste/CH/I U (of project ESU database 2021 UVEK)"]
[null,null,"Product 4: ","1 ton tap water, unspecified natural origin RER, at user/kg/RER U (of project ESU database 2021 UVEK)"]
[null,null,"Product 5: ","1 kWh Electricity, medium voltage {CH}| market for | Cut-off, S (of project Ecoinvent 3 - allocation, cut-off by classification - system)"]
[null,null,"Product 6: ","1 kWh Electricity, medium voltage {DE}| market for | Cut-off, S (of project Ecoinvent 3 - allocation, cut-off by classification - system)"]
[null,null,"Product 7: ","1 kWh Electricity, medium voltage {HU}| market for | Cut-off, S (of project Ecoinvent 3 - allocation, cut-off by classification - system)"]
[null,null,"Product 8: ","1 kWh Electricity, medium voltage {DK}| market for | Cut-off, S (of project Ecoinvent 3 - allocation, cut-off by classification - system)"]
[null,null,"Product 9: ","1 kWh Electricity, medium voltage {GB}| market for | Cut-off, S (of project Ecoinvent 3 - allocation, cut-off by classification - system)"]
[null,null,"Product 10: ","1 kWh Electricity, medium voltage {ES}| market for | Cut-off, S (of project Ecoinvent 3 - allocation, cut-off by classification - system)"]
[null,null,"Product 11: ","1 kWh electricity, medium voltage, naturemade star, at grid/CH U (of project 208 naturemade KWM)"]
[null,null,"Product 12: ","1 kWh electricity, medium voltage, renewable, at grid/kWh/RER U (of project ESU database 2021 UVEK)"]
[null,null,"Product 13: ","1 kWh light fuel oil, burned in industrial furnace 1MW, non-modulating/MJ/RER U (of project ESU database 2021 UVEK)"]
[null,null,"Product 14: ","1 kWh oil combustion, in cogen with ignition gas engine/MJ/CH U (of project 208 naturemade KWM)"]
[null,null,"Product 15: ","1 kWh diesel, burned in building machine, average/MJ/CH U (of project ESU database 2021 UVEK)"]
[null,null,"Product 16: ","1 kWh Natural gas, burned in boiler condensing modulating >100kW/RER U (of project ESU database 2021 UVEK)"]
[null,null,"Product 17: ","1 kWh biomethane, burned in boiler condensing modulating >100kW/RER U (of project 208 naturemade KWM)"]
[null,null,"Product 18: ","1 kWh biomethane, naturemade star, burned in boiler condensing modulating >100kW/RER U (of project 208 naturemade KWM)"]
[null,null,"Product 19: ","1 kWh Heat from waste, at municipal waste incineration plant/CH U (of project ESU database 2021 UVEK)"]
[null,null,"Product 20: ","1 kWh Heat, digester sludge, at incineration plant, future, allocation price/CH U (of project ESU database 2021 UVEK)"]
[null,null,"Product 21: ","1 kWh Wood chips, from forest, mixed, burned in furnace 1000kW/CH U (of project ESU database 2021 UVEK)"]
[null,null,"Product 22: ","1 kWh Pellets, mixed, burned in furnace 50kW/CH U (of project ESU database 2021 UVEK)"]
[null,null,"Product 23: ","1 kWh transport, district heat network, average/CH/I U (of project 208 naturemade KWM)"]
[null,null,"Product 24: ","1 tkm transport, freight, lorry 16-32 metric ton, fleet average/RER U (of project ESU database 2021 UVEK)"]
[null,null,"Product 25: ","1 tkm Transport, tractor and trailer/CH U (of project ESU database 2021 UVEK)"]
[null,null,"Product 26: ","1 kWh biogas, vented/CH U (of project 208 naturemade KWM)"]
[null,null,"Product 27: ","1 kWh methane, 96 vol-%, purification and distribution/kWh/CH U (of project 208 naturemade KWM)"]
[null,null,"Product 28: ","1 kWh raw biogas, distribution/kWh/CH U (of project 208 naturemade KWM)"]
[null,null,"Product 29: ","1 kWh biogas, burned in production flare/MJ/GLO U (of project 208 naturemade KWM)"]
[null,null,"Product 30: ","1 kWh biogas combustion, in cogen with biogas engine/MJ/CH U (of project 208 naturemade KWM)"]
[null,null,"Product 31: ","1 kWh biogas combustion, in cogen with ignition gas engine/MJ/CH U (of project 208 naturemade KWM)"]
[null,null,"Product 32: ","1 kWh biogas combustion, in cogen 200kWe lean burn/MJ/CH U (of project 208 naturemade KWM)"]
[null,null,"Product 33: ","1 kWh biogas combustion, in micro gas turbine 100kWe/MJ/CH U (of project 208 naturemade KWM)"]
[null,null,"Product 34: ","1 kWh biogas, burned in industrial furnace >100kW/RER U (of project 208 naturemade KWM)"]
[null,null,"Product 35: ","1 kg emission, NOx/kg/CH U (of project 208 naturemade KWM)"]
[null,null,"Product 36: ","1 kWh transport, district heat network, average/CH/I U (of project 208 naturemade KWM)"]
[null,null,"Product 37: ","1 ton application, digested matter, on agricultural land/kg/CH U (of project 208 naturemade KWM)"]
[null,null,"Product 38: ","1 m3 application, digested matter, liquid, on agricultural land/m3/CH U (of project 208 naturemade KWM)"]
[null,null,"Product 39: ","1 ton disposal, digester sludge, to municipal incineration/kg/CH U (of project ESU database 2021 UVEK)"]
[null,null,"Product 40: ","1 ton digester sewage sludge, in cement plant/kg/CH U (of project 208 naturemade KWM)"]
[null,null,"Product 41: ","1 m3 Treatment, sewage, to wastewater treatment, class 4/CH U (of project ESU database 2021 UVEK)"]
[null,null,"Product 42: ","1 m3 treatment, sugar factory effluent, to wastewater treatment, class 4/HU U (of project 208 naturemade KWM)"]
[null,null,"Product 43: ","1 m3 treatment, paper production, pre-treated by digestion, to wastewater treatment, class 3/m3/CH U (of project 208 naturemade KWM)"]
[null,null,"Product 44: ","1 kg apple ÖLN, at farm/kg/CH S (of project ESU food database 2021)"]
[null,null,"Product 45: ","1 kg bread, at bakery/kg/CH S (of project ESU food database 2021)"]
[null,null,"Product 46: ","1 kg meat mixed, IP, at slaughterhouse/kg/CH S (of project ESU food database 2021)"]
[null,null,"Product 47: ","1 kg vegetables mean, IP, at farm/kg/CH S (of project ESU food database 2021)"]
[null,null,"Product 48: ","1 kg by-products, wheat milling, at plant/kg/CH S (of project ESU food database 2021)"]
[null,null,"Product 49: ","1 kg yeast, at plant/kg/RER S (of project ESU food database 2021)"]
[null,null,"Product 50: ","1 kg raw milk, silo zone, at farm/kg/CH S (of project ESU food database 2021)"]
[null,null,"Product 51: ","1 kg whey, at cheese dairy/kg/CH S (of project ESU food database 2021)"]
[null,null,"Product 52: ","1 kg Soybean lecithin, at oil mill/GLO U (of project 208 naturemade KWM)"]
[null,null,"Product 53: ","1 kg Rape oil, at oil mill/RER U (of project ESU database 2021 UVEK)"]
[null,null,"Product 54: ","1 kg wheat straw IP, at farm/kg/CH U (of project ESU database 2021 UVEK)"]
[null,null,"Product 55: ","1 kg Syrup, from sugar beet molasses, at distillery/CH U (of project ESU database 2021 UVEK)"]
[null,null,"Product 56: ","0.35 kg grass silage IP, at farm/kg/CH U (of project ESU database 2021 UVEK)"]
[null,null,"Product 57: ","0.35 kg grass silage organic, at farm/kg/CH U (of project ESU database 2021 UVEK)"]
[null,null,"Product 58: ","1 kg Hay intensive IP, at farm/CH U (of project ESU database 2021 UVEK)"]
[null,null,"Product 59: ","1 kg Potatoes IP, at farm/CH U (of project ESU database 2021 UVEK)"]
[null,null,"Product 60: ","1 kg Clover seed IP, at farm/CH U (of project ESU database 2021 UVEK)"]
[null,null,"Product 61: ","1 kg silage maize IP, at farm/kg/CH U (of project ESU database 2021 UVEK)"]
[null,null,"Product 62: ","1 kg Molasses, from sugar beet, at sugar refinery/CH U (of project ESU database 2021 UVEK)"]
[null,null,"Product 63: ","1 kg Rape meal, at oil mill/RER U (of project ESU database 2021 UVEK)"]
[null,null,"Product 64: ","1 kg rye grains IP, at farm/kg/CH U (of project ESU database 2021 UVEK)"]
[null,null,"Product 65: ","1 kg sugar beets IP, at farm/kg/CH U (of project ESU database 2021 UVEK)"]
[null,null,"Product 66: ","1 kg green rye conventional, at farm/kg/RER U (of project 208 naturemade KWM)"]
[null,null,"Product 67: ","0.125 kg grass from meadow intensive IP, at field/kg/CH U (of project ESU database 2021 UVEK)"]
[null,null,"Product 68: ","0.125 kg grass from natural meadow intensive IP, at field/kg/CH U (of project ESU database 2021 UVEK)"]
[null,null,"Product 69: ","1 kg Vegetable oil, from waste cooking oil, at plant/CH U (of project ESU database 2021 UVEK)"]
[null,null,"Product 70: ","1 kg Vinasse, at fermentation plant/CH U (of project ESU database 2021 UVEK)"]
[null,null,"Product 71: ","1 kg glycerine, from vegetable oil, at esterification plant/kg/RER U (of project 208 naturemade KWM)"]
[null,null,"Product 72: ","1 kg glycerine, from animal fat, at esterification plant/kg/RER U (of project 208 naturemade KWM)"]
[null,null,"Product 73: ","1 kg glycerine, from vegetable oil, at esterification plant/kg/RER U (of project 208 naturemade KWM)"]
[null,null,"Product 74: ","1 kg glycerine, from rape oil, at esterification plant/kg/RER U (of project ESU database 2021 UVEK)"]
[null,null,"Product 75: ","1 kg glycerine, from soybean oil, at esterification plant/kg/RER U (of project 208 naturemade KWM)"]
[null,null,"Product 76: ","1 kg glycerine, from palm oil, at esterification plant/kg/RER U (of project 208 naturemade KWM)"]
[null,null,"Product 77: ","1 kg Pulps, from sugar beet, at sugar refinery/CH U (of project ESU database 2021 UVEK)"]
[null,null,"Product 78: ","1 kg Urea, as N, at regional storehouse/RER U (of project ESU database 2021 UVEK)"]
[null,null,"Product 79: ","1 kg Sodium hydroxide, 50% in H2O, production mix, at plant/RER U (of project ESU database 2021 UVEK)"]
[null,null,"Product 80: ","1 kg Hydrogen peroxide, 50% in H2O, at plant/RER U (of project ESU database 2021 UVEK)"]
[null,null,"Product 81: ","1 kg Iron (III) chloride, 40% in H2O, at plant/CH U (of project ESU database 2021 UVEK)"]
[null,null,"Product 82: ","1 kWh threshold value, methane/kWh/CH U (of project 208 naturemade KWM)"]
[null,null,"Product 83: ","1 kWh threshold value, heat/kWh/CH U (of project 208 naturemade KWM)"]
[null,null,"Product 84: ","1 kWh threshold value, electricity/kWh/CH U (of project 208 naturemade KWM)"]
[null,null,"Product 85: ","1 kWh threshold value, cooling/kWh/CH U (of project 208 naturemade KWM)"]
[null,null,"Product 86: ","1 kg reference value, manure/kg/CH U (of project 208 naturemade KWM)"]
[null,null,"Product 87: ","1 kg reference value, manure/kg/DE U (of project 208 naturemade KWM)"]
[null,null,"Product 88: ","1 kg reference value, manure/kg/DK U (of project 208 naturemade KWM)"]
[null,null,"Product 89: ","1 kg reference value, manure/kg/GB U (of project 208 naturemade KWM)"]
[null,null,"Product 90: ","1 kg reference value, manure/kg/HU U (of project 208 naturemade KWM)"]
[null,null,"Product 91: ","1 kg reference value, manure/kg/ES U (of project 208 naturemade KWM)"]
[null,null,"Product 92: ","1 kg reference value, digested matter, liquid/kg/CH U (of project 208 naturemade KWM)"]
[null,null,"Product 93: ","1 kg reference value, digested matter, solid/kg/CH U (of project 208 naturemade KWM)"]
[null,null,"Product 94: ","1 CHF reference value, co-substrate disposal/CHF/CH U (of project 208 naturemade KWM)"]
[null,null,"Product 95: ","1 kg reference value, raw sewage sludge treatment/kg/CH U (of project 208 naturemade KWM)"]
[null,null,"Product 96: ","1 kg reference value, fuel from digester sludge/kg/CH U (of project 208 naturemade KWM)"]
[null,null,"Product 97: ","1 m3 reference value, paper production effluent/kg/CH U (of project 208 naturemade KWM)"]
[null,null,"Method: ","IPCC 2013 GWP 100a with RFI V1.04"]
[null,null,"Indicator: ","Characterisation"]
[null,null,"Skip categories: ","Never"]
[null,null,"Exclude infrastructure processes: ","No"]
[null,null,"Exclude long-term emissions: ","No"]
[null,null,"Sorted on item: ","Impact category"]
[null,null,"Sort order: ","Ascending"]
[]
[null,null,"Impact category","Unit","anaerobic digestion plant covered, agriculture/CH/I U","Anaerobic digestion plant, sewage sludge/CH/I U","anaerobic digestion plant, biowaste/CH/I U","tap water, unspecified natural origin RER, at user/kg/RER U","Electricity, medium voltage {CH}| market for | Cut-off, S","Electricity, medium voltage {DE}| market for | Cut-off, S","Electricity, medium voltage {HU}| market for | Cut-off, S","Electricity, medium voltage {DK}| market for | Cut-off, S","Electricity, medium voltage {GB}| market for | Cut-off, S","Electricity, medium voltage {ES}| market for | Cut-off, S","electricity, medium voltage, naturemade star, at grid/CH U","electricity, medium voltage, renewable, at grid/kWh/RER U","light fuel oil, burned in industrial furnace 1MW, non-modulating/MJ/RER U","oil combustion, in cogen with ignition gas engine/MJ/CH U","diesel, burned in building machine, average/MJ/CH U","Natural gas, burned in boiler condensing modulating >100kW/RER U","biomethane, burned in boiler condensing modulating >100kW/RER U","biomethane, naturemade star, burned in boiler condensing modulating >100kW/RER U","Heat from waste, at municipal waste incineration plant/CH U","Heat, digester sludge, at incineration plant, future, allocation price/CH U","Wood chips, from forest, mixed, burned in furnace 1000kW/CH U","Pellets, mixed, burned in furnace 50kW/CH U","transport, district heat network, average/CH/I U","transport, freight, lorry 16-32 metric ton, fleet average/RER U","Transport, tractor and trailer/CH U","biogas, vented/CH U","methane, 96 vol-%, purification and distribution/kWh/CH U","raw biogas, distribution/kWh/CH U","biogas, burned in production flare/MJ/GLO U","biogas combustion, in cogen with biogas engine/MJ/CH U","biogas combustion, in cogen with ignition gas engine/MJ/CH U","biogas combustion, in cogen 200kWe lean burn/MJ/CH U","biogas combustion, in micro gas turbine 100kWe/MJ/CH U","biogas, burned in industrial furnace >100kW/RER U","emission, NOx/kg/CH U","transport, district heat network, average/CH/I U","application, digested matter, on agricultural land/kg/CH U","application, digested matter, liquid, on agricultural land/m3/CH U","disposal, digester sludge, to municipal incineration/kg/CH U","digester sewage sludge, in cement plant/kg/CH U","Treatment, sewage, to wastewater treatment, class 4/CH U","treatment, sugar factory effluent, to wastewater treatment, class 4/HU U","treatment, paper production, pre-treated by digestion, to wastewater treatment, class 3/m3/CH U","apple ÖLN, at farm/kg/CH S","bread, at bakery/kg/CH S","meat mixed, IP, at slaughterhouse/kg/CH S","vegetables mean, IP, at farm/kg/CH S","by-products, wheat milling, at plant/kg/CH S","yeast, at plant/kg/RER S","raw milk, silo zone, at farm/kg/CH S","whey, at cheese dairy/kg/CH S","Soybean lecithin, at oil mill/GLO U","Rape oil, at oil mill/RER U","wheat straw IP, at farm/kg/CH U","Syrup, from sugar beet molasses, at distillery/CH U","grass silage IP, at farm/kg/CH U","grass silage organic, at farm/kg/CH U","Hay intensive IP, at farm/CH U","Potatoes IP, at farm/CH U","Clover seed IP, at farm/CH U","silage maize IP, at farm/kg/CH U","Molasses, from sugar beet, at sugar refinery/CH U","Rape meal, at oil mill/RER U","rye grains IP, at farm/kg/CH U","sugar beets IP, at farm/kg/CH U","green rye conventional, at farm/kg/RER U","grass from meadow intensive IP, at field/kg/CH U","grass from natural meadow intensive IP, at field/kg/CH U","Vegetable oil, from waste cooking oil, at plant/CH U","Vinasse, at fermentation plant/CH U","glycerine, from vegetable oil, at esterification plant/kg/RER U","glycerine, from animal fat, at esterification plant/kg/RER U","glycerine, from vegetable oil, at esterification plant/kg/RER U","glycerine, from rape oil, at esterification plant/kg/RER U","glycerine, from soybean oil, at esterification plant/kg/RER U","glycerine, from palm oil, at esterification plant/kg/RER U","Pulps, from sugar beet, at sugar refinery/CH U","Urea, as N, at regional storehouse/RER U","Sodium hydroxide, 50% in H2O, production mix, at plant/RER U","Hydrogen peroxide, 50% in H2O, at plant/RER U","Iron (III) chloride, 40% in H2O, at plant/CH U","threshold value, methane/kWh/CH U","threshold value, heat/kWh/CH U","threshold value, electricity/kWh/CH U","threshold value, cooling/kWh/CH U","reference value, manure/kg/CH U","reference value, manure/kg/DE U","reference value, manure/kg/DK U","reference value, manure/kg/GB U","reference value, manure/kg/HU U","reference value, manure/kg/ES U","reference value, digested matter, liquid/kg/CH U","reference value, digested matter, solid/kg/CH U","reference value, co-substrate disposal/CHF/CH U","reference value, raw sewage sludge treatment/kg/CH U","reference value, fuel from digester sludge/kg/CH U","reference value, paper production effluent/kg/CH U"]
[null,null,"IPCC GWP 100a, 2013 with RFI, KBOB","kg CO2 eq",9.6459138000000006,2.0817705000000002,41.245744000000002,0.43377023999999997,9.8195332999999996E-2,0.61522162000000002,0.46872118000000002,0.32377841000000002,0.37382535,0.31993857999999997,1.2619202E-2,2.8924380999999999E-2,0.35511542000000001,0.35963353999999997,0.39764159999999998,0.26504651000000001,0.18548274000000001,0.12373983,0,6.4853542E-2,1.6797889E-2,3.4774013999999999E-2,3.1971343E-3,0.18608032999999999,0.31627286999999998,1.9884818,1.7409274999999999E-3,2.2635984E-3,3.50607E-2,1.3300999000000001E-2,2.3246963999999998E-2,3.7012112E-2,2.7611265999999998E-3,4.0108636000000001E-4,0,3.1971343E-3,3.4506388000000001,1.3227131999999999,53.293990999999998,83.806939999999997,0.43343827000000001,2.8380448999999999,0.49922948,0.14767589,1.0290326000000001,13.53951,0.51963722999999995,0.31007426999999999,0.55494396000000001,0.95464654000000004,0.49802046999999999,10.409007000000001,2.6307497999999998,9.7867908000000003E-2,0.31078370999999999,8.7099877000000006E-2,7.5660721E-2,0.22039798999999999,0.10490062,3.1691609999999999,5.6959571000000001E-2,0.11457458,0.56102852999999997,0.38890190000000002,5.5972199E-2,3.7781720999999997E-2,2.6730121999999999E-2,2.3989531000000001E-2,0.13233485,2.1613264E-2,0.12896608000000001,0.33318990999999998,0.12896608000000001,1.133383,1.0894212999999999,0.70449611000000001,1.4752971E-2,3.5942604999999999,1.0405958,1.1573024999999999,0.76410314999999995,0.12810348999999999,0.12987278999999999,0.22413593000000001,1.8603162999999999E-2,4.2786E-5,2.3667086E-4,1.2737965999999999E-4,1.4614726E-4,1.8173319E-4,1.2593972000000001E-4,3.8225557999999999E-3,1.6111113999999999E-2,0.59865701999999998,8.4647187999999998E-2,0.36480128000000001,1.5522033]
[null,null,"IPCC GWP 100a, 2013 with RFI, UVEK","kg CO2 eq",9.6459115999999998,2.0817703000000001,41.245741000000002,0.43377016000000002,9.8195332999999996E-2,0.61522162000000002,0.46872118000000002,0.32377841000000002,0.37382535,0.31993857999999997,1.2618241000000001E-2,2.8919218999999999E-2,0.35511542000000001,0.35963353999999997,0.39764158999999999,0.26504651000000001,0.18548255,0.12373965000000001,0,6.4853483000000003E-2,1.6797880000000001E-2,3.4773997000000001E-2,3.1971303E-3,0.1860802,0.31627283,1.9884818,1.7409274999999999E-3,2.2635983E-3,3.50607E-2,1.3300892999999999E-2,2.3246961E-2,3.7012110000000001E-2,2.7611261000000001E-3,4.0108635E-4,0,3.1971303E-3,3.4506383999999999,1.322713,53.293982,83.806855999999996,0.43343807000000001,2.8380448,0.49922933000000003,0.14767585,1.0290319000000001,13.539123999999999,0.51963713,0.31007410000000002,0.55494337000000005,0.95460244999999999,0.49799823999999998,10.409007000000001,2.6307475,9.7867872999999994E-2,0.3107837,8.7099865999999998E-2,7.5660719000000001E-2,0.22039791,0.10490057,3.1691595000000001,5.6959546999999999E-2,0.11457455,0.56102805,0.38890174999999999,5.5972186E-2,3.7781716999999999E-2,2.6730118000000001E-2,2.3989527E-2,0.13233481999999999,2.1613257E-2,0.12896605,0.33318985000000001,0.12896605,1.1333820999999999,1.0894212000000001,0.70449589000000001,1.4752965E-2,3.5942552000000001,1.0405936,1.1573009000000001,0.76409797000000002,0.12810348999999999,0.12987278999999999,0.22413593000000001,1.8602695999999998E-2,4.2786E-5,2.3667086E-4,1.2737965000000001E-4,1.4614726E-4,1.8173319E-4,1.2593972000000001E-4,3.8225554999999998E-3,1.6111113E-2,0.59865696999999995,8.4647179000000003E-2,0.36480127000000001,1.5522024999999999]
[null,null,"IPCC GWP 100a, 2013 with RFI, v3.6","kg CO2 eq",9.6459113999999992,2.0817703000000001,41.245741000000002,0.43377015000000002,9.8195332999999996E-2,0.61522162000000002,0.46872118000000002,0.32377841000000002,0.37382535,0.31993857999999997,1.261817E-2,2.8918836999999999E-2,0.35511542000000001,0.35963353999999997,0.39764158999999999,0.26504651000000001,0.18548254,0.12373964,0,6.4853479000000006E-2,1.6797880000000001E-2,3.4773996000000001E-2,3.1971299999999999E-3,0.18608019000000001,0.31627283,1.9884818,1.7409274999999999E-3,2.2635983E-3,3.50607E-2,1.3300885E-2,2.3246961E-2,3.7012110000000001E-2,2.761126E-3,4.0108635E-4,0,3.1971299999999999E-3,3.4506383999999999,1.322713,53.293981000000002,83.806849999999997,0.43343805000000002,2.8380448,0.49922931999999998,0.14767584,1.0290318000000001,13.539096000000001,0.51963711999999995,0.31007407999999997,0.55494332000000002,0.95459917999999999,0.49799659000000002,10.409007000000001,2.6307474000000002,9.7867869999999996E-2,0.3107837,8.7099864999999999E-2,7.5660719000000001E-2,0.22039790000000001,0.10490057,3.1691593999999998,5.6959545E-2,0.11457455,0.56102801000000002,0.38890174,5.5972185000000001E-2,3.7781716999999999E-2,2.6730118000000001E-2,2.3989527E-2,0.13233481,2.1613256000000001E-2,0.12896605,0.33318985000000001,0.12896605,1.1333819999999999,1.0894212000000001,0.70449587999999996,1.4752965E-2,3.5942547999999999,1.0405933999999999,1.1573007,0.76409758000000005,0.12810348999999999,0.12987278999999999,0.22413593000000001,1.8602661999999999E-2,4.2786E-5,2.3667086E-4,1.2737965000000001E-4,1.4614726E-4,1.8173319E-4,1.2593972000000001E-4,3.8225554000000002E-3,1.6111113E-2,0.59865696000000002,8.4647179000000003E-2,0.36480127000000001,1.5522024000000001]
[null,null,"RFI aviation additonal effects","kg CO2 eq",6.0014102E-2,1.3501999000000001E-2,0.50608640999999999,1.7700253E-3,1.4415635999999999E-4,6.6136126E-4,3.3599999999999998E-4,3.8267215999999998E-4,2.6489847999999999E-4,2.3901474000000001E-4,4.6471638999999997E-5,9.3952033000000001E-5,1.2420127999999999E-4,8.1998810000000004E-4,1.2604653E-3,1.3975139000000001E-4,1.4577165E-4,7.6476689000000002E-5,0,1.8953829000000001E-4,4.1323238999999999E-4,1.1111980999999999E-4,1.3270889E-5,6.0014894000000004E-4,1.7447058999999999E-3,0,4.1462574000000001E-6,7.0486373999999999E-6,0,1.1322454E-5,1.3589602E-5,1.0018668E-5,1.3974517E-5,1.7537871000000001E-6,0,1.3270889E-5,2.0852701000000001E-2,7.3480365999999998E-3,7.2313759000000005E-2,8.0108169000000007E-2,1.9240024000000001E-3,3.3140577999999999E-3,1.9018596000000001E-3,5.287836E-4,1.3481427999999999E-3,3.4954396999999998E-2,7.5898662000000003E-4,5.6989292000000002E-4,6.4351511999999995E-4,2.1454640000000001E-3,1.1084350000000001E-3,5.3784560000000002E-3,2.6770676000000002E-3,1.5029444000000001E-4,1.7636727000000001E-4,1.5103619000000001E-4,1.5021454999999999E-4,4.3945159999999998E-4,2.5044474999999999E-4,4.1027253999999999E-3,1.0097854000000001E-4,1.5266446000000001E-4,5.7120396000000001E-4,4.8649123999999999E-4,7.2807616999999997E-5,1.1218939999999999E-4,4.4743979E-5,4.0294805E-5,1.8820792000000001E-4,2.5534228E-5,1.581958E-4,2.5842509000000003E-4,1.581958E-4,1.1755163E-3,3.0416006999999998E-2,2.1249928000000001E-2,2.0570023000000001E-5,7.2424867E-3,8.9407454999999999E-4,9.7289211000000004E-4,1.1361697E-3,5.7832594999999999E-5,6.8478178999999994E-5,1.1447009E-4,3.9771923999999997E-5,9.3321149999999994E-8,2.8727298000000001E-7,1.8276457000000001E-7,1.3859943999999999E-7,1.6526251000000001E-7,1.2889304E-7,4.1783076999999999E-6,1.7610518999999999E-5,6.5437193999999998E-4,7.4330696999999995E-5,1.7364949E-4,3.6319669999999998E-3]
[null,null,"IPCC GWP 100a, 2013","kg CO2 eq",9.6459104,2.0817701999999998,41.245739,0.43377010999999999,9.8195332999999996E-2,0.61522162000000002,0.46872118000000002,0.32377841000000002,0.37382535,0.31993857999999997,1.2617707000000001E-2,2.8916351999999999E-2,0.35511541000000002,0.35963352999999998,0.39764158999999999,0.26504650000000002,0.18548244999999999,0.12373955,0,6.4853450000000007E-2,1.6797876E-2,3.4773987999999999E-2,3.1971281000000001E-3,0.18608013000000001,0.31627281000000002,1.9884818,1.7409274000000001E-3,2.2635983E-3,3.50607E-2,1.3300833999999999E-2,2.3246960000000001E-2,3.7012109000000001E-2,2.7611256999999999E-3,4.0108633999999998E-4,0,3.1971281000000001E-3,3.4506382000000002,1.322713,53.293976999999998,83.806809999999999,0.43343796000000001,2.8380447000000002,0.49922925000000001,0.14767582000000001,1.0290314,13.53891,0.51963707000000003,0.31007400000000002,0.55494304000000005,0.95457795000000001,0.49798588999999999,10.409007000000001,2.6307463000000002,9.7867853000000005E-2,0.3107837,8.7099860000000001E-2,7.5660717000000002E-2,0.22039786,0.10490054,3.1691587000000001,5.6959533E-2,0.11457452999999999,0.56102777999999998,0.38890166999999998,5.5972178999999997E-2,3.7781715E-2,2.6730116000000002E-2,2.3989525000000001E-2,0.1323348,2.1613252999999999E-2,0.12896604,0.33318983000000002,0.12896604,1.1333816000000001,1.0894211,0.70449576999999997,1.4752962E-2,3.5942523,1.0405924,1.1573,0.76409508999999998,0.12810348999999999,0.12987278999999999,0.22413593000000001,1.8602436999999999E-2,4.2785998999999997E-5,2.3667086E-4,1.2737965000000001E-4,1.4614726E-4,1.8173319E-4,1.2593972000000001E-4,3.8225553000000002E-3,1.6111112E-2,0.59865694000000003,8.4647174000000006E-2,0.36480127000000001,1.5522020000000001]
[null,null,"Fuglestvedt, GWP 100a, stratosphere","kg CO2 eq",7.5332559999999996E-7,6.4541068999999994E-8,9.7969113999999996E-7,2.7636435E-8,5.9625007999999999E-9,8.0666360000000001E-9,8.2685608000000001E-9,8.9989259999999996E-9,7.1437174000000002E-9,7.9428935999999996E-9,3.2451863999999999E-7,1.7420115E-6,1.6947678000000001E-9,1.7160291E-9,3.6630230000000002E-9,1.360786E-9,6.4381402000000002E-8,6.2030222999999995E-8,0,2.0047503999999999E-8,2.9070507E-9,5.6754103999999997E-9,1.3457143E-9,4.2164617000000001E-8,1.2496691E-8,0,1.6559584000000001E-11,2.8150571999999998E-11,0,3.5699460000000002E-8,1.0010563999999999E-9,6.9170328999999997E-10,1.8926943E-10,5.5109166999999998E-12,0,1.3457143E-9,1.2003066999999999E-7,4.4662093E-8,3.0572251000000001E-6,2.8351709999999999E-5,6.8173877000000003E-8,2.6700245E-8,4.9650340999999997E-8,1.6051304E-8,2.5979106000000001E-7,1.2859500000000001E-4,3.4151077999999998E-8,5.6663339000000001E-8,1.9835573999999999E-7,1.4708167000000001E-5,7.4158202999999997E-6,5.0009226999999998E-8,7.6025253000000001E-7,1.1905591E-8,4.2121443999999996E-9,3.8149277999999999E-9,8.7187314999999998E-10,2.7112477999999998E-8,1.6421209999999999E-8,4.9241457999999999E-7,8.2330795000000005E-9,1.0906282000000001E-8,1.6226519999999999E-7,5.1131890999999999E-8,4.332627E-9,1.2924044E-9,1.3227730000000001E-9,1.1697116E-9,1.2584008E-8,2.3694139E-9,1.0060904999999999E-8,1.7819609000000001E-8,1.0060904999999999E-8,3.1176971E-7,5.0492522000000001E-8,7.2445987000000005E-8,1.8272836E-9,1.7827385999999999E-6,7.3821069000000001E-7,5.4235296000000003E-7,1.7497912E-6,5.0497248000000005E-10,6.6678513999999999E-10,8.9984955000000001E-10,1.5751388999999999E-7,2.4581248E-12,3.2471756000000002E-12,3.5967843E-12,2.9010810999999998E-12,3.3228973E-12,3.2007720999999999E-12,1.1958758999999999E-10,5.0403171999999998E-10,1.8728818E-8,3.0311108000000001E-9,1.9122951000000002E-9,2.7314490999999999E-7]
[null,null,"Lund, GWP 100a, stratosphere","kg CO2 eq",6.5484047000000002E-7,5.6103370000000002E-8,8.5161256999999999E-7,2.4023419000000001E-8,8.1797982999999997E-11,2.9726971999999999E-10,2.5506326999999998E-10,3.4952761999999998E-10,2.7431642000000002E-10,2.7754639999999998E-10,2.8209304000000002E-7,1.5142715E-6,1.4732063E-9,1.4916879E-9,3.1841439000000001E-9,1.1828868000000001E-9,5.596457E-8,5.3920768999999999E-8,0,1.7426622E-8,2.5270006999999999E-9,4.9334425999999999E-9,1.1697838E-9,3.6652275000000001E-8,1.0862971E-8,0,1.439469E-11,2.4470347000000001E-11,0,3.1032330000000002E-8,8.7018437000000002E-10,6.0127424E-10,1.6452552E-10,4.7904583E-12,0,1.1697838E-9,1.0433879E-7,3.8823308000000002E-8,2.6575576000000001E-6,2.4645181E-5,5.9261244000000002E-8,2.3209637000000001E-8,4.3159364E-8,1.3952859000000001E-8,2.2582757E-7,1.1408785E-4,2.9686383000000002E-8,4.9255524999999999E-8,1.7242392999999999E-7,1.3050401000000001E-5,6.5795157000000001E-6,5.6429355999999998E-9,6.6086177000000002E-7,1.0349128E-8,3.6614765000000002E-9,3.3161883999999998E-9,7.5789083999999997E-10,2.3567964999999998E-8,1.4274403E-8,4.2803936000000002E-7,7.1567379E-9,9.4804654000000006E-9,1.4105164E-7,4.4447223000000002E-8,3.7662063E-9,1.1234442999999999E-9,1.1498421000000001E-9,1.0167910000000001E-9,1.0938853000000001E-8,2.0596514E-9,8.7456056999999994E-9,1.5489985E-8,8.7456056999999994E-9,2.7101085E-7,4.3891444000000002E-8,6.2974846999999994E-8,1.5883957999999999E-9,1.5496742E-6,6.4170152000000004E-7,4.7145016999999998E-7,1.5210342000000001E-6,4.3895624E-10,5.7961450999999996E-10,7.8221007000000003E-10,1.3692148000000001E-7,2.2381392999999999E-13,3.0461583000000002E-13,3.2421254000000001E-13,2.9600833999999999E-13,2.8878841E-13,2.9721959000000001E-13,1.0395345E-10,4.3813773000000002E-10,1.6280328E-8,2.6348701000000001E-9,1.6622954999999999E-9,2.3743562999999999E-7]
{"$rows_empty":7}
[null,null,"Calculation: ","Compare"]
[null,null,"Results: ","Impact assessment"]
[null,null,"Product 1: ","0.0001 p anaerobic digestion plant covered, agriculture/CH/I U (of project ESU database 2021 UVEK)"]
[null,null,"Product 2: ","1.2E-5 p Anaerobic digestion plant, sewage sludge/CH/I U (of project ESU database 2021 UVEK)"]
[null,null,"Product 3: ","6.67E-5 p anaerobic digestion plant, biowaste/CH/I U (of project ESU database 2021 UVEK)"]
[null,null,"Product 4: ","1 ton tap water, unspecified natural origin RER, at user/kg/RER U (of project ESU database 2021 UVEK)"]
[null,null,"Product 5: ","1 kWh Electricity, medium voltage {CH}| market for | Cut-off, S (of project Ecoinvent 3 - allocation, cut-off by classification - system)"]
[null,null,"Product 6: ","1 kWh Electricity, medium voltage {DE}| market for | Cut-off, S (of project Ecoinvent 3 - allocation, cut-off by classification - system)"]
[null,null,"Product 7: ","1 kWh Electricity, medium voltage {HU}| market for | Cut-off, S (of project Ecoinvent 3 - allocation, cut-off by classification - system)"]
[null,null,"Product 8: ","1 kWh Electricity, medium voltage {DK}| market for | Cut-off, S (of project Ecoinvent 3 - allocation, cut-off by classification - system)"]
[null,null,"Product 9: ","1 kWh Electricity, medium voltage {GB}| market for | Cut-off, S (of project Ecoinvent 3 - allocation, cut-off by classification - system)"]
[null,null,"Product 10: ","1 kWh Electricity, medium voltage {ES}| market for | Cut-off, S (of project Ecoinvent 3 - allocation, cut-off by classification - system)"]
[null,null,"Product 11: ","1 kWh electricity, medium voltage, naturemade star, at grid/CH U (of project 208 naturemade KWM)"]
[null,null,"Product 12: ","1 kWh electricity, medium voltage, renewable, at grid/kWh/RER U (of project ESU database 2021 UVEK)"]
[null,null,"Product 13: ","1 kWh light fuel oil, burned in industrial furnace 1MW, non-modulating/MJ/RER U (of project ESU database 2021 UVEK)"]
[null,null,"Product 14: ","1 kWh oil combustion, in cogen with ignition gas engine/MJ/CH U (of project 208 naturemade KWM)"]
[null,null,"Product 15: ","1 kWh diesel, burned in building machine, average/MJ/CH U (of project ESU database 2021 UVEK)"]
[null,null,"Product 16: ","1 kWh Natural gas, burned in boiler condensing modulating >100kW/RER U (of project ESU database 2021 UVEK)"]
[null,null,"Product 17: ","1 kWh biomethane, burned in boiler condensing modulating >100kW/RER U (of project 208 naturemade KWM)"]
[null,null,"Product 18: ","1 kWh biomethane, naturemade star, burned in boiler condensing modulating >100kW/RER U (of project 208 naturemade KWM)"]
[null,null,"Product 19: ","1 kWh Heat from waste, at municipal waste incineration plant/CH U (of project ESU database 2021 UVEK)"]
[null,null,"Product 20: ","1 kWh Heat, digester sludge, at incineration plant, future, allocation price/CH U (of project ESU database 2021 UVEK)"]
[null,null,"Product 21: ","1 kWh Wood chips, from forest, mixed, burned in furnace 1000kW/CH U (of project ESU database 2021 UVEK)"]
[null,null,"Product 22: ","1 kWh Pellets, mixed, burned in furnace 50kW/CH U (of project ESU database 2021 UVEK)"]
[null,null,"Product 23: ","1 kWh transport, district heat network, average/CH/I U (of project 208 naturemade KWM)"]
[null,null,"Product 24: ","1 tkm transport, freight, lorry 16-32 metric ton, fleet average/RER U (of project ESU database 2021 UVEK)"]
[null,null,"Product 25: ","1 tkm Transport, tractor and trailer/CH U (of project ESU database 2021 UVEK)"]
[null,null,"Product 26: ","1 kWh biogas, vented/CH U (of project 208 naturemade KWM)"]
[null,null,"Product 27: ","1 kWh methane, 96 vol-%, purification and distribution/kWh/CH U (of project 208 naturemade KWM)"]
[null,null,"Product 28: ","1 kWh raw biogas, distribution/kWh/CH U (of project 208 naturemade KWM)"]
[null,null,"Product 29: ","1 kWh biogas, burned in production flare/MJ/GLO U (of project 208 naturemade KWM)"]
[null,null,"Product 30: ","1 kWh biogas combustion, in cogen with biogas engine/MJ/CH U (of project 208 naturemade KWM)"]
[null,null,"Product 31: ","1 kWh biogas combustion, in cogen with ignition gas engine/MJ/CH U (of project 208 naturemade KWM)"]
[null,null,"Product 32: ","1 kWh biogas combustion, in cogen 200kWe lean burn/MJ/CH U (of project 208 naturemade KWM)"]
[null,null,"Product 33: ","1 kWh biogas combustion, in micro gas turbine 100kWe/MJ/CH U (of project 208 naturemade KWM)"]
[null,null,"Product 34: ","1 kWh biogas, burned in industrial furnace >100kW/RER U (of project 208 naturemade KWM)"]
[null,null,"Product 35: ","1 kg emission, NOx/kg/CH U (of project 208 naturemade KWM)"]
[null,null,"Product 36: ","1 kWh transport, district heat network, average/CH/I U (of project 208 naturemade KWM)"]
[null,null,"Product 37: ","1 ton application, digested matter, on agricultural land/kg/CH U (of project 208 naturemade KWM)"]
[null,null,"Product 38: ","1 m3 application, digested matter, liquid, on agricultural land/m3/CH U (of project 208 naturemade KWM)"]
[null,null,"Product 39: ","1 ton disposal, digester sludge, to municipal incineration/kg/CH U (of project ESU database 2021 UVEK)"]
[null,null,"Product 40: ","1 ton digester sewage sludge, in cement plant/kg/CH U (of project 208 naturemade KWM)"]
[null,null,"Product 41: ","1 m3 Treatment, sewage, to wastewater treatment, class 4/CH U (of project ESU database 2021 UVEK)"]
[null,null,"Product 42: ","1 m3 treatment, sugar factory effluent, to wastewater treatment, class 4/HU U (of project 208 naturemade KWM)"]
[null,null,"Product 43: ","1 m3 treatment, paper production, pre-treated by digestion, to wastewater treatment, class 3/m3/CH U (of project 208 naturemade KWM)"]
[null,null,"Product 44: ","1 kg apple ÖLN, at farm/kg/CH S (of project ESU food database 2021)"]
[null,null,"Product 45: ","1 kg bread, at bakery/kg/CH S (of project ESU food database 2021)"]
[null,null,"Product 46: ","1 kg meat mixed, IP, at slaughterhouse/kg/CH S (of project ESU food database 2021)"]
[null,null,"Product 47: ","1 kg vegetables mean, IP, at farm/kg/CH S (of project ESU food database 2021)"]
[null,null,"Product 48: ","1 kg by-products, wheat milling, at plant/kg/CH S (of project ESU food database 2021)"]
[null,null,"Product 49: ","1 kg yeast, at plant/kg/RER S (of project ESU food database 2021)"]
[null,null,"Product 50: ","1 kg raw milk, silo zone, at farm/kg/CH S (of project ESU food database 2021)"]
[null,null,"Product 51: ","1 kg whey, at cheese dairy/kg/CH S (of project ESU food database 2021)"]
[null,null,"Product 52: ","1 kg Soybean lecithin, at oil mill/GLO U (of project 208 naturemade KWM)"]
[null,null,"Product 53: ","1 kg Rape oil, at oil mill/RER U (of project ESU database 2021 UVEK)"]
[null,null,"Product 54: ","1 kg wheat straw IP, at farm/kg/CH U (of project ESU database 2021 UVEK)"]
[null,null,"Product 55: ","1 kg Syrup, from sugar beet molasses, at distillery/CH U (of project ESU database 2021 UVEK)"]
[null,null,"Product 56: ","0.35 kg grass silage IP, at farm/kg/CH U (of project ESU database 2021 UVEK)"]
[null,null,"Product 57: ","0.35 kg grass silage organic, at farm/kg/CH U (of project ESU database 2021 UVEK)"]
[null,null,"Product 58: ","1 kg Hay intensive IP, at farm/CH U (of project ESU database 2021 UVEK)"]
[null,null,"Product 59: ","1 kg Potatoes IP, at farm/CH U (of project ESU database 2021 UVEK)"]
[null,null,"Product 60: ","1 kg Clover seed IP, at farm/CH U (of project ESU database 2021 UVEK)"]
[null,null,"Product 61: ","1 kg silage maize IP, at farm/kg/CH U (of project ESU database 2021 UVEK)"]
[null,null,"Product 62: ","1 kg Molasses, from sugar beet, at sugar refinery/CH U (of project ESU database 2021 UVEK)"]
[null,null,"Product 63: ","1 kg Rape meal, at oil mill/RER U (of project ESU database 2021 UVEK)"]
[null,null,"Product 64: ","1 kg rye grains IP, at farm/kg/CH U (of project ESU database 2021 UVEK)"]
[null,null,"Product 65: ","1 kg sugar beets IP, at farm/kg/CH U (of project ESU database 2021 UVEK)"]
[null,null,"Product 66: ","1 kg green rye conventional, at farm/kg/RER U (of project 208 naturemade KWM)"]
[null,null,"Product 67: ","0.125 kg grass from meadow intensive IP, at field/kg/CH U (of project ESU database 2021 UVEK)"]
[null,null,"Product 68: ","0.125 kg grass from natural meadow intensive IP, at field/kg/CH U (of project ESU database 2021 UVEK)"]
[null,null,"Product 69: ","1 kg Vegetable oil, from waste cooking oil, at plant/CH U (of project ESU database 2021 UVEK)"]
[null,null,"Product 70: ","1 kg Vinasse, at fermentation plant/CH U (of project ESU database 2021 UVEK)"]
[null,null,"Product 71: ","1 kg glycerine, from vegetable oil, at esterification plant/kg/RER U (of project 208 naturemade KWM)"]
[null,null,"Product 72: ","1 kg glycerine, from animal fat, at esterification plant/kg/RER U (of project 208 naturemade KWM)"]
[null,null,"Product 73: ","1 kg glycerine, from vegetable oil, at esterification plant/kg/RER U (of project 208 naturemade KWM)"]
[null,null,"Product 74: ","1 kg glycerine, from rape oil, at esterification plant/kg/RER U (of project ESU database 2021 UVEK)"]
[null,null,"Product 75: ","1 kg glycerine, from soybean oil, at esterification plant/kg/RER U (of project 208 naturemade KWM)"]
[null,null,"Product 76: ","1 kg glycerine, from palm oil, at esterification plant/kg/RER U (of project 208 naturemade KWM)"]
[null,null,"Product 77: ","1 kg Pulps, from sugar beet, at sugar refinery/CH U (of project ESU database 2021 UVEK)"]
[null,null,"Product 78: ","1 kg Urea, as N, at regional storehouse/RER U (of project ESU database 2021 UVEK)"]
[null,null,"Product 79: ","1 kg Sodium hydroxide, 50% in H2O, production mix, at plant/RER U (of project ESU database 2021 UVEK)"]
[null,null,"Product 80: ","1 kg Hydrogen peroxide, 50% in H2O, at plant/RER U (of project ESU database 2021 UVEK)"]
[null,null,"Product 81: ","1 kg Iron (III) chloride, 40% in H2O, at plant/CH U (of project ESU database 2021 UVEK)"]
[null,null,"Product 82: ","1 kWh threshold value, methane/kWh/CH U (of project 208 naturemade KWM)"]
[null,null,"Product 83: ","1 kWh threshold value, heat/kWh/CH U (of project 208 naturemade KWM)"]
[null,null,"Product 84: ","1 kWh threshold value, electricity/kWh/CH U (of project 208 naturemade KWM)"]
[null,null,"Product 85: ","1 kWh threshold value, cooling/kWh/CH U (of project 208 naturemade KWM)"]
[null,null,"Product 86: ","1 kg reference value, manure/kg/CH U (of project 208 naturemade KWM)"]
[null,null,"Product 87: ","1 kg reference value, manure/kg/DE U (of project 208 naturemade KWM)"]
[null,null,"Product 88: ","1 kg reference value, manure/kg/DK U (of project 208 naturemade KWM)"]
[null,null,"Product 89: ","1 kg reference value, manure/kg/GB U (of project 208 naturemade KWM)"]
[null,null,"Product 90: ","1 kg reference value, manure/kg/HU U (of project 208 naturemade KWM)"]
[null,null,"Product 91: ","1 kg reference value, manure/kg/ES U (of project 208 naturemade KWM)"]
[null,null,"Product 92: ","1 kg reference value, digested matter, liquid/kg/CH U (of project 208 naturemade KWM)"]
[null,null,"Product 93: ","1 kg reference value, digested matter, solid/kg/CH U (of project 208 naturemade KWM)"]
[null,null,"Product 94: ","1 CHF reference value, co-substrate disposal/CHF/CH U (of project 208 naturemade KWM)"]
[null,null,"Product 95: ","1 kg reference value, raw sewage sludge treatment/kg/CH U (of project 208 naturemade KWM)"]
[null,null,"Product 96: ","1 kg reference value, fuel from digester sludge/kg/CH U (of project 208 naturemade KWM)"]
[null,null,"Product 97: ","1 m3 reference value, paper production effluent/kg/CH U (of project 208 naturemade KWM)"]
[null,null,"Method: ","Cumulative Energy Demand, differenziert V1.04 / CED, non-renewable"]
[null,null,"Indicator: ","Single score"]
[null,null,"Skip categories: ","Never"]
[null,null,"Default units: ","Yes"]
[null,null,"Exclude infrastructure processes: ","No"]
[null,null,"Exclude long-term emissions: ","No"]
[null,null,"Sorted on item: ","Impact category"]
[null,null,"Sort order: ","Ascending"]
[]
[null,null,"Impact category","Unit","anaerobic digestion plant covered, agriculture/CH/I U","Anaerobic digestion plant, sewage sludge/CH/I U","anaerobic digestion plant, biowaste/CH/I U","tap water, unspecified natural origin RER, at user/kg/RER U","Electricity, medium voltage {CH}| market for | Cut-off, S","Electricity, medium voltage {DE}| market for | Cut-off, S","Electricity, medium voltage {HU}| market for | Cut-off, S","Electricity, medium voltage {DK}| market for | Cut-off, S","Electricity, medium voltage {GB}| market for | Cut-off, S","Electricity, medium voltage {ES}| market for | Cut-off, S","electricity, medium voltage, naturemade star, at grid/CH U","electricity, medium voltage, renewable, at grid/kWh/RER U","light fuel oil, burned in industrial furnace 1MW, non-modulating/MJ/RER U","oil combustion, in cogen with ignition gas engine/MJ/CH U","diesel, burned in building machine, average/MJ/CH U","Natural gas, burned in boiler condensing modulating >100kW/RER U","biomethane, burned in boiler condensing modulating >100kW/RER U","biomethane, naturemade star, burned in boiler condensing modulating >100kW/RER U","Heat from waste, at municipal waste incineration plant/CH U","Heat, digester sludge, at incineration plant, future, allocation price/CH U","Wood chips, from forest, mixed, burned in furnace 1000kW/CH U","Pellets, mixed, burned in furnace 50kW/CH U","transport, district heat network, average/CH/I U","transport, freight, lorry 16-32 metric ton, fleet average/RER U","Transport, tractor and trailer/CH U","biogas, vented/CH U","methane, 96 vol-%, purification and distribution/kWh/CH U","raw biogas, distribution/kWh/CH U","biogas, burned in production flare/MJ/GLO U","biogas combustion, in cogen with biogas engine/MJ/CH U","biogas combustion, in cogen with ignition gas engine/MJ/CH U","biogas combustion, in cogen 200kWe lean burn/MJ/CH U","biogas combustion, in micro gas turbine 100kWe/MJ/CH U","biogas, burned in industrial furnace >100kW/RER U","emission, NOx/kg/CH U","transport, district heat network, average/CH/I U","application, digested matter, on agricultural land/kg/CH U","application, digested matter, liquid, on agricultural land/m3/CH U","disposal, digester sludge, to municipal incineration/kg/CH U","digester sewage sludge, in cement plant/kg/CH U","Treatment, sewage, to wastewater treatment, class 4/CH U","treatment, sugar factory effluent, to wastewater treatment, class 4/HU U","treatment, paper production, pre-treated by digestion, to wastewater treatment, class 3/m3/CH U","apple ÖLN, at farm/kg/CH S","bread, at bakery/kg/CH S","meat mixed, IP, at slaughterhouse/kg/CH S","vegetables mean, IP, at farm/kg/CH S","by-products, wheat milling, at plant/kg/CH S","yeast, at plant/kg/RER S","raw milk, silo zone, at farm/kg/CH S","whey, at cheese dairy/kg/CH S","Soybean lecithin, at oil mill/GLO U","Rape oil, at oil mill/RER U","wheat straw IP, at farm/kg/CH U","Syrup, from sugar beet molasses, at distillery/CH U","grass silage IP, at farm/kg/CH U","grass silage organic, at farm/kg/CH U","Hay intensive IP, at farm/CH U","Potatoes IP, at farm/CH U","Clover seed IP, at farm/CH U","silage maize IP, at farm/kg/CH U","Molasses, from sugar beet, at sugar refinery/CH U","Rape meal, at oil mill/RER U","rye grains IP, at farm/kg/CH U","sugar beets IP, at farm/kg/CH U","green rye conventional, at farm/kg/RER U","grass from meadow intensive IP, at field/kg/CH U","grass from natural meadow intensive IP, at field/kg/CH U","Vegetable oil, from waste cooking oil, at plant/CH U","Vinasse, at fermentation plant/CH U","glycerine, from vegetable oil, at esterification plant/kg/RER U","glycerine, from animal fat, at esterification plant/kg/RER U","glycerine, from vegetable oil, at esterification plant/kg/RER U","glycerine, from rape oil, at esterification plant/kg/RER U","glycerine, from soybean oil, at esterification plant/kg/RER U","glycerine, from palm oil, at esterification plant/kg/RER U","Pulps, from sugar beet, at sugar refinery/CH U","Urea, as N, at regional storehouse/RER U","Sodium hydroxide, 50% in H2O, production mix, at plant/RER U","Hydrogen peroxide, 50% in H2O, at plant/RER U","Iron (III) chloride, 40% in H2O, at plant/CH U","threshold value, methane/kWh/CH U","threshold value, heat/kWh/CH U","threshold value, electricity/kWh/CH U","threshold value, cooling/kWh/CH U","reference value, manure/kg/CH U","reference value, manure/kg/DE U","reference value, manure/kg/DK U","reference value, manure/kg/GB U","reference value, manure/kg/HU U","reference value, manure/kg/ES U","reference value, digested matter, liquid/kg/CH U","reference value, digested matter, solid/kg/CH U","reference value, co-substrate disposal/CHF/CH U","reference value, raw sewage sludge treatment/kg/CH U","reference value, fuel from digester sludge/kg/CH U","reference value, paper production effluent/kg/CH U"]
[null,null,"Total","MJ",113.85905,18.377621999999999,490.07040000000001,7.3437758999999998,4.6646599000000002,8.9743510999999998,12.253833,4.4825818000000002,9.7454263000000001,7.7765722999999998,0.10990161,0.29058321999999998,4.7234866000000002,4.5945083000000002,5.2771273000000001,4.3627019000000002,1.1761693,1.1017815,0,0.86972704999999995,0.28995820999999999,0.62836199000000004,0.1120796,2.7697672,4.6316800000000002,0,1.1664991E-2,1.9830483999999999E-2,0,4.0694498000000003E-2,4.7495755000000001E-2,3.5987559000000002E-2,1.9703741E-2,1.7875002000000001E-3,0,0.1120796,49.862819999999999,19.017469999999999,419.26762000000002,2328.4213,5.3151238000000003,43.467542000000002,6.6762002999999996,1.5789483,11.952499,94.411681999999999,3.9641310000000001,2.8153844000000001,8.9965655000000009,4.9674886000000003,2.7906745000000002,33.174447999999998,21.694472999999999,0.64454557999999995,5.0917567999999997,0.54378972000000003,0.49356214999999998,2.2985310000000001,0.78467224000000002,20.098161999999999,0.38354432999999999,1.2860362999999999,4.6199390999999999,2.2385139000000001,0.27398787000000002,0.33616061000000003,0.13526832999999999,0.12038635,3.0833729000000001,0.23603183999999999,3.4277994999999999,6.6899984000000003,3.4277994999999999,11.340457000000001,8.7725588000000005,7.9917385999999997,0.16909608000000001,65.197160999999994,19.490292,21.535692000000001,13.856147999999999,2.1268685999999999,2.1377239000000001,3.7050474000000002,0.11010881,1.8042921999999999E-3,3.4204264E-3,1.7360129E-3,3.7095795999999999E-3,4.6502319999999998E-3,2.9712593000000001E-3,2.0044056000000001E-2,8.4480667999999995E-2,3.1391339999999999,0.56634165000000003,6.0640739000000004,25.725349999999999]
[null,null,"Non renewable, fossil","MJ",97.721928000000005,16.175477999999998,435.02652999999998,5.2897349,1.1589578,6.8215271,5.6090244,3.7399355000000001,5.8424784000000001,3.9129195999999999,9.1047111999999999E-2,0.24769198000000001,4.6461502000000001,4.5375224999999997,5.1440586000000001,4.3085832999999996,0.76636307999999997,0.71090869000000001,0,0.61248082999999998,0.18756787999999999,0.40998232000000001,3.5931833000000003E-2,2.6099082999999998,4.1018938,0,1.107258E-2,1.8823386000000001E-2,0,3.5852769E-2,4.1550892999999998E-2,3.1761877000000001E-2,1.6598925E-2,1.4755587999999999E-3,0,3.5931833000000003E-2,45.318207999999998,17.450046,383.53622999999999,840.87599,3.522535,27.129769,4.0285495999999998,1.4335754999999999,8.7118461000000007,56.704479999999997,3.5125468,2.3689713000000001,6.2056867000000002,3.0491966000000001,1.7540374000000001,31.542195,19.301221000000002,0.59854657,4.9664631000000004,0.50181076999999996,0.45380790999999998,1.361378,0.67398168000000003,16.871665,0.35219141999999998,0.99051182999999998,4.1133255000000002,2.0155352999999998,0.25660222999999999,0.28429090000000001,0.12403272,0.11066442,2.6955988,0.20226327,3.0750041000000001,6.1117109999999997,3.0750041000000001,10.183134000000001,4.9159125000000001,4.7301494999999996,0.1083196,62.234653000000002,12.498187,18.720434999999998,9.1515907999999992,2.1137815999999998,2.1112058,3.6816556,9.1915707999999999E-2,4.8325528E-4,2.6067187999999999E-3,1.4511219E-3,2.2395754999999999E-3,2.1520302000000002E-3,1.515991E-3,1.7036674000000002E-2,7.1805305999999999E-2,2.6681427000000002,0.53129013999999997,6.0007845,10.582625999999999]
[null,null,"Non-renewable, nuclear","MJ",16.108260000000001,2.1971362000000001,55.003857000000004,2.053321,3.5056642999999998,2.1527927,6.6447608999999996,0.74254284999999998,3.9028760999999998,3.8636244999999998,1.8840330999999998E-2,4.2856006000000002E-2,7.7194325999999994E-2,5.6864689000000003E-2,0.13253147000000001,5.4064002E-2,0.40955732,0.39082274,0,0.25699511000000003,0.10226853,0.21810837999999999,7.6141884000000007E-2,0.15384812,0.52930940000000004,0,5.8930828000000005E-4,1.0018239000000001E-3,0,4.8171133999999997E-3,5.9196704999999999E-3,4.2013045999999997E-3,3.1026026000000001E-3,3.1185263999999999E-4,0,7.6141884000000007E-2,4.5392970999999998,1.5651136000000001,35.625999,1487.4735000000001,1.7918524,16.335754999999999,2.6468992,0.14493338,3.2367395999999999,35.388133000000003,0.44710086999999998,0.44335366999999998,2.7899938999999998,1.7769763999999999,0.96539392000000002,0.49644010999999999,2.3870501000000002,4.5907789999999997E-2,0.12521937999999999,4.1934059000000003E-2,3.9717016000000001E-2,0.93696670000000004,0.11052494,3.2213045999999999,3.1279410000000001E-2,0.29544516999999998,0.50528963999999998,0.22256069000000001,1.7352583000000001E-2,5.1838769E-2,1.122043E-2,9.7086333999999996E-3,0.38687722000000002,3.3727177999999997E-2,0.35232909000000001,0.57777535999999996,0.35232909000000001,1.1546647000000001,0.44937536,0.90859869000000004,6.0767359999999999E-2,2.9600806999999998,6.9914301999999999,2.8148784,4.7036407000000002,1.3060586000000001E-2,2.6491361000000001E-2,2.3345464E-2,1.8178149000000001E-2,1.3210019999999999E-3,8.1367517999999996E-4,2.8483148999999998E-4,1.4699564E-3,2.4981631999999999E-3,1.4552371000000001E-3,3.0034435999999999E-3,1.2658760999999999E-2,0.47037445,3.4967509000000001E-2,6.3212002000000003E-2,15.141076999999999]
[null,null,"Renewable, biomass","MJ",0,0,0,0,0,0,0,0,0,0,0,0,0,0,0,0,0,0,0,0,0,0,0,0,0,0,0,0,0,0,0,0,0,0,0,0,0,0,0,0,0,0,0,0,0,0,0,0,0,0,0,0,0,0,0,0,0,0,0,0,0,0,0,0,0,0,0,0,0,0,0,0,0,0,0,0,0,0,0,0,0,0,0,0,0,0,0,0,0,0,0,0,0,0,0,0,0]
[null,null,"Renewable, wind, solar, geothermal","MJ",0,0,0,0,0,0,0,0,0,0,0,0,0,0,0,0,0,0,0,0,0,0,0,0,0,0,0,0,0,0,0,0,0,0,0,0,0,0,0,0,0,0,0,0,0,0,0,0,0,0,0,0,0,0,0,0,0,0,0,0,0,0,0,0,0,0,0,0,0,0,0,0,0,0,0,0,0,0,0,0,0,0,0,0,0,0,0,0,0,0,0,0,0,0,0,0,0]
[null,null,"Renewable, water","MJ",0,0,0,0,0,0,0,0,0,0,0,0,0,0,0,0,0,0,0,0,0,0,0,0,0,0,0,0,0,0,0,0,0,0,0,0,0,0,0,0,0,0,0,0,0,0,0,0,0,0,0,0,0,0,0,0,0,0,0,0,0,0,0,0,0,0,0,0,0,0,0,0,0,0,0,0,0,0,0,0,0,0,0,0,0,0,0,0,0,0,0,0,0,0,0,0,0]
[null,null,"Waste heat","MJ",0,0,0,0,0,0,0,0,0,0,0,0,0,0,0,0,0,0,0,0,0,0,0,0,0,0,0,0,0,0,0,0,0,0,0,0,0,0,0,0,0,0,0,0,0,0,0,0,0,0,0,0,0,0,0,0,0,0,0,0,0,0,0,0,0,0,0,0,0,0,0,0,0,0,0,0,0,0,0,0,0,0,0,0,0,0,0,0,0,0,0,0,0,0,0,0,0]
[null,null,"Non-renewable, land transformation","MJ",2.8861865E-2,5.0077402999999998E-3,4.0011538999999999E-2,7.2008708999999997E-4,3.7840662000000001E-5,3.1254941999999999E-5,4.7382105999999998E-5,1.0347642E-4,7.1852272E-5,2.8092018000000001E-5,1.4167526000000001E-5,3.5232096E-5,1.420131E-4,1.2108607E-4,5.3728656999999999E-4,5.4633753999999999E-5,2.4886285E-4,5.0086281000000003E-5,0,2.5110855999999998E-4,1.217972E-4,2.7129267E-4,5.8823421000000002E-6,6.0108167000000002E-3,4.7683072000000002E-4,0,3.1027196999999998E-6,5.2746236000000003E-6,0,2.4615543999999999E-5,2.5191612000000001E-5,2.4378289999999999E-5,2.2141319000000002E-6,8.8685570999999996E-8,0,5.8823421000000002E-6,5.3145568999999997E-3,2.3102546000000001E-3,0.10539817,7.1842580000000003E-2,7.3641318000000004E-4,2.0175848000000001E-3,7.5153668999999998E-4,4.3942896000000002E-4,3.9137974000000002E-3,2.3190689,4.4833388999999998E-3,3.0594327999999998E-3,8.8493152999999998E-4,0.14131564999999999,7.1243174000000006E-2,1.1358132000000001,6.2022181999999999E-3,9.1215250000000004E-5,7.4380723999999996E-5,4.4896226999999999E-5,3.7219167999999997E-5,1.8627349E-4,1.6562544999999999E-4,5.1922766000000002E-3,7.3505165999999996E-5,7.9267820999999998E-5,1.3239598E-3,4.1787441999999999E-4,3.3060727999999997E-5,3.0938695999999998E-5,1.5181187000000001E-5,1.3296104000000001E-5,8.9691789000000003E-4,4.1397842E-5,4.6631698999999999E-4,5.1205149000000001E-4,4.6631698999999999E-4,2.6582432999999999E-3,3.4072710000000002,2.3529903999999999,9.1245280000000004E-6,2.4278527000000001E-3,6.7523194000000003E-4,3.7810923000000001E-4,9.1633199999999995E-4,2.6412445000000001E-5,2.6770539000000001E-5,4.6335997000000003E-5,1.4950684E-5,3.4886141000000001E-8,3.2416496000000003E-8,5.9499549999999999E-8,4.7640494E-8,3.8464181999999998E-8,3.1230399000000001E-8,3.9386458E-6,1.6600403999999999E-5,6.1683807999999998E-4,8.3991984000000001E-5,7.7452638999999998E-5,1.6476691999999999E-3]
[null,null,"Secondary energy and waste","MJ",0,0,0,0,0,0,0,0,0,0,0,0,0,0,0,0,0,0,0,0,0,0,0,0,0,0,0,0,0,0,0,0,0,0,0,0,0,0,0,0,0,0,0,0,0,0,0,0,0,0,0,0,0,0,0,0,0,0,0,0,0,0,0,0,0,0,0,0,0,0,0,0,0,0,0,0,0,0,0,0,0,0,0,0,0,0,0,0,0,0,0,0,0,0,0,0,0]
[]
[]
[]
[]
[null,"2021-02-11"]
[null,null,"Calculation: ","Compare"]
[null,null,"Results: ","Impact assessment"]
[null,null,"Product 1: ","0.0001 p anaerobic digestion plant covered, agriculture/CH/I U (of project ESU database 2021 UVEK)"]
[null,null,"Product 2: ","1.2E-5 p Anaerobic digestion plant, sewage sludge/CH/I U (of project ESU database 2021 UVEK)"]
[null,null,"Product 3: ","6.67E-5 p anaerobic digestion plant, biowaste/CH/I U (of project ESU database 2021 UVEK)"]
[null,null,"Product 4: ","1 ton tap water, unspecified natural origin RER, at user/kg/RER U (of project ESU database 2021 UVEK)"]
[null,null,"Product 5: ","1 kWh Electricity, medium voltage {CH}| market for | Cut-off, S (of project Ecoinvent 3 - allocation, cut-off by classification - system)"]
[null,null,"Product 6: ","1 kWh Electricity, medium voltage {DE}| market for | Cut-off, S (of project Ecoinvent 3 - allocation, cut-off by classification - system)"]
[null,null,"Product 7: ","1 kWh Electricity, medium voltage {HU}| market for | Cut-off, S (of project Ecoinvent 3 - allocation, cut-off by classification - system)"]
[null,null,"Product 8: ","1 kWh Electricity, medium voltage {DK}| market for | Cut-off, S (of project Ecoinvent 3 - allocation, cut-off by classification - system)"]
[null,null,"Product 9: ","1 kWh Electricity, medium voltage {GB}| market for | Cut-off, S (of project Ecoinvent 3 - allocation, cut-off by classification - system)"]
[null,null,"Product 10: ","1 kWh Electricity, medium voltage {ES}| market for | Cut-off, S (of project Ecoinvent 3 - allocation, cut-off by classification - system)"]
[null,null,"Product 11: ","1 kWh electricity, medium voltage, naturemade star, at grid/CH U (of project 208 naturemade KWM)"]
[null,null,"Product 12: ","1 kWh electricity, medium voltage, renewable, at grid/kWh/RER U (of project ESU database 2021 UVEK)"]
[null,null,"Product 13: ","1 kWh light fuel oil, burned in industrial furnace 1MW, non-modulating/MJ/RER U (of project ESU database 2021 UVEK)"]
[null,null,"Product 14: ","1 kWh oil combustion, in cogen with ignition gas engine/MJ/CH U (of project 208 naturemade KWM)"]
[null,null,"Product 15: ","1 kWh diesel, burned in building machine, average/MJ/CH U (of project ESU database 2021 UVEK)"]
[null,null,"Product 16: ","1 kWh Natural gas, burned in boiler condensing modulating >100kW/RER U (of project ESU database 2021 UVEK)"]
[null,null,"Product 17: ","1 kWh biomethane, burned in boiler condensing modulating >100kW/RER U (of project 208 naturemade KWM)"]
[null,null,"Product 18: ","1 kWh biomethane, naturemade star, burned in boiler condensing modulating >100kW/RER U (of project 208 naturemade KWM)"]
[null,null,"Product 19: ","1 kWh Heat from waste, at municipal waste incineration plant/CH U (of project ESU database 2021 UVEK)"]
[null,null,"Product 20: ","1 kWh Heat, digester sludge, at incineration plant, future, allocation price/CH U (of project ESU database 2021 UVEK)"]
[null,null,"Product 21: ","1 kWh Wood chips, from forest, mixed, burned in furnace 1000kW/CH U (of project ESU database 2021 UVEK)"]
[null,null,"Product 22: ","1 kWh Pellets, mixed, burned in furnace 50kW/CH U (of project ESU database 2021 UVEK)"]
[null,null,"Product 23: ","1 kWh transport, district heat network, average/CH/I U (of project 208 naturemade KWM)"]
[null,null,"Product 24: ","1 tkm transport, freight, lorry 16-32 metric ton, fleet average/RER U (of project ESU database 2021 UVEK)"]
[null,null,"Product 25: ","1 tkm Transport, tractor and trailer/CH U (of project ESU database 2021 UVEK)"]
[null,null,"Product 26: ","1 kWh biogas, vented/CH U (of project 208 naturemade KWM)"]
[null,null,"Product 27: ","1 kWh methane, 96 vol-%, purification and distribution/kWh/CH U (of project 208 naturemade KWM)"]
[null,null,"Product 28: ","1 kWh raw biogas, distribution/kWh/CH U (of project 208 naturemade KWM)"]
[null,null,"Product 29: ","1 kWh biogas, burned in production flare/MJ/GLO U (of project 208 naturemade KWM)"]
[null,null,"Product 30: ","1 kWh biogas combustion, in cogen with biogas engine/MJ/CH U (of project 208 naturemade KWM)"]
[null,null,"Product 31: ","1 kWh biogas combustion, in cogen with ignition gas engine/MJ/CH U (of project 208 naturemade KWM)"]
[null,null,"Product 32: ","1 kWh biogas combustion, in cogen 200kWe lean burn/MJ/CH U (of project 208 naturemade KWM)"]
[null,null,"Product 33: ","1 kWh biogas combustion, in micro gas turbine 100kWe/MJ/CH U (of project 208 naturemade KWM)"]
[null,null,"Product 34: ","1 kWh biogas, burned in industrial furnace >100kW/RER U (of project 208 naturemade KWM)"]
[null,null,"Product 35: ","1 kg emission, NOx/kg/CH U (of project 208 naturemade KWM)"]
[null,null,"Product 36: ","1 kWh transport, district heat network, average/CH/I U (of project 208 naturemade KWM)"]
[null,null,"Product 37: ","1 ton application, digested matter, on agricultural land/kg/CH U (of project 208 naturemade KWM)"]
[null,null,"Product 38: ","1 m3 application, digested matter, liquid, on agricultural land/m3/CH U (of project 208 naturemade KWM)"]
[null,null,"Product 39: ","1 ton disposal, digester sludge, to municipal incineration/kg/CH U (of project ESU database 2021 UVEK)"]
[null,null,"Product 40: ","1 ton digester sewage sludge, in cement plant/kg/CH U (of project 208 naturemade KWM)"]
[null,null,"Product 41: ","1 m3 Treatment, sewage, to wastewater treatment, class 4/CH U (of project ESU database 2021 UVEK)"]
[null,null,"Product 42: ","1 m3 treatment, sugar factory effluent, to wastewater treatment, class 4/HU U (of project 208 naturemade KWM)"]
[null,null,"Product 43: ","1 m3 treatment, paper production, pre-treated by digestion, to wastewater treatment, class 3/m3/CH U (of project 208 naturemade KWM)"]
[null,null,"Product 44: ","1 kg apple ÖLN, at farm/kg/CH S (of project ESU food database 2021)"]
[null,null,"Product 45: ","1 kg bread, at bakery/kg/CH S (of project ESU food database 2021)"]
[null,null,"Product 46: ","1 kg meat mixed, IP, at slaughterhouse/kg/CH S (of project ESU food database 2021)"]
[null,null,"Product 47: ","1 kg vegetables mean, IP, at farm/kg/CH S (of project ESU food database 2021)"]
[null,null,"Product 48: ","1 kg by-products, wheat milling, at plant/kg/CH S (of project ESU food database 2021)"]
[null,null,"Product 49: ","1 kg yeast, at plant/kg/RER S (of project ESU food database 2021)"]
[null,null,"Product 50: ","1 kg raw milk, silo zone, at farm/kg/CH S (of project ESU food database 2021)"]
[null,null,"Product 51: ","1 kg whey, at cheese dairy/kg/CH S (of project ESU food database 2021)"]
[null,null,"Product 52: ","1 kg Soybean lecithin, at oil mill/GLO U (of project 208 naturemade KWM)"]
[null,null,"Product 53: ","1 kg Rape oil, at oil mill/RER U (of project ESU database 2021 UVEK)"]
[null,null,"Product 54: ","1 kg wheat straw IP, at farm/kg/CH U (of project ESU database 2021 UVEK)"]
[null,null,"Product 55: ","1 kg Syrup, from sugar beet molasses, at distillery/CH U (of project ESU database 2021 UVEK)"]
[null,null,"Product 56: ","0.35 kg grass silage IP, at farm/kg/CH U (of project ESU database 2021 UVEK)"]
[null,null,"Product 57: ","0.35 kg grass silage organic, at farm/kg/CH U (of project ESU database 2021 UVEK)"]
[null,null,"Product 58: ","1 kg Hay intensive IP, at farm/CH U (of project ESU database 2021 UVEK)"]
[null,null,"Product 59: ","1 kg Potatoes IP, at farm/CH U (of project ESU database 2021 UVEK)"]
[null,null,"Product 60: ","1 kg Clover seed IP, at farm/CH U (of project ESU database 2021 UVEK)"]
[null,null,"Product 61: ","1 kg silage maize IP, at farm/kg/CH U (of project ESU database 2021 UVEK)"]
[null,null,"Product 62: ","1 kg Molasses, from sugar beet, at sugar refinery/CH U (of project ESU database 2021 UVEK)"]
[null,null,"Product 63: ","1 kg Rape meal, at oil mill/RER U (of project ESU database 2021 UVEK)"]
[null,null,"Product 64: ","1 kg rye grains IP, at farm/kg/CH U (of project ESU database 2021 UVEK)"]
[null,null,"Product 65: ","1 kg sugar beets IP, at farm/kg/CH U (of project ESU database 2021 UVEK)"]
[null,null,"Product 66: ","1 kg green rye conventional, at farm/kg/RER U (of project 208 naturemade KWM)"]
[null,null,"Product 67: ","0.125 kg grass from meadow intensive IP, at field/kg/CH U (of project ESU database 2021 UVEK)"]
[null,null,"Product 68: ","0.125 kg grass from natural meadow intensive IP, at field/kg/CH U (of project ESU database 2021 UVEK)"]
[null,null,"Product 69: ","1 kg Vegetable oil, from waste cooking oil, at plant/CH U (of project ESU database 2021 UVEK)"]
[null,null,"Product 70: ","1 kg Vinasse, at fermentation plant/CH U (of project ESU database 2021 UVEK)"]
[null,null,"Product 71: ","1 kg glycerine, from vegetable oil, at esterification plant/kg/RER U (of project 208 naturemade KWM)"]
[null,null,"Product 72: ","1 kg glycerine, from animal fat, at esterification plant/kg/RER U (of project 208 naturemade KWM)"]
[null,null,"Product 73: ","1 kg glycerine, from vegetable oil, at esterification plant/kg/RER U (of project 208 naturemade KWM)"]
[null,null,"Product 74: ","1 kg glycerine, from rape oil, at esterification plant/kg/RER U (of project ESU database 2021 UVEK)"]
[null,null,"Product 75: ","1 kg glycerine, from soybean oil, at esterification plant/kg/RER U (of project 208 naturemade KWM)"]
[null,null,"Product 76: ","1 kg glycerine, from palm oil, at esterification plant/kg/RER U (of project 208 naturemade KWM)"]
[null,null,"Product 77: ","1 kg Pulps, from sugar beet, at sugar refinery/CH U (of project ESU database 2021 UVEK)"]
[null,null,"Product 78: ","1 kg Urea, as N, at regional storehouse/RER U (of project ESU database 2021 UVEK)"]
[null,null,"Product 79: ","1 kg Sodium hydroxide, 50% in H2O, production mix, at plant/RER U (of project ESU database 2021 UVEK)"]
[null,null,"Product 80: ","1 kg Hydrogen peroxide, 50% in H2O, at plant/RER U (of project ESU database 2021 UVEK)"]
[null,null,"Product 81: ","1 kg Iron (III) chloride, 40% in H2O, at plant/CH U (of project ESU database 2021 UVEK)"]
[null,null,"Product 82: ","1 kWh threshold value, methane/kWh/CH U (of project 208 naturemade KWM)"]
[null,null,"Product 83: ","1 kWh threshold value, heat/kWh/CH U (of project 208 naturemade KWM)"]
[null,null,"Product 84: ","1 kWh threshold value, electricity/kWh/CH U (of project 208 naturemade KWM)"]
[null,null,"Product 85: ","1 kWh threshold value, cooling/kWh/CH U (of project 208 naturemade KWM)"]
[null,null,"Product 86: ","1 kg reference value, manure/kg/CH U (of project 208 naturemade KWM)"]
[null,null,"Product 87: ","1 kg reference value, manure/kg/DE U (of project 208 naturemade KWM)"]
[null,null,"Product 88: ","1 kg reference value, manure/kg/DK U (of project 208 naturemade KWM)"]
[null,null,"Product 89: ","1 kg reference value, manure/kg/GB U (of project 208 naturemade KWM)"]
[null,null,"Product 90: ","1 kg reference value, manure/kg/HU U (of project 208 naturemade KWM)"]
[null,null,"Product 91: ","1 kg reference value, manure/kg/ES U (of project 208 naturemade KWM)"]
[null,null,"Product 92: ","1 kg reference value, digested matter, liquid/kg/CH U (of project 208 naturemade KWM)"]
[null,null,"Product 93: ","1 kg reference value, digested matter, solid/kg/CH U (of project 208 naturemade KWM)"]
[null,null,"Product 94: ","1 CHF reference value, co-substrate disposal/CHF/CH U (of project 208 naturemade KWM)"]
[null,null,"Product 95: ","1 kg reference value, raw sewage sludge treatment/kg/CH U (of project 208 naturemade KWM)"]
[null,null,"Product 96: ","1 kg reference value, fuel from digester sludge/kg/CH U (of project 208 naturemade KWM)"]
[null,null,"Product 97: ","1 m3 reference value, paper production effluent/kg/CH U (of project 208 naturemade KWM)"]
[null,null,"Method: ","Ecological Scarcity 2013, categories, res. cor. V1.03 / Ecological scarcity 2013"]
[null,null,"Indicator: ","Single score"]
[null,null,"Skip categories: ","Never"]
[null,null,"Default units: ","Yes"]
[null,null,"Exclude infrastructure processes: ","No"]
[null,null,"Exclude long-term emissions: ","No"]
[null,null,"Sorted on item: ","Impact category"]
[null,null,"Sort order: ","Ascending"]
[]
[null,null,"Impact category","Unit","anaerobic digestion plant covered, agriculture/CH/I U","Anaerobic digestion plant, sewage sludge/CH/I U","anaerobic digestion plant, biowaste/CH/I U","tap water, unspecified natural origin RER, at user/kg/RER U","Electricity, medium voltage {CH}| market for | Cut-off, S","Electricity, medium voltage {DE}| market for | Cut-off, S","Electricity, medium voltage {HU}| market for | Cut-off, S","Electricity, medium voltage {DK}| market for | Cut-off, S","Electricity, medium voltage {GB}| market for | Cut-off, S","Electricity, medium voltage {ES}| market for | Cut-off, S","electricity, medium voltage, naturemade star, at grid/CH U","electricity, medium voltage, renewable, at grid/kWh/RER U","light fuel oil, burned in industrial furnace 1MW, non-modulating/MJ/RER U","oil combustion, in cogen with ignition gas engine/MJ/CH U","diesel, burned in building machine, average/MJ/CH U","Natural gas, burned in boiler condensing modulating >100kW/RER U","biomethane, burned in boiler condensing modulating >100kW/RER U","biomethane, naturemade star, burned in boiler condensing modulating >100kW/RER U","Heat from waste, at municipal waste incineration plant/CH U","Heat, digester sludge, at incineration plant, future, allocation price/CH U","Wood chips, from forest, mixed, burned in furnace 1000kW/CH U","Pellets, mixed, burned in furnace 50kW/CH U","transport, district heat network, average/CH/I U","transport, freight, lorry 16-32 metric ton, fleet average/RER U","Transport, tractor and trailer/CH U","biogas, vented/CH U","methane, 96 vol-%, purification and distribution/kWh/CH U","raw biogas, distribution/kWh/CH U","biogas, burned in production flare/MJ/GLO U","biogas combustion, in cogen with biogas engine/MJ/CH U","biogas combustion, in cogen with ignition gas engine/MJ/CH U","biogas combustion, in cogen 200kWe lean burn/MJ/CH U","biogas combustion, in micro gas turbine 100kWe/MJ/CH U","biogas, burned in industrial furnace >100kW/RER U","emission, NOx/kg/CH U","transport, district heat network, average/CH/I U","application, digested matter, on agricultural land/kg/CH U","application, digested matter, liquid, on agricultural land/m3/CH U","disposal, digester sludge, to municipal incineration/kg/CH U","digester sewage sludge, in cement plant/kg/CH U","Treatment, sewage, to wastewater treatment, class 4/CH U","treatment, sugar factory effluent, to wastewater treatment, class 4/HU U","treatment, paper production, pre-treated by digestion, to wastewater treatment, class 3/m3/CH U","apple ÖLN, at farm/kg/CH S","bread, at bakery/kg/CH S","meat mixed, IP, at slaughterhouse/kg/CH S","vegetables mean, IP, at farm/kg/CH S","by-products, wheat milling, at plant/kg/CH S","yeast, at plant/kg/RER S","raw milk, silo zone, at farm/kg/CH S","whey, at cheese dairy/kg/CH S","Soybean lecithin, at oil mill/GLO U","Rape oil, at oil mill/RER U","wheat straw IP, at farm/kg/CH U","Syrup, from sugar beet molasses, at distillery/CH U","grass silage IP, at farm/kg/CH U","grass silage organic, at farm/kg/CH U","Hay intensive IP, at farm/CH U","Potatoes IP, at farm/CH U","Clover seed IP, at farm/CH U","silage maize IP, at farm/kg/CH U","Molasses, from sugar beet, at sugar refinery/CH U","Rape meal, at oil mill/RER U","rye grains IP, at farm/kg/CH U","sugar beets IP, at farm/kg/CH U","green rye conventional, at farm/kg/RER U","grass from meadow intensive IP, at field/kg/CH U","grass from natural meadow intensive IP, at field/kg/CH U","Vegetable oil, from waste cooking oil, at plant/CH U","Vinasse, at fermentation plant/CH U","glycerine, from vegetable oil, at esterification plant/kg/RER U","glycerine, from animal fat, at esterification plant/kg/RER U","glycerine, from vegetable oil, at esterification plant/kg/RER U","glycerine, from rape oil, at esterification plant/kg/RER U","glycerine, from soybean oil, at esterification plant/kg/RER U","glycerine, from palm oil, at esterification plant/kg/RER U","Pulps, from sugar beet, at sugar refinery/CH U","Urea, as N, at regional storehouse/RER U","Sodium hydroxide, 50% in H2O, production mix, at plant/RER U","Hydrogen peroxide, 50% in H2O, at plant/RER U","Iron (III) chloride, 40% in H2O, at plant/CH U","threshold value, methane/kWh/CH U","threshold value, heat/kWh/CH U","threshold value, electricity/kWh/CH U","threshold value, cooling/kWh/CH U","reference value, manure/kg/CH U","reference value, manure/kg/DE U","reference value, manure/kg/DK U","reference value, manure/kg/GB U","reference value, manure/kg/HU U","reference value, manure/kg/ES U","reference value, digested matter, liquid/kg/CH U","reference value, digested matter, solid/kg/CH U","reference value, co-substrate disposal/CHF/CH U","reference value, raw sewage sludge treatment/kg/CH U","reference value, fuel from digester sludge/kg/CH U","reference value, paper production effluent/kg/CH U"]
[null,null,"Total","Pt",15026.188,3040.6156000000001,75918.672999999995,934.12477000000001,177.73539,453.15663000000001,525.49215000000004,274.23944,389.32355999999999,392.02352999999999,25.719937000000002,46.894489,242.46781999999999,256.65120999999999,415.48111,164.81960000000001,233.89213000000001,109.65618000000001,0,339.71348999999998,95.210719999999995,97.144915999999995,5.4273455000000004,251.44507999999999,463.31988000000001,859.92828999999995,1.2522221,1.8277922,44.411498000000002,65.943900999999997,69.515546999999998,74.941070999999994,59.766216999999997,56.411200999999998,39000,5.4273455000000004,1168190.8,1192349.8999999999,86913.172000000006,1641491.2,3905.1736000000001,28269.486000000001,1975.2331999999999,713.00482999999997,3197.7555000000002,27182.091,855.18750999999997,1096.8227999999999,927.86649999999997,1516.2409,783.06817999999998,14466.371999999999,9628.0306,550.096,227.52576999999999,317.87313999999998,248.45686000000001,1029.6804999999999,798.06155000000001,11949.826999999999,185.49520999999999,316.16967,2054.8199,2377.8107,211.78297000000001,306.29455000000002,120.10393999999999,90.234363000000002,151.14988,55.374447000000004,142.27323000000001,276.24950000000001,142.27323000000001,3920.6516000000001,3401.7422000000001,1281.4287999999999,45.250048,3454.2310000000002,1348.2847999999999,1292.0724,1400.3979999999999,76.642319000000001,80.761602999999994,138.24521999999999,54.218124000000003,7.4856575999999994E-2,0.17813954000000001,0.11104559,0.15420213999999999,0.20526536000000001,0.15521462999999999,6.0359978999999999,25.440217000000001,945.30798000000004,107.04373,223.62377000000001,3357.3582999999999]
[null,null,"Water resources","Pt",23.586653999999999,4.7502908000000001,99.594207999999995,420.94427999999999,0,0,0,0,0,0,5.4092689999999999E-2,1.5010158,1.7996608999999999,1.6900652,1.7844222000000001,4.1018198999999998E-2,0.14422214,7.6528315999999999E-2,0,0.21323956999999999,6.7214744000000007E-2,0.10140799,9.5361065000000005E-3,0.96417016,1.2843302000000001,0,1.1346469999999999E-3,1.9288998E-3,0,9.6972036000000008E-3,1.1381768E-2,8.8845169999999998E-3,3.1356362999999999E-3,1.7795018E-4,0,9.5361065000000005E-3,14.07714,5.5912683999999997,93.371003999999999,1255.7012,2.4066814999999999,5.1239553000000004,2.7566989,0.41408130999999998,2.5748433999999998,60.712670000000003,1.0402393000000001,0.62468851000000003,6.2304747999999996,3.7071198999999999,1.9456169999999999,12.661985,4.4891084000000001,0.14253275000000001,8.4844354999999996E-2,0.11119279,0.10361404,0.39653092000000001,0.19069738999999999,5.9200588999999999,0.10319979999999999,0.19185923999999999,0.95715832000000001,0.59705684999999997,7.5531871E-2,9.1688468999999995E-2,3.6503115000000003E-2,3.2452789000000003E-2,0.23281726999999999,3.2844775E-2,0.20286937999999999,1.0362465000000001,0.20286937999999999,1.9491018,0.85610452000000004,1.133737,2.7850304999999999E-2,6.5353275000000002,4.6823891,7.8517193000000001,3.6096561,1.5418146000000001E-2,2.0098917000000001E-2,0.12665931999999999,4.3513914000000001E-2,1.4478399000000001E-5,1.4478399000000001E-5,1.4478399000000001E-5,1.4478399000000001E-5,1.4478399000000001E-5,1.4478399000000001E-5,6.1353513000000004E-3,2.5858967E-2,0.96086788999999995,8.1906119999999999E-2,6.4865310999999995E-2,5.9615685999999997]
[null,null,"Energy resources","Pt",515.63346000000001,64.274550000000005,1704.9579000000001,25.666585999999999,18.73762,31.692087000000001,42.838914000000003,18.95825,34.706896999999998,28.265419000000001,4.0649493000000003,4.9874638999999998,16.469332999999999,16.015522000000001,18.382193000000001,14.832307,6.1204014000000004,3.8900708000000002,0,3.0692436000000001,5.5915185000000003,6.5458575000000003,0.40460534999999997,9.7661426999999996,16.408660999999999,0,4.0054214999999997E-2,6.8092163999999997E-2,0,0.14206556000000001,0.16577744999999999,0.12569399000000001,6.8946729999999998E-2,6.2218042000000001E-3,0,0.40460534999999997,175.12979000000001,66.841764999999995,1448.3821,8389.8471000000009,18.814518,150.43068,23.702611000000001,7.9413869000000004,58.411444000000003,685.41209000000003,14.148160000000001,16.238076,39.299520000000001,41.350653000000001,21.855695000000001,94.231393999999995,133.81324000000001,21.191403000000001,17.804666000000001,8.7935079999999992,8.7746078000000001,28.184041000000001,7.0244568000000003,88.835559000000003,7.1978166999999997,9.7072661999999994,28.526603000000001,24.634246000000001,5.1185007000000002,4.5928434999999999,2.9374033000000002,2.8830276000000001,10.655567,1.7206239999999999,11.723539000000001,22.927223999999999,11.723539000000001,62.444557000000003,46.693933999999999,50.771600999999997,1.3698958000000001,223.73734999999999,68.326362000000003,74.377960999999999,48.737209,7.2276233000000003,7.2678304999999996,12.591321000000001,2.1710452,7.2199441999999999E-3,1.2077869E-2,7.3026801999999998E-3,1.3208423E-2,1.6257929000000001E-2,1.0792869E-2,7.0465685E-2,0.29699519000000002,11.035752,1.9456969,20.635448,92.411935999999997]
[null,null,"Mineral resources","Pt",1334.5753999999999,393.47993000000002,10080.195,6.9236043,1.6052525,2.7354414,2.5216172000000001,2.6740594,1.7810059,2.0465000999999998,1.9124753999999999,3.8388168,1.7492430000000001,1.6154847000000001,2.8941876999999998,1.9359043,2.0046020000000002,1.5997041000000001,0,2.3604471999999999,0.95171667999999998,1.2906679000000001,0.11834509999999999,6.7033617999999997,8.7080254000000004,0,9.4223146999999993E-2,0.16017934,0,9.6770728E-2,7.1091538999999995E-2,5.4336048999999997E-2,0.15825582999999999,6.6494924999999996E-3,0,0.11834509999999999,100.79389999999999,44.985354000000001,1902.8749,1470.9585999999999,52.602367999999998,78.288415999999998,54.753382999999999,3.2892231999999999,13.978505999999999,215.02744000000001,4.6144527999999996,3.8579970000000001,8.2474215999999991,12.913421,7.0902874999999996,27.385365,36.099806999999998,0.88020023999999997,2.6898038999999998,0.67254570000000002,0.60679857999999998,5.3627649999999996,1.8394467999999999,39.257075999999998,0.75595774000000004,1.4678511000000001,7.7045392000000001,3.6664574000000001,0.43380289999999999,0.54640506,0.25829984,0.23065616,2.5488985,0.25449301000000002,2.3175492000000002,3.8985208999999998,2.3175492000000002,16.086963999999998,5.5898211,6.2721137999999996,0.18899216999999999,60.109935999999998,44.635539999999999,17.878661999999998,54.711570999999999,0.94049614000000004,0.94859311999999996,1.6765614,3.6620829000000001,1.7211101999999999E-3,2.1449310000000001E-3,2.1219127999999999E-3,1.7870176999999999E-3,2.0647469E-3,1.8865780000000001E-3,2.9291820999999999E-2,0.12345768,4.5874423999999996,1.6229861000000001,2.7043751999999999,96.251116999999994]
[null,null,"Land use","Pt",992.01247000000001,291.26024000000001,1441.904,5.0352921999999998,0.59500213999999996,1.7925169000000001,3.0485828000000001,6.7229783999999997,4.6225947999999999,1.5528322999999999,8.1340662999999994E-2,0.38616125000000001,0.31014480999999999,0.32855000000000001,0.62279138000000001,8.3498589999999998E-2,21.666774,0.29094787,0,0.42550178999999999,1.7239987000000001,6.8009949000000001,7.8674308999999998E-3,3.8511354999999998,2.7465836000000001,0,5.7961866999999999E-3,9.8535172999999997E-3,0,1.8195851999999998E-2,1.8822531999999999E-2,1.7011933999999999E-2,5.4164158000000002E-3,3.4133006000000002E-4,0,7.8674308999999998E-3,18.612335000000002,7.6915399999999998,318.64952,180.42787999999999,2.6078350000000001,4.7828641000000003,2.5682231999999998,91.390617000000006,453.93797999999998,4969.3573999999999,102.12161999999999,166.36180999999999,117.53751,270.93027000000001,136.69851,2332.3123000000001,2187.4299000000001,65.902266999999995,7.0976220000000003,66.679258000000004,82.222053000000002,200.10982999999999,135.80928,5415.7728999999999,74.559696000000002,77.497950000000003,466.97421000000003,437.93254999999999,62.019604999999999,93.839567000000002,21.613661,21.338443000000002,0.86408284000000002,13.435632,0.67623922999999997,0.72353078999999998,0.67623922999999997,868.23869000000002,866.81092000000001,73.030486999999994,11.489720999999999,5.1296780000000002,2.2518799,1.4073042,3.2303872999999999,3.3874583E-2,4.0914309000000003E-2,6.3121416999999999E-2,9.2835847999999999E-2,3.5477658999999998E-4,8.0384464E-4,2.6527677000000001E-3,1.8651239000000001E-3,1.2748693E-3,7.1396291E-4,4.9314576000000004E-3,2.0784857E-2,0.77232403999999999,0.23934367000000001,0.11762618,5.2604518999999996]
[null,null,"Global warming","Pt",4415.4875000000002,954.19500000000005,18969.663,198.13746,44.952730000000003,282.09210999999999,214.13323,148.16615999999999,171.17191,146.09437,5.8224662,13.166016000000001,160.92194000000001,162.9725,180.28851,120.26611,83.437922999999998,56.287548999999999,0,30.236968999999998,7.9616159,16.065916999999999,1.4638145,84.716437999999997,143.90502000000001,859.88400000000001,0.77004402999999999,1.0081112000000001,15.2376,5.8572141000000002,10.168238000000001,16.103109,1.3190831999999999,0.18557797000000001,0,1.4638145,1569.4549,601.22838999999999,25933.151000000002,39492.142,200.29302999999999,1318.4894999999999,227.12658999999999,68.971412000000001,490.3723,6174.5643,244.68333999999999,149.33816999999999,257.29181999999997,431.83087,225.35578000000001,4808.1437999999998,1293.4344000000001,47.874743000000002,141.27296999999999,42.909481,36.767772000000001,108.51730000000001,51.785378999999999,1582.0798,27.945501,55.054518999999999,275.85617000000002,190.08287000000001,27.824679,18.330317999999998,13.299419,11.923622,59.826908000000003,10.335642,58.090699000000001,150.87725,58.090699000000001,553.36863000000005,526.57668000000001,335.80525999999998,7.1498011000000004,1628.6239,474.60592000000003,524.75603999999998,347.51780000000002,58.158290999999998,58.930394,101.81829999999999,8.7026869999999992,1.9589803999999999E-2,0.10851706999999999,5.8294840000000001E-2,6.6921994999999998E-2,8.3032489000000001E-2,5.7517919000000001E-2,1.7980361,7.5782714000000002,281.59352000000001,41.931480000000001,165.61713,698.31295]
[null,null,"Ozone layer depletion","Pt",1.0608624,0.18134106,3.5740229000000001,7.5396726999999997E-2,0.26874536999999998,0.22231896000000001,0.60563789999999995,9.8097756999999994E-2,0.37051823,0.36706581999999999,1.9174193E-3,8.7873367000000004E-3,3.4433345999999997E-2,3.5250503000000002E-2,4.0294035999999998E-2,4.0352187999999997E-2,2.5477224999999999E-2,2.2908082E-2,0,0.10631206999999999,6.3258430999999999E-3,1.0032119000000001E-2,3.7713670999999999E-3,4.7811927999999997E-2,5.8464641999999997E-2,0,1.1907744E-4,2.0243164E-4,0,4.1005018E-4,4.9073419000000005E-4,3.6206821999999999E-4,2.2536586E-4,1.7566102E-5,0,3.7713670999999999E-3,0.54846806000000004,0.20817863,5.0692006999999997,72.520359999999997,0.29738722000000001,0.48598585999999999,0.13105833,0.20238133,0.37150496,3.6838768000000002,0.11546068,9.0879387000000006E-2,0.111016,0.24822886,0.13866870000000001,0.57113793999999996,0.41758160999999999,2.6961444000000001E-2,5.0080131999999999E-2,4.4788323999999996E-3,3.6379277999999998E-3,6.4175519E-2,5.0338052000000001E-2,0.27832498999999999,5.3885297999999998E-3,2.5819149E-2,8.9042531999999994E-2,8.8511516999999998E-2,5.8706803000000002E-3,4.8104819999999996E-3,1.7463044000000001E-3,1.3305932E-3,4.5767553000000002E-2,3.9081738000000003E-3,3.1676163E-2,7.6459161999999997E-2,3.1676163E-2,0.19000354,0.1063089,7.7892350999999999E-2,4.1574981000000004E-3,0.62550039999999996,0.30916028000000001,0.81515157000000005,13.109628000000001,2.0585837999999999E-2,1.9772571999999999E-2,3.5926449999999999E-2,0.55022302999999995,1.0135517000000001E-4,8.3945267999999996E-5,3.7362315000000001E-5,1.3951999000000001E-4,2.2768986999999999E-4,1.3822534000000001E-4,4.3446387E-4,1.8311562000000001E-3,6.8042131000000006E-2,6.4160171999999996E-3,5.9462387999999998E-2,0.72578955999999994]
[null,null,"Main air pollutants and PM","Pt",2717.0275999999999,475.87396999999999,9596.3011000000006,74.367852999999997,24.842003999999999,57.545690999999998,96.096889000000004,45.062258,51.437829999999998,106.11261,3.1929186999999999,7.1828455,31.948677,47.063921000000001,86.669936000000007,18.275721999999998,67.486971999999994,25.652729000000001,0,32.199449999999999,50.886418999999997,28.987038999999999,0.64518089999999995,46.213648999999997,144.94341,4.4288399999999999E-2,0.10756838000000001,0.1828446,22.873898000000001,58.145480999999997,57.799447000000001,57.602097999999998,56.994115999999998,54.832970000000003,39000,0.64518089999999995,1774.6948,677.98690999999997,17298.281999999999,471900.75,167.34661,1108.7945,93.950064999999995,71.641851000000003,268.61333000000002,6486.9691999999995,115.39491,91.385948999999997,123.82133,351.64893999999998,180.56347,2541.8775999999998,830.72383000000002,30.448402999999999,25.980816000000001,149.96351000000001,97.845275000000001,409.10606000000001,62.387447000000002,589.55210999999997,39.481313999999998,38.871153999999997,177.24979999999999,139.93415999999999,25.565611000000001,89.027499000000006,51.463813000000002,46.045929000000001,20.269316,6.8138408999999998,21.253164000000002,36.802881999999997,21.253164000000002,347.89391999999998,499.95668000000001,417.70245999999997,5.5667869999999997,872.05079999999998,179.49279000000001,160.18481,154.39929000000001,7.0187711999999998,8.9551035999999993,15.9282,5.8024617000000003,1.0718605000000001E-2,2.2982486999999999E-2,1.83012E-2,2.0692038999999999E-2,3.7439186999999999E-2,4.1195080000000002E-2,2.3892237999999999,10.069979,374.18043,27.373225999999999,23.860973000000001,258.11439000000001]
[null,null,"Carcinogenic substances into air","Pt",1164.0734,279.85003,8762.4192999999996,34.938526000000003,3.5144750999999999,9.0337150000000008,8.8124155000000002,10.964941,7.0865850000000004,6.6880360000000003,0.98249352999999995,1.6926321,1.6846809,1.1386480999999999,8.6742124,2.4371660999999998,3.5072225000000001,2.9355783,0,46.373806000000002,12.061189000000001,12.771896,0.21385802000000001,4.2934805000000003,17.626344,0,5.5761234E-2,9.4794093999999995E-2,0,0.20629009000000001,0.23452232000000001,0.18264786,0.22226931,1.26162,0,0.21385802000000001,206.3184,71.427060999999995,8314.4181000000008,323502.02,39.246022000000004,89.746069000000006,54.417178999999997,5.9407440999999999,16.496597999999999,258.19139000000001,6.6519703999999997,6.1540888999999996,9.4969339000000002,15.298491,8.1676295000000003,307.90100999999999,28.734234000000001,1.1786591,3.1412176999999999,1.132307,1.0956298,6.0302319000000004,2.8671272999999999,33.334899,0.98471127999999997,1.6978711,6.1272720999999999,5.0112920000000001,0.62695255000000005,1.0140506,0.47735018000000001,0.42194599999999999,2.2090812999999998,0.27627779000000002,1.9793132,3.9691952000000001,1.9793132,12.833341000000001,67.205476000000004,63.887515999999998,0.21836051000000001,48.632314000000001,17.865475,17.923674999999999,23.380075000000001,0.54309068999999999,1.1942113999999999,1.0350127,2.2482988000000002,2.1304912000000001E-3,4.2002061999999998E-3,4.9244158E-3,3.4700324000000002E-3,4.1172188999999996E-3,3.3205766000000002E-3,4.7029996999999997E-2,0.19821964,7.3654485000000003,8.0993101000000003,1.6134876,197.19287]
[null,null,"Heavy metals into air","Pt",1904.9108000000001,187.62472,13774.52,37.485624000000001,9.0035837000000001,14.105831999999999,16.670556999999999,15.229576,12.626301,14.095840000000001,5.9227211000000004,7.8267430999999998,2.0932632999999998,1.2959164999999999,7.2070297999999999,1.2734278999999999,6.1709487000000003,5.2541273999999998,0,4.6203396000000003,10.444578999999999,11.642910000000001,0.23190278,20.626808,19.680289999999999,0,5.8094812000000003E-2,9.8761163999999999E-2,6.3,0.40718884999999999,0.39873702999999999,0.35512153000000002,0.55134881000000002,5.9250148000000002E-2,0,0.23190278,224.66305,88.275706999999997,6196.7515999999996,141679.51,48.338836000000001,126.5857,40.006408,7.6540647999999996,38.495252000000001,586.31877999999995,12.216998,10.264729000000001,25.349927999999998,33.615696999999997,18.401176,44.341932,104.9538,2.5967492999999999,2.2100590000000002,1.7360589,1.3511184000000001,24.054252999999999,5.2102501999999999,83.185704000000001,1.8602993999999999,2.6650429,22.392302999999998,10.401721,1.1515458000000001,1.2523635,0.63865558,0.57743571999999999,3.2249032,0.51725105999999998,3.0984191000000001,8.1271758999999992,3.0984191000000001,44.456595999999998,10.761623,25.495567999999999,0.38886523000000001,306.68092999999999,188.83776,48.838078000000003,239.59342000000001,0.49499366,0.62397968999999998,1.0477312999999999,28.009582000000002,3.9686197000000003E-3,5.8819628000000004E-3,6.3033669000000002E-3,5.3271385999999997E-3,6.8437347000000004E-3,5.8782158999999999E-3,4.7897017E-2,0.20187392000000001,7.5012340000000002,4.6449752000000002,1.5420517,90.310170999999997]
[null,null,"Water pollutants","Pt",91.308880000000002,14.245132999999999,334.92739999999998,2.3008079000000001,1.1061904,1.6133465,1.8426393000000001,1.7863313000000001,8.0539178000000007,3.049944,0.14514446,0.46019575000000001,4.8707029999999998,5.4479401000000003,6.0858911000000004,1.0064101000000001,42.566803999999998,0.35417043999999998,0,179.78559999999999,0.63096635000000001,2.1587556000000001,1.6035609999999999E-2,6.9942921,4.9740520000000004,0,5.5141597999999997E-3,9.3740709999999994E-3,0,4.8728881000000002E-2,5.2245138000000003E-2,4.4429279000000002E-2,1.4702504999999999E-2,7.7960903E-4,0,1.6035609999999999E-2,49.620156999999999,19.8156,3412.3971999999999,602178.44999999995,2156.308,24744.172999999999,1356.7322999999999,82.755989,1333.0174999999999,5912.9493000000002,169.33353,485.25637999999998,251.82835,295.55302999999998,149.98023000000001,2922.8933999999999,2601.4124000000002,195.58097000000001,20.006418,43.979000999999997,38.512506999999999,60.565176999999998,327.82299999999998,1808.8972000000001,125.48384,147.81237999999999,555.35053000000005,1204.6225999999999,114.46331000000001,91.494825000000006,23.648161000000002,9.0060675999999997,27.083262000000001,25.467148999999999,17.928815,15.214971,17.928815,1042.1331,1039.6438000000001,248.50395,21.490518000000002,51.501373000000001,12.494134000000001,19.360802,10.07991,0.46797633,0.49314094000000003,0.81896228000000004,0.20323508000000001,4.6336944999999998E-4,6.5355296000000002E-4,7.1842227999999999E-4,3.0687672000000001E-3,7.3953777999999999E-4,1.1922770000000001E-3,1.3541662999999999,5.7074712999999999,212.07830000000001,4.0759438000000001,1.3760477,1381.0591999999999]
[null,null,"POP into water","Pt",61.198728000000003,12.131561,186.45635999999999,1.4639025999999999,0.22789085000000001,0.48520496000000002,0.48760094999999998,0.56738248000000002,0.44898222999999998,1.3955074000000001,5.0388461000000002E-2,8.2356574000000002E-2,7.8833890999999996,7.3611757000000004,7.6432352000000003,8.3363876000000003E-2,0.48091393999999998,0.21782982000000001,0,0.40059791,0.23911658999999999,0.25903924,5.8956779000000001E-3,4.0344259999999998,4.8859928000000004,0,2.3830671E-3,4.051214E-3,0,3.5044176000000003E-2,4.1293644999999997E-2,3.2828290000000003E-2,6.4406725000000003E-3,3.9570551999999998E-4,0,5.8956779000000001E-3,57.098193000000002,22.842495,207.31723,380.86660000000001,1.5373239999999999,3.5152510000000001,1.5943168999999999,2.9793254,8.6361199000000006,46.275136000000003,2.5128932000000002,2.0905130999999999,2.0142604999999998,2.7789974000000002,1.7049612999999999,10.2912,16.849053999999999,0.63838362999999998,0.16528723000000001,0.44219794000000001,0.40103368,1.342204,1.1163844000000001,21.430439,0.42506442,0.53917881999999995,3.5960415000000001,2.7724183999999998,0.33074146999999998,0.36371319000000002,0.14990352000000001,0.13657822999999999,0.67785278999999998,0.10856692,0.44327585000000003,0.50398812999999998,0.44327585000000003,6.9541434000000004,3.1443542,2.6484800000000002,7.5789272000000005E-2,24.430530000000001,2.5552655,3.9556789000000001,2.5184886999999998,3.4202286999999998E-2,4.0848298999999998E-2,6.4523667000000007E-2,5.8734427999999998E-2,1.2442820000000001E-4,2.2092098999999999E-4,2.5173756000000002E-4,2.0733747E-4,2.2181948999999999E-4,5.6228438999999999E-4,2.4811026E-2,0.10457225000000001,3.8856972999999999,0.18836094,0.17377432000000001,3.2546624999999998]
[null,null,"Heavy metals into water","Pt",920.53152,223.35839000000001,8504.3989000000001,47.397157999999997,2.644781,5.2239076000000004,4.9573198999999999,4.4593011000000002,19.134277999999998,7.5784435999999999,1.0036759,2.7186309,9.0009178999999992,8.7903582999999994,16.751114999999999,2.3117855,4.6104314999999998,2.0010683999999999,0,21.789396,0.68208157999999997,1.1257672999999999,0.28001730000000002,9.3864389999999993,16.309868000000002,0,8.0468047000000001E-2,0.13679567000000001,0,0.77204558999999995,0.30861390999999999,0.23607624999999999,0.29095170999999997,4.5206835000000001E-2,0,0.28001730000000002,157.56003999999999,58.416637999999999,17146.834999999999,10423.768,590.09267,55.866922000000002,31.216906000000002,11.257011,109.55768999999999,1065.8824999999999,26.415172999999999,37.419418,27.476189999999999,53.015569999999997,27.366878,80.143849000000003,727.48377000000005,25.175287999999998,4.8713601000000004,1.2183949999999999,1.12242,27.227647999999999,18.094835,1410.7977000000001,13.812606000000001,6.8872467999999998,155.29709,85.119613999999999,3.7288356,1.2164394000000001,0.46803391,0.35439177999999999,3.3480289999999999,1.4526885,7.3839696999999997,10.509228,7.3839696999999997,295.87437999999997,94.986470999999995,45.015428999999997,0.87397742,86.128653,103.47266,315.22388000000001,109.91969,1.05087,1.1327749,1.8865083,1.0812546999999999,1.6662938E-3,2.6334663000000002E-3,2.3467388E-3,7.8498551000000007E-3,2.5334958E-3,3.5164172E-3,4.9671624999999997E-2,0.20935344,7.7791585000000003,11.947431999999999,3.1310536999999998,62.039850000000001]
[null,null,"Pesticides into soil","Pt",8.1894959000000007,1.0949971000000001,8.8045033999999998,9.1086004999999998E-2,1.7003313999999999E-2,1.1328629999999999E-2,2.1920179000000001E-2,4.9126619000000003E-2,3.4367193999999997E-2,9.9680880999999995E-3,3.8034312E-3,8.3333438000000003E-3,2.9603974000000002E-2,2.5046379000000001E-2,0.11601798000000001,8.8770059000000002E-3,1.5075375,1.0973706999999999E-2,0,5.5329448000000003E-2,0.12994396,0.12977283000000001,6.6389447999999998E-4,1.3165403,0.12160179,0,4.7554661999999999E-4,8.0842925000000003E-4,0,5.5696362000000003E-3,5.7599764000000001E-3,5.5023331999999999E-3,5.2914016999999996E-4,2.1951660999999999E-5,0,6.6389447999999998E-4,1.2796291,0.54561333000000001,23.034769000000001,15.518509,14.446261,0.43744221,0.16440813000000001,334.65021000000002,216.19268,732.39523999999994,79.721650999999994,78.397957000000005,25.082045000000001,33.797933999999998,17.035330999999999,1015.5042,713.45289000000002,31.987489,1.5150208000000001,4.3813751999999999,0.20951402,7.3783589999999997,86.468896999999998,87.406981000000002,4.8128381999999998,16.525061999999998,152.30868000000001,159.97448,13.230362,0.59646478000000003,3.4375871,0.31795541999999999,0.19622286,2.8619164000000001,9.2524418999999997E-2,0.11984609,9.2524418999999997E-2,283.06695999999999,357.46010000000001,42.357846000000002,2.4484257999999999,0.50362602000000001,0.19711472999999999,7.9658287999999994E-2,0.23781056,4.2304478000000003E-3,4.3497327999999997E-3,7.4473904E-3,3.9996284E-3,1.0946869E-5,8.8188620000000006E-6,2.2993108E-5,1.7458324000000001E-5,1.2790693E-5,8.3086589000000002E-6,8.6202668E-4,3.6332262999999999E-3,0.13500348000000001,1.8212795E-2,1.2607943E-2,0.36107758000000001]
[null,null,"Heavy metals into soil","Pt",38.131943,6.8241405999999998,42.201701999999997,0.90947915999999995,2.0615527999999999,1.5158848,2.3725176000000001,4.2590840999999999,3.2614464000000001,1.4553278999999999,1.5381444,0.92417567,0.16537862,0.10903355000000001,0.21352218000000001,3.0813435E-2,-19.524894,0.12321892,0,0.44018072000000003,0.30752993000000001,0.69232271000000001,1.3764414000000001E-2,9.6629816000000002,61.991247999999999,0,1.1449042E-3,1.9463369E-3,0,6.7814353000000003E-3,7.5116107999999996E-3,6.3676786000000001E-3,2.9001806999999998E-3,1.6368029000000001E-4,0,1.3764414000000001E-2,1163688.1000000001,1190630.7,166.06381999999999,247.29506000000001,549.50505999999996,6.3232530999999996,1.3818739,17.624338000000002,78.332950999999994,-1068.5916999999999,56.757677999999999,29.144694000000001,-72.639320999999995,-83.977395999999999,-42.228273000000002,245.77034,832.09810000000004,124.75026,-3.9118593000000002,-5.3719558000000003,-21.641857000000002,125.21446,93.128956000000002,665.07424000000003,-113.28310999999999,-52.736468000000002,177.6361,104.28533,-43.501849999999997,2.3160693999999999,1.2695063,-3.3848338,0.64452807999999995,-9.3381735999999993,0.35359831000000003,1.4797302000000001,0.35359831000000003,330.32459999999998,-141.06881000000001,-74.054004000000006,-7.8780128999999999,3.3083930000000001,4.3958953999999997,1.1554586,3.5848990999999999,1.1358412E-2,1.5098583E-2,2.0235788000000001E-2,0.75614524000000005,8.0136613999999995E-4,5.9674065999999997E-4,1.6254404000000001E-3,1.2513263E-3,9.1797795000000005E-4,5.7403181000000004E-4,5.6368078E-3,2.3757731000000001E-2,0.88279012999999995,0.13012135999999999,3.7640056999999998E-2,4.4336016000000003]
[null,null,"Radioactive substances into air","Pt",1.2453407999999999E-4,1.8593135999999998E-5,4.2129308E-4,1.6128924999999999E-5,1.8120304000000001E-5,8.7792299999999993E-6,2.9244124999999998E-5,3.9542374000000003E-6,2.4343463E-5,1.8443719E-5,1.4974547000000001E-7,3.0748193000000001E-7,6.0257366000000002E-7,4.5200526999999998E-7,1.0484335999999999E-6,4.2160459999999997E-7,3.6143267000000001E-6,3.4522397000000002E-6,0,2.2140159999999999E-6,9.124682E-7,1.8032252000000001E-6,6.8059984000000005E-7,1.2895030999999999E-6,4.4588747999999998E-6,0,4.3539925999999998E-9,7.4017858000000003E-9,5.4599999999999998E-9,3.7811453000000002E-8,4.6489124E-8,3.3002055000000001E-8,2.4616447E-8,2.6448369E-9,0,6.8059984000000005E-7,3.9102557000000003E-5,1.3391723E-5,2.8619413E-4,1.3327991000000001E-2,1.5305667000000001E-5,1.2671994E-4,2.2695030000000001E-5,1.1995615E-6,3.0378061E-5,3.1216696999999998E-4,3.2124445999999999E-6,6.2695923999999996E-6,2.2444668000000001E-5,1.5619229E-5,8.5068371000000008E-6,3.7516471999999999E-6,2.0092132000000001E-5,3.2389369000000002E-7,1.0447713999999999E-6,2.7076147999999999E-7,2.5397376000000002E-7,8.3469302999999999E-6,9.5522567999999996E-7,2.8061642000000001E-5,2.6440541999999998E-7,2.6174886000000001E-6,4.2554262000000001E-6,1.9053686E-6,1.4480136000000001E-7,4.5383500000000001E-7,9.5668558000000006E-8,8.2922200999999994E-8,3.4114139000000001E-6,2.9716606000000001E-7,2.8791056000000001E-6,4.9796883000000003E-6,2.8791056000000001E-6,9.6133660000000005E-6,3.5199842E-6,7.6874860000000005E-6,5.4168435000000002E-7,2.3270175000000001E-5,5.5057013E-5,2.136239E-5,3.7138031000000001E-5,1.0119084999999999E-7,2.0658626000000001E-7,1.8043261E-7,1.3164899000000001E-7,6.8490366999999999E-9,3.3461337999999999E-9,1.5367616000000001E-9,9.1827213000000007E-9,1.1020468999999999E-8,6.9703170999999999E-9,2.6480276999999999E-8,1.1160773E-7,4.1471216000000001E-6,2.79794E-7,5.2107016000000004E-7,1.3427780999999999E-4]
[null,null,"Radioactive substances into water","Pt",14.091015000000001,1.7707529,46.503971,2.1118608999999999,0.74573343999999997,0.48542554999999998,1.4305889000000001,0.15945326000000001,0.81468364999999998,0.79835776999999997,1.5614101E-2,3.6878109999999999E-2,7.7510955000000006E-2,5.3120779999999999E-2,0.13132979,5.4425266E-2,0.28004775999999998,0.26607252999999997,0,0.18572295,6.6504954000000005E-2,0.18116235999999999,4.8658476999999999E-2,0.12113249,0.40844014000000001,0,5.3046327000000001E-4,9.0178733000000001E-4,0,4.9046979000000003E-3,6.0316609000000002E-3,4.2818700000000001E-3,2.9633633999999998E-3,2.5270185E-4,0,4.8658476999999999E-2,3.2775653,1.1414829,32.701678999999999,951.74174000000005,1.211044,16.926549999999999,1.6835789999999999,0.109891,2.2192542,23.253579999999999,0.31159512,0.34631521999999998,2.7230007999999999,1.1724287,0.63653919999999997,0.14301746000000001,2.1202239999999999,3.5439966000000003E-2,0.10368262,2.586832E-2,2.3516348999999999E-2,0.61103235,8.0181199999999994E-2,2.5952905999999998,2.7226638000000001E-2,0.19732537999999999,0.44814013000000003,0.18678696,1.4081252000000001E-2,3.5820626000000001E-2,8.4069295000000002E-3,7.2538001E-3,0.26518640999999998,2.3526795E-2,0.40895763000000002,0.43843944000000001,0.40895763000000002,1.055034,0.40204877999999999,0.70401727000000003,3.9719540999999997E-2,3.0175401000000002,7.2785080999999998,2.8193731,4.8316999000000003,1.2882362E-2,2.6668381000000001E-2,2.2967801999999999E-2,1.4427209999999999E-2,2.8479347E-4,1.8717800999999999E-4,6.4938398999999999E-5,3.1064979999999997E-4,5.4161428000000001E-4,3.0452758999999999E-4,2.0546488999999999E-3,8.6598299000000007E-3,0.32178209000000002,3.2978065000000001E-2,5.3416572000000002E-2,9.6572937000000003]
[null,null,"Noise","Pt",323.4615,61.788347999999999,508.91293000000002,9.3129735,0,0,0,0,0,0,0.23106099999999999,0.33506430999999998,0.86490350999999999,0.86675959999999996,73.440059000000005,0.33179235000000001,2.4788714999999999,0.32691578999999998,0,1.9202572,0.76375033000000003,2.0632647999999998,2.6281233000000001E-2,38.254590999999998,2.1523531,0,7.5234322000000001E-3,1.2789834E-2,0,2.1324930999999998E-2,2.3993225E-2,1.7610102999999998E-2,1.7746060000000001E-2,1.7164486E-3,0,2.6281233000000001E-2,20.042833000000002,7.3953290000000003,972.11881000000005,1480.0065,8.4238108,18.210660000000001,8.8120543999999992,2.0261300000000002,20.569355999999999,108.05576000000001,7.7106700000000004,6.7483257999999999,15.975167000000001,5.8773084999999998,3.0663621999999999,0,41.557003999999999,0.44997108000000002,0.72649799999999998,0.18849515999999999,0.12904769999999999,1.1448495000000001,1.0940542,25.280107999999998,0.36544903000000001,2.0176571999999999,8.8703818000000005,2.0151962000000001,0.17429564,0.13984324000000001,7.0543301000000003E-2,6.0236051999999998E-2,8.8252202000000004,0.50670124999999999,4.2165422000000001,3.4882575999999998,4.2165422000000001,18.080535999999999,8.9135103999999998,16.704042000000001,0.22411170999999999,33.893906999999999,6.0490769999999996,4.3689131999999997,9.5624111999999997,0.15677290999999999,0.16257825000000001,0.29622886999999998,0.21313109999999999,2.0927974000000001E-4,2.0927974000000001E-4,2.0927974000000001E-4,2.0927974000000001E-4,2.0927974000000001E-4,2.0927974000000001E-4,0.12176591,0.51321276999999998,19.069967999999999,0.80208100000000004,0.6742842,17.635974000000001]
[null,null,"Non radioactive waste to deposit","Pt",38.475588999999999,5.8751674999999999,311.73862000000003,1.0128927999999999,0.33292629000000001,0.85923651000000001,0.88280627,0.73581390999999996,0.55379708999999999,0.67071552000000001,0.15851625999999999,0.50846835999999995,0.11215602,0.10881025,0.36096653000000001,8.4800256000000004E-2,0.23162827999999999,0.15274213,0,8.6758936999999996,8.3440265999999999E-2,0.10263294000000001,8.3357818000000007E-3,0.22530547000000001,2.5119744000000002,0,4.3860404999999996E-3,7.4562680000000003E-3,0,1.2278147E-2,1.2449610999999999E-2,1.0442458E-2,1.1833876E-2,9.9096063999999998E-4,0,8.3357818000000007E-3,8.5427114,3.0214745000000001,2371.3024,118.26636999999999,5.8473685,10.448499,8.6233290999999994,0.26015050000000001,1.5583450999999999,15.099396,0.64531139999999998,0.89238048999999997,0.81000232999999999,0.89489715000000003,0.52084699000000001,9.3487387999999996,3.7136152999999998,0.10194267999999999,0.12920217000000001,0.10255923,9.7401106000000001E-2,0.41411700000000001,0.1398269,2.4427970999999999,7.0631786000000002E-2,0.12201566,0.79233863999999998,0.28766299000000001,3.5396983999999999E-2,7.3990262000000001E-2,2.08454E-2,1.8790555E-2,0.10975319,1.5497357999999999E-2,0.10341758,0.21042130000000001,0.10341758,1.5592801999999999,0.34580077999999997,0.44495233000000001,1.5983121999999999E-2,4.5561369999999997,4.2325676999999997,3.2108433999999999,220.13630000000001,4.0052047E-2,4.1552125000000002E-2,7.3182729000000002E-2,0.11999338,1.4181721999999999E-4,3.3918354999999998E-4,2.9290007000000001E-4,2.2464377E-4,3.4802221E-4,2.6848817999999998E-4,5.0902385000000001E-3,2.1454079000000001E-2,0.79719097999999999,2.8348933999999999,0.11782869,52.613072000000003]
[null,null,"Radioactive waste to deposit","Pt",462.43072999999998,62.037027999999999,1541.5988,65.949978000000002,67.079882999999995,43.742575000000002,128.76889,14.346621000000001,73.218423999999999,71.842581999999993,0.53821375999999999,1.2299040999999999,2.4518721999999999,1.7331004000000001,4.1753966,1.7218237999999999,10.696239,10.193040999999999,0,6.8552007000000001,2.6128086000000001,6.2154746000000003,1.9288109,4.2663700000000002,14.603213,0,1.7000687E-2,2.8901162000000001E-2,0,0.15390965000000001,0.18913906,0.13426722999999999,9.5351544999999996E-2,8.8467313000000006E-3,0,1.9288109,120.99751999999999,41.838968999999999,1070.4511,37751.356,45.848820000000003,530.85716000000002,65.612167999999997,3.8960192,84.419741999999999,906.53426999999999,10.791852,12.210433,87.210834000000006,45.584417999999999,24.768459,12.850332999999999,69.247622000000007,1.1343425,3.5880874999999999,0.90487297,0.83277308999999999,23.957491999999998,2.9509962000000001,87.685342000000006,0.88678751,7.6259341999999997,14.643464,6.1977225999999996,0.48569974999999999,1.3578406000000001,0.30409921000000001,0.26308019999999999,10.122481000000001,0.88606003,11.968658,15.846126,11.968658,34.141800000000003,13.357424999999999,24.927468999999999,1.5551044999999999,94.765168000000003,226.60229000000001,87.864412999999999,151.23772,0.41082925999999997,0.84369364999999996,0.73233307000000003,0.48447220000000002,2.5335090000000001E-2,1.65836E-2,5.5601169000000002E-3,2.7637043E-2,4.8468468000000001E-2,2.7121102000000001E-2,7.8493624999999997E-2,0.33083094000000002,12.293021,1.0683673,1.8317003999999999,381.76227]

{"sheet":"LCIAbg","index":8,"n_rows":19,"n_cols":14,"rows_kept":19,"cut":false,"hidden":true,"merged":[]}
["Zeile",null,{"$f":"MainInput!$A$11","v":11},{"$f":"MainInput!$A$11","v":11},{"$f":"MainInput!$A$11","v":11},94,74,94,94,74,74,74,46,20]
[null,null,{"$f":"INDEX(menuesBG!$1:$1048576,C1,sprache)","v":"Outputs of the plant"},{"$f":"INDEX(menuesBG!$1:$1048576,D1,sprache)","v":"Outputs of the plant"},{"$f":"INDEX(menuesBG!$1:$1048576,E1,sprache)","v":"Outputs of the plant"},{"$f":"INDEX(menuesBG!$1:$1048576,F1,sprache)","v":"Use of solid digestate"},{"$f":"INDEX(menuesBG!$1:$1048576,G1,sprache)","v":"Use of liquid digestate"},{"$f":"INDEX(menuesBG!$1:$1048576,H1,sprache)","v":"Use of solid digestate"},{"$f":"INDEX(menuesBG!$1:$1048576,I1,sprache)","v":"Use of solid digestate"},{"$f":"INDEX(menuesBG!$1:$1048576,J1,sprache)","v":"Use of liquid digestate"},{"$f":"INDEX(menuesBG!$1:$1048576,K1,sprache)","v":"Use of liquid digestate"},{"$f":"INDEX(menuesBG!$1:$1048576,L1,sprache)","v":"Use of liquid digestate"},{"$f":"INDEX(menuesBG!$1:$1048576,M1,sprache)","v":"Purchased substrates"},{"$f":"INDEX(menuesBG!$1:$1048576,N1,sprache)","v":"Direct emissions (e.g. slurry storage, post-rotting)"}]
["Eingabe 1",null,{"$f":"INDEX(MainInput!$1:$1048576,MATCH(C$1,MainInput!$A:$A,0),SpalteEingaben)","v":0},{"$f":"INDEX(MainInput!$1:$1048576,MATCH(D$1,MainInput!$A:$A,0),SpalteEingaben)","v":0},{"$f":"INDEX(MainInput!$1:$1048576,MATCH(E$1,MainInput!$A:$A,0),SpalteEingaben)","v":0}]
["Eingabe 2",{"$nulls":4},{"$f":"MainInput!$H$88","v":0},{"$f":"MainInput!$H$95","v":0},{"$f":"MainInput!$H$88","v":0},{"$f":"MainInput!$H$88","v":0},{"$f":"MainInput!$H$95","v":0},{"$f":"MainInput!$H$95","v":0},{"$f":"MainInput!$H$95","v":0}]
["Eingabe 3",{"$nulls":4},{"$f":"INDEX(MainInput!$1:$1048576,MATCH(F$1,MainInput!$A:$A,0),SpalteEingaben)*Wechselkurs","v":{"$error":"#N/A"}},{"$f":"INDEX(MainInput!$1:$1048576,MATCH(G$1,MainInput!$A:$A,0),SpalteEingaben)*Wechselkurs","v":{"$error":"#N/A"}},{"$f":"INDEX(MainInput!$1:$1048576,MATCH(H$1,MainInput!$A:$A,0),SpalteEingaben)*Wechselkurs","v":{"$error":"#N/A"}},{"$f":"INDEX(MainInput!$1:$1048576,MATCH(I$1,MainInput!$A:$A,0),SpalteEingaben)*Wechselkurs","v":{"$error":"#N/A"}},{"$f":"INDEX(MainInput!$1:$1048576,MATCH(J$1,MainInput!$A:$A,0),SpalteEingaben)*Wechselkurs","v":{"$error":"#N/A"}},{"$f":"INDEX(MainInput!$1:$1048576,MATCH(K$1,MainInput!$A:$A,0),SpalteEingaben)*Wechselkurs","v":{"$error":"#N/A"}},{"$f":"INDEX(MainInput!$1:$1048576,MATCH(L$1,MainInput!$A:$A,0),SpalteEingaben)*Wechselkurs","v":{"$error":"#N/A"}}]
["Eingabe 4"]
["Umrechnungsfaktor",null,{"$f":"IF(Anlagentyp=C12,C3*C13,0)","v":{"$error":"#N/A"}},{"$f":"IF(Anlagentyp=D12,D3,0)","v":{"$error":"#N/A"}},{"$f":"IF(Anlagentyp=E12,E3,0)+E3*E13","v":{"$error":"#N/A"}},{"$f":"IF(AND(Auswahl_Verwendung_fest<3,MainInput!H89<0),F4*-F5/(-F5+F4*CHFGGfest),0)","v":{"$error":"#N/A"}},{"$f":"IF(AND(Auswahl_Verwendung_flüssig<5,MainInput!H96<0),(G4-Prüfwert!H4)*-G5/(-G5+CHFGGflüssig*G4),0)","v":{"$error":"#N/A"}},{"$f":"IF(Auswahl_Verwendung_fest=H12,H4,0)","v":{"$error":"#N/A"}},{"$f":"IF(AND(Auswahl_Verwendung_fest=I12,Preis_Entsorgung_fest<0),I4*(-I5/(-I5+2.77*9.61*I4)),0)","v":{"$error":"#N/A"}},{"$f":"IF(Auswahl_Verwendung_flüssig=J12,J4,0)","v":{"$error":"#N/A"}},{"$f":"IF(AND(Auswahl_Verwendung_flüssig=K12,L7=0),K4,0)","v":{"$error":"#N/A"}},{"$f":"IF(AND(Auswahl_Verwendung_flüssig=L12,Substrates!F124>0),L4,0)","v":{"$error":"#N/A"}}]
["Eco-indicator",{"$f":"SUM(C8:N8)","v":{"$error":"#N/A"}},{"$f":"C16*C7","v":{"$error":"#N/A"}},{"$error":"#N/A"},{"$error":"#N/A"},{"$error":"#N/A"},{"$error":"#N/A"},{"$error":"#N/A"},{"$error":"#N/A"},{"$error":"#N/A"},{"$error":"#N/A"},{"$error":"#N/A"},null,{"$f":"SUM(Substrates!AP146:AV146)","v":{"$error":"#N/A"}}]
[{"$f":"A17","v":"IPCC GWP 100a"},{"$f":"SUM(C9:N9)","v":{"$error":"#N/A"}},{"$f":"C17*C$7","v":{"$error":"#N/A"}},{"$error":"#N/A"},{"$error":"#N/A"},{"$error":"#N/A"},{"$error":"#N/A"},{"$error":"#N/A"},{"$error":"#N/A"},{"$error":"#N/A"},{"$error":"#N/A"},{"$error":"#N/A"},{"$f":"Substrates!AX147","v":0},{"$f":"SUM(Substrates!AP147:AV147)","v":{"$error":"#N/A"}}]
[{"$f":"A18","v":"Cumulative Energy Demand, differenziert V1.04 / CED, non-renewable"},{"$f":"SUM(C10:N10)","v":{"$error":"#N/A"}},{"$f":"C18*C$7","v":{"$error":"#N/A"}},{"$error":"#N/A"},{"$error":"#N/A"},{"$error":"#N/A"},{"$error":"#N/A"},{"$error":"#N/A"},{"$error":"#N/A"},{"$error":"#N/A"},{"$error":"#N/A"},{"$error":"#N/A"},{"$f":"Substrates!AX148","v":0},{"$f":"SUM(Substrates!AP148:AV148)","v":{"$error":"#N/A"}}]
[{"$f":"A19","v":"Ecological Scarcity 2013, categories, res. cor. V1.03 / Ecological scarcity 2013"},{"$f":"SUM(C11:N11)","v":{"$error":"#N/A"}},{"$f":"C19*C$7","v":{"$error":"#N/A"}},{"$error":"#N/A"},{"$error":"#N/A"},{"$error":"#N/A"},{"$error":"#N/A"},{"$error":"#N/A"},{"$error":"#N/A"},{"$error":"#N/A"},{"$error":"#N/A"},{"$error":"#N/A"},{"$f":"Substrates!AX149","v":0},{"$f":"SUM(Substrates!AP149:AV149)","v":{"$error":"#N/A"}}]
[null,null,1,2,3,null,null,4,3,5,6,6]
["2020-12-01",null,{"$f":"IF(AnteilKoSubstrat>20%,1-AnteilKoSubstrat,1)","v":{"$error":"#DIV/0!"}},null,{"$f":"IF(Anlagentyp=C12,1-C13,0)","v":{"$error":"#N/A"}}]
[]
["Impact category","Unit","anaerobic digestion plant covered, agriculture/CH/I U","Anaerobic digestion plant, sewage sludge/CH/I U","anaerobic digestion plant, biowaste/CH/I U","application, digested matter, on agricultural land/kg/CH U","application, digested matter, liquid, on agricultural land/m3/CH U","disposal, digester sludge, to municipal incineration/kg/CH U","digester sewage sludge, in cement plant/kg/CH U","Treatment, sewage, to wastewater treatment, class 4/CH U","treatment, sugar factory effluent, to wastewater treatment, class 4/HU U","treatment, paper production, pre-treated by digestion, to wastewater treatment, class 3/m3/CH U",{"$f":"INDEX(menuesBG!$1:$1048576,M1,sprache)","v":"Purchased substrates"},{"$f":"INDEX(menuesBG!$1:$1048576,$N1,sprache)","v":"Direct emissions (e.g. slurry storage, post-rotting)"}]
["Eco-indicator","Pt",{"$f":"INDEX(SimaPro!$1:$1048576,SimaProEI99,MATCH(C$15,SimaPro!$1:$1,0))","v":1.1202814999999999},{"$f":"INDEX(SimaPro!$1:$1048576,SimaProEI99,MATCH(D$15,SimaPro!$1:$1,0))","v":0.22316032999999999},{"$f":"INDEX(SimaPro!$1:$1048576,SimaProEI99,MATCH(E15,SimaPro!$1:$1,0))","v":3.8709558999999998},{"$f":"INDEX(SimaPro!$1:$1048576,SimaProEI99,MATCH(F15,SimaPro!$1:$1,0))","v":55.835211999999999},{"$f":"INDEX(SimaPro!$1:$1048576,SimaProEI99,MATCH(G15,SimaPro!$1:$1,0))","v":56.857430999999998},{"$f":"INDEX(SimaPro!$1:$1048576,SimaProEI99,MATCH(H15,SimaPro!$1:$1,0))","v":5.9220683999999997},{"$f":"INDEX(SimaPro!$1:$1048576,SimaProEI99,MATCH(I15,SimaPro!$1:$1,0))","v":59.342305000000003},{"$f":"INDEX(SimaPro!$1:$1048576,SimaProEI99,MATCH(J15,SimaPro!$1:$1,0))","v":5.1576711999999997E-2},{"$f":"INDEX(SimaPro!$1:$1048576,SimaProEI99,MATCH(K15,SimaPro!$1:$1,0))","v":0.21488636999999999},{"$f":"INDEX(SimaPro!$1:$1048576,SimaProEI99,MATCH(L15,SimaPro!$1:$1,0))","v":3.1186946E-2}]
["IPCC GWP 100a","kg CO2 eq",{"$f":"INDEX(SimaPro!$1:$1048576,SimaProGWP,MATCH(C$15,SimaPro!$1:$1,0))","v":9.6459115999999998},{"$f":"INDEX(SimaPro!$1:$1048576,SimaProGWP,MATCH(D$15,SimaPro!$1:$1,0))","v":2.0817703000000001},{"$f":"INDEX(SimaPro!$1:$1048576,SimaProGWP,MATCH(E$15,SimaPro!$1:$1,0))","v":41.245741000000002},{"$f":"INDEX(SimaPro!$1:$1048576,SimaProGWP,MATCH(F$15,SimaPro!$1:$1,0))","v":3.4506383999999999},{"$f":"INDEX(SimaPro!$1:$1048576,SimaProGWP,MATCH(G$15,SimaPro!$1:$1,0))","v":1.322713},{"$f":"INDEX(SimaPro!$1:$1048576,SimaProGWP,MATCH(H$15,SimaPro!$1:$1,0))","v":53.293982},{"$f":"INDEX(SimaPro!$1:$1048576,SimaProGWP,MATCH(I$15,SimaPro!$1:$1,0))","v":83.806855999999996},{"$f":"INDEX(SimaPro!$1:$1048576,SimaProGWP,MATCH(J$15,SimaPro!$1:$1,0))","v":0.43343807000000001},{"$f":"INDEX(SimaPro!$1:$1048576,SimaProGWP,MATCH(K$15,SimaPro!$1:$1,0))","v":2.8380448},{"$f":"INDEX(SimaPro!$1:$1048576,SimaProGWP,MATCH(L$15,SimaPro!$1:$1,0))","v":0.49922933000000003}]
["Cumulative Energy Demand, differenziert V1.04 / CED, non-renewable","MJ",{"$f":"INDEX(SimaPro!$1:$1048576,SimaProCED,MATCH(C$15,SimaPro!$1:$1,0))","v":113.85905},{"$f":"INDEX(SimaPro!$1:$1048576,SimaProCED,MATCH(D$15,SimaPro!$1:$1,0))","v":18.377621999999999},{"$f":"INDEX(SimaPro!$1:$1048576,SimaProCED,MATCH(E$15,SimaPro!$1:$1,0))","v":490.07040000000001},{"$f":"INDEX(SimaPro!$1:$1048576,SimaProCED,MATCH(F$15,SimaPro!$1:$1,0))","v":49.862819999999999},{"$f":"INDEX(SimaPro!$1:$1048576,SimaProCED,MATCH(G$15,SimaPro!$1:$1,0))","v":19.017469999999999},{"$f":"INDEX(SimaPro!$1:$1048576,SimaProCED,MATCH(H$15,SimaPro!$1:$1,0))","v":419.26762000000002},{"$f":"INDEX(SimaPro!$1:$1048576,SimaProCED,MATCH(I$15,SimaPro!$1:$1,0))","v":2328.4213},{"$f":"INDEX(SimaPro!$1:$1048576,SimaProCED,MATCH(J$15,SimaPro!$1:$1,0))","v":5.3151238000000003},{"$f":"INDEX(SimaPro!$1:$1048576,SimaProCED,MATCH(K$15,SimaPro!$1:$1,0))","v":43.467542000000002},{"$f":"INDEX(SimaPro!$1:$1048576,SimaProCED,MATCH(L$15,SimaPro!$1:$1,0))","v":6.6762002999999996}]
["Ecological Scarcity 2013, categories, res. cor. V1.03 / Ecological scarcity 2013","Pt",{"$f":"INDEX(SimaPro!$1:$1048576,SimaProUBP,MATCH(C$15,SimaPro!$1:$1,0))","v":15026.188},{"$f":"INDEX(SimaPro!$1:$1048576,SimaProUBP,MATCH(D$15,SimaPro!$1:$1,0))","v":3040.6156000000001},{"$f":"INDEX(SimaPro!$1:$1048576,SimaProUBP,MATCH(E$15,SimaPro!$1:$1,0))","v":75918.672999999995},{"$f":"INDEX(SimaPro!$1:$1048576,SimaProUBP,MATCH(F$15,SimaPro!$1:$1,0))","v":1168190.8},{"$f":"INDEX(SimaPro!$1:$1048576,SimaProUBP,MATCH(G$15,SimaPro!$1:$1,0))","v":1192349.8999999999},{"$f":"INDEX(SimaPro!$1:$1048576,SimaProUBP,MATCH(H$15,SimaPro!$1:$1,0))","v":86913.172000000006},{"$f":"INDEX(SimaPro!$1:$1048576,SimaProUBP,MATCH(I$15,SimaPro!$1:$1,0))","v":1641491.2},{"$f":"INDEX(SimaPro!$1:$1048576,SimaProUBP,MATCH(J$15,SimaPro!$1:$1,0))","v":3905.1736000000001},{"$f":"INDEX(SimaPro!$1:$1048576,SimaProUBP,MATCH(K$15,SimaPro!$1:$1,0))","v":28269.486000000001},{"$f":"INDEX(SimaPro!$1:$1048576,SimaProUBP,MATCH(L$15,SimaPro!$1:$1,0))","v":1975.2331999999999}]

{"sheet":"InputsBG","index":9,"n_rows":59,"n_cols":32,"rows_kept":59,"cut":false,"hidden":true,"merged":[]}
[]
["Wechselkurse 17.11.2020","Durchschnitt",null,"Unit",{"$f":"E38","v":"Rape oil, at oil mill/RER U"},{"$f":"F38","v":"wheat straw IP, at farm/kg/CH U"},"Syrup, from sugar beet molasses, at distillery/CH U","grass silage IP, at farm/kg/CH U","grass silage organic, at farm/kg/CH U","Hay intensive IP, at farm/CH U","Potatoes IP, at farm/CH U","Clover seed IP, at farm/CH U","silage maize IP, at farm/kg/CH U","sugar beets IP, at farm/kg/CH U","Molasses, from sugar beet, at sugar refinery/CH U","Rape meal, at oil mill/RER U","rye grains IP, at farm/kg/CH U","green rye conventional, at farm/kg/RER U","grass from meadow intensive IP, at field/kg/CH U","grass from natural meadow intensive IP, at field/kg/CH U","Vegetable oil, from waste cooking oil, at plant/CH U","Vinasse, at fermentation plant/CH U","Pulps, from sugar beet, at sugar refinery/CH U","apple ÖLN, at farm/kg/CH S","bread, at bakery/kg/CH S","meat mixed, IP, at slaughterhouse/kg/CH S","vegetables mean, IP, at farm/kg/CH S","by-products, wheat milling, at plant/kg/CH S","yeast, at plant/kg/RER S","raw milk, silo zone, at farm/kg/CH S","whey, at cheese dairy/kg/CH S","Soybean lecithin, at oil mill/GLO U"]
[]
[null,{"$f":"IF(Standort=1,B5,IF(Standort=2,B6,IF(Standort=3,B12,IF(Standort=4,B23,IF(Standort=5,B29,IF(Standort=6,B7,\"x\"))))))","v":{"$error":"#N/A"}},"Aufwand pro kg FM",{"$f":"Währung&\"/kg\"","v":{"$error":"#N/A"}},{"$f":"IF(Standort=1,E5,IF(OR(Standort=2,Standort=6),E6,IF(Standort=3,E12,IF(Standort=4,E23,IF(Standort=5,E29,\"x\")))))","v":{"$error":"#N/A"}},{"$error":"#N/A"},{"$error":"#N/A"},{"$error":"#N/A"},{"$error":"#N/A"},{"$error":"#N/A"},{"$error":"#N/A"},{"$error":"#N/A"},{"$error":"#N/A"},{"$error":"#N/A"},{"$error":"#N/A"},{"$error":"#N/A"},{"$error":"#N/A"},{"$error":"#N/A"},{"$error":"#N/A"},{"$error":"#N/A"},{"$error":"#N/A"},{"$error":"#N/A"},{"$error":"#N/A"},{"$error":"#N/A"},{"$error":"#N/A"},{"$error":"#N/A"},{"$error":"#N/A"},{"$error":"#N/A"},{"$error":"#N/A"},{"$error":"#N/A"},{"$error":"#N/A"},{"$error":"#N/A"}]
[1,{"$f":"AVERAGE(E5:W5,X5:AF5)","v":-1.5184392857142857},"Preisschätzung, CH","CHF/kg FM",-0.82,{"$f":"-16/100","v":-0.16},-0.12,{"$f":"-27.5/100*0.35","v":-9.6250000000000002E-2},-0.12,-0.3,-0.46800000000000003,-8,-4.1500000000000002E-2,-5.2999999999999999E-2,-0.24,-0.35,{"$f":"-40/100","v":-0.4},{"$f":"Q5/10","v":-0.04},-0.11,-0.11,-0.6,-0.02,-3.5000000000000003E-2,-1,-5,-17.7,{"$f":"-2","v":-2},{"$f":"-250/1000","v":-0.25},-3,-0.65,-0.02,{"$f":"AF6*Euro","v":-0.81254999999999988}]
[null,{"$f":"AVERAGE(E6:W6,X6:AF6)","v":-1.3690759089707512},"Preisschätzung, DE","EURO/kg",{"$f":"E9","v":-0.85},{"$f":"AVERAGE(F8:F9)","v":-8.5000000000000006E-2},{"$f":"G11","v":-0.11076241462063874},{"$f":"AVERAGE(H8:H9)","v":-0.13550000000000001},{"$f":"AVERAGE(I8:I9)","v":-0.13550000000000001},{"$f":"AVERAGE(J8:J9)","v":-0.10750000000000001},{"$f":"K9","v":-0.3},{"$f":"L11","v":-7.3841609747092489},{"$f":"M9","v":-2.9600000000000001E-2},{"$f":"N8","v":-4.2999999999999997E-2},{"$f":"O9","v":-0.2},{"$f":"AVERAGE(P8:P9)","v":-0.31},-0.13800000000000001,{"$f":"AVERAGE(R8:R9)","v":-2.4050000000000002E-2},-1.7100000000000001E-2,-1.7100000000000001E-2,{"$f":"U11","v":-0.55381207310319369},{"$f":"V11","v":-1.8460402436773122E-2},{"$f":"W11","v":-3.2305704264352968E-2},{"$f":"X11","v":-0.92302012183865612},-4.6151006091932807,-16.337456156544214,-1.8460402436773122,-0.23075503045966403,{"$f":"AC11","v":-2.7690603655159682},{"$f":"AD8","v":-0.35238095238095235},{"$f":"AE11","v":-1.8460402436773122E-2},-0.75]
[null,{"$f":"AVERAGE(E7:W7,X7:AF7)","v":-0.93263314202642478},"Preisschätzung, ES","EURO/kg",{"$f":"IF(E10<0,E10,E6)","v":-0.85},{"$f":"IF(F10<0,F10,F6)","v":-8.5000000000000006E-2},-0.11076241462063874,-0.13550000000000001,-0.13550000000000001,-0.10750000000000001,-0.2,-7.3841609747092489,-2.9600000000000001E-2,-4.2999999999999997E-2,-0.2,-0.31,-0.17799999999999999,-2.4050000000000002E-2,-1.7100000000000001E-2,-1.7100000000000001E-2,-0.55381207310319369,-1.8460402436773122E-2,-3.2305704264352968E-2,-0.63149999999999995,-4.6151006091932807,-5.58,-0.75700000000000001,-0.23075503045966403,-2.7690603655159682,-0.33,-1.8460402436773122E-2,-0.75]
[null,null,"Rechereche Niels","EURO/kg",null,-0.1,null,-0.1,{"$f":"H8","v":-0.1},-0.1,-0.5,null,-0.04,-4.2999999999999997E-2,null,-0.28999999999999998,-0.15,{"$f":"-27/1000","v":-2.7E-2},{"$nulls":11},{"$f":"-37/1.05/100","v":-0.35238095238095235},null,-0.6]
[null,null,"Recherche Arthur W. 2013, Mail 27.3.2014","EURO/kg",-0.85,-7.0000000000000007E-2,null,-0.17100000000000001,{"$f":"H9","v":-0.17100000000000001},-0.115,-0.3,null,-2.9600000000000001E-2,null,-0.2,-0.33,-0.13800000000000001,-2.1100000000000001E-2,-1.7100000000000001E-2,-1.7100000000000001E-2,{"$nulls":9},-0.41]
[null,"2021-03-11","https://www.mapa.gob.es/app/precios-medios-nacionales/pmn_tabla.asp\nhttps://www.mapa.gob.es/es/agricultura/temas/producciones-agricolas/","EURO/kg",{"$nulls":6},-0.2,{"$nulls":5},-0.17799999999999999,{"$nulls":6},-0.63149999999999995,null,-5.58,-0.75700000000000001,null,null,-0.33]
[1.0833999999999999,{"$f":"AVERAGE(E11:W11,X11:AF11)","v":-1.4256814965232909},"Umrechnung von Euro zu CHF","EURO/kg",{"$f":"E5/Euro","v":-0.75687649990769801},-0.14768321949418498,-0.11076241462063874,-8.8840686726970652E-2,-0.11076241462063874,-0.27690603655159685,-0.43197341702049108,-7.3841609747092489,-3.8305335056304235E-2,-4.8920066457448771E-2,-0.22152482924127748,-0.32305704264352963,-0.36920804873546248,-3.6920804873546244E-2,-0.10153221340225217,-0.10153221340225217,-0.55381207310319369,-1.8460402436773122E-2,{"$f":"W5/Euro","v":-3.2305704264352968E-2},{"$f":"X5/Euro","v":-0.92302012183865612},-4.6151006091932807,-16.337456156544214,-1.8460402436773122,-0.23075503045966403,{"$f":"AC5/Euro","v":-2.7690603655159682},-0.59996307919512648,{"$f":"AE5/Euro","v":-1.8460402436773122E-2}]
[null,{"$f":"AVERAGE(E12:W12,X12:AF12)","v":-509.35239285714289},"Preisschätzung HU","HUF/kg",{"$f":"MIN(E13:E14)","v":-306.84999999999997},{"$f":"MIN(F13:F14)","v":-53.44},-40.08,-48.915500000000002,-48.915500000000002,-100.2,-156.31200000000001,-2672,{"$f":"AVERAGE(M15:M16)","v":-25},-17.701999999999998,-80.16,-116.89999999999999,-133.6,-13.36,-36.74,-36.74,-200.4,{"$f":"V15","v":-10},{"$f":"AVERAGE(W15:W16)","v":-0.72199999999999998},-334,-1670,-5911.8,-668,-83.5,-1002,{"$f":"MIN(AD13:AD14)","v":-217.1},-6.68,{"$f":"AF6*HUFeuro","v":-270.75}]
[334,null,"Umrechnung von HUF zu CHF",{"$f":"D12","v":"HUF/kg"},{"$f":"E$5*$A$13","v":-273.88},{"$f":"F5*$A$13","v":-53.44},-40.08,-32.147500000000001,-40.08,-100.2,-156.31200000000001,-2672,-13.861000000000001,-17.701999999999998,-80.16,-116.89999999999999,-133.6,-13.36,-36.74,-36.74,-200.4,-6.68,-11.690000000000001,-334,-1670,-5911.8,-668,-83.5,-1002,-217.1,-6.68]
[361,null,"Umrechnung von HUF zu Euro",{"$f":"D13","v":"HUF/kg"},{"$f":"E6*$A$14","v":-306.84999999999997},-30.685000000000002,-39.985231678050582,-48.915500000000002,-48.915500000000002,-38.807500000000005,-108.3,-2665.6821118700391,-10.685600000000001,-15.522999999999998,-72.2,-111.91,-49.818000000000005,-8.6820500000000003,-6.1730999999999998,-6.1730999999999998,-199.92615839025294,-6.6642052796750972,-11.662359239431421,-333.21026398375488,-1666.0513199187744,-5897.8216725124612,-666.42052796750977,-83.302565995938721,-999.63079195126454,-127.2095238095238,-6.6642052796750972]
[null,null,"Recherche1",{"$f":"D14","v":"HUF/kg"},{"$nulls":8},-20,{"$nulls":8},-10,{"$f":"-1/1000*$A$14","v":-0.36099999999999999}]
[null,null,"Recherche2",{"$f":"D15","v":"HUF/kg"},{"$nulls":8},-30,{"$nulls":8},-15,{"$f":"-3/1000*A14","v":-1.083}]
[null,null,"Dänemark1","DKK/kg",null,-0.5,-1.3,-0.35,"-","-","-","  -",-0.35,"-","-","-","-",-0.35,"-",-0.2]
[null,null,"Dänemark2","DKK/kg",null,-0.6,"-","-","-","-","-","  -","-","-","-","-","-","-","-",-0.3]
[null,null,"http://www.statbank.dk/10080","DKK/kg",null,-0.5,null,-1.1000000000000001,null,null,-3.57,-31.38,-1.02,-0.22,null,null,-0.92,-0.85,-1.17,{"$f":"S19","v":-1.17},null,null,null,-3.15,null,null,-13,null,null,-2.2999999999999998]
[6.89,null,"Umrechnung von DKK zu CHF","DKK/kg",{"$f":"E$5*$A$20","v":-5.649799999999999},-1.1024,-0.82679999999999998,-0.66316249999999999,-0.82679999999999998,-2.0669999999999997,-3.2245200000000001,-55.12,-0.28593499999999999,-0.36516999999999999,-1.6536,-2.4114999999999998,-2.7560000000000002,-0.27560000000000001,-0.75790000000000002,-0.75790000000000002,-4.1339999999999995,-0.13780000000000001,-0.24115,-6.89,-34.449999999999996,-121.95299999999999,-13.78,-1.7224999999999999,-20.669999999999998,-4.4785000000000004,-0.13780000000000001]
[7.45,null,"Umrechnung von DKK zu Euro","DKK/kg",{"$f":"E$6*$A21","v":-6.3324999999999996},{"$f":"F$6*$A21","v":-0.63325000000000009},-0.82517998892375866,-1.0094750000000001,-1.0094750000000001,-0.80087500000000011,-2.2349999999999999,-55.011999261583902,-0.22052000000000002,-0.32034999999999997,-1.4900000000000002,-2.3094999999999999,-1.0281,-0.17917250000000001,-0.12739500000000001,-0.12739500000000001,-4.1258999446187934,-0.13752999815395975,-0.24067749676942962,-6.8764999076979878,-34.382499538489945,-121.71404836625439,-13.752999815395976,-1.719124976924497,-20.629499723093964,-2.6252380952380951,-0.13752999815395975]
[2.061E-2,null,"Umrechnung von DKK zu HUF","DKK/kg",{"$f":"E$12*$A22","v":-6.3241784999999995},{"$f":"F$12*$A22","v":-1.1013983999999999},-0.82604879999999992,-1.0081484549999999,-1.0081484549999999,-2.0651220000000001,-3.2215903200000002,-55.069919999999996,-0.51524999999999999,-0.36483821999999994,-1.6520975999999998,-2.4093089999999999,-2.7534959999999997,-0.27534959999999997,-0.75721140000000009,-0.75721140000000009,-4.1302440000000002,-0.20610000000000001,-1.488042E-2,-6.8837399999999995,-34.418700000000001,-121.842198,-13.767479999999999,-1.7209349999999999,-20.651219999999999,-4.474431,-0.13767479999999999]
[null,{"$f":"AVERAGE(E23:W23,X23:AF23)","v":-9.3049841079010527},"Preisschätzung DK","DKK/kg",{"$f":"AVERAGE(E20:E21)","v":-5.9911499999999993},{"$f":"F19","v":-0.5},{"$f":"MIN(G17:G18)","v":-1.3},{"$f":"H19","v":-1.1000000000000001},{"$f":"AVERAGE(I20:I21)","v":-0.91813750000000005},-1.4339374999999999,{"$f":"K19","v":-3.57},{"$f":"L19","v":-31.38},{"$f":"M19","v":-1.02},{"$f":"N19","v":-0.22},{"$f":"AVERAGE(O20:O21)","v":-1.5718000000000001},-2.3605,{"$f":"Q19","v":-0.92},{"$f":"MIN(R17:R18)","v":-0.35},{"$f":"T23","v":-0.3},{"$f":"MIN(T17:T18)","v":-0.3},{"$f":"AVERAGE(U20:U21)","v":-4.1299499723093964},-0.13766499907697988,-0.2409137483847148,{"$f":"X19","v":-3.15},{"$f":"AVERAGE(Y20:Y21)","v":-34.41624976924497},-121.8335241831272,{"$f":"AA19","v":-13},{"$f":"AVERAGE(AB20:AB21)","v":-1.7208124884622484},-20.649749861546979,{"$f":"AD19","v":-2.2999999999999998},{"$f":"AVERAGE(AE20:AE21)","v":-0.13766499907697988},{"$f":"AF6*A21","v":-5.5875000000000004}]
[null,null,"Wardley, substrates","GBP",5.1000000000000004E-3,{"$nulls":5},5.1000000000000004E-3,null,null,null,0.03,{"$nulls":6},0.03,null,null,null,1.4999999999999999E-2]
[null,null,"Riverside, substrates","GBP"]
[null,null,"Lemming, substrates","GBP",{"$nulls":17},2.7E-2,null,null,null,1.55E-2,null,null,null,7.4999999999999997E-3]
[null,{"$f":"AVERAGE(E27:W27,X27:AF27)","v":0.56352360175438587},"Estimation new prices 2020","GBP",0.69850000000000001,"'","'",2.9000000000000001E-2,"'",8.3750000000000005E-2,0.142264,"'",2.8349999999999997E-2,2.0449999999999999E-2,0.22257849999999998,0.25055250000000001,0.122,"'","'","'","'",3.2500000000000001E-2,0.2205,0.89478974999999994,1.3625,3.1657083333333329,1.71,0.19700000000000001,0.55542999999999998,0.27068560000000003,0.70038975000000003]
[1.2091000000000001,null,"Umrechnung von GBP zu CHF","GBP",{"$f":"E$5/$A$28","v":-0.67819038954594324},-0.13232983210652552,-9.9247374079894132E-2,-7.960466462658175E-2,-9.9247374079894132E-2,-0.24811843519973531,-0.38706475891158715,-6.6164916053262752,-3.4323050202630052E-2,-4.3834256885286575E-2,-0.19849474815978826,-0.28947150773302455,-0.33082458026631378,-3.308245802663138E-2,-9.0976759573236282E-2,-9.0976759573236282E-2,-0.49623687039947062,-1.654122901331569E-2,-2.8947150773302458E-2,-0.8270614506657844,-4.1353072533289224,-14.638987676784383,-1.6541229013315688,-0.2067653626664461,-2.4811843519973533,-0.53758994293275986,-1.654122901331569E-2]
[null,{"$f":"AVERAGE(E29:W29,X29:AF29)","v":-0.67991308029417774},"Preisschätzung GB","GBP",{"$f":"-E27","v":-0.69850000000000001},{"$f":"F28","v":-0.13232983210652552},-9.9247374079894132E-2,{"$f":"-H27","v":-2.9000000000000001E-2},-9.9247374079894132E-2,{"$f":"-J27","v":-8.3750000000000005E-2},{"$f":"-K27","v":-0.142264},-6.6164916053262752,{"$f":"-M27","v":-2.8349999999999997E-2},{"$f":"-N27","v":-2.0449999999999999E-2},{"$f":"-O27","v":-0.22257849999999998},{"$f":"-P27","v":-0.25055250000000001},{"$f":"-Q27","v":-0.122},-3.308245802663138E-2,-9.0976759573236282E-2,-9.0976759573236282E-2,-0.49623687039947062,{"$f":"-V27","v":-3.2500000000000001E-2},{"$f":"-W27","v":-0.2205},{"$f":"-X27","v":-0.89478974999999994},-1.3625,-3.1657083333333329,-1.71,-0.19700000000000001,-0.55542999999999998,-0.27068560000000003,-0.70038975000000003,{"$f":"AF5/A28","v":-0.67202878173848302}]
[]
[{"$f":"IF(Währung=\"CHF\",1,IF(Währung=\"Euro\",Euro,IF(Währung=\"HUF\",HUFchf,DKKchf)))","v":{"$error":"#N/A"}},null,"Wechselkurs  für Währung",null,{"$f":"E2=E38","v":true},true,true,true,true,true,true,true,true,true,true,true,true,true,true,true,true,true,true]
[null,{"$f":"-Durchschnitt/B5","v":0.21472516332864411},"UW Belastung","EI/CHF",{"$f":"-E39/E5","v":1.3916153658536585},0.41342496875000001,0.20099533333333333,0.36147713246753249,0.36015344999999999,0.4285153333333333,8.2053955128205111E-2,0.33672532500000002,0.50455074698795177,0.22094960377358491,7.5516037500000008E-2,0.69593285714285724,0.39835472500000002,1.1995909499999999,0.12531787272727271,9.670405454545454E-2,2.191473666666667E-2,0.16611962,7.1329217142857129E-2,4.3371291999999999E-2,3.9844553999999997E-2,0.19116356497175141,4.2658985500000003E-2,0.27657904799999999,1.7117009999999998E-2]
[null,{"$f":"-Durchschnitt/B6","v":0.23815123872477353},"UW Belastung","EI/EUR",{"$f":"-E39/E6","v":1.3424995294117648},0.77821170588235289,0.21775834413333331,0.25676881180811806,0.31895508487084867,1.1958567441860464,0.12800417,0.364808217105,0.7073937837837837,0.27233323255813957,9.0619245000000001E-2,0.78573064516129032,1.1546513768115942,1.9951616632016631,0.80613836257309934,0.62207286549707597,2.3742425704666666E-2,0.17997399630800001,7.7278073852571419E-2,4.69884577528E-2,4.3167589803599998E-2,0.20710660629039546,4.6216744890700004E-2,0.29964574060319998,1.8544568633999999E-2]
[null,{"$f":"-Durchschnitt/B12","v":6.4012092257133171E-4},"UW Belastung","EI/HUF",{"$f":"-E$39/E12","v":3.7188352615284341E-3},{"$f":"-F39/F12","v":1.2377993076347306E-3},6.0178243512974054E-4,7.1127094683689216E-4,8.8353209105498248E-4,1.2829800399201596E-3,2.4567052433594345E-4,1.0081596556886228E-3,8.3755423999999992E-4,6.6152575980115249E-4,2.2609592065868267E-4,2.0836313088109498E-3,1.1926788173652696E-3,3.5915896706586827E-3,3.7520321175830155E-4,2.8953309744148069E-4,6.561298403193613E-5,3.3223924000000003E-4,3.4577875346260387E-3,1.2985416766467066E-4,1.1929507185628742E-4,5.7234600290943533E-4,1.2772151347305389E-4,8.2808098203592808E-4,5.1248532934131736E-5]
[null,{"$f":"-Durchschnitt/B23","v":3.5040051637785861E-2},"UW Belastung","EI/DKK",{"$f":"-E$39/E23","v":0.19046837418525661},0.13229599,1.8553415384615385E-2,3.1629249090909091E-2,4.7071831833467206E-2,8.9651466678289674E-2,1.075665294117647E-2,8.584456978967496E-2,2.0528290196078429E-2,5.3228768181818181E-2,1.1530633032192391E-2,0.10318851938148697,0.17319770652173913,0.13709610857142859,4.5949886666666669E-2,3.5458153333333332E-2,3.1837775489196533E-3,2.4133893308219731E-2,1.0362723658316531E-2,{"$f":"-#REF!/X13","v":{"$error":"#REF!"}},{"$f":"-#REF!/Y13","v":{"$error":"#REF!"}},{"$f":"-#REF!/Z13","v":{"$error":"#REF!"}},{"$f":"-#REF!/AA13","v":{"$error":"#REF!"}},{"$f":"-#REF!/AB13","v":{"$error":"#REF!"}},{"$f":"-#REF!/AC13","v":{"$error":"#REF!"}}]
[null,{"$f":"-Durchschnitt/B29","v":0.47954236075081685},"UW Belastung","EI/GBP",{"$f":"-E$39/E29","v":1.6336787401574802},0.499872129715625,0.24302345753333332,1.1997301379310346,0.43546153639499996,1.5349802985074625,0.2699295043018613,0.40713459045750006,0.73858398589065255,0.57263222493887533,8.1426773026145843E-2,0.9721575318546013,1.3060810655737707,1.450425417645,0.15152183991454546,0.11692487235090911,2.6497108103666671E-2,0.10222745846153847,1.1322097959183673E-2,{"$f":"-#REF!/X14","v":{"$error":"#REF!"}},{"$f":"-#REF!/Y14","v":{"$error":"#REF!"}},{"$f":"-#REF!/Z14","v":{"$error":"#REF!"}},{"$f":"-#REF!/AA14","v":{"$error":"#REF!"}},{"$f":"-#REF!/AB14","v":{"$error":"#REF!"}},{"$f":"-#REF!/AC14","v":{"$error":"#REF!"}}]
[null,null,"2020-03-20"]
[null,"Durchschnitt","Impact category","Unit","Rape oil, at oil mill/RER U","wheat straw IP, at farm/kg/CH U","Syrup, from sugar beet molasses, at distillery/CH U","grass silage IP, at farm/kg/CH U","grass silage organic, at farm/kg/CH U","Hay intensive IP, at farm/CH U","Potatoes IP, at farm/CH U","Clover seed IP, at farm/CH U","silage maize IP, at farm/kg/CH U","sugar beets IP, at farm/kg/CH U","Molasses, from sugar beet, at sugar refinery/CH U","Rape meal, at oil mill/RER U","rye grains IP, at farm/kg/CH U","green rye conventional, at farm/kg/RER U","grass from meadow intensive IP, at field/kg/CH U","grass from natural meadow intensive IP, at field/kg/CH U","Vegetable oil, from waste cooking oil, at plant/CH U","Vinasse, at fermentation plant/CH U","Pulps, from sugar beet, at sugar refinery/CH U","apple ÖLN, at farm/kg/CH S","bread, at bakery/kg/CH S","meat mixed, IP, at slaughterhouse/kg/CH S","vegetables mean, IP, at farm/kg/CH S","by-products, wheat milling, at plant/kg/CH S","yeast, at plant/kg/RER S","raw milk, silo zone, at farm/kg/CH S","whey, at cheese dairy/kg/CH S","Soybean lecithin, at oil mill/GLO U"]
[{"$f":"ROW()","v":39},{"$f":"AVERAGE(E39:G39,H39:V39,W39,X39:AE39)","v":0.32604712362962968},"Eco-indicator","Pt",{"$f":"INDEX(SimaPro!$1:$1048576,SimaProEI99,MATCH(InputsBG!E$2,SimaPro!$1:$1,0))","v":1.1411245999999999},{"$f":"INDEX(SimaPro!$1:$1048576,SimaProEI99,MATCH(InputsBG!F$2,SimaPro!$1:$1,0))","v":6.6147995000000001E-2},{"$f":"INDEX(SimaPro!$1:$1048576,SimaProEI99,MATCH(InputsBG!G$2,SimaPro!$1:$1,0))","v":2.4119439999999999E-2},{"$f":"INDEX(SimaPro!$1:$1048576,SimaProEI99,MATCH(InputsBG!H$2,SimaPro!$1:$1,0))","v":3.4792174000000002E-2},{"$f":"INDEX(SimaPro!$1:$1048576,SimaProEI99,MATCH(InputsBG!I$2,SimaPro!$1:$1,0))","v":4.3218413999999997E-2},{"$f":"INDEX(SimaPro!$1:$1048576,SimaProEI99,MATCH(InputsBG!J$2,SimaPro!$1:$1,0))","v":0.12855459999999999},{"$f":"INDEX(SimaPro!$1:$1048576,SimaProEI99,MATCH(InputsBG!K$2,SimaPro!$1:$1,0))","v":3.8401250999999997E-2},{"$f":"INDEX(SimaPro!$1:$1048576,SimaProEI99,MATCH(InputsBG!L$2,SimaPro!$1:$1,0))","v":2.6938026000000002},{"$f":"INDEX(SimaPro!$1:$1048576,SimaProEI99,MATCH(InputsBG!M$2,SimaPro!$1:$1,0))","v":2.0938855999999999E-2},{"$f":"INDEX(SimaPro!$1:$1048576,SimaProEI99,MATCH(InputsBG!N$2,SimaPro!$1:$1,0))","v":1.1710329E-2},{"$f":"INDEX(SimaPro!$1:$1048576,SimaProEI99,MATCH(InputsBG!O$2,SimaPro!$1:$1,0))","v":1.8123849000000001E-2},{"$f":"INDEX(SimaPro!$1:$1048576,SimaProEI99,MATCH(InputsBG!P$2,SimaPro!$1:$1,0))","v":0.2435765},{"$f":"INDEX(SimaPro!$1:$1048576,SimaProEI99,MATCH(InputsBG!Q$2,SimaPro!$1:$1,0))","v":0.15934189000000001},{"$f":"INDEX(SimaPro!$1:$1048576,SimaProEI99,MATCH(InputsBG!R$2,SimaPro!$1:$1,0))","v":4.7983638000000002E-2},{"$f":"INDEX(SimaPro!$1:$1048576,SimaProEI99,MATCH(InputsBG!S$2,SimaPro!$1:$1,0))","v":1.3784965999999999E-2},{"$f":"INDEX(SimaPro!$1:$1048576,SimaProEI99,MATCH(InputsBG!T$2,SimaPro!$1:$1,0))","v":1.0637446E-2},{"$f":"INDEX(SimaPro!$1:$1048576,SimaProEI99,MATCH(InputsBG!U$2,SimaPro!$1:$1,0))","v":1.3148842000000001E-2},{"$f":"INDEX(SimaPro!$1:$1048576,SimaProEI99,MATCH(InputsBG!V$2,SimaPro!$1:$1,0))","v":3.3223924000000001E-3},{"$f":"INDEX(SimaPro!$1:$1048576,SimaProEI99,MATCH(InputsBG!W$2,SimaPro!$1:$1,0))","v":2.4965225999999999E-3},{"$f":"INDEX(SimaPro!$1:$1048576,SimaProEI99,MATCH(InputsBG!X$2,SimaPro!$1:$1,0))","v":4.3371291999999999E-2},{"$f":"INDEX(SimaPro!$1:$1048576,SimaProEI99,MATCH(InputsBG!Y$2,SimaPro!$1:$1,0))","v":0.19922276999999999},{"$f":"INDEX(SimaPro!$1:$1048576,SimaProEI99,MATCH(InputsBG!Z$2,SimaPro!$1:$1,0))","v":3.3835951},{"$f":"INDEX(SimaPro!$1:$1048576,SimaProEI99,MATCH(InputsBG!AA$2,SimaPro!$1:$1,0))","v":8.5317971000000006E-2},{"$f":"INDEX(SimaPro!$1:$1048576,SimaProEI99,MATCH(InputsBG!AB$2,SimaPro!$1:$1,0))","v":6.9144761999999999E-2},{"$f":"INDEX(SimaPro!$1:$1048576,SimaProEI99,MATCH(InputsBG!AC$2,SimaPro!$1:$1,0))","v":5.1351029999999999E-2},{"$f":"INDEX(SimaPro!$1:$1048576,SimaProEI99,MATCH(InputsBG!AD$2,SimaPro!$1:$1,0))","v":0.16934110999999999},{"$f":"INDEX(SimaPro!$1:$1048576,SimaProEI99,MATCH(InputsBG!AE$2,SimaPro!$1:$1,0))","v":8.6701998000000002E-2},{"$f":"INDEX(SimaPro!$1:$1048576,SimaProEI99,MATCH(InputsBG!AF$2,SimaPro!$1:$1,0))","v":1.0494498999999999}]
[]
[{"$f":"ROW()","v":41},{"$f":"AVERAGE(E41:G41,H41:V41,W41,X41:AE41)","v":0.30088785312592592},"v17","Pt",0.54569838000000004,6.6199688000000007E-2,2.4963049000000001E-2,3.4827186000000003E-2,4.3246557999999997E-2,0.12868773,3.8472209E-2,2.6954025000000001,2.0974524000000001E-2,1.1735531E-2,1.8248211E-2,0.11678217,0.15954834000000001,4.8008154999999997E-2,1.3796879999999999E-2,1.064819E-2,1.3518598E-2,3.3494491E-3,2.5083023000000001E-3,4.3570877000000001E-2,0.20145360000000001,3.3930115999999999,0.10816668,7.0891509000000005E-2,5.3103333000000003E-2,0.17007317,8.7085615000000005E-2,0.82652638]
[{"$nulls":4},{"$f":"E39/E41","v":2.091126970177188},0.99921913529260131,0.96620569065902162,0.99899469339842728,0.99934921988473624,0.99896548023653842,0.99815560369824352,0.99940643373299531,0.99829946081255516,0.99785250450107454,0.99318497577652953,2.0857336355370002,0.99870603479798037,0.99948931592976242,0.99913647143412132,0.99899100222666948,0.97264834711410175,0.99192204473266965,0.99530371598351597,0.995419302668615,0.98892633340878489,0.99722473686797886,0.78876388736346537,0.97536027904272704,0.96700201473229552,0.9956956173628092,0.9955949441248132,1.269711318832921]
[]
[null,null,"Impact category","Unit","Rape oil, at oil mill/CH U","wheat straw IP, at farm/kg/CH U","Syrup, from sugar beet molasses, at distillery/CH U","grass silage IP, at farm/kg/CH U","grass silage organic, at farm/kg/CH U","Hay intensive IP, at farm/CH U","Potatoes IP, at farm/CH U","Clover seed IP, at farm/CH U","silage maize IP, at farm/kg/CH U","sugar beets IP, at farm/kg/CH U","Molasses, from sugar beet, at sugar refinery/CH U","Rape meal, at oil mill/CH U","rye grains IP, at farm/kg/CH U","green rye conventional, at farm/kg/RER U","grass from meadow intensive IP, at field/kg/CH U","grass from natural meadow intensive IP, at field/kg/CH U","Vegetable oil, from waste cooking oil, at plant/CH U","Vinasse, at fermentation plant/CH U","Pulps, from sugar beet, at sugar refinery/CH U","apple ÖLN, at farm/kg/CH S","bread, at bakery/kg/CH S","meat mixed, IP, at slaughterhouse/kg/CH S","vegetables mean, IP, at farm/kg/CH S","by-products, wheat milling, at plant/kg/CH S","yeast, at plant/kg/RER S","raw milk, silo zone, at farm/kg/CH S","whey, at cheese dairy/kg/CH S","Soybean lecithin, at oil mill/GLO U"]
[{"$f":"ROW()","v":45},{"$f":"AVERAGE(E45:W45,X45:AE45)","v":0.95127196907407408},"IPCC GWP 100a","kg CO2 eq",{"$f":"INDEX(SimaPro!$1:$1048576,SimaProGWP,MATCH(InputsBG!E$2,SimaPro!$1:$1,0))","v":2.6307475},{"$f":"INDEX(SimaPro!$1:$1048576,SimaProGWP,MATCH(InputsBG!F$2,SimaPro!$1:$1,0))","v":9.7867872999999994E-2},{"$f":"INDEX(SimaPro!$1:$1048576,SimaProGWP,MATCH(InputsBG!G$2,SimaPro!$1:$1,0))","v":0.3107837},{"$f":"INDEX(SimaPro!$1:$1048576,SimaProGWP,MATCH(InputsBG!H$2,SimaPro!$1:$1,0))","v":8.7099865999999998E-2},{"$f":"INDEX(SimaPro!$1:$1048576,SimaProGWP,MATCH(InputsBG!I$2,SimaPro!$1:$1,0))","v":7.5660719000000001E-2},{"$f":"INDEX(SimaPro!$1:$1048576,SimaProGWP,MATCH(InputsBG!J$2,SimaPro!$1:$1,0))","v":0.22039791},{"$f":"INDEX(SimaPro!$1:$1048576,SimaProGWP,MATCH(InputsBG!K$2,SimaPro!$1:$1,0))","v":0.10490057},{"$f":"INDEX(SimaPro!$1:$1048576,SimaProGWP,MATCH(InputsBG!L$2,SimaPro!$1:$1,0))","v":3.1691595000000001},{"$f":"INDEX(SimaPro!$1:$1048576,SimaProGWP,MATCH(InputsBG!M$2,SimaPro!$1:$1,0))","v":5.6959546999999999E-2},{"$f":"INDEX(SimaPro!$1:$1048576,SimaProGWP,MATCH(InputsBG!N$2,SimaPro!$1:$1,0))","v":5.5972186E-2},{"$f":"INDEX(SimaPro!$1:$1048576,SimaProGWP,MATCH(InputsBG!O$2,SimaPro!$1:$1,0))","v":0.11457455},{"$f":"INDEX(SimaPro!$1:$1048576,SimaProGWP,MATCH(InputsBG!P$2,SimaPro!$1:$1,0))","v":0.56102805},{"$f":"INDEX(SimaPro!$1:$1048576,SimaProGWP,MATCH(InputsBG!Q$2,SimaPro!$1:$1,0))","v":0.38890174999999999},{"$f":"INDEX(SimaPro!$1:$1048576,SimaProGWP,MATCH(InputsBG!R$2,SimaPro!$1:$1,0))","v":3.7781716999999999E-2},{"$f":"INDEX(SimaPro!$1:$1048576,SimaProGWP,MATCH(InputsBG!S$2,SimaPro!$1:$1,0))","v":2.6730118000000001E-2},{"$f":"INDEX(SimaPro!$1:$1048576,SimaProGWP,MATCH(InputsBG!T$2,SimaPro!$1:$1,0))","v":2.3989527E-2},{"$f":"INDEX(SimaPro!$1:$1048576,SimaProGWP,MATCH(InputsBG!U$2,SimaPro!$1:$1,0))","v":0.13233481999999999},{"$f":"INDEX(SimaPro!$1:$1048576,SimaProGWP,MATCH(InputsBG!V$2,SimaPro!$1:$1,0))","v":2.1613257E-2},{"$f":"INDEX(SimaPro!$1:$1048576,SimaProGWP,MATCH(InputsBG!W$2,SimaPro!$1:$1,0))","v":1.4752965E-2},{"$f":"INDEX(SimaPro!$1:$1048576,SimaProGWP,MATCH(InputsBG!X$2,SimaPro!$1:$1,0))","v":0.14767585},{"$f":"INDEX(SimaPro!$1:$1048576,SimaProGWP,MATCH(InputsBG!Y$2,SimaPro!$1:$1,0))","v":1.0290319000000001},{"$f":"INDEX(SimaPro!$1:$1048576,SimaProGWP,MATCH(InputsBG!Z$2,SimaPro!$1:$1,0))","v":13.539123999999999},{"$f":"INDEX(SimaPro!$1:$1048576,SimaProGWP,MATCH(InputsBG!AA$2,SimaPro!$1:$1,0))","v":0.51963713},{"$f":"INDEX(SimaPro!$1:$1048576,SimaProGWP,MATCH(InputsBG!AB$2,SimaPro!$1:$1,0))","v":0.31007410000000002},{"$f":"INDEX(SimaPro!$1:$1048576,SimaProGWP,MATCH(InputsBG!AC$2,SimaPro!$1:$1,0))","v":0.55494337000000005},{"$f":"INDEX(SimaPro!$1:$1048576,SimaProGWP,MATCH(InputsBG!AD$2,SimaPro!$1:$1,0))","v":0.95460244999999999},{"$f":"INDEX(SimaPro!$1:$1048576,SimaProGWP,MATCH(InputsBG!AE$2,SimaPro!$1:$1,0))","v":0.49799823999999998},{"$f":"INDEX(SimaPro!$1:$1048576,SimaProGWP,MATCH(InputsBG!AF$2,SimaPro!$1:$1,0))","v":10.409007000000001}]
[{"$nulls":4},{"$f":"E45/E47","v":1.1160125113998194},{"$f":"F45/F47","v":0.99752437953848028},0.9898962854072908,0.99813370483369279,0.99822125417933572,0.9976309661070224,0.99714849399551608,0.99754121142434105,0.99706144609823877,0.99780946858354591,0.99554200491260514,1.1126475964304876,0.99747828160478014,0.99678807686686122,0.99793160640780521,0.99792972298064486,0.98739002694052236,0.99420147269603232,0.99660560177037238,1.0099078795612713,1.0115342788903272,1.0219073678401096,0.75926017165710125,0.97351375579008081,0.97132627045813136,1.0166962048498074,1.0178466136113267]
[null,{"$f":"AVERAGE(E47:W47,X47:AE47)","v":0.93451996581481478},"v16","kg CO2 eq",2.3572742,9.8110758000000006E-2,0.31395582,8.7262724E-2,7.5795539999999995E-2,0.22092128,0.10520055,3.176971,5.7127418999999999E-2,5.6095064E-2,0.11508761000000001,0.50422798000000002,0.38988493000000002,3.790346E-2,2.6785521E-2,2.4039294999999999E-2,0.13402486999999999,2.1739313E-2,1.4803213000000001E-2,0.14622705,1.0172981000000001,13.248875999999999,0.68439930000000004,0.31851024,0.57132539999999998,0.93892595000000001,0.48926649,8.1979320999999992]
[]
[null,null,"Cumulative Energy Demand, differenziert V1.04 / CED, non-renewable"]
[null,null,"Impact category","Unit","Rape oil, at oil mill/CH U","wheat straw IP, at farm/kg/CH U","Syrup, from sugar beet molasses, at distillery/CH U","grass silage IP, at farm/kg/CH U","grass silage organic, at farm/kg/CH U","Hay intensive IP, at farm/CH U","Potatoes IP, at farm/CH U","Clover seed IP, at farm/CH U","silage maize IP, at farm/kg/CH U","sugar beets IP, at farm/kg/CH U","Molasses, from sugar beet, at sugar refinery/CH U","Rape meal, at oil mill/CH U","rye grains IP, at farm/kg/CH U","green rye conventional, at farm/kg/RER U","grass from meadow intensive IP, at field/kg/CH U","grass from natural meadow intensive IP, at field/kg/CH U","Vegetable oil, from waste cooking oil, at plant/CH U","Vinasse, at fermentation plant/CH U","Pulps, from sugar beet, at sugar refinery/CH U","apple ÖLN, at farm/kg/CH S","bread, at bakery/kg/CH S","meat mixed, IP, at slaughterhouse/kg/CH S","vegetables mean, IP, at farm/kg/CH S","by-products, wheat milling, at plant/kg/CH S","yeast, at plant/kg/RER S","raw milk, silo zone, at farm/kg/CH S","whey, at cheese dairy/kg/CH S","Soybean lecithin, at oil mill/GLO U"]
[{"$f":"ROW()","v":51},{"$f":"AVERAGE(E51:W51,X51:AE51)","v":7.2596001259259255},"Total","MJ",{"$f":"INDEX(SimaPro!$1:$1048576,SimaProCED,MATCH(InputsBG!E$2,SimaPro!$1:$1,0))","v":21.694472999999999},{"$f":"INDEX(SimaPro!$1:$1048576,SimaProCED,MATCH(InputsBG!F$2,SimaPro!$1:$1,0))","v":0.64454557999999995},{"$f":"INDEX(SimaPro!$1:$1048576,SimaProCED,MATCH(InputsBG!G$2,SimaPro!$1:$1,0))","v":5.0917567999999997},{"$f":"INDEX(SimaPro!$1:$1048576,SimaProCED,MATCH(InputsBG!H$2,SimaPro!$1:$1,0))","v":0.54378972000000003},{"$f":"INDEX(SimaPro!$1:$1048576,SimaProCED,MATCH(InputsBG!I$2,SimaPro!$1:$1,0))","v":0.49356214999999998},{"$f":"INDEX(SimaPro!$1:$1048576,SimaProCED,MATCH(InputsBG!J$2,SimaPro!$1:$1,0))","v":2.2985310000000001},{"$f":"INDEX(SimaPro!$1:$1048576,SimaProCED,MATCH(InputsBG!K$2,SimaPro!$1:$1,0))","v":0.78467224000000002},{"$f":"INDEX(SimaPro!$1:$1048576,SimaProCED,MATCH(InputsBG!L$2,SimaPro!$1:$1,0))","v":20.098161999999999},{"$f":"INDEX(SimaPro!$1:$1048576,SimaProCED,MATCH(InputsBG!M$2,SimaPro!$1:$1,0))","v":0.38354432999999999},{"$f":"INDEX(SimaPro!$1:$1048576,SimaProCED,MATCH(InputsBG!N$2,SimaPro!$1:$1,0))","v":0.27398787000000002},{"$f":"INDEX(SimaPro!$1:$1048576,SimaProCED,MATCH(InputsBG!O$2,SimaPro!$1:$1,0))","v":1.2860362999999999},{"$f":"INDEX(SimaPro!$1:$1048576,SimaProCED,MATCH(InputsBG!P$2,SimaPro!$1:$1,0))","v":4.6199390999999999},{"$f":"INDEX(SimaPro!$1:$1048576,SimaProCED,MATCH(InputsBG!Q$2,SimaPro!$1:$1,0))","v":2.2385139000000001},{"$f":"INDEX(SimaPro!$1:$1048576,SimaProCED,MATCH(InputsBG!R$2,SimaPro!$1:$1,0))","v":0.33616061000000003},{"$f":"INDEX(SimaPro!$1:$1048576,SimaProCED,MATCH(InputsBG!S$2,SimaPro!$1:$1,0))","v":0.13526832999999999},{"$f":"INDEX(SimaPro!$1:$1048576,SimaProCED,MATCH(InputsBG!T$2,SimaPro!$1:$1,0))","v":0.12038635},{"$f":"INDEX(SimaPro!$1:$1048576,SimaProCED,MATCH(InputsBG!U$2,SimaPro!$1:$1,0))","v":3.0833729000000001},{"$f":"INDEX(SimaPro!$1:$1048576,SimaProCED,MATCH(InputsBG!V$2,SimaPro!$1:$1,0))","v":0.23603183999999999},{"$f":"INDEX(SimaPro!$1:$1048576,SimaProCED,MATCH(InputsBG!W$2,SimaPro!$1:$1,0))","v":0.16909608000000001},{"$f":"INDEX(SimaPro!$1:$1048576,SimaProCED,MATCH(InputsBG!X$2,SimaPro!$1:$1,0))","v":1.5789483},{"$f":"INDEX(SimaPro!$1:$1048576,SimaProCED,MATCH(InputsBG!Y$2,SimaPro!$1:$1,0))","v":11.952499},{"$f":"INDEX(SimaPro!$1:$1048576,SimaProCED,MATCH(InputsBG!Z$2,SimaPro!$1:$1,0))","v":94.411681999999999},{"$f":"INDEX(SimaPro!$1:$1048576,SimaProCED,MATCH(InputsBG!AA$2,SimaPro!$1:$1,0))","v":3.9641310000000001},{"$f":"INDEX(SimaPro!$1:$1048576,SimaProCED,MATCH(InputsBG!AB$2,SimaPro!$1:$1,0))","v":2.8153844000000001},{"$f":"INDEX(SimaPro!$1:$1048576,SimaProCED,MATCH(InputsBG!AC$2,SimaPro!$1:$1,0))","v":8.9965655000000009},{"$f":"INDEX(SimaPro!$1:$1048576,SimaProCED,MATCH(InputsBG!AD$2,SimaPro!$1:$1,0))","v":4.9674886000000003},{"$f":"INDEX(SimaPro!$1:$1048576,SimaProCED,MATCH(InputsBG!AE$2,SimaPro!$1:$1,0))","v":2.7906745000000002},{"$f":"INDEX(SimaPro!$1:$1048576,SimaProCED,MATCH(InputsBG!AF$2,SimaPro!$1:$1,0))","v":33.174447999999998}]
[{"$nulls":4},{"$f":"E51/E53","v":1.5077785750267159},0.96495547520733838,0.97006307521062773,0.97183420052142278,0.97332895827593024,0.93769486176663075,0.95278526397645003,0.94678287440078113,0.95581762117139291,0.96093506768982495,0.93088119895272292,1.5077553003600743,0.95520237491236382,0.95624708178190476,0.96040003175103095,0.96038137207310725,0.92420410636899253,0.93055091985560101,0.92629957474687774,0.97633590962951633,0.93616208211550012,0.938902157417702,0.69437397003430412,0.92635773821631484,0.96152188745185296,0.94360261790823796,0.94554095791387782]
[null,{"$f":"AVERAGE(E53:W53,X53:AE53)","v":7.3704041825925923},"v16","MJ",14.388368,0.66795369999999998,5.2488925000000002,0.55954988999999999,0.50708668000000001,2.4512569000000002,0.82355623,21.227847000000001,0.40127354999999998,0.28512630999999999,1.3815257000000001,3.0641172999999999,2.3434970000000002,0.35154158000000002,0.14084582000000001,0.12535265000000001,3.3362466999999998,0.25364742000000001,0.18255009999999999,1.6172183,12.767552999999999,100.55540000000001,5.7089280000000002,3.0391978000000002,9.3565894000000007,5.2643861999999997,2.9514052]
[]
[]
[null,null,"Impact category","Unit","Rape oil, at oil mill/CH U","wheat straw IP, at farm/kg/CH U","Syrup, from sugar beet molasses, at distillery/CH U","grass silage IP, at farm/kg/CH U","grass silage organic, at farm/kg/CH U","Hay intensive IP, at farm/CH U","Potatoes IP, at farm/CH U","Clover seed IP, at farm/CH U","silage maize IP, at farm/kg/CH U","sugar beets IP, at farm/kg/CH U","Molasses, from sugar beet, at sugar refinery/CH U","Rape meal, at oil mill/CH U","rye grains IP, at farm/kg/CH U","green rye conventional, at farm/kg/RER U","grass from meadow intensive IP, at field/kg/CH U","grass from natural meadow intensive IP, at field/kg/CH U","Vegetable oil, from waste cooking oil, at plant/CH U","Vinasse, at fermentation plant/CH U","Pulps, from sugar beet, at sugar refinery/CH U","apple ÖLN, at farm/kg/CH S","bread, at bakery/kg/CH S","meat mixed, IP, at slaughterhouse/kg/CH S","vegetables mean, IP, at farm/kg/CH S","by-products, wheat milling, at plant/kg/CH S","yeast, at plant/kg/RER S","raw milk, silo zone, at farm/kg/CH S","whey, at cheese dairy/kg/CH S","Soybean lecithin, at oil mill/GLO U"]
[{"$f":"ROW()","v":57},{"$f":"AVERAGE(E57:W57,X57:AE57)","v":2479.1138636296296},"Total","Pt",{"$f":"INDEX(SimaPro!$1:$1048576,SimaProUBP,MATCH(InputsBG!E$2,SimaPro!$1:$1,0))","v":9628.0306},{"$f":"INDEX(SimaPro!$1:$1048576,SimaProUBP,MATCH(InputsBG!F$2,SimaPro!$1:$1,0))","v":550.096},{"$f":"INDEX(SimaPro!$1:$1048576,SimaProUBP,MATCH(InputsBG!G$2,SimaPro!$1:$1,0))","v":227.52576999999999},{"$f":"INDEX(SimaPro!$1:$1048576,SimaProUBP,MATCH(InputsBG!H$2,SimaPro!$1:$1,0))","v":317.87313999999998},{"$f":"INDEX(SimaPro!$1:$1048576,SimaProUBP,MATCH(InputsBG!I$2,SimaPro!$1:$1,0))","v":248.45686000000001},{"$f":"INDEX(SimaPro!$1:$1048576,SimaProUBP,MATCH(InputsBG!J$2,SimaPro!$1:$1,0))","v":1029.6804999999999},{"$f":"INDEX(SimaPro!$1:$1048576,SimaProUBP,MATCH(InputsBG!K$2,SimaPro!$1:$1,0))","v":798.06155000000001},{"$f":"INDEX(SimaPro!$1:$1048576,SimaProUBP,MATCH(InputsBG!L$2,SimaPro!$1:$1,0))","v":11949.826999999999},{"$f":"INDEX(SimaPro!$1:$1048576,SimaProUBP,MATCH(InputsBG!M$2,SimaPro!$1:$1,0))","v":185.49520999999999},{"$f":"INDEX(SimaPro!$1:$1048576,SimaProUBP,MATCH(InputsBG!N$2,SimaPro!$1:$1,0))","v":211.78297000000001},{"$f":"INDEX(SimaPro!$1:$1048576,SimaProUBP,MATCH(InputsBG!O$2,SimaPro!$1:$1,0))","v":316.16967},{"$f":"INDEX(SimaPro!$1:$1048576,SimaProUBP,MATCH(InputsBG!P$2,SimaPro!$1:$1,0))","v":2054.8199},{"$f":"INDEX(SimaPro!$1:$1048576,SimaProUBP,MATCH(InputsBG!Q$2,SimaPro!$1:$1,0))","v":2377.8107},{"$f":"INDEX(SimaPro!$1:$1048576,SimaProUBP,MATCH(InputsBG!R$2,SimaPro!$1:$1,0))","v":306.29455000000002},{"$f":"INDEX(SimaPro!$1:$1048576,SimaProUBP,MATCH(InputsBG!S$2,SimaPro!$1:$1,0))","v":120.10393999999999},{"$f":"INDEX(SimaPro!$1:$1048576,SimaProUBP,MATCH(InputsBG!T$2,SimaPro!$1:$1,0))","v":90.234363000000002},{"$f":"INDEX(SimaPro!$1:$1048576,SimaProUBP,MATCH(InputsBG!U$2,SimaPro!$1:$1,0))","v":151.14988},{"$f":"INDEX(SimaPro!$1:$1048576,SimaProUBP,MATCH(InputsBG!V$2,SimaPro!$1:$1,0))","v":55.374447000000004},{"$f":"INDEX(SimaPro!$1:$1048576,SimaProUBP,MATCH(InputsBG!W$2,SimaPro!$1:$1,0))","v":45.250048},{"$f":"INDEX(SimaPro!$1:$1048576,SimaProUBP,MATCH(InputsBG!X$2,SimaPro!$1:$1,0))","v":713.00482999999997},{"$f":"INDEX(SimaPro!$1:$1048576,SimaProUBP,MATCH(InputsBG!Y$2,SimaPro!$1:$1,0))","v":3197.7555000000002},{"$f":"INDEX(SimaPro!$1:$1048576,SimaProUBP,MATCH(InputsBG!Z$2,SimaPro!$1:$1,0))","v":27182.091},{"$f":"INDEX(SimaPro!$1:$1048576,SimaProUBP,MATCH(InputsBG!AA$2,SimaPro!$1:$1,0))","v":855.18750999999997},{"$f":"INDEX(SimaPro!$1:$1048576,SimaProUBP,MATCH(InputsBG!AB$2,SimaPro!$1:$1,0))","v":1096.8227999999999},{"$f":"INDEX(SimaPro!$1:$1048576,SimaProUBP,MATCH(InputsBG!AC$2,SimaPro!$1:$1,0))","v":927.86649999999997},{"$f":"INDEX(SimaPro!$1:$1048576,SimaProUBP,MATCH(InputsBG!AD$2,SimaPro!$1:$1,0))","v":1516.2409},{"$f":"INDEX(SimaPro!$1:$1048576,SimaProUBP,MATCH(InputsBG!AE$2,SimaPro!$1:$1,0))","v":783.06817999999998},{"$f":"INDEX(SimaPro!$1:$1048576,SimaProUBP,MATCH(InputsBG!AF$2,SimaPro!$1:$1,0))","v":14466.371999999999}]
[{"$nulls":4},{"$f":"E57/E59","v":1.0519347885102646},0.99620786309813159,0.92909091094702434,0.99590600735271939,0.99586022973534505,0.99430664893483478,0.99610251900265367,0.99313092505708922,0.9916136188684086,0.99555321413030196,0.98533600220247775,1.049215159122957,0.99643931067394664,0.99705104617841245,0.99627252012180501,0.99555960840905888,0.85489441154824974,0.97996028019835058,0.99011895156120044,0.99646170445422766,0.98686602473087714,0.99358739482418068,0.75686539688664645,0.98243477531839785,0.97231027774832601,0.9938609341450847,0.99363808499647155]
[null,{"$f":"AVERAGE(E59:W59,X59:AE59)","v":2484.3772685925924},"v16","Pt",9152.6877000000004,552.18997999999999,244.89075,319.17986000000002,249.48969,1035.5763999999999,801.18415000000005,12032.478999999999,187.06399999999999,212.72892999999999,320.87497999999999,1958.4351999999999,2386.3076000000001,307.20047,120.55329999999999,90.636825999999999,176.80531999999999,56.506827999999999,45.701627999999999,715.53661,3240.3137000000002,27357.524000000001,1129.9069999999999,1116.4331999999999,954.29053999999996,1525.6067,788.08189000000004]

{"sheet":"menuesBG","index":10,"n_rows":123,"n_cols":8,"rows_kept":123,"cut":false,"hidden":true,"merged":[]}
["Deutsch","Français","English",{"$f":"OFFSET(A1:A104,0,sprache-1)","v":"English"},null,"Text","EPD","SimaPro"]
["naturemade Star Prüfung: Energieprodukte aus Biogasanlagen","Contrôle naturemade star: production d'énergie de biomasse","naturemade Star certification: Energy products from biogas plants","naturemade Star certification: Energy products from biogas plants",2,"Deutsch",10]
["Sprache","Langue","Language","Language",3,"Français",14]
["Anlagenname und Referenzzeitraum","Nom de l'installation et période de référence:","Plant name and reference period","Plant name and reference period",4,"English",13]
["Menge","Quantité","Quantity","Quantity",5,{"$f":"D1","v":"English"}]
["Anlagentyp und Fermentergrösse","Type d'installation et dimensions du digesteur","Plant type and fermenter size","Plant type and fermenter size",6,"Zahl",{"$f":"INDEX(G2:G5,sprache,1)","v":13}]
["Alle Eingaben zum Substratinput erfolgen im Blatt Substrate","Toutes les entrées pour l'entrée des substrats sont faites dans les Substrate","All entries for substrate input are made in the sheet Substrate","All entries for substrate input are made in the sheet Substrate",7]
["Abfallsubstrate","Substrats pour l'installation","Waste substrates","Waste substrates",8]
["Strombezug aus Netz","Consommation d'électricité du réseau","Power supply from the grid","Power supply from the grid",9]
["Heizölverbrauch","Consommation de mazout","Fuel oil consumption","Fuel oil consumption",10]
["Outputs der Anlage","Sortants de l'installation","Outputs of the plant","Outputs of the plant",11]
["Gesamtproduktion Biogas, Brutto (Default 6.5 kWh Ho/m3 Biogas)","Quantité totale de biogaz, brut (6.5 kWh Ho/m3)","Total production biogas, gross (default 6.5 kWh Ho/m3 biogas)","Total production biogas, gross (default 6.5 kWh Ho/m3 biogas)",12]
["Biogas verbrannt in Heizung, BHKW","Biogaz des chauffage, cogénération","Biogas burned in heating, CHP","Biogas burned in heating, CHP",13]
["Strom: Verkauf und Verbrauch ausserhalb der Anlage","Courant: vente et consommation hors de l'installation","Electricity: sale and consumption outside the plant","Electricity: sale and consumption outside the plant",14]
["Resultate:","Résultats:","Results:","Results:",15]
["Biomethan: Verkauf und Verbrauch ausserhalb der Anlage (11.4 kWh Ho/m3)","Biométhane: vente et conso. hors installation (11.4 kWh Ho/m3)","Biomethane: sales and consumption outside the plant (11.4 kWh Ho/m3)","Biomethane: sales and consumption outside the plant (11.4 kWh Ho/m3)",16]
["Total","Total","Total","Total",17]
["Erdgasverbrauch","Consommation de gaz naturel","Natural gas consumption","Natural gas consumption",18]
["naturemade Prüfwert","Valeur de contrôle naturemade ","Naturemade test value","Naturemade test value",19]
["direkte Emissionen (z.B. Güllelager, Nachrotte)","Émissions directes","Direct emissions (e.g. slurry storage, post-rotting)","Direct emissions (e.g. slurry storage, post-rotting)",20]
["Gesamtinputmenge für Anlage","Quantité totale de substrats","Total input quantity for the plant","Total input quantity for the plant",21]
["pro kWh Strom","par kWh de courant","per kWh electricity","per kWh electricity",22]
["Faulschlamm in Zementwerk (entwässert)","Boues digérées dans les cimenteries","Digested sludge in cement works (dewatered)","Digested sludge in cement works (dewatered)",23]
["Biogas Verluste (Methanschlupf, Aufbereitung, Unterbrüche)","Pertes de biogaz (volatilisation, conditionnement et interruptions)","Biogas losses (methane slip, treatment, interruptions)","Biogas losses (methane slip, treatment, interruptions)",24]
["Keine Prüfung möglich","Contrôle impossible","No check possible","No check possible",25]
["Globales naturemade Star Kriterium erfüllt","Critère naturemade star satisfait","Global naturemade Star criterion met","Global naturemade Star criterion met",26]
["naturemade Star Kriterium nicht erfüllt","Critère naturemade star insatisfait","naturemade Star criterion not fulfilled","naturemade Star criterion not fulfilled",27]
["Gärreste Behandlung und Lagerung","Traitement et stockage du digestat","Treatment and storage of digestate","Treatment and storage of digestate",28]
["Eco-indicator 99 Punkte","Eco-indicator 99 points","Eco-indicator 99 points","Eco-indicator 99 points",29]
["Einfache Distanz Anlage - Ausbringung/Entsorgung","Distance simple installation - épandage/traitement des déchets","Simple distance plant - Spreading/Disposal","Simple distance plant - Spreading/Disposal",30]
["Umweltbelastungspunkte 2013","Méthode de la saturation écologique 2013","Ecological scarcity points 2013","Ecological scarcity points 2013",31]
["Einspeisung in einen Wärmeverbund / Verteilverluste Fernwärmenetz","Alimentation chauffage à distance / pertes de distribution","Feed into a heat network / distribution losses district heating network","Feed into a heat network / distribution losses district heating network",32]
["Bedarf erneuerbarer energetischer Ressourcen","Besoin en ressources énergétiques renouvelables","Demand for renewable energy resources","Demand for renewable energy resources",33]
["Bedarf nichterneuerbarer energetischer Ressourcen","Besoin en ressources énergétiques non-renouvelables","Demand for non-renewable energy resources","Demand for non-renewable energy resources",34]
["Treibhauseffekt 100a 2013","Effet de serre 100a 2013","Carbon footprint 100a 2013","Carbon footprint 100a 2013",35]
["Frischmasse (FM)","Matière fraîche (MF)","Fresh mass (FM)","Fresh mass (FM)",36]
["Finanzieller Ertrag (plus) bzw. Aufwand (minus), ohne Transportkosten","Revenus (+) ou Dépenses (-), sauf frais de transport ","Financial income (plus) or expense (minus), excluding transport costs","Financial income (plus) or expense (minus), excluding transport costs",37]
["Einfache Distanz, Anlieferung mit Traktor","Distance simple pour la livraison du cosubstrat par tracteur","Simple distance, delivery with tractor","Simple distance, delivery with tractor",38]
["Einfache Distanz, Anlieferung mit Lkw","Distance simple pour la livraison du cosubstrat par camion","Simple distance, delivery by truck","Simple distance, delivery by truck",39]
["Anzahl Tiere","Nombre d'animaux","Number of animals","Number of animals",40]
["Fermentergrösse","Taille du digesteur","Fermenter size","Fermenter size",41]
["Zündölverbrauch (11.4 kWh Ho/kg)","Consommation de diesel d'allumage (11.4 kWh Ho/kg)","Ignition oil consumption (11.4 kWh Ho/kg)","Ignition oil consumption (11.4 kWh Ho/kg)",42]
["Nahwärmenutzung: Verkauf, Verbrauch i.d. Nähe der Anlage","Chaleur à proximité: vente, conso. bâtiments","Local heat utilisation: sale, consumption in the vicinity of the plant","Local heat utilisation: sale, consumption in the vicinity of the plant",43]
["Durchschnittsdistanz für Co-Substrat Transport mit Lkw","Distance moyenne de transport du cosubstrat par camion","Average distance for co-substrate transport by truck","Average distance for co-substrate transport by truck",44]
["Fremdenergiebedarf","Consommations d'énergie additionnelle","External energy demand","External energy demand",45]
["eingekaufte Substrate","Substrats achetés","Purchased substrates","Purchased substrates",46]
["Transporte","Transports","Transports","Transports",47]
["Verbrennung","Combustion","Incineration","Incineration",48]
["Umweltdeklaration","Déclaration environnementale","Environmental product declaration","Environmental product declaration",49]
["Infrastruktur","Infrastructure","Infrastructure","Infrastructure",50]
["Grenzwert Strom","Valeur-limite courant","Limit value, electricity","Limit value, electricity",51]
["Grenzwert Wärme","Valeur-limite chaleur","Limit value, heat","Limit value, heat",52]
["Grenzwert Biomethan","Valeur-limite biométhane","Limit value, biomethane","Limit value, biomethane",53]
["Referenz, Entsorgung","Référence pour le traitement des déchets","Reference, disposal","Reference, disposal",54]
["Total Biogasnutzung, Brutto","Total, Utilisation de biogaz, brut","Total use of biogas, gross","Total use of biogas, gross",55]
["naturemade Prüfwert","Valeur de contrôle naturemade ","naturemade certification value","naturemade certification value",56]
["Landwirtschaft","Agriculture","Farming","Farming",57,{"$f":"INDEX(menuesBG!$1:$1048576,$E57,sprache)","v":"Farming"},null,"anaerobic digestion plant covered, agriculture/CH/I U"]
["Kläranlage","Station d'épuration","Wastewater treatment plant","Wastewater treatment plant",58,{"$f":"INDEX(menuesBG!$1:$1048576,$E58,sprache)","v":"Wastewater treatment plant"},null,"Anaerobic digestion plant, sewage sludge/CH/I U"]
["Grüngut  und industrielle Vergärungsanlagen","Déchets organiques et industrielle","Green waste and industrial fermentation plants","Green waste and industrial fermentation plants",59,{"$f":"INDEX(menuesBG!$1:$1048576,$E59,sprache)","v":"Green waste and industrial fermentation plants"},null,"anaerobic digestion plant, biowaste/CH/I U"]
["Industrielle Abwässer (Prüfung nicht möglich)","Eau usée industrielle (contrôle impossible)","Industrial effluents (testing not possible)","Industrial effluents (testing not possible)",60,{"$f":"INDEX(menuesBG!$1:$1048576,$E60,sprache)","v":"Industrial effluents (testing not possible)"}]
["Wasserverbrauch","Consommation d'eau","Water consumption","Water consumption",61,{"$f":"INDEX(menuesBG!$1:$1048576,$E61,sprache)","v":"Water consumption"}]
["Total Wärmeverkauf (nach Abzug Verteilverluste)","Vente de chaleur (après déduction pertes)","Total heat sales (after deduction of distribution losses)","Total heat sales (after deduction of distribution losses)",62,{"$f":"INDEX(menuesBG!$1:$1048576,$E62,sprache)","v":"Total heat sales (after deduction of distribution losses)"}]
["Referenz, direkte Emissionen","Référence pour les émissions directes","Reference, direct emissions","Reference, direct emissions",63]
["Behandlung Gärrest","Méthode traitement digestat","Treatment of digestate","Treatment of digestate",64,"Behandlung Gärrest"]
["Keine Behandlung","Aucun traitement ","No treatment","No treatment",65,{"$f":"INDEX(menuesBG!$1:$1048576,$E65,sprache)","v":"No treatment"}]
["offene Kompostierung, Lagerung, Miete bzw. Nachrotte","Compostage en plein air (stockage, post-traitement)","Open composting, storage, rent or post-rotting","Open composting, storage, rent or post-rotting",66,{"$f":"INDEX(menuesBG!$1:$1048576,$E66,sprache)","v":"Open composting, storage, rent or post-rotting"}]
["Rottetrommel, geheizt","Tambour de compostage chauffé","Rotting drum, heated","Rotting drum, heated",67,{"$f":"INDEX(menuesBG!$1:$1048576,$E67,sprache)","v":"Rotting drum, heated"}]
["geschlossene Kompostierung/Lagerung mit Biofilter","Compostage fermé avec bio filtre","Closed composting/storage with biofilter","Closed composting/storage with biofilter",68,{"$f":"INDEX(menuesBG!$1:$1048576,$E68,sprache)","v":"Closed composting/storage with biofilter"}]
["Entwässerung, Faulschlamm 27% TS","Déshydratation, boues digérées (27% MS)","Dewatering, digested sludge 27% DM","Dewatering, digested sludge 27% DM",69,{"$f":"INDEX(menuesBG!$1:$1048576,$E69,sprache)","v":"Dewatering, digested sludge 27% DM"}]
["Behandlung flüssiger Gärrest","Méthode traitement digestat liquide","Treatment of liquid digestate","Treatment of liquid digestate",70,"Behandlung flüssiger Gärrest"]
["Offenes Gärrestlager/Nachgärung","Site à ciel ouvert / Fermentation secondaire","Open digestate storage/post-fermentation","Open digestate storage/post-fermentation",71,{"$f":"INDEX(menuesBG!$1:$1048576,$E71,sprache)","v":"Open digestate storage/post-fermentation"}]
["Geschlossenes Gärrestlager/Nachgärung mit Gasnutzung","Site couvert/ Fermentation secondaire avec  gaz","Closed digestate storage/post-fermentation with gas utilization","Closed digestate storage/post-fermentation with gas utilization",72,{"$f":"INDEX(menuesBG!$1:$1048576,$E72,sprache)","v":"Closed digestate storage/post-fermentation with gas utilization"}]
["Nährstoffaufbereitung (Ultrafiltration/Umkehrosmose)","Régén. éléments nutritifs (Ultrafiltr./Osmose inverse)","Nutrient preparation (ultrafiltration/reverse osmosis)","Nutrient preparation (ultrafiltration/reverse osmosis)",73,{"$f":"INDEX(menuesBG!$1:$1048576,$E73,sprache)","v":"Nutrient preparation (ultrafiltration/reverse osmosis)"}]
["Verwendung flüssige Gärreste","Utilisation du digestat liquide ","Use of liquid digestate","Use of liquid digestate",74]
["Landwirtschaft, Güllefass","Agriculture, épandeur de lisier par projection","Agriculture, liquid manure barrel","Agriculture, liquid manure barrel",75,{"$f":"INDEX(menuesBG!$1:$1048576,$E75,sprache)","v":"Agriculture, liquid manure barrel"}]
["Landwirtschaft, Schleppschlauch","Agriculture, épandeur avec rampe de tuyaux souples","Agriculture, drag hose","Agriculture, drag hose",76,{"$f":"INDEX(menuesBG!$1:$1048576,$E76,sprache)","v":"Agriculture, drag hose"}]
["Landwirtschaft, Einspritzung, Schleppschuh","Agriculture, injection de fumier, tuyaux souples","Agriculture, Injection, Towing shoe","Agriculture, Injection, Towing shoe",77,{"$f":"INDEX(menuesBG!$1:$1048576,$E77,sprache)","v":"Agriculture, Injection, Towing shoe"}]
["Landwirtschaft, Einspritzung, Cultan (Impfen)","Agriculture, injection de fumier, Cultan","Agriculture, Injection, Cultan (Vaccination)","Agriculture, Injection, Cultan (Vaccination)",78,{"$f":"INDEX(menuesBG!$1:$1048576,$E78,sprache)","v":"Agriculture, Injection, Cultan (Vaccination)"}]
["Kläranlage, Rückführung","Usine de traitement, recyclage","Sewage treatment plant, recirculation","Sewage treatment plant, recirculation",79,{"$f":"INDEX(menuesBG!$1:$1048576,$E79,sprache)","v":"Sewage treatment plant, recirculation"}]
["Kommunale Kläranlage","Station d'épuration des eaux résiduaires","Municipal sewage treatment plant","Municipal sewage treatment plant",80,{"$f":"INDEX(menuesBG!$1:$1048576,$E80,sprache)","v":"Municipal sewage treatment plant"}]
["Art der Verbrennung","Type de combustion","Type of combustion","Type of combustion",81]
["Gasmotor (Kerzenzündung)","Moteur à essence (bougies d'allumage)","Gas engine (candle ignition)","Gas engine (candle ignition)",82,{"$f":"INDEX(menuesBG!$1:$1048576,$E82,sprache)","v":"Gas engine (candle ignition)"},null,"biogas combustion, in cogen with biogas engine/MJ/CH U"]
["Magermotor","Moteur à mélange pauvre ","Lean-burn engine","Lean-burn engine",83,{"$f":"INDEX(menuesBG!$1:$1048576,$E83,sprache)","v":"Lean-burn engine"},null,"biogas combustion, in cogen 200kWe lean burn/MJ/CH U"]
["Zündstrahlmotor","Moteur à injection assistée","Jet ignition engine","Jet ignition engine",84,{"$f":"INDEX(menuesBG!$1:$1048576,$E84,sprache)","v":"Jet ignition engine"},null,"biogas combustion, in cogen with ignition gas engine/MJ/CH U"]
["Mikrogasturbine","Micro turbiné","Microturbine","Microturbine",85,{"$f":"INDEX(menuesBG!$1:$1048576,$E85,sprache)","v":"Microturbine"},null,"biogas combustion, in micro gas turbine 100kWe/MJ/CH U"]
["Heizung","Chauffage","Furnace, heating","Furnace, heating",86,{"$f":"INDEX(menuesBG!$1:$1048576,$E86,sprache)","v":"Furnace, heating"},null,"biogas, burned in industrial furnace >100kW/RER U"]
["Landwirtschaft, Umrechnung aus Tierbestand","Agriculture, part provenant de l'élevage","Agriculture, conversion from livestock","Agriculture, conversion from livestock",87]
["Referenz, Güllelager","Référence pour le dépôt de lisier","Reference, liquid manure storage","Reference, liquid manure storage",88]
["Referenz, Kompost","Référence pour le compost","Reference, compost","Reference, compost",89]
["Referenz, Frischklärschlamm","Référence pour les boues d'épuration fraîches","Reference, fresh sewage sludge","Reference, fresh sewage sludge",90]
["Grenzwert Kälte","Valeur-limite froid","Limit value, cold","Limit value, cold",91]
["Anteil Stallhaltung","Part à l'intérieur","Percentage of stable housing","Percentage of stable housing",92]
["Energieeigenverbrauch der Anlage (Systemgrenzen beachten)","Conso. énergétique installation (respecter limites système)","Own energy consumption of the system (observe system limits)","Own energy consumption of the system (observe system limits)",93]
["Verwendung feste Gärreste","Utilisation du digestat solide","Use of solid digestate","Use of solid digestate",94]
["Kompost, Gartenbau","Compost pour jardinage","Compost, Horticulture","Compost, Horticulture",95,{"$f":"INDEX(menuesBG!$1:$1048576,$E95,sprache)","v":"Compost, Horticulture"}]
["Landwirtschaft, Mistzetter","Agriculture, épandage du fumier","Agriculture, dung tetter","Agriculture, dung tetter",96,{"$f":"INDEX(menuesBG!$1:$1048576,$E96,sprache)","v":"Agriculture, dung tetter"}]
["Verbrennung, Zementwerk, 92% TS","Combustion, cimenterie (92% MS)","Incineration, cement kiln, 92% DM","Incineration, cement kiln, 92% DM",97,{"$f":"INDEX(menuesBG!$1:$1048576,$E97,sprache)","v":"Incineration, cement kiln, 92% DM"}]
["Verbrennung, KVA, 27% TS","Combustion, incinération des déchets (27% MS)","Combustion, municipal waste incineration, 27% DM","Combustion, municipal waste incineration, 27% DM",98,{"$f":"INDEX(menuesBG!$1:$1048576,$E98,sprache)","v":"Combustion, municipal waste incineration, 27% DM"}]
["Gesamtproduktion Strom, Brutto","Production totale de courant, brut","Total production electricity, gross","Total production electricity, gross",99]
["Eigenverbrauch der Anlage aus Bruttostromproduktion","Consommation propre de l'installation","Internal consumption of the plant from gross electricity production","Internal consumption of the plant from gross electricity production",100]
["Referenz, Brennstoff, Zementwerk","Référence pour le carburant, en cimenterie","Reference, fuel, cement plant","Reference, fuel, cement plant",101]
["Gesamtmenge Energieprodukte","Besoin total en produits énergétiques","Total quantity of energy products","Total quantity of energy products",102]
["Stickoxide NOx als NO2 aus Verbrennung","Oxydes d'azote NOx en NO2 issus de la centrale de combustion","Nitrogen oxides NOx as NO2 from combustion","Nitrogen oxides NOx as NO2 from combustion",103]
["Strombezug aus DE Netz","Consommation d'électricité du réseau DE","Power supply from DE grid","Power supply from DE grid",104]
["Energiepflanzen","Plantes énergétiques","Energy plants",null,105]
["Allokation nach Exergie-Gehalt (ecoinvent)","Allocation d'après contenu exégétique (fiche supplémentaire)","Allocation according to exergy content (ecoinvent)",null,106]
["Standort","Emplacement","Location",null,107,null,{"$f":"INDEX(G108:G114,Standort,1)","v":{"$error":"#N/A"}},{"$f":"INDEX(H108:H114,Standort,1)","v":{"$error":"#N/A"}}]
["Schweiz","Suisse","Switzerland",null,108,{"$f":"INDEX(menuesBG!$1:$1048576,$E108,sprache)","v":"Switzerland"},"CH","CHF"]
["Deutschland","Allemagne","Germany",null,109,{"$f":"INDEX(menuesBG!$1:$1048576,$E109,sprache)","v":"Germany"},"DE","EUR"]
["Ungarn","Hongrie ","Hungary",null,110,{"$f":"INDEX(menuesBG!$1:$1048576,$E110,sprache)","v":"Hungary"},"HU","HUF"]
["Dänemark","Danemark","Denmark",null,111,{"$f":"INDEX(menuesBG!$1:$1048576,$E111,sprache)","v":"Denmark"},"DK","DKK"]
["Großbritannien","Grande-Bretagne","Great Britain",null,112,{"$f":"INDEX(menuesBG!$1:$1048576,$E112,sprache)","v":"Great Britain"},"GB","GBP"]
["Spanien","Espagne","Spain",null,113,{"$f":"INDEX(menuesBG!$1:$1048576,$E113,sprache)","v":"Spain"},"ES","EUR"]
["xx","xx","xx",null,114]
["Achtung der finanzielle Aufwand ist höher als der Referenzpreis! ","Avertissement le fardeau financier est supérieur au prix de référence!","Attention the financial expenditure is higher than the reference price! ",null,115]
["Biogas: Verkauf und Verbrauch ausserhalb der Anlage (6.5 kWh Ho/m3)","Biogaz: vente et conso. hors installation (6.5 kWh Ho/m3)","Biogas: sale and consumption outside the plant (6.5 kWh Ho/m3)",null,116]
["Grenzwert Biogas","Valeur-limite biogaz","Limit value, biogas",null,117]
["Trotzdem Lagerart wählen!","Choisissez néanmoins le type de roulement !","Nevertheless choose storage type!",null,118]
["Prüfungen","examens","Checks",null,119]
["t FM - Tonnen Frischmasse","t FM - tonnes de matière fraîche","t FM - tonnes fresh matter",null,120]
["Referenz, Abwasser, Papierfabrik","Référence, eaux usées, papeterie","Reference, waste water, paper mill",null,121]
["Biogas verbrannt in Fackel","Biogaz des torchères","Biogas burned in flare",null,122]
["Dieselverbrauch (11.4 kWh Ho/Liter)","Consommation de diesel (11.4 kWh Ho/litre)","Diesel consumption (11.4 kWh Ho/litre)",null,123]

{"sheet":"Prüfwert","index":11,"n_rows":45,"n_cols":24,"rows_kept":45,"cut":false,"hidden":true,"merged":[]}
["Referenz",null,53,117,52,51,91,88,null,null,54,90,101,121,{"$nulls":4},89,63,null,53,52,51]
[null,null,{"$f":"INDEX(menuesBG!$1:$1048576,C1,sprache)","v":"Limit value, biomethane"},{"$f":"INDEX(menuesBG!$1:$1048576,D1,sprache)","v":"Limit value, biogas"},{"$f":"INDEX(menuesBG!$1:$1048576,E1,sprache)","v":"Limit value, heat"},{"$f":"INDEX(menuesBG!$1:$1048576,F1,sprache)","v":"Limit value, electricity"},{"$f":"INDEX(menuesBG!$1:$1048576,G1,sprache)","v":"Limit value, cold"},{"$f":"INDEX(menuesBG!$1:$1048576,H1,sprache)","v":"Reference, liquid manure storage"},"Referenz, fest Kompost","Referenz, flüssig Kompost",{"$f":"INDEX(menuesBG!$1:$1048576,K1,sprache)","v":"Reference, disposal"},{"$f":"INDEX(menuesBG!$1:$1048576,L1,sprache)","v":"Reference, fresh sewage sludge"},{"$f":"INDEX(menuesBG!$1:$1048576,M1,sprache)","v":"Reference, fuel, cement plant"},{"$f":"INDEX(menuesBG!$1:$1048576,N1,sprache)","v":"Reference, waste water, paper mill"},{"$nulls":4},{"$f":"INDEX(menuesBG!$1:$1048576,S1,sprache)","v":"Reference, compost"},{"$f":"INDEX(menuesBG!$1:$1048576,T1,sprache)","v":"Reference, direct emissions"},null,{"$f":"INDEX(menuesBM!$1:$1048576,V1,sprache)","v":0},{"$f":"INDEX(menuesBM!$1:$1048576,W1,sprache)","v":0},{"$f":"INDEX(menuesBM!$1:$1048576,X1,sprache)","v":0}]
["Zeile",null,16,116,62,14,null,87,94,74,8,5,94,{"$nulls":9},62,14]
["Eingabe 1",null,{"$f":"INDEX(MainInput!$1:$1048576,MATCH(C$3,MainInput!$A:$A,0),SpalteEingaben)","v":0},{"$f":"INDEX(MainInput!$1:$1048576,MATCH(D$3,MainInput!$A:$A,0),SpalteEingaben)","v":0},{"$f":"INDEX(MainInput!$1:$1048576,MATCH(E$3,MainInput!$A:$A,0),SpalteEingaben)","v":0},{"$f":"INDEX(MainInput!$1:$1048576,MATCH(F$3,MainInput!$A:$A,0),SpalteEingaben)","v":0},null,{"$f":"INDEX(MainInput!$1:$1048576,MATCH(H$3,MainInput!$A:$A,0),SpalteEingaben)","v":0},{"$f":"GärrestFestMenge","v":0},{"$f":"GärrestFlüssigMenge","v":0},{"$f":"INDEX(MainInput!$1:$1048576,MATCH(K$3,MainInput!$A:$A,0),SpalteEingaben)","v":0},{"$nulls":11},{"$f":"INDEX(PrüfungBM!$1:$1048576,MATCH(W$3,PrüfungBM!$A:$A,0),3)","v":0},{"$f":"INDEX(PrüfungBM!$1:$1048576,MATCH(X$3,PrüfungBM!$A:$A,0),3)","v":0}]
["Eingabe 2",{"$nulls":10},{"$f":"MengeKlärschlamm","v":0},{"$f":"Preis_Entsorgung_fest","v":0},{"$f":"MainInput!H22","v":0},{"$nulls":4},{"$f":"I4+J4","v":0},null,null,null,{"$f":"INDEX(PrüfungBM!$1:$1048576,MATCH(W$3,PrüfungBM!$A:$A,0),4)","v":0},{"$f":"INDEX(PrüfungBM!$1:$1048576,MATCH(X$3,PrüfungBM!$A:$A,0),4)","v":0}]
["Eingabe 3",{"$nulls":9},{"$f":"Substrates!$F$131","v":0},{"$f":"Substrates!F134","v":0},{"$nulls":10},{"$f":"INDEX(PrüfungBM!$1:$1048576,MATCH(W$3,PrüfungBM!$A:$A,0),5)","v":0},{"$f":"INDEX(PrüfungBM!$1:$1048576,MATCH(X$3,PrüfungBM!$A:$A,0),5)","v":0}]
["Eingabe 4",{"$nulls":9},{"$f":"Substrates!F132","v":0},{"$f":"LCIAbg!F4","v":0},{"$nulls":10},{"$f":"INDEX(PrüfungBM!$1:$1048576,MATCH(W$3,PrüfungBM!$A:$A,0),6)","v":0},{"$f":"INDEX(PrüfungBM!$1:$1048576,MATCH(X$3,PrüfungBM!$A:$A,0),6)","v":0}]
["Umrechnungsfaktor",null,{"$f":"C4","v":0},{"$f":"D4","v":0},{"$f":"E4","v":0},{"$f":"F4","v":0},null,{"$f":"H4*1000","v":0},{"$f":"IF(Gärgut_fest,I4*1000,0)","v":{"$error":"#N/A"}},{"$f":"IF(Auswahl_Verwendung_flüssig<5,1000*J4*J11,0)","v":{"$error":"#N/A"}},{"$f":"EinnahmeSubstratEntsorgung/Wechselkurs","v":{"$error":"#N/A"}},{"$f":"IF(L7>L5,L5,L7)*1000","v":0},{"$f":"IF(AND(Auswahl_Verwendung_fest=3,MainInput!H89>0),M5*1000,0)","v":{"$error":"#N/A"}},{"$f":"N5","v":0},{"$nulls":4},{"$f":"S5","v":0},null,null,null,{"$f":"W4","v":0},{"$f":"X4","v":0}]
["Direkte Emissionen",{"$nulls":9},"xx",{"$nulls":8},{"$f":"SUM(Substrates!AM146:AO146)","v":0}]
["Eco-indicator",{"$f":"SUM(C10:L10)","v":{"$error":"#N/A"}},{"$f":"C8*C17+C9","v":0},{"$f":"D8*D17+D9","v":0},{"$f":"E8*E17","v":0},{"$f":"F8*F17+F9","v":0},{"$f":"G8*G17+G9","v":0},"xx",{"$f":"I8*I17+I9","v":{"$error":"#N/A"}},{"$f":"J8*J17+J9","v":{"$error":"#N/A"}},{"$f":"K8*K17","v":{"$error":"#N/A"}},{"$f":"L8*L17+L9","v":0},{"$f":"M8*M17","v":{"$error":"#N/A"}},{"$f":"N8*S17+N9","v":0},{"$nulls":4},{"$f":"I10+J10","v":{"$error":"#N/A"}},{"$f":"T9","v":0},{"$f":"SUM(V10:X10)","v":0},null,{"$f":"W8*E17","v":0},{"$f":"X8*F17","v":0}]
[{"$nulls":9},{"$f":"K4/(K4+H4)","v":{"$error":"#DIV/0!"}}]
[]
["2020-12-01"]
[]
["Method: ","Eco-indicator 99 (H) V2.10 / Europe EI 99 H/A"]
["Impact category","Unit","threshold value, methane/kWh/CH U","threshold value, methane/kWh/CH U","threshold value, heat/kWh/CH U","threshold value, electricity/kWh/CH U","threshold value, cooling/kWh/CH U","reference value, manure/kg/CH U","reference value, digested matter, solid/kg/CH U","reference value, digested matter, liquid/kg/CH U","reference value, co-substrate disposal/CHF/CH U","reference value, raw sewage sludge treatment/kg/CH U","reference value, fuel from digester sludge/kg/CH U","reference value, manure/kg/DE U","reference value, manure/kg/HU U","reference value, manure/kg/DK U","reference value, manure/kg/GB U","reference value, manure/kg/ES U","reference value, paper production effluent/kg/CH U"]
["Total","Pt",{"$f":"INDEX(SimaPro!$1:$1048576,SimaProEI99,MATCH(C16,SimaPro!$1:$1,0))","v":9.4314771999999998E-3},{"$f":"INDEX(SimaPro!$1:$1048576,SimaProEI99,MATCH(D16,SimaPro!$1:$1,0))","v":9.4314771999999998E-3},{"$f":"INDEX(SimaPro!$1:$1048576,SimaProEI99,MATCH(E16,SimaPro!$1:$1,0))","v":9.6189563999999998E-3},{"$f":"INDEX(SimaPro!$1:$1048576,SimaProEI99,MATCH(F16,SimaPro!$1:$1,0))","v":1.6873467E-2},{"$f":"INDEX(SimaPro!$1:$1048576,SimaProEI99,MATCH(G16,SimaPro!$1:$1,0))","v":2.5983502000000002E-3},{"$f":"INDEX(SimaPro!$1:$1048576,SimaProEI99,MATCH(H16,SimaPro!$1:$1,0))","v":3.3569795999999999E-6},{"$f":"INDEX(SimaPro!$1:$1048576,SimaProEI99,MATCH(I16,SimaPro!$1:$1,0))","v":1.0290385000000001E-3},{"$f":"INDEX(SimaPro!$1:$1048576,SimaProEI99,MATCH(J16,SimaPro!$1:$1,0))","v":2.4415176999999997E-4},{"$f":"INDEX(SimaPro!$1:$1048576,SimaProEI99,MATCH(K16,SimaPro!$1:$1,0))","v":3.8237027E-2},{"$f":"INDEX(SimaPro!$1:$1048576,SimaProEI99,MATCH(L16,SimaPro!$1:$1,0))","v":7.2851484000000001E-3},{"$f":"INDEX(SimaPro!$1:$1048576,SimaProEI99,MATCH(M16,SimaPro!$1:$1,0))","v":2.7296597999999998E-2},{"$f":"INDEX(SimaPro!$1:$1048576,SimaProEI99,MATCH(N16,SimaPro!$1:$1,0))","v":8.6202727000000008E-6},{"$f":"INDEX(SimaPro!$1:$1048576,SimaProEI99,MATCH(O16,SimaPro!$1:$1,0))","v":1.1899127999999999E-5},{"$f":"INDEX(SimaPro!$1:$1048576,SimaProEI99,MATCH(P16,SimaPro!$1:$1,0))","v":6.8593750999999998E-6},{"$f":"INDEX(SimaPro!$1:$1048576,SimaProEI99,MATCH(Q16,SimaPro!$1:$1,0))","v":1.1657858000000001E-5},{"$f":"INDEX(SimaPro!$1:$1048576,SimaProEI99,MATCH(R16,SimaPro!$1:$1,0))","v":1.1139473E-5},{"$f":"INDEX(SimaPro!$1:$1048576,SimaProEI99,MATCH(S16,SimaPro!$1:$1,0))","v":7.6893820000000002E-2}]
[]
["v2.1","Pt",7.7681508E-3,null,7.6644577000000002E-3,1.3690575999999999E-2,1.3526650000000001E-3,3.5528622E-6,8.0076989999999999E-4,1.8999229999999999E-4,2.975502E-2,1.0822236E-3,2.2402034000000001E-2]
[null,"alt SM",6.1200228000000004E-3,null,7.6710557999999998E-3,1.3702407E-2,1.4597143999999999E-2,2.9835284E-6,3.5413323E-3,8.4022372000000002E-4,0.13158887999999999,2.043376E-3]
[null,"neu SM, agri",6.1200228000000004E-3,null,7.6710557999999998E-3,1.3702407E-2,1.4597143999999999E-2,2.9835284E-6,4.8860448999999999E-3,1.1592729999999999E-3,0.18155573,2.043376E-3]
[null,"unspecifed",6.1200228000000004E-3,null,7.6710557999999998E-3,1.3702407E-2,1.4597143999999999E-2,2.9835284E-6,5.1391583000000001E-3,1.2193271999999999E-3,0.19096092000000001,2.043376E-3]
[null,"mix",6.1200228000000004E-3,null,7.6710557999999998E-3,1.3702407E-2,1.4597143999999999E-2,2.9835284E-6,1.0390165E-3,2.4651917999999999E-4,3.8607792000000002E-2,1.3170359999999999E-3]
[null,"keine Ausbringung",6.1200228000000004E-3,null,7.6710557999999998E-3,1.3702407E-2,1.4597143999999999E-2,2.9835284E-6,8.0192356E-4,1.9026602E-4,2.9797888000000002E-2,1.3170359999999999E-3]
["v2.01","Pt",7.7701769E-3,null,7.6701801E-3,1.3700871999999999E-2,1.4597143999999999E-2,2.9678289999999999E-6,8.0134423999999997E-4,1.9012856999999999E-4,2.9776362000000001E-2,1.3072483999999999E-3,2.2402669E-2]
["Summe","Pt",7.7701769E-3,null,7.6701801E-3,1.3700871999999999E-2,1.4597143999999999E-2,2.9678289999999999E-6,8.0134423999999997E-4,1.9012856999999999E-4,2.9776362000000001E-2,1.3072483999999999E-3,2.1942472000000001E-2]
["v2.2+","Pt",7.7704825000000002E-3,null,7.6660623999999997E-3,1.3693411000000001E-2,1.3491379999999999E-3,3.5462809999999999E-6,7.9772730999999998E-4,1.8927041E-4,2.9641963E-2,1.0808241E-3,2.2406308999999999E-2]
["v February 2013","Pt",9.1999999999999998E-3,null,9.1000000000000004E-3,1.6299999999999999E-2,2.8999999999999998E-3,0,1.1000000000000001E-3,2.9999999999999997E-4,4.2500000000000003E-2,1.6000000000000001E-3,2.6700000000000002E-2]
[41395,"Pt",9.1916914000000002E-3,null,9.0931287999999992E-3,1.6304622000000001E-2,2.9482950000000001E-3,4.1250127000000002E-6,1.1432936000000001E-3,2.7126016000000001E-4,4.2482519000000003E-2,1.5592585E-3,2.6682088999999999E-2]
["v8.0","Pt",9.1916914000000002E-3,null,9.0931287999999992E-3,1.6304622000000001E-2,2.9482950000000001E-3,4.1250127000000002E-6,1.1432936000000001E-3,2.7126016000000001E-4,4.2482519000000003E-2,1.5592585E-3,2.6682088999999999E-2,9.0822055999999992E-6]
["v9.0","Pt",8.7638497999999992E-3,null,8.7653530999999996E-3,1.5722705999999999E-2,2.9462358E-3,4.1171310999999997E-6,1.1431474999999999E-3,2.712255E-4,4.2477091000000002E-2,1.5545644E-3,2.5479175999999999E-2,8.8627612000000008E-6]
["v10.0","Pt",8.7980560999999999E-3,null,8.7942945000000008E-3,1.5774455E-2,2.7706737000000002E-3,4.0695881000000004E-6,1.1439828E-3,2.7142368999999997E-4,4.2508128999999999E-2,1.5547401E-3,2.5576054000000001E-2,8.8241292999999999E-6,null,1.3739813000000001E-5]
["v11.0","Pt",8.7980560999999999E-3,null,8.7942945000000008E-3,1.5774455E-2,2.7706737000000002E-3,4.0695881000000004E-6,1.1439828E-3,2.7142368999999997E-4,4.2508128999999999E-2,1.5547401E-3,2.5576054000000001E-2,8.8241292999999999E-6,null,1.3739813000000001E-5]
["v11.2","Pt",8.7996985999999992E-3,null,8.7963208999999997E-3,1.5784540999999999E-2,2.6668442999999999E-3,3.3961265E-6,1.155028E-3,2.7404430999999999E-4,4.2918549E-2,7.2911117999999997E-3,2.5576156999999999E-2,8.8592284999999994E-6,1.3778991E-5,8.8432647999999999E-6]
[2.2018,"Pt",8.9018725999999992E-3,null,8.8968177000000002E-3,1.5961840000000001E-2,2.6604658000000002E-3,3.3911869000000002E-6,1.1594736E-3,2.7509906999999999E-4,4.3083736999999997E-2,7.2903109000000002E-3,2.5863041E-2,8.8575118000000008E-6,1.3819506E-5,8.861009E-6]
[3.2018,"Pt",8.9060675999999995E-3,null,8.9022896000000001E-3,1.5969594E-2,2.6645326E-3,3.4170878000000001E-6,1.1687373000000001E-3,2.7729700000000003E-4,4.3427958000000003E-2,7.3014216999999996E-3,2.5880538000000002E-2,8.5648239000000004E-6,1.1760437E-5,6.9382870000000004E-6]
["v12.3","Pt",8.9060675999999995E-3,8.9060675999999995E-3,8.9022896000000001E-3,1.5969594E-2,2.6645326E-3,3.4170878000000001E-6,1.1687373000000001E-3,2.7729700000000003E-4,4.3427958000000003E-2,7.3014216999999996E-3,2.5880538000000002E-2,8.5648239000000004E-6,1.1760437E-5,6.9382870000000004E-6,null,null,7.3065809999999995E-2]
["v14","Pt",1.0605094000000001E-2,1.0605094000000001E-2,1.0240422000000001E-2,1.8921729000000002E-2,2.6485369999999999E-3,2.9663969999999998E-6,1.1678617999999999E-3,2.7708925999999999E-4,4.3395425000000001E-2,7.4999156000000004E-3,3.0654424999999999E-2,1.0347024E-5,1.1157588E-5,7.7666736000000005E-6,null,null,7.3656097000000004E-2]
["v15.b","Pt",9.7112611000000001E-3,9.7112611000000001E-3,9.9583503999999996E-3,1.7368148999999999E-2,2.6564370000000002E-3,2.9705497000000001E-6,1.1822162000000001E-3,2.8049501999999999E-4,4.3928806000000001E-2,7.4713996999999999E-3,2.8151974999999999E-2,1.0351177000000001E-5,1.116174E-5,7.7708261999999995E-6,null,null,7.378643E-2]
["v16","Pt",9.7106178999999994E-3,9.7106178999999994E-3,9.9581756000000007E-3,1.7367028999999999E-2,2.6564243999999998E-3,3.4084130999999999E-6,1.1822375E-3,2.8050007999999999E-4,4.3929598E-2,7.4714024000000004E-3,2.8150172000000001E-2,8.6717061E-6,1.1950561E-5,6.9108085999999998E-6,1.1709292E-5,null,7.3781464000000005E-2]
["v17","Pt",9.7649221999999997E-3,9.7649221999999997E-3,9.9793186999999998E-3,1.7453646999999999E-2,2.6050548000000001E-3,3.3614715999999998E-6,1.0346985999999999E-3,2.4549469999999999E-4,3.8447346E-2,7.3564998999999997E-3,2.8238277999999999E-2,8.6247646000000003E-6,1.190362E-5,6.8638671000000001E-6,1.166235E-5,null,7.7317575999999999E-2]
["v18","Pt",9.4201044000000005E-3,9.4201044000000005E-3,9.6111193999999997E-3,1.6853686999999999E-2,2.5982611000000002E-3,3.3569285E-6,1.0289348000000001E-3,2.4412718E-4,3.8233176000000001E-2,7.2837748000000001E-3,2.7264535999999999E-2,8.6202214999999997E-6,1.1899077E-5,6.8593240000000004E-6,1.1657807E-5,null,7.6882413999999996E-2]
["Aktuell","Pt",{"$f":"C17","v":9.4314771999999998E-3},{"$f":"D17","v":9.4314771999999998E-3},9.6189563999999998E-3,1.6873467E-2,2.5983502000000002E-3,3.3569795999999999E-6,1.0290385000000001E-3,2.4415176999999997E-4,3.8237027E-2,7.2851484000000001E-3,2.7296597999999998E-2,8.6202727000000008E-6,1.1899127999999999E-5,6.8593750999999998E-6,1.1657807E-5,null,7.6882413999999996E-2]
[]
["Vergleich Aktuell zu vorher",null,{"$f":"C43/C41","v":0.96585277453618623},{"$f":"D43/D41","v":0.96585277453618623},0.96388908793944017,0.96675880977769291,0.99742631133901671,0.99866368051421295,0.99452971135749113,0.99452969860449125,0.99452968743278147,0.99030089023721735,0.9666523574844047,0.99947918578554606,0.99962263580322619,0.99934555842434647,0.99961045586867137,{"$error":"#DIV/0!"},0.9943717583696623]

{"sheet":"DirekteEmissionen","index":12,"n_rows":115,"n_cols":17,"rows_kept":115,"cut":false,"hidden":true,"merged":[]}
[]
[null,"Calculation: ","Vergleichen"]
[null,"Results: ","Wirkungsabschätzung"]
[null,"Product 1: ","1 kg emission, butane/kg/CH U (of project 208 naturemade KWM)"]
[null,"Product 2: ","1 kg emission, cadmium/kg/CH U (of project 208 naturemade KWM)"]
[null,"Product 3: ","1 kg emission, CH4, biogenic/kg/CH U (of project 208 naturemade KWM)"]
[null,"Product 4: ","1 kg emission, CO2/kg/CH U (of project 208 naturemade KWM)"]
[null,"Product 5: ","1 kg emission, ethane/kg/CH U (of project 208 naturemade KWM)"]
[null,"Product 6: ","1 kg emission, H2S/kg/CH U (of project 208 naturemade KWM)"]
[null,"Product 7: ","1 kg emission, lead/kg/CH U (of project 208 naturemade KWM)"]
[null,"Product 8: ","1 kg emission, N2O/kg/CH U (of project 208 naturemade KWM)"]
[null,"Product 9: ","1 kg emission, NH3/kg/CH U (of project 208 naturemade KWM)"]
[null,"Product 10: ","1 kg emission, NMVOC/kg/CH U (of project 208 naturemade KWM)"]
[null,"Product 11: ","1 kg emission, NOx/kg/CH U (of project 208 naturemade KWM)"]
[null,"Product 12: ","1 kg emission, PM2.5/kg/CH U (of project 208 naturemade KWM)"]
[null,"Product 13: ","1 kg emission, propane/kg/CH U (of project 208 naturemade KWM)"]
[null,"Product 14: ","1 kg emission, zinc/kg/CH U (of project 208 naturemade KWM)"]
[null,"Methode: ","Eco-indicator 99 (H) V2.10 / Europe EI 99 H/A"]
[null,"Indikator: ","Einzelergebnis"]
[null,"Skip categories: ","Nie"]
[null,"Default units: ","Ja"]
[null,"Infrastrukturprozesse ausschließen: ","Nein"]
[null,"Langzeitemissionen ausschließen: ","Ja"]
[null,"Per impact category: ","Nein"]
[null,"Sorted on item: ","Schadenskategorie"]
[null,"Sort order: ","Aufsteigend"]
[]
[null,"Schadenskategorie","Einheit","emission, butane/kg/CH U","emission, cadmium/kg/CH U","emission, CH4, biogenic/kg/CH U","emission, CO2/kg/CH U","emission, ethane/kg/CH U","emission, H2S/kg/CH U","emission, lead/kg/CH U","emission, N2O/kg/CH U","emission, NH3/kg/CH U","emission, NMVOC/kg/CH U","emission, NOx/kg/CH U","emission, PM2.5/kg/CH U","emission, propane/kg/CH U","emission, zinc/kg/CH U"]
[{"$f":"ROW()","v":29},"Summe","Pt",6.325704E-2,6836.1279999999997,0.17401618999999999,9.5843999999999999E-3,1.2048959999999999E-2,0,177.5968,3.1491600000000002,4.9680543999999998,5.8419199999999998E-2,4.4477209999999996,32.394359000000001,4.6187680000000002E-2,202.06880000000001]
[null,"Human Health","Pt",6.325704E-2,6161.4,0.17401618999999999,9.5843999999999999E-3,1.2048959999999999E-2,0,0,3.1491600000000002,3.8794,5.8419199999999998E-2,4.0482680000000002,32.394359000000001,4.6187680000000002E-2,0]
[null,"Ecosystem Quality","Pt",0,674.72799999999995,0,0,0,0,177.5968,0,1.0886544,0,0.39945296000000002,0,0,202.06880000000001]
[null,"Resources","Pt",0,0,0,0,0,0,0,0,0,0,0,0,0,0]
[]
[null,"Total","Pt",6.325704E-2,6836.1279999999997,0.17401618999999999,9.5843999999999999E-3,1.2048959999999999E-2,0,177.5968,3.1491600000000002,4.9680543999999998,5.8419199999999998E-2,4.4477209999999996,32.394359000000001,4.6187680000000002E-2,202.06880000000001]
[]
[null,"2018-03-29"]
[]
[null,"Calculation: ","Vergleichen"]
[null,"Results: ","Wirkungsabschätzung"]
[null,"Product 1: ","1 kg emission, butane/kg/CH U (of project 208 naturemade KWM)"]
[null,"Product 2: ","1 kg emission, cadmium/kg/CH U (of project 208 naturemade KWM)"]
[null,"Product 3: ","1 kg emission, CH4, biogenic/kg/CH U (of project 208 naturemade KWM)"]
[null,"Product 4: ","1 kg emission, CO2/kg/CH U (of project 208 naturemade KWM)"]
[null,"Product 5: ","1 kg emission, ethane/kg/CH U (of project 208 naturemade KWM)"]
[null,"Product 6: ","1 kg emission, H2S/kg/CH U (of project 208 naturemade KWM)"]
[null,"Product 7: ","1 kg emission, lead/kg/CH U (of project 208 naturemade KWM)"]
[null,"Product 8: ","1 kg emission, N2O/kg/CH U (of project 208 naturemade KWM)"]
[null,"Product 9: ","1 kg emission, NH3/kg/CH U (of project 208 naturemade KWM)"]
[null,"Product 10: ","1 kg emission, NMVOC/kg/CH U (of project 208 naturemade KWM)"]
[null,"Product 11: ","1 kg emission, NOx/kg/CH U (of project 208 naturemade KWM)"]
[null,"Product 12: ","1 kg emission, PM2.5/kg/CH U (of project 208 naturemade KWM)"]
[null,"Product 13: ","1 kg emission, propane/kg/CH U (of project 208 naturemade KWM)"]
[null,"Product 14: ","1 kg emission, zinc/kg/CH U (of project 208 naturemade KWM)"]
[null,"Methode: ","IPCC 2013 GWP 100a V1.03"]
[null,"Indikator: ","Charakterisierung"]
[null,"Skip categories: ","Nie"]
[null,"Infrastrukturprozesse ausschließen: ","Nein"]
[null,"Langzeitemissionen ausschließen: ","Ja"]
[null,"Sorted on item: ","Wirkungskategorie"]
[null,"Sort order: ","Aufsteigend"]
[]
[null,"Wirkungskategorie","Einheit","emission, butane/kg/CH U","emission, cadmium/kg/CH U","emission, CH4, biogenic/kg/CH U","emission, CO2/kg/CH U","emission, ethane/kg/CH U","emission, H2S/kg/CH U","emission, lead/kg/CH U","emission, N2O/kg/CH U","emission, NH3/kg/CH U","emission, NMVOC/kg/CH U","emission, NOx/kg/CH U","emission, PM2.5/kg/CH U","emission, propane/kg/CH U","emission, zinc/kg/CH U"]
[{"$f":"ROW()","v":63},"IPCC GWP 100a","kg CO2 eq",0,0,27.75,1,0,0,0,265,0,0,0,0,0,0]
[]
[]
[]
[null,"Calculation: ","Vergleichen"]
[null,"Results: ","Wirkungsabschätzung"]
[null,"Product 1: ","1 kg emission, butane/kg/CH U (of project 208 naturemade KWM)"]
[null,"Product 2: ","1 kg emission, cadmium/kg/CH U (of project 208 naturemade KWM)"]
[null,"Product 3: ","1 kg emission, CH4, biogenic/kg/CH U (of project 208 naturemade KWM)"]
[null,"Product 4: ","1 kg emission, CO2/kg/CH U (of project 208 naturemade KWM)"]
[null,"Product 5: ","1 kg emission, ethane/kg/CH U (of project 208 naturemade KWM)"]
[null,"Product 6: ","1 kg emission, H2S/kg/CH U (of project 208 naturemade KWM)"]
[null,"Product 7: ","1 kg emission, lead/kg/CH U (of project 208 naturemade KWM)"]
[null,"Product 8: ","1 kg emission, N2O/kg/CH U (of project 208 naturemade KWM)"]
[null,"Product 9: ","1 kg emission, NH3/kg/CH U (of project 208 naturemade KWM)"]
[null,"Product 10: ","1 kg emission, NMVOC/kg/CH U (of project 208 naturemade KWM)"]
[null,"Product 11: ","1 kg emission, NOx/kg/CH U (of project 208 naturemade KWM)"]
[null,"Product 12: ","1 kg emission, PM2.5/kg/CH U (of project 208 naturemade KWM)"]
[null,"Product 13: ","1 kg emission, propane/kg/CH U (of project 208 naturemade KWM)"]
[null,"Product 14: ","1 kg emission, zinc/kg/CH U (of project 208 naturemade KWM)"]
[null,"Methode: ","Ecological Scarcity 2013 V1.05 / Ecological scarcity 2013"]
[null,"Indikator: ","Einzelergebnis"]
[null,"Skip categories: ","Nie"]
[null,"Default units: ","Ja"]
[null,"Infrastrukturprozesse ausschließen: ","Nein"]
[null,"Langzeitemissionen ausschließen: ","Nein"]
[null,"Sorted on item: ","Wirkungskategorie"]
[null,"Sort order: ","Aufsteigend"]
[]
[null,"Wirkungskategorie","Einheit","emission, butane/kg/CH U","emission, cadmium/kg/CH U","emission, CH4, biogenic/kg/CH U","emission, CO2/kg/CH U","emission, ethane/kg/CH U","emission, H2S/kg/CH U","emission, lead/kg/CH U","emission, N2O/kg/CH U","emission, NH3/kg/CH U","emission, NMVOC/kg/CH U","emission, NOx/kg/CH U","emission, PM2.5/kg/CH U","emission, propane/kg/CH U","emission, zinc/kg/CH U"]
[{"$f":"ROW()","v":93},"Summe","Pt",14000,460000000,12000,460,14000,39000,22000000,140000,67000,14000,39000,140000,14000,5600000]
[null,"Water resources","Pt",0,0,0,0,0,0,0,0,0,0,0,0,0,0]
[null,"Energy resources","Pt",0,0,0,0,0,0,0,0,0,0,0,0,0,0]
[null,"Mineral resources","Pt",0,0,0,0,0,0,0,0,0,0,0,0,0,0]
[null,"Land use","Pt",0,0,0,0,0,0,0,0,0,0,0,0,0,0]
[null,"Global warming","Pt",0,0,12000,460,0,0,0,140000,0,0,0,0,0,0]
[null,"Ozone layer depletion","Pt",0,0,0,0,0,0,0,0,0,0,0,0,0,0]
[null,"Main air pollutants and PM","Pt",14000,0,0,0,14000,39000,0,0,67000,14000,39000,140000,14000,0]
[null,"Carcinogenic substances into air","Pt",0,0,0,0,0,0,0,0,0,0,0,0,0,0]
[null,"Heavy metals into air","Pt",0,460000000,0,0,0,0,22000000,0,0,0,0,0,0,5600000]
[null,"Water pollutants","Pt",0,0,0,0,0,0,0,0,0,0,0,0,0,0]
[null,"POP into water","Pt",0,0,0,0,0,0,0,0,0,0,0,0,0,0]
[null,"Heavy metals into water","Pt",0,0,0,0,0,0,0,0,0,0,0,0,0,0]
[null,"Pesticides into soil","Pt",0,0,0,0,0,0,0,0,0,0,0,0,0,0]
[null,"Heavy metals into soil","Pt",0,0,0,0,0,0,0,0,0,0,0,0,0,0]
[null,"Radioactive substances into air","Pt",0,0,0,0,0,0,0,0,0,0,0,0,0,0]
[null,"Radioactive substances into water","Pt",0,0,0,0,0,0,0,0,0,0,0,0,0,0]
[null,"Noise","Pt",0,0,0,0,0,0,0,0,0,0,0,0,0,0]
[null,"Non radioactive waste to deposit","Pt",0,0,0,0,0,0,0,0,0,0,0,0,0,0]
[null,"Radioactive waste to deposit","Pt",0,0,0,0,0,0,0,0,0,0,0,0,0,0]
[]
[]
[null,"Total","Pt",18015.8,460623020,7129.08,309.95999999999998,18015.8,56366.16,27073656,91748.160000000003,57576.093000000001,18015.8,44945.531999999999,149814.57999999999,18015.8,4450464]

{"sheet":"ReferenzKombi","index":13,"n_rows":13,"n_cols":24,"rows_kept":13,"cut":false,"hidden":true,"merged":[]}
[null,"Input","Vorbehandlung, fest",null,null,null,"Vorbehandlung, flüssig",null,null,"Output, flüssig",{"$nulls":10},"Entsorgung, Fest"]
["Substrat","Referenz","Keine Behandlung","offene Kompostierung, Lagerung, Miete bzw. Nachrotte","Rottetrommel, geheizt",null,"geschlossene Kompostierung/Lagerung mit Biofilter","Entwässerung, Faulschlamm 32% TS",null,"Offenes Gärgutlager/Nachgärung","Geschlossenes Gärgutlager/Nachgärung mit Gasnutzung","Nährstoffaufbereitung (Ultrafiltration/Umkehrosmose)",null,"Landwirtschaft, Güllefass","Landwirtschaft, Schleppschlauch","Landwirtschaft, Einspritzung, Schleppschuh","Landwirtschaft, Einspritzung, Cultan (Impfen)","Kläranlage, Rückführung","Kommunale Kläranlage",null,"Kompost, Gartenbau","Landwirtschaft, Mistzetter","Verbrennung, Zementwerk, 92% TS","Verbrennung, KVA, 32% TS"]
["Gülle und Mist","Güllelager",1,1,1,null,1,0,null,1,1,1,null,1,1,1,1,0,0,null,1,1,0,0]
["Substrate (Nebenprodukte, Abfälle, Reststoffe, etc.), entgegengenohmen","Kompost"]
["Substrate (Nebenprodukte, Abfälle, Reststoffe, etc.), gekauft","Keine"]
["Zwischenfrüchte ohne Konkurrenz zu Nahrungs- und Futtermitteln","Keine"]
["Gekaufte Substrate","Keine"]
["Energiepflanzen-Silage","Keine"]
["Klärschlamm und ähnliche Substrate","Klärschlammverbrennung"]
["Schlachtabfälle","Verbrennung"]
["Industrieabwässer und Substrate","Vorklärung"]
[]
["Belastung bei Klärschlamm auf Boden"]

{"sheet":"UmweltdeklarationBM","index":14,"n_rows":31,"n_cols":11,"rows_kept":31,"cut":false,"hidden":true,"merged":[]}
[{"$nulls":7},29,35,34,31]
[29,{"$f":"nameBM","v":"Test"},null,{"$f":"H2","v":0},"Anteil",null,null,{"$f":"INDEX(menuesBM!$1:$1048576,H1,sprache)","v":0},{"$f":"INDEX(menuesBM!$1:$1048576,$I1,sprache)","v":0},{"$f":"INDEX(menuesBM!$1:$1048576,J1,sprache)","v":0},{"$f":"INDEX(menuesBM!$1:$1048576,K1,sprache)","v":0}]
[56,null,null,{"$f":"H3","v":"Pkt"},null,null,null,"Pkt","kg CO2-eq","MJ-eq","Pkt"]
[45,{"$f":"INDEX(menuesBM!$1:$1048576,$A4,sprache)","v":0},null,null,{"$f":"H4/H$9","v":0},null,null,{"$f":"SUM(LCIAbm!$C$8:$G$8)","v":0},{"$f":"SUM(LCIAbm!$C$9:$G$9)","v":0},{"$f":"SUM(LCIAbm!$C$10:$G$10)","v":0},{"$f":"SUM(LCIAbm!$C$11:$G$11)","v":0}]
[47,{"$f":"INDEX(menuesBM!$1:$1048576,$A5,sprache)","v":0},null,null,0,null,null,{"$f":"SUM(LCIAbm!$H$8:$M$8)","v":0},{"$f":"SUM(LCIAbm!$H$9:$M$9)","v":0},{"$f":"SUM(LCIAbm!$H$10:$M$10)","v":0},{"$f":"SUM(LCIAbm!$H$11:$M$11)","v":0}]
[67,{"$f":"INDEX(menuesBM!$1:$1048576,$A6,sprache)","v":0},null,null,0,null,null,{"$f":"SUM(LCIAbm!$U$8:$U$8)","v":0},{"$f":"SUM(LCIAbm!$U$9:$U$9)","v":0},{"$f":"SUM(LCIAbm!$U$10:$U$10)","v":0},{"$f":"SUM(LCIAbm!$U$11:$U$11)","v":0}]
[20,{"$f":"INDEX(menuesBM!$1:$1048576,$A7,sprache)","v":0},null,null,1,null,null,{"$f":"SUM(LCIAbm!$N$8:$S$8)","v":6.5071313039262845E-3},{"$f":"SUM(LCIAbm!$N$9:$S$9)","v":1.3403582000000001E-2},{"$f":"SUM(LCIAbm!$N$10:$S$10)","v":2.9482703999999998E-2},{"$f":"SUM(LCIAbm!$N$11:$S$11)","v":69.323684047041795}]
[12,{"$f":"INDEX(menuesBM!$1:$1048576,$A8,sprache)","v":0},null,null,0,null,null,{"$f":"SUM(LCIAbm!$T$8:$T$8)","v":0},{"$f":"SUM(LCIAbm!$T$9:$T$9)","v":0},{"$f":"SUM(LCIAbm!$T$10:$T$10)","v":0},{"$f":"SUM(LCIAbm!$T$11:$T$11)","v":0}]
[17,{"$f":"INDEX(menuesBM!$1:$1048576,$A9,sprache)","v":0},null,null,1,null,null,{"$f":"SUM(H4:H8)","v":6.5071313039262845E-3},{"$f":"SUM(I4:I8)","v":1.3403582000000001E-2},{"$f":"SUM(J4:J8)","v":2.9482703999999998E-2},{"$f":"SUM(K4:K8)","v":69.323684047041795}]
[49]
[56,{"$f":"INDEX(menuesBM!$1:$1048576,$A11,sprache)","v":0},{"$f":"B9","v":0},null,null,null,{"$f":"nameBM","v":"Test"},null,null,null,{"$f":"INDEX(menuesBM!$1:$1048576,$A10,sprache)","v":0}]
[null,null,"a",{"$nulls":4},{"$f":"H3","v":"Pkt"},{"$f":"I3","v":"kg CO2-eq"},{"$f":"J3","v":"MJ-eq"},{"$f":"K3","v":"Pkt"}]
[51,{"$f":"INDEX(menuesBM!$1:$1048576,$A13,sprache)","v":0},{"$f":"Prüfwert!X8","v":0},{"$f":"Prüfwert!X10","v":0},{"$f":"D13/D$22","v":{"$error":"#DIV/0!"}},null,{"$f":"REPLACE(B13,1,10,\"\")&\", kWh\"","v":", kWh"},{"$f":"IF($C13>0,$E13*H$9/$C13,0)","v":0},0,0,0]
[52,{"$f":"INDEX(menuesBM!$1:$1048576,$A14,sprache)","v":0},{"$f":"Prüfwert!W8","v":0},{"$f":"Prüfwert!W10","v":0},{"$f":"D14/D$22","v":{"$error":"#DIV/0!"}},null,{"$f":"REPLACE(B14,1,10,\"\")&\", kWh\"","v":", kWh"},0,0,0,0]
[53,{"$f":"INDEX(menuesBM!$1:$1048576,$A15,sprache)","v":0},{"$nulls":4},{"$f":"REPLACE(B15,1,10,\"\")&\", kWh\"","v":", kWh"},0,0,0,0]
[]
[]
[]
[]
[]
[]
[17,{"$f":"INDEX(menuesBM!$1:$1048576,$A22,sprache)","v":0},null,{"$f":"SUM(D13:D21)","v":0},{"$f":"D22/D$22","v":{"$error":"#DIV/0!"}},null,{"$f":"PrüfungBM!B33","v":{"$error":"#DIV/0!"}},null,null,null,{"$f":"H9/D22","v":{"$error":"#DIV/0!"}}]
[]
[68,{"$f":"INDEX(menuesBM!$1:$1048576,$A24,sprache)","v":0}]
[67,{"$f":"INDEX(menuesBM!$1:$1048576,$A25,sprache)","v":0},null,null,{"$f":"H25/H$26","v":0},null,null,{"$f":"SUM(LCIAbm!$V$8:$V$8)","v":0},{"$f":"SUM(LCIAbm!$V$9:$V$9)","v":0},{"$f":"SUM(LCIAbm!$V$10:$V$10)","v":0},{"$f":"SUM(LCIAbm!$V$11:$V$11)","v":0}]
[17,{"$f":"INDEX(menuesBM!$1:$1048576,$A26,sprache)","v":0},null,null,{"$f":"H26/H$26","v":1},null,null,{"$f":"SUM(H4:H5,H25,H7:H8)","v":6.5071313039262845E-3},{"$f":"SUM(I4:I5,I25,I7:I8)","v":1.3403582000000001E-2},2.9482703999999998E-2,69.323684047041795]
[68,{"$f":"INDEX(menuesBM!$1:$1048576,$A27,sprache)","v":0},{"$f":"B22","v":0},null,null,null,{"$f":"nameBM","v":"Test"},null,null,null,{"$f":"B27","v":0}]
[null,null,"a",{"$nulls":4},{"$f":"H12","v":"Pkt"},{"$f":"I12","v":"kg CO2-eq"},{"$f":"J12","v":"MJ-eq"},{"$f":"K12","v":"Pkt"}]
[51,{"$f":"INDEX(menuesBM!$1:$1048576,$A29,sprache)","v":0},{"$f":"C13","v":0},{"$f":"C29","v":0},{"$f":"D29/SUM(D$29:D$30)","v":{"$error":"#DIV/0!"}},null,{"$f":"REPLACE(B29,1,10,\"\")&\", kWh\"","v":", kWh"},{"$f":"IF($C29>0,$E29*H$26/$C29,0)","v":0},0,0,0]
[52,{"$f":"INDEX(menuesBM!$1:$1048576,$A30,sprache)","v":0},{"$f":"C14","v":0},{"$f":"0.17*C30","v":0},{"$f":"D30/SUM(D$29:D$30)","v":{"$error":"#DIV/0!"}},null,{"$f":"REPLACE(B30,1,10,\"\")&\", kWh\"","v":", kWh"},0,0,0,0]
[17,{"$f":"INDEX(menuesBM!$1:$1048576,$A31,sprache)","v":0},{"$f":"SUM(C29:C30)","v":0},{"$f":"SUM(D29:D30)","v":0},{"$f":"SUM(E29:E30)","v":{"$error":"#DIV/0!"}}]

{"sheet":"PrüfungBM","index":15,"n_rows":33,"n_cols":13,"rows_kept":33,"cut":false,"hidden":true,"merged":[]}
[]
[2,{"$f":"INDEX(menuesBM!$1:$1048576,$A2,sprache)","v":0},{"$nulls":4},"Prüfungen"]
[3,{"$f":"INDEX(menuesBM!$1:$1048576,$A3,sprache)","v":0},{"$nulls":4},"",1]
[4,{"$f":"INDEX(menuesBM!$1:$1048576,$A4,sprache)","v":0},"Test",null,null,null,""]
[93,{"$f":"INDEX(menuesBM!$1:$1048576,$A5,sprache)","v":0},{"$f":"SUM(C6:C12)","v":1},null,null,null,"",{"$nulls":4},{"$f":"nameBM","v":"Test"},{"$f":"UmweltdeklarationBM!B11","v":0}]
[63,{"$f":"INDEX(menuesBM!$1:$1048576,$A6,sprache)","v":0},0,{"$f":"C6/C$5","v":0},null,null,"",null,null,null,{"$f":"UmweltdeklarationBM!B4","v":0},{"$f":"UmweltdeklarationBM!H4","v":0}]
[64,{"$f":"INDEX(menuesBM!$1:$1048576,$A7,sprache)","v":0},0,0,null,null,"",null,null,null,{"$f":"UmweltdeklarationBM!B5","v":0},{"$f":"UmweltdeklarationBM!H5","v":0}]
[72,{"$f":"INDEX(menuesBM!$1:$1048576,$A8,sprache)","v":0},0,0,null,null,"",null,null,null,{"$f":"UmweltdeklarationBM!B6","v":0},{"$f":"UmweltdeklarationBM!H6","v":0}]
[73,{"$f":"INDEX(menuesBM!$1:$1048576,$A9,sprache)","v":0},0,0,null,null,"",null,null,null,{"$f":"UmweltdeklarationBM!B7","v":0},{"$f":"UmweltdeklarationBM!H7","v":6.5071313039262845E-3}]
[66,{"$f":"INDEX(menuesBM!$1:$1048576,$A10,sprache)","v":0},0,0,null,null,"",null,null,null,{"$f":"UmweltdeklarationBM!B8","v":0},{"$f":"UmweltdeklarationBM!H8","v":0}]
[71,{"$f":"INDEX(menuesBM!$1:$1048576,$A11,sprache)","v":0},0,0,null,null,"",null,null,null,{"$f":"UmweltdeklarationBM!B13","v":0},null,{"$f":"UmweltdeklarationBM!D13","v":0}]
[67,{"$f":"\"Biomethan, \"&name","v":"Biomethan, "},1,1,null,null,"",null,null,null,{"$f":"UmweltdeklarationBM!B14","v":0},null,{"$f":"UmweltdeklarationBM!D14","v":0}]
[94,{"$f":"INDEX(menuesBM!$1:$1048576,$A13,sprache)","v":0},{"$f":"SUM(C14:C18)","v":0},null,null,null,"",{"$nulls":4},{"$f":"SUM(L6:L12)","v":6.5071313039262845E-3},{"$f":"SUM(M6:M12)","v":0}]
[9,{"$f":"INDEX(menuesBM!$1:$1048576,$A14,sprache)","v":0},0,null,null,null,{"$f":"IF(AND(C14>0,C26>0),FALSE,TRUE)","v":true}]
[23,{"$f":"INDEX(menuesBM!$1:$1048576,$A15,sprache)","v":0},0,null,null,null,{"$f":"IF(AND(C15>0,C26>0),FALSE,TRUE)","v":true}]
[10,{"$f":"INDEX(menuesBM!$1:$1048576,$A16,sprache)","v":0},0,null,null,null,""]
[86,{"$f":"INDEX(menuesBM!$1:$1048576,$A17,sprache)","v":0},0,null,null,null,""]
[18,{"$f":"INDEX(menuesBM!$1:$1048576,$A18,sprache)","v":0},0,null,null,null,""]
[11,{"$f":"INDEX(menuesBM!$1:$1048576,$A19,sprache)","v":0},{"$nulls":4},""]
[13,{"$f":"INDEX(menuesBM!$1:$1048576,$A20,sprache)","v":0},{"$f":"C5","v":1},null,null,null,""]
[80,{"$f":"INDEX(menuesBM!$1:$1048576,$A21,sprache)","v":0},{"$nulls":4},{"$f":"IF(AND(BHKWbm<3,C24>0),FALSE,TRUE)","v":true},3]
[103,{"$f":"INDEX(menuesBM!$1:$1048576,$A22,sprache)","v":0},0,null,null,null,{"$f":"AND(0<C22,C22<=400)","v":false}]
[55,{"$f":"INDEX(menuesBM!$1:$1048576,$A23,sprache)","v":0},{"$f":"C20","v":1},null,null,null,""]
[99,{"$f":"INDEX(menuesBM!$1:$1048576,$A24,sprache)","v":0},0,null,null,null,""]
[100,{"$f":"INDEX(menuesBM!$1:$1048576,$A25,sprache)","v":0},0,null,null,null,""]
[14,{"$f":"INDEX(menuesBM!$1:$1048576,$A26,sprache)","v":0},0,null,null,null,{"$f":"C26<=(C24-C25)","v":true},0.8]
[32,{"$f":"INDEX(menuesBM!$1:$1048576,$A27,sprache)","v":0},0,0.1,null,null,{"$f":"D27<H27","v":true},0.2]
[43,{"$f":"INDEX(menuesBM!$1:$1048576,$A28,sprache)","v":0},0,null,null,null,""]
[62,{"$f":"INDEX(menuesBM!$1:$1048576,$A29,sprache)","v":0},{"$f":"C28+C27*(1-D27)","v":0},null,null,null,"",0.9]
[102,{"$f":"INDEX(menuesBM!$1:$1048576,$A30,sprache)","v":0},{"$f":"C29+C26","v":0},null,{"$f":"C30/(C5+C13)","v":0},null,{"$f":"IF(OR(AND(BHKWbm<3,E30<H29),AND(BHKWbm>2,E30<H26)),FALSE,TRUE)","v":false},3]
[15,{"$f":"INDEX(menuesBM!$1:$1048576,$A31,sprache)&nameBM","v":"Test"},null,{"$f":"UmweltdeklarationBM!B11","v":0},null,null,""]
[29,{"$f":"INDEX(menuesBM!$1:$1048576,$A32,sprache)","v":0},{"$f":"UmweltdeklarationBM!H9","v":6.5071313039262845E-3},{"$f":"UmweltdeklarationBM!D22","v":0},{"$f":"C32/D32","v":{"$error":"#DIV/0!"}},null,{"$f":"E32<1","v":{"$error":"#DIV/0!"}}]
[null,{"$f":"IF(G33,INDEX(menuesBM!$1:$1048576,26,sprache),INDEX(menuesBM!$1:$1048576,27,sprache))","v":{"$error":"#DIV/0!"}},{"$nulls":4},{"$f":"AND(G3:G32)","v":{"$error":"#DIV/0!"}}]

{"sheet":"intro","index":16,"n_rows":37,"n_cols":2,"rows_kept":37,"cut":false,"hidden":true,"merged":[]}
[null,"Template for EcoSpold files"]
[null,"Ecospold Example with Explanations"]
[{"$f":"TODAY()","v":"2021-03-30"},"Authors: Niels Jungbluth"]
[]
["Property Rights","It is not permitted to distribute or copy this worksheet or parts of it to third parties or persons."]
["Copyright Information","© ESU-services GmbH"]
["Support"]
[null,"ESU-services"]
["Revisions","4.8.2005 (RS) - Added referencing for categories and subcategories also for Processes (Excel2Ecospold-Tool (V1.8) supports this extension already - Ecospold2Excel, however does not)"]
[null,"12.9.2005 (RS) - Added validation fields (ProofReadingDetails) in X-Process, which are supported since EcoSpold 1.9"]
[null,"12.9.2005 (RS) - Improved the intro documentation somewhat"]
[null,"12.2.2006 (nj) - Changed colours for better results in print outs"]
[null,"12.5.2015 (nj) - Improved the intro documentation somewhat"]
["Manual"]
["Start","1) Please open always the names list while working with this file, otherwise you will experience a very slow performance (see also 2)"]
[null,"2) Set the calculation to manual at the menu \"Extra -> Options -> Calculations\" (dt.: \"Extras -> Optionen -> Berechnung\". Use F9 to recalculate cells. On older computers recalculation can last a couple of seconds (or minutes if the names-list is not open or not linked correctly). Normally Excel recalculates after every input in a cell."]
["About the Sheets","There are different examples of ecospold processes in this file. One is a single output process (the ABS pipe) and the other is an example of a multioutput process (Silicon production). Normally you need the single output example as the template. To export it you have to rename it to X-Exchange. In X-Process you have to add the description of the process(es). X-Source contains the reference to the documents where your work or data is (will be) published. The persons mentioned in X-Person can be referenced in X-Process by their respective (arbitrary, but unique) number. The export function \"Excel2Ecospold\" only looks at X-Exchange, X-Process, X-Source and X-Person (other sheets are ignored). They must be present in the file for the export to work. If you want to also validate your process according to the XML-Schemata during export, you can turn on \"Always validate Ecospold documents [...]\" in the Ecospold options."]
["Tips for filling in the Ecospold-Spreadsheet","1) Only enter or make changes to the green cells, except you know the standard deviation of your data. Then you can skip the Pedigree Matrix, but you need to make changes in columns M, N and O instead."]
[null,"2) If you need more rows: insert one (or several) new line at the place you want to add additional processes. Then COPY/PASTE an existing line (the whole line) and change the values in the green cells accordingly"]
[null,"2) Be sure to have the names list open to have the cells updated automatically or after pressing F9, when the calculating option is set to manual (\"Extras\"->\"Options\"->\"Calculation\")"]
[]
["Typical Workflow (using Pedigree Matrix)","1) Search for the desired process in the names list \"Names\" or the elementary flow (emission or ressource) in \"NamesElementary\" and copy the index nr. to column A"]
[null,"2) Change the Input/OutputGroup if necessery (column D and E)"]
[null,"3) Enter the needed amount of process in column L, except for the reference flow in row 7 which is always 1"]
[null,"4) Add a short comment, like the calculation procedure,...  in column P and the literature as cited in the report in the following column."]
[null,"5) Fill in the Pedigree Matrix"]
[null,"6) (Press F9, if calculation in Excel is set to manual) Verify the entries and then restart with 1) for adding the next process"]
[]
["Tips for exporting the Excel-Sheets to EcoSpold","1) Only the process in X-Exchange will be exported to the EcoSpold file. "]
[null,"2) Be sure there is not a single cell above the first Empty Line (delimiting the dataset) that contains cell or calculation errors, e.g. #NV, DIV/0,.... "]
[null,"3) Common errors are a) cell A7 and L1 don't contain the same number (process), b) the process is lacking its description in X-Process, c) a formula in one or several cells has been deleted (copy from above or  below to correct)"]
[]
["Names list of the ecoinvent project","'[ecoinvent-v2.0-names.xlsx]"]
[null,"[ecoinvent-v2.0-names.xlsx]"]
[]
["End of process name"," | Alloc Rec, U"]
["SheetForProcessNames","NamesV3"]

{"sheet":"X-Exchange","index":17,"n_rows":110,"n_cols":39,"rows_kept":110,"cut":false,"hidden":true,"merged":[[0,23,0,27]]}
[{"$nulls":5},"IndexNumber",{"$nulls":5},{"$f":"A7","v":848},null,null,null,{"$f":"A8","v":"208-01"},{"$nulls":7},"Process:"]
[null,null,"ID",3503,3504,3702,3703,3506,3507,3508,3706,3707,3708,3709,3792,3707,3708,3709,3792]
["Index",null,401,"InputGroup","OutputGroup","Name","Location","Category","SubCategory","InfrastructureProcess","Unit",{"$f":"\"Gesamtbelastung, \"&name","v":"Gesamtbelastung, "},"UncertaintyType","StandardDeviation95%","GeneralComment",{"$f":"\"Prüfwert, \"&name","v":"Prüfwert, "},"UncertaintyType","StandardDeviation95%","GeneralComment","Faktor","Literature","Remarks","Literature","Rel","Comp","Temp","Geo","Tech","Code","basic SDG^2","Pedigree","Total","uncertainty code pedigree","Rel","Comp","Temp","Geo","Tech"]
[null,null,662,null,null,"Location",{"$nulls":5},{"$f":"INDEX(menuesBG!$G$108:$G$111,Standort,1)","v":{"$error":"#N/A"}},null,null,null,{"$f":"INDEX(menuesBG!$G$108:$G$111,Standort,1)","v":{"$error":"#N/A"}},{"$nulls":4},"CH",null,null,"nA: not applicable: CV=1",{"$nulls":6},"SDG^2","SDG^2"]
[null,null,493,null,null,"InfrastructureProcess",{"$nulls":5},0,null,null,null,0,{"$nulls":4},2009]
[null,null,403,null,null,"Unit",{"$nulls":5},"a",null,null,null,"a",{"$nulls":4},"kg"]
[848,"product",null,"-",0,{"$f":"L3","v":"Gesamtbelastung, "},{"$f":"L4","v":{"$error":"#N/A"}},{"$f":"IF(OR(D7=4,E7=4),INDEX(INDIRECT(names&\"NamesElementary'!$1:$65536\"),MATCH($A7,INDIRECT(names&\"NamesElementary'!$A:$A\"),0),4),\"-\")","v":"-"},{"$f":"IF(OR(D7=4,E7=4),INDEX(INDIRECT(names&\"NamesElementary'!$1:$65536\"),MATCH($A7,INDIRECT(names&\"NamesElementary'!$A:$A\"),0),5),\"-\")","v":"-"},0,"a",{"$f":"IF($A7=L$1,1,0)","v":1},null,null,null,{"$f":"IF($A7=P$1,1,0)","v":0}]
["208-01",null,null,"-",0,{"$f":"P3","v":"Prüfwert, "},{"$f":"P4","v":{"$error":"#N/A"}},{"$f":"IF(OR(D8=4,E8=4),INDEX(INDIRECT(names&\"NamesElementary'!$1:$65536\"),MATCH($A8,INDIRECT(names&\"NamesElementary'!$A:$A\"),0),4),\"-\")","v":"-"},{"$f":"IF(OR(D8=4,E8=4),INDEX(INDIRECT(names&\"NamesElementary'!$1:$65536\"),MATCH($A8,INDIRECT(names&\"NamesElementary'!$A:$A\"),0),5),\"-\")","v":"-"},0,"a",{"$f":"IF($A8=L$1,1,0)","v":0},null,null,null,{"$f":"IF($A8=P$1,1,0)","v":1}]
[6905,null,"",5,"-",{"$f":"IF(OR(D9=4,E9=4),INDEX(INDIRECT(names&\"NamesElementary'!$1:$65536\"),MATCH(A9,INDIRECT(names&\"NamesElementary'!$A:$A\"),0),2),INDEX(INDIRECT(names&\"Names'!$1:$65536\"),MATCH(A9,INDIRECT(names&\"Names'!$F:$F\"),0),10))","v":{"$error":"#REF!"}},{"$f":"IF(OR(D9=4,E9=4),\"-\",INDEX(INDIRECT(names&\"Names'!$1:$65536\"),MATCH(A9,INDIRECT(names&\"Names'!$F:$F\"),0),11))","v":{"$error":"#REF!"}},"-","-",{"$f":"IF(OR(D9=4,E9=4),\"-\",INDEX(INDIRECT(names&\"Names'!$1:$65536\"),MATCH(A9,INDIRECT(names&\"Names'!$F:$F\"),0),14))","v":{"$error":"#REF!"}},{"$f":"IF(OR(D9=4,E9=4),INDEX(INDIRECT(names&\"NamesElementary'!$1:$65536\"),MATCH(A9,INDIRECT(names&\"NamesElementary'!$A:$A\"),0),7),INDEX(INDIRECT(names&\"Names'!$1:$65536\"),MATCH(A9,INDIRECT(names&\"Names'!$F:$F\"),0),15))","v":{"$error":"#REF!"}},{"$f":"INDEX(LCIAbg!$1:$1048576,7,MATCH('X-Exchange'!$U9,LCIAbg!$15:$15,0))*T9","v":{"$error":"#N/A"}},1,{"$f":"$AF9","v":{"$error":"#REF!"}},{"$f":"$AG9&\"; \"&$V9&\"; \"&$W9","v":{"$error":"#REF!"}},null,1,{"$f":"$AF9","v":{"$error":"#REF!"}},{"$f":"$AG9&\"; \"&$V9&\"; \"&$W9","v":{"$error":"#REF!"}},1E-4,"anaerobic digestion plant covered, agriculture/CH/I U","entry in questionnaire","LCIAbg",1,1,1,1,1,{"$f":"IF(OR($D9=4,$E9=4),INDEX(INDIRECT(names&\"NamesElementary'!$J:$J\"),MATCH($A9,INDIRECT(names&\"NamesElementary'!$A:$A\"),0),1),INDEX(INDIRECT(names&\"Names'!$W:$W\"),MATCH($A9,INDIRECT(names&\"Names'!$F:$F\"),0),1))","v":{"$error":"#REF!"}},{"$f":"INDEX(INDIRECT(names&\"BasicUncertainty'!$1:$65536\"),MATCH(AC9,INDIRECT(names&\"BasicUncertainty'!B:B\"),0),8)","v":{"$error":"#REF!"}},{"$f":"EXP(SQRT((LN(AH9)^2)+(LN(AI9)^2)+(LN(AJ9)^2)+(LN(AK9)^2)+(LN(AL9)^2)))","v":{"$error":"#REF!"}},{"$f":"EXP(SQRT((LN(AH9)^2)+(LN(AI9)^2)+(LN(AJ9)^2)+(LN(AK9)^2)+(LN(AL9)^2)+(LN(AD9)^2)))","v":{"$error":"#REF!"}},{"$f":"CONCATENATE(\"(\",X9,\",\",Y9,\",\",Z9,\",\",AA9,\",\",AB9,\",BU:\",AD9,\")\")","v":{"$error":"#REF!"}},{"$f":"IF(X9=1,INDIRECT(names&\"SDG^2 values'!$B$4\"),IF(X9=2,INDIRECT(names&\"SDG^2 values'!$C$4\"),IF(X9=3,INDIRECT(names&\"SDG^2 values'!$D$4\"),IF(X9=4,INDIRECT(names&\"SDG^2 values'!$E$4\"),IF(X9=5,INDIRECT(names&\"SDG^2 values'!$F$4\"),1)))))","v":{"$error":"#REF!"}},{"$f":"IF(Y9=1,INDIRECT(names&\"SDG^2 values'!$B$5\"),IF(Y9=2,INDIRECT(names&\"SDG^2 values'!$C$5\"),IF(Y9=3,INDIRECT(names&\"SDG^2 values'!$D$5\"),IF(Y9=4,INDIRECT(names&\"SDG^2 values'!$E$5\"),IF(Y9=5,INDIRECT(names&\"SDG^2 values'!$F$5\"),1)))))","v":{"$error":"#REF!"}},{"$f":"IF(Z9=1,INDIRECT(names&\"SDG^2 values'!$B$6\"),IF(Z9=2,INDIRECT(names&\"SDG^2 values'!$C$6\"),IF(Z9=3,INDIRECT(names&\"SDG^2 values'!$D$6\"),IF(Z9=4,INDIRECT(names&\"SDG^2 values'!$E$6\"),IF(Z9=5,INDIRECT(names&\"SDG^2 values'!$F$6\"),1)))))","v":{"$error":"#REF!"}},{"$f":"IF(AA9=1,INDIRECT(names&\"SDG^2 values'!$B$7\"),IF(AA9=2,INDIRECT(names&\"SDG^2 values'!$C$7\"),IF(AA9=3,INDIRECT(names&\"SDG^2 values'!$D$7\"),IF(AA9=4,INDIRECT(names&\"SDG^2 values'!$E$7\"),IF(AA9=5,INDIRECT(names&\"SDG^2 values'!$F$7\"),1)))))","v":{"$error":"#REF!"}},{"$f":"IF(AB9=1,INDIRECT(names&\"SDG^2 values'!$B$8\"),IF(AB9=2,INDIRECT(names&\"SDG^2 values'!$C$8\"),IF(AB9=3,INDIRECT(names&\"SDG^2 values'!$D$8\"),IF(AB9=4,INDIRECT(names&\"SDG^2 values'!$E$8\"),IF(AB9=5,INDIRECT(names&\"SDG^2 values'!$F$8\"),1)))))","v":{"$error":"#REF!"}},"0.0001 p anaerobic digestion plant covered, agriculture/CH/I U (of project ESU database 2018)"]
[6425,null,null,5,"-",{"$error":"#REF!"},{"$error":"#REF!"},"-","-",{"$error":"#REF!"},{"$error":"#REF!"},{"$f":"INDEX(LCIAbg!$1:$1048576,7,MATCH('X-Exchange'!$U10,LCIAbg!$15:$15,0))*T10","v":{"$error":"#N/A"}},1,{"$f":"$AF10","v":{"$error":"#REF!"}},{"$error":"#REF!"},null,1,{"$f":"$AF10","v":{"$error":"#REF!"}},{"$error":"#REF!"},1.2E-5,"Anaerobic digestion plant, sewage sludge/CH/I U",{"$f":"$V$9","v":"entry in questionnaire"},"LCIAbg",1,1,1,1,1,{"$error":"#REF!"},{"$error":"#REF!"},{"$f":"EXP(SQRT((LN(AH10)^2)+(LN(AI10)^2)+(LN(AJ10)^2)+(LN(AK10)^2)+(LN(AL10)^2)))","v":{"$error":"#REF!"}},{"$f":"EXP(SQRT((LN(AH10)^2)+(LN(AI10)^2)+(LN(AJ10)^2)+(LN(AK10)^2)+(LN(AL10)^2)+(LN(AD10)^2)))","v":{"$error":"#REF!"}},{"$f":"CONCATENATE(\"(\",X10,\",\",Y10,\",\",Z10,\",\",AA10,\",\",AB10,\",BU:\",AD10,\")\")","v":{"$error":"#REF!"}},{"$error":"#REF!"},{"$error":"#REF!"},{"$error":"#REF!"},{"$error":"#REF!"},{"$error":"#REF!"},"1.2E-5 p Anaerobic digestion plant, sewage sludge/CH/I U (of project ESU database 2018)"]
[6373,null,null,5,"-",{"$error":"#REF!"},{"$error":"#REF!"},"-","-",{"$error":"#REF!"},{"$error":"#REF!"},{"$f":"INDEX(LCIAbg!$1:$1048576,7,MATCH('X-Exchange'!$U11,LCIAbg!$15:$15,0))*T11","v":{"$error":"#N/A"}},1,{"$error":"#REF!"},{"$error":"#REF!"},null,1,{"$error":"#REF!"},{"$error":"#REF!"},6.6699999999999995E-5,"anaerobic digestion plant, biowaste/CH/I U",{"$f":"$V$9","v":"entry in questionnaire"},"LCIAbg",1,1,1,1,1,{"$error":"#REF!"},{"$error":"#REF!"},{"$error":"#REF!"},{"$error":"#REF!"},{"$error":"#REF!"},{"$error":"#REF!"},{"$error":"#REF!"},{"$error":"#REF!"},{"$error":"#REF!"},{"$error":"#REF!"},"6.67E-5 p anaerobic digestion plant, biowaste/CH/I U (of project ESU database 2018)"]
[2353,null,null,5,"-",{"$f":"IF(OR(D12=4,E12=4),INDEX(INDIRECT(names&\"NamesElementary'!$1:$65536\"),MATCH(A12,INDIRECT(names&\"NamesElementary'!$A:$A\"),0),2),INDEX(INDIRECT(names&\"Names'!$1:$65536\"),MATCH(A12,INDIRECT(names&\"Names'!$F:$F\"),0),10))","v":{"$error":"#REF!"}},{"$error":"#REF!"},"-","-",{"$error":"#REF!"},{"$error":"#REF!"},{"$f":"INDEX(LCIAbg!$1:$1048576,7,MATCH('X-Exchange'!$U12,LCIAbg!$15:$15,0))*T12","v":{"$error":"#N/A"}},1,{"$error":"#REF!"},{"$error":"#REF!"},null,1,{"$error":"#REF!"},{"$error":"#REF!"},1,"Electricity, medium voltage {CH}| market for | Cut-off, S","entry in questionnaire","LCIAbg",1,1,1,1,1,{"$error":"#REF!"},{"$error":"#REF!"},{"$error":"#REF!"},{"$error":"#REF!"},{"$error":"#REF!"},{"$error":"#REF!"},{"$error":"#REF!"},{"$error":"#REF!"},{"$error":"#REF!"},{"$error":"#REF!"},"1 kWh Electricity, medium voltage {CH}| market for | Cut-off, S (of project Ecoinvent 3 - allocation, cut-off by classification - system)"]
[2362,null,null,5,"-",{"$f":"IF(OR(D13=4,E13=4),INDEX(INDIRECT(names&\"NamesElementary'!$1:$65536\"),MATCH(A13,INDIRECT(names&\"NamesElementary'!$A:$A\"),0),2),INDEX(INDIRECT(names&\"Names'!$1:$65536\"),MATCH(A13,INDIRECT(names&\"Names'!$F:$F\"),0),10))","v":{"$error":"#REF!"}},{"$f":"IF(OR(D13=4,E13=4),\"-\",INDEX(INDIRECT(names&\"Names'!$1:$65536\"),MATCH(A13,INDIRECT(names&\"Names'!$F:$F\"),0),11))","v":{"$error":"#REF!"}},{"$f":"IF(OR(D13=4,E13=4),INDEX(INDIRECT(names&\"NamesElementary'!$1:$65536\"),MATCH($A13,INDIRECT(names&\"NamesElementary'!$A:$A\"),0),4),\"-\")","v":"-"},{"$f":"IF(OR(D13=4,E13=4),INDEX(INDIRECT(names&\"NamesElementary'!$1:$65536\"),MATCH($A13,INDIRECT(names&\"NamesElementary'!$A:$A\"),0),5),\"-\")","v":"-"},{"$f":"IF(OR(D13=4,E13=4),\"-\",INDEX(INDIRECT(names&\"Names'!$1:$65536\"),MATCH(A13,INDIRECT(names&\"Names'!$F:$F\"),0),14))","v":{"$error":"#REF!"}},{"$f":"IF(OR(D13=4,E13=4),INDEX(INDIRECT(names&\"NamesElementary'!$1:$65536\"),MATCH(A13,INDIRECT(names&\"NamesElementary'!$A:$A\"),0),7),INDEX(INDIRECT(names&\"Names'!$1:$65536\"),MATCH(A13,INDIRECT(names&\"Names'!$F:$F\"),0),15))","v":{"$error":"#REF!"}},{"$f":"INDEX(LCIAbg!$1:$1048576,7,MATCH('X-Exchange'!$U13,LCIAbg!$15:$15,0))*T13","v":{"$error":"#N/A"}},1,{"$error":"#REF!"},{"$error":"#REF!"},null,1,{"$error":"#REF!"},{"$error":"#REF!"},1,"Electricity, medium voltage {DE}| market for | Cut-off, S","entry in questionnaire","LCIAbg",1,1,1,1,1,{"$error":"#REF!"},{"$f":"INDEX(INDIRECT(names&\"BasicUncertainty'!$1:$65536\"),MATCH(AC13,INDIRECT(names&\"BasicUncertainty'!B:B\"),0),8)","v":{"$error":"#REF!"}},{"$error":"#REF!"},{"$error":"#REF!"},{"$error":"#REF!"},{"$error":"#REF!"},{"$error":"#REF!"},{"$error":"#REF!"},{"$error":"#REF!"},{"$error":"#REF!"},"1 kWh Electricity, medium voltage {DE}| market for | Cut-off, S (of project Ecoinvent 3 - allocation, cut-off by classification - system)"]
[3881,null,null,5,"-",{"$f":"IF(OR(D14=4,E14=4),INDEX(INDIRECT(names&\"NamesElementary'!$1:$65536\"),MATCH(A14,INDIRECT(names&\"NamesElementary'!$A:$A\"),0),2),INDEX(INDIRECT(names&\"Names'!$1:$65536\"),MATCH(A14,INDIRECT(names&\"Names'!$F:$F\"),0),10))","v":{"$error":"#REF!"}},{"$f":"IF(OR(D14=4,E14=4),\"-\",INDEX(INDIRECT(names&\"Names'!$1:$65536\"),MATCH(A14,INDIRECT(names&\"Names'!$F:$F\"),0),11))","v":{"$error":"#REF!"}},{"$f":"IF(OR(D14=4,E14=4),INDEX(INDIRECT(names&\"NamesElementary'!$1:$65536\"),MATCH($A14,INDIRECT(names&\"NamesElementary'!$A:$A\"),0),4),\"-\")","v":"-"},{"$f":"IF(OR(D14=4,E14=4),INDEX(INDIRECT(names&\"NamesElementary'!$1:$65536\"),MATCH($A14,INDIRECT(names&\"NamesElementary'!$A:$A\"),0),5),\"-\")","v":"-"},{"$f":"IF(OR(D14=4,E14=4),\"-\",INDEX(INDIRECT(names&\"Names'!$1:$65536\"),MATCH(A14,INDIRECT(names&\"Names'!$F:$F\"),0),14))","v":{"$error":"#REF!"}},{"$f":"IF(OR(D14=4,E14=4),INDEX(INDIRECT(names&\"NamesElementary'!$1:$65536\"),MATCH(A14,INDIRECT(names&\"NamesElementary'!$A:$A\"),0),7),INDEX(INDIRECT(names&\"Names'!$1:$65536\"),MATCH(A14,INDIRECT(names&\"Names'!$F:$F\"),0),15))","v":{"$error":"#REF!"}},{"$f":"INDEX(LCIAbg!$1:$1048576,7,MATCH('X-Exchange'!$U14,LCIAbg!$15:$15,0))*T14","v":{"$error":"#N/A"}},1,{"$f":"$AF14","v":{"$error":"#REF!"}},{"$error":"#REF!"},null,1,{"$f":"$AF14","v":{"$error":"#REF!"}},{"$error":"#REF!"},1,"Electricity, medium voltage {HU}| market for | Cut-off, S","entry in questionnaire","LCIAbg",1,1,1,1,1,{"$f":"IF(OR($D14=4,$E14=4),INDEX(INDIRECT(names&\"NamesElementary'!$J:$J\"),MATCH($A14,INDIRECT(names&\"NamesElementary'!$A:$A\"),0),1),INDEX(INDIRECT(names&\"Names'!$W:$W\"),MATCH($A14,INDIRECT(names&\"Names'!$F:$F\"),0),1))","v":{"$error":"#REF!"}},{"$f":"INDEX(INDIRECT(names&\"BasicUncertainty'!$1:$65536\"),MATCH(AC14,INDIRECT(names&\"BasicUncertainty'!B:B\"),0),8)","v":{"$error":"#REF!"}},{"$error":"#REF!"},{"$error":"#REF!"},{"$error":"#REF!"},{"$error":"#REF!"},{"$error":"#REF!"},{"$error":"#REF!"},{"$error":"#REF!"},{"$error":"#REF!"},"1 kWh Electricity, medium voltage {HU}| market for | Cut-off, S (of project Ecoinvent 3 - allocation, cut-off by classification - system)"]
[3874,null,null,5,"-",{"$f":"IF(OR(D15=4,E15=4),INDEX(INDIRECT(names&\"NamesElementary'!$1:$65536\"),MATCH(A15,INDIRECT(names&\"NamesElementary'!$A:$A\"),0),2),INDEX(INDIRECT(names&\"Names'!$1:$65536\"),MATCH(A15,INDIRECT(names&\"Names'!$F:$F\"),0),10))","v":{"$error":"#REF!"}},{"$f":"IF(OR(D15=4,E15=4),\"-\",INDEX(INDIRECT(names&\"Names'!$1:$65536\"),MATCH(A15,INDIRECT(names&\"Names'!$F:$F\"),0),11))","v":{"$error":"#REF!"}},{"$f":"IF(OR(D15=4,E15=4),INDEX(INDIRECT(names&\"NamesElementary'!$1:$65536\"),MATCH($A15,INDIRECT(names&\"NamesElementary'!$A:$A\"),0),4),\"-\")","v":"-"},{"$f":"IF(OR(D15=4,E15=4),INDEX(INDIRECT(names&\"NamesElementary'!$1:$65536\"),MATCH($A15,INDIRECT(names&\"NamesElementary'!$A:$A\"),0),5),\"-\")","v":"-"},{"$f":"IF(OR(D15=4,E15=4),\"-\",INDEX(INDIRECT(names&\"Names'!$1:$65536\"),MATCH(A15,INDIRECT(names&\"Names'!$F:$F\"),0),14))","v":{"$error":"#REF!"}},{"$f":"IF(OR(D15=4,E15=4),INDEX(INDIRECT(names&\"NamesElementary'!$1:$65536\"),MATCH(A15,INDIRECT(names&\"NamesElementary'!$A:$A\"),0),7),INDEX(INDIRECT(names&\"Names'!$1:$65536\"),MATCH(A15,INDIRECT(names&\"Names'!$F:$F\"),0),15))","v":{"$error":"#REF!"}},{"$f":"INDEX(LCIAbg!$1:$1048576,7,MATCH('X-Exchange'!$U15,LCIAbg!$15:$15,0))*T15","v":{"$error":"#N/A"}},1,{"$f":"$AF15","v":{"$error":"#REF!"}},{"$error":"#REF!"},null,1,{"$f":"$AF15","v":{"$error":"#REF!"}},{"$error":"#REF!"},1,"Electricity, medium voltage {DK}| market for | Cut-off, S","entry in questionnaire","LCIAbg",1,1,1,1,1,{"$f":"IF(OR($D15=4,$E15=4),INDEX(INDIRECT(names&\"NamesElementary'!$J:$J\"),MATCH($A15,INDIRECT(names&\"NamesElementary'!$A:$A\"),0),1),INDEX(INDIRECT(names&\"Names'!$W:$W\"),MATCH($A15,INDIRECT(names&\"Names'!$F:$F\"),0),1))","v":{"$error":"#REF!"}},{"$f":"INDEX(INDIRECT(names&\"BasicUncertainty'!$1:$65536\"),MATCH(AC15,INDIRECT(names&\"BasicUncertainty'!B:B\"),0),8)","v":{"$error":"#REF!"}},{"$error":"#REF!"},{"$error":"#REF!"},{"$error":"#REF!"},{"$error":"#REF!"},{"$error":"#REF!"},{"$error":"#REF!"},{"$error":"#REF!"},{"$error":"#REF!"},"1 kWh Electricity, medium voltage {DK}| market for | Cut-off, S (of project Ecoinvent 3 - allocation, cut-off by classification - system)"]
[1501,null,null,5,"-",{"$f":"IF(OR(D16=4,E16=4),INDEX(INDIRECT(names&\"NamesElementary'!$1:$65536\"),MATCH(A16,INDIRECT(names&\"NamesElementary'!$A:$A\"),0),2),INDEX(INDIRECT(names&\"Names'!$1:$65536\"),MATCH(A16,INDIRECT(names&\"Names'!$F:$F\"),0),10))","v":{"$error":"#REF!"}},{"$f":"IF(OR(D16=4,E16=4),\"-\",INDEX(INDIRECT(names&\"Names'!$1:$65536\"),MATCH(A16,INDIRECT(names&\"Names'!$F:$F\"),0),11))","v":{"$error":"#REF!"}},{"$f":"IF(OR(D16=4,E16=4),INDEX(INDIRECT(names&\"NamesElementary'!$1:$65536\"),MATCH($A16,INDIRECT(names&\"NamesElementary'!$A:$A\"),0),4),\"-\")","v":"-"},{"$f":"IF(OR(D16=4,E16=4),INDEX(INDIRECT(names&\"NamesElementary'!$1:$65536\"),MATCH($A16,INDIRECT(names&\"NamesElementary'!$A:$A\"),0),5),\"-\")","v":"-"},{"$f":"IF(OR(D16=4,E16=4),\"-\",INDEX(INDIRECT(names&\"Names'!$1:$65536\"),MATCH(A16,INDIRECT(names&\"Names'!$F:$F\"),0),14))","v":{"$error":"#REF!"}},{"$f":"IF(OR(D16=4,E16=4),INDEX(INDIRECT(names&\"NamesElementary'!$1:$65536\"),MATCH(A16,INDIRECT(names&\"NamesElementary'!$A:$A\"),0),7),INDEX(INDIRECT(names&\"Names'!$1:$65536\"),MATCH(A16,INDIRECT(names&\"Names'!$F:$F\"),0),15))","v":{"$error":"#REF!"}},{"$f":"INDEX(LCIAbg!$1:$1048576,7,MATCH('X-Exchange'!$U16,LCIAbg!$15:$15,0))*T16","v":{"$error":"#N/A"}},1,{"$f":"$AF16","v":{"$error":"#REF!"}},{"$error":"#REF!"},null,1,{"$f":"$AF16","v":{"$error":"#REF!"}},{"$error":"#REF!"},3.6,"light fuel oil, burned in industrial furnace 1MW, non-modulating/MJ/CH U","entry in questionnaire","LCIAbg",1,1,1,1,1,{"$f":"IF(OR($D16=4,$E16=4),INDEX(INDIRECT(names&\"NamesElementary'!$J:$J\"),MATCH($A16,INDIRECT(names&\"NamesElementary'!$A:$A\"),0),1),INDEX(INDIRECT(names&\"Names'!$W:$W\"),MATCH($A16,INDIRECT(names&\"Names'!$F:$F\"),0),1))","v":{"$error":"#REF!"}},{"$f":"INDEX(INDIRECT(names&\"BasicUncertainty'!$1:$65536\"),MATCH(AC16,INDIRECT(names&\"BasicUncertainty'!B:B\"),0),8)","v":{"$error":"#REF!"}},{"$error":"#REF!"},{"$error":"#REF!"},{"$error":"#REF!"},{"$error":"#REF!"},{"$error":"#REF!"},{"$error":"#REF!"},{"$error":"#REF!"},{"$error":"#REF!"},"3.6 MJ light fuel oil, burned in industrial furnace 1MW, non-modulating/MJ/CH U (of project ESU database 2018)"]
["208-21",null,null,5,"-",{"$f":"IF(OR(D17=4,E17=4),INDEX(INDIRECT(names&\"NamesElementary'!$1:$65536\"),MATCH(A17,INDIRECT(names&\"NamesElementary'!$A:$A\"),0),2),INDEX(INDIRECT(names&\"Names'!$1:$65536\"),MATCH(A17,INDIRECT(names&\"Names'!$F:$F\"),0),10))","v":{"$error":"#REF!"}},{"$f":"IF(OR(D17=4,E17=4),\"-\",INDEX(INDIRECT(names&\"Names'!$1:$65536\"),MATCH(A17,INDIRECT(names&\"Names'!$F:$F\"),0),11))","v":{"$error":"#REF!"}},{"$f":"IF(OR(D17=4,E17=4),INDEX(INDIRECT(names&\"NamesElementary'!$1:$65536\"),MATCH($A17,INDIRECT(names&\"NamesElementary'!$A:$A\"),0),4),\"-\")","v":"-"},{"$f":"IF(OR(D17=4,E17=4),INDEX(INDIRECT(names&\"NamesElementary'!$1:$65536\"),MATCH($A17,INDIRECT(names&\"NamesElementary'!$A:$A\"),0),5),\"-\")","v":"-"},{"$f":"IF(OR(D17=4,E17=4),\"-\",INDEX(INDIRECT(names&\"Names'!$1:$65536\"),MATCH(A17,INDIRECT(names&\"Names'!$F:$F\"),0),14))","v":{"$error":"#REF!"}},{"$f":"IF(OR(D17=4,E17=4),INDEX(INDIRECT(names&\"NamesElementary'!$1:$65536\"),MATCH(A17,INDIRECT(names&\"NamesElementary'!$A:$A\"),0),7),INDEX(INDIRECT(names&\"Names'!$1:$65536\"),MATCH(A17,INDIRECT(names&\"Names'!$F:$F\"),0),15))","v":{"$error":"#REF!"}},{"$f":"INDEX(LCIAbg!$1:$1048576,7,MATCH('X-Exchange'!$U17,LCIAbg!$15:$15,0))*T17","v":{"$error":"#N/A"}},1,{"$f":"$AF17","v":{"$error":"#REF!"}},{"$error":"#REF!"},null,1,{"$f":"$AF17","v":{"$error":"#REF!"}},{"$error":"#REF!"},3.6,"oil combustion, in cogen with ignition gas engine/MJ/CH U","entry in questionnaire","LCIAbg",1,1,1,1,1,{"$f":"IF(OR($D17=4,$E17=4),INDEX(INDIRECT(names&\"NamesElementary'!$J:$J\"),MATCH($A17,INDIRECT(names&\"NamesElementary'!$A:$A\"),0),1),INDEX(INDIRECT(names&\"Names'!$W:$W\"),MATCH($A17,INDIRECT(names&\"Names'!$F:$F\"),0),1))","v":{"$error":"#REF!"}},{"$f":"INDEX(INDIRECT(names&\"BasicUncertainty'!$1:$65536\"),MATCH(AC17,INDIRECT(names&\"BasicUncertainty'!B:B\"),0),8)","v":{"$error":"#REF!"}},{"$error":"#REF!"},{"$error":"#REF!"},{"$error":"#REF!"},{"$error":"#REF!"},{"$error":"#REF!"},{"$error":"#REF!"},{"$error":"#REF!"},{"$error":"#REF!"},"1 kWh oil combustion, in cogen with ignition gas engine/MJ/CH U (of project 208 naturemade KWM)"]
[1350,null,null,5,"-",{"$error":"#REF!"},{"$error":"#REF!"},"-","-",{"$error":"#REF!"},{"$error":"#REF!"},{"$f":"INDEX(LCIAbg!$1:$1048576,7,MATCH('X-Exchange'!$U18,LCIAbg!$15:$15,0))*T18","v":{"$error":"#N/A"}},1,{"$error":"#REF!"},{"$error":"#REF!"},null,1,{"$error":"#REF!"},{"$error":"#REF!"},3.6,"Diesel, burned in building machine/GLO U","entry in questionnaire","LCIAbg",1,1,1,1,1,{"$error":"#REF!"},{"$error":"#REF!"},{"$error":"#REF!"},{"$error":"#REF!"},{"$error":"#REF!"},{"$error":"#REF!"},{"$error":"#REF!"},{"$error":"#REF!"},{"$error":"#REF!"},{"$error":"#REF!"},"3.6 MJ Diesel, burned in building machine/GLO U (of project ESU database 2018)"]
[4007,null,null,5,"-",{"$f":"IF(OR(D19=4,E19=4),INDEX(INDIRECT(names&\"NamesElementary'!$1:$65536\"),MATCH(A19,INDIRECT(names&\"NamesElementary'!$A:$A\"),0),2),INDEX(INDIRECT(names&\"Names'!$1:$65536\"),MATCH(A19,INDIRECT(names&\"Names'!$F:$F\"),0),10))","v":{"$error":"#REF!"}},{"$f":"IF(OR(D19=4,E19=4),\"-\",INDEX(INDIRECT(names&\"Names'!$1:$65536\"),MATCH(A19,INDIRECT(names&\"Names'!$F:$F\"),0),11))","v":{"$error":"#REF!"}},{"$f":"IF(OR(D19=4,E19=4),INDEX(INDIRECT(names&\"NamesElementary'!$1:$65536\"),MATCH($A19,INDIRECT(names&\"NamesElementary'!$A:$A\"),0),4),\"-\")","v":"-"},{"$f":"IF(OR(D19=4,E19=4),INDEX(INDIRECT(names&\"NamesElementary'!$1:$65536\"),MATCH($A19,INDIRECT(names&\"NamesElementary'!$A:$A\"),0),5),\"-\")","v":"-"},{"$f":"IF(OR(D19=4,E19=4),\"-\",INDEX(INDIRECT(names&\"Names'!$1:$65536\"),MATCH(A19,INDIRECT(names&\"Names'!$F:$F\"),0),14))","v":{"$error":"#REF!"}},{"$f":"IF(OR(D19=4,E19=4),INDEX(INDIRECT(names&\"NamesElementary'!$1:$65536\"),MATCH(A19,INDIRECT(names&\"NamesElementary'!$A:$A\"),0),7),INDEX(INDIRECT(names&\"Names'!$1:$65536\"),MATCH(A19,INDIRECT(names&\"Names'!$F:$F\"),0),15))","v":{"$error":"#REF!"}},{"$f":"INDEX(LCIAbg!$1:$1048576,7,MATCH('X-Exchange'!$U19,LCIAbg!$15:$15,0))*T19","v":{"$error":"#N/A"}},1,{"$error":"#REF!"},{"$error":"#REF!"},null,1,{"$error":"#REF!"},{"$error":"#REF!"},3.6,"Natural gas, burned in boiler condensing modulating >100kW/RER U","entry in questionnaire","LCIAbg",1,1,1,1,1,{"$error":"#REF!"},{"$f":"INDEX(INDIRECT(names&\"BasicUncertainty'!$1:$65536\"),MATCH(AC19,INDIRECT(names&\"BasicUncertainty'!B:B\"),0),8)","v":{"$error":"#REF!"}},{"$f":"EXP(SQRT((LN(AH19)^2)+(LN(AI19)^2)+(LN(AJ19)^2)+(LN(AK19)^2)+(LN(AL19)^2)))","v":{"$error":"#REF!"}},{"$f":"EXP(SQRT((LN(AH19)^2)+(LN(AI19)^2)+(LN(AJ19)^2)+(LN(AK19)^2)+(LN(AL19)^2)+(LN(AD19)^2)))","v":{"$error":"#REF!"}},{"$f":"CONCATENATE(\"(\",X19,\",\",Y19,\",\",Z19,\",\",AA19,\",\",AB19,\",BU:\",AD19,\")\")","v":{"$error":"#REF!"}},{"$f":"IF(X19=1,INDIRECT(names&\"SDG^2 values'!$B$4\"),IF(X19=2,INDIRECT(names&\"SDG^2 values'!$C$4\"),IF(X19=3,INDIRECT(names&\"SDG^2 values'!$D$4\"),IF(X19=4,INDIRECT(names&\"SDG^2 values'!$E$4\"),IF(X19=5,INDIRECT(names&\"SDG^2 values'!$F$4\"),1)))))","v":{"$error":"#REF!"}},{"$f":"IF(Y19=1,INDIRECT(names&\"SDG^2 values'!$B$5\"),IF(Y19=2,INDIRECT(names&\"SDG^2 values'!$C$5\"),IF(Y19=3,INDIRECT(names&\"SDG^2 values'!$D$5\"),IF(Y19=4,INDIRECT(names&\"SDG^2 values'!$E$5\"),IF(Y19=5,INDIRECT(names&\"SDG^2 values'!$F$5\"),1)))))","v":{"$error":"#REF!"}},{"$f":"IF(Z19=1,INDIRECT(names&\"SDG^2 values'!$B$6\"),IF(Z19=2,INDIRECT(names&\"SDG^2 values'!$C$6\"),IF(Z19=3,INDIRECT(names&\"SDG^2 values'!$D$6\"),IF(Z19=4,INDIRECT(names&\"SDG^2 values'!$E$6\"),IF(Z19=5,INDIRECT(names&\"SDG^2 values'!$F$6\"),1)))))","v":{"$error":"#REF!"}},{"$f":"IF(AA19=1,INDIRECT(names&\"SDG^2 values'!$B$7\"),IF(AA19=2,INDIRECT(names&\"SDG^2 values'!$C$7\"),IF(AA19=3,INDIRECT(names&\"SDG^2 values'!$D$7\"),IF(AA19=4,INDIRECT(names&\"SDG^2 values'!$E$7\"),IF(AA19=5,INDIRECT(names&\"SDG^2 values'!$F$7\"),1)))))","v":{"$error":"#REF!"}},{"$f":"IF(AB19=1,INDIRECT(names&\"SDG^2 values'!$B$8\"),IF(AB19=2,INDIRECT(names&\"SDG^2 values'!$C$8\"),IF(AB19=3,INDIRECT(names&\"SDG^2 values'!$D$8\"),IF(AB19=4,INDIRECT(names&\"SDG^2 values'!$E$8\"),IF(AB19=5,INDIRECT(names&\"SDG^2 values'!$F$8\"),1)))))","v":{"$error":"#REF!"}},"3.6 MJ Natural gas, burned in boiler condensing modulating >100kW/RER U (of project ESU database 2018)"]
[1845,null,null,5,"-",{"$error":"#REF!"},{"$error":"#REF!"},"-","-",{"$error":"#REF!"},{"$error":"#REF!"},{"$f":"INDEX(LCIAbg!$1:$1048576,7,MATCH('X-Exchange'!$U20,LCIAbg!$15:$15,0))*T20","v":{"$error":"#N/A"}},1,{"$error":"#REF!"},{"$error":"#REF!"},null,1,{"$error":"#REF!"},{"$error":"#REF!"},1,"Transport, lorry 20-28t, fleet average/CH U","entry in questionnaire","LCIAbg",1,1,1,1,1,{"$error":"#REF!"},{"$error":"#REF!"},{"$error":"#REF!"},{"$error":"#REF!"},{"$error":"#REF!"},{"$error":"#REF!"},{"$error":"#REF!"},{"$error":"#REF!"},{"$error":"#REF!"},{"$error":"#REF!"},"1 tkm Transport, lorry 20-28t, fleet average/CH U (of project ESU database 2018)"]
[1990,null,null,5,"-",{"$error":"#REF!"},{"$error":"#REF!"},"-","-",{"$error":"#REF!"},{"$error":"#REF!"},{"$f":"INDEX(LCIAbg!$1:$1048576,7,MATCH('X-Exchange'!$U21,LCIAbg!$15:$15,0))*T21","v":{"$error":"#N/A"}},1,{"$error":"#REF!"},{"$error":"#REF!"},null,1,{"$error":"#REF!"},{"$error":"#REF!"},1,"Transport, tractor and trailer/CH U","entry in questionnaire","LCIAbg",1,1,1,1,1,{"$error":"#REF!"},{"$error":"#REF!"},{"$error":"#REF!"},{"$error":"#REF!"},{"$error":"#REF!"},{"$error":"#REF!"},{"$error":"#REF!"},{"$error":"#REF!"},{"$error":"#REF!"},{"$error":"#REF!"},"1 tkm Transport, tractor and trailer/CH U (of project ESU database 2018)"]
["208-09",null,null,5,"-",{"$error":"#REF!"},{"$error":"#REF!"},"-","-",{"$error":"#REF!"},{"$error":"#REF!"},{"$f":"INDEX(LCIAbg!$1:$1048576,7,MATCH('X-Exchange'!$U22,LCIAbg!$15:$15,0))*T22","v":{"$error":"#N/A"}},1,{"$error":"#REF!"},{"$error":"#REF!"},null,1,{"$error":"#REF!"},{"$error":"#REF!"},1,"biogas, vented/CH U","entry in questionnaire","LCIAbg",1,1,1,1,1,{"$error":"#REF!"},{"$error":"#REF!"},{"$error":"#REF!"},{"$error":"#REF!"},{"$error":"#REF!"},{"$error":"#REF!"},{"$error":"#REF!"},{"$error":"#REF!"},{"$error":"#REF!"},{"$error":"#REF!"},"1 kWh biogas, vented/CH U (of project 208 naturemade KWM)"]
["208-17",null,null,5,"-",{"$error":"#REF!"},{"$error":"#REF!"},"-","-",{"$error":"#REF!"},{"$error":"#REF!"},{"$f":"INDEX(LCIAbg!$1:$1048576,7,MATCH('X-Exchange'!$U23,LCIAbg!$15:$15,0))*T23","v":{"$error":"#N/A"}},1,{"$error":"#REF!"},{"$error":"#REF!"},null,1,{"$error":"#REF!"},{"$error":"#REF!"},1,"methane, 96 vol-%, purification and distribution/kWh/CH U","entry in questionnaire","LCIAbg",1,1,1,1,1,{"$error":"#REF!"},{"$error":"#REF!"},{"$error":"#REF!"},{"$error":"#REF!"},{"$error":"#REF!"},{"$error":"#REF!"},{"$error":"#REF!"},{"$error":"#REF!"},{"$error":"#REF!"},{"$error":"#REF!"},"1 kWh methane, 96 vol-%, purification and distribution/kWh/CH U (of project 208 naturemade KWM)"]
["208-93",null,null,5,"-",{"$error":"#REF!"},{"$error":"#REF!"},"-","-",{"$error":"#REF!"},{"$error":"#REF!"},{"$f":"INDEX(LCIAbg!$1:$1048576,7,MATCH('X-Exchange'!$U24,LCIAbg!$15:$15,0))*T24","v":{"$error":"#N/A"}},1,{"$error":"#REF!"},{"$error":"#REF!"},null,1,{"$error":"#REF!"},{"$error":"#REF!"},1,"raw biogas, distribution/kWh/CH U","entry in questionnaire","LCIAbg",1,1,1,1,1,{"$error":"#REF!"},{"$error":"#REF!"},{"$error":"#REF!"},{"$error":"#REF!"},{"$error":"#REF!"},{"$error":"#REF!"},{"$error":"#REF!"},{"$error":"#REF!"},{"$error":"#REF!"},{"$error":"#REF!"},"1 kWh raw biogas, distribution/kWh/CH U (of project 208 naturemade KWM)"]
["208-07",null,null,5,"-",{"$error":"#REF!"},{"$error":"#REF!"},"-","-",{"$error":"#REF!"},{"$error":"#REF!"},{"$f":"INDEX(LCIAbg!$1:$1048576,7,MATCH('X-Exchange'!$U25,LCIAbg!$15:$15,0))*T25","v":{"$error":"#N/A"}},1,{"$error":"#REF!"},{"$error":"#REF!"},null,1,{"$error":"#REF!"},{"$error":"#REF!"},{"$f":"1/3.6","v":0.27777777777777779},"biogas combustion, in cogen with biogas engine/MJ/CH U","entry in questionnaire","LCIAbg",1,1,1,1,1,{"$error":"#REF!"},{"$error":"#REF!"},{"$error":"#REF!"},{"$error":"#REF!"},{"$error":"#REF!"},{"$error":"#REF!"},{"$error":"#REF!"},{"$error":"#REF!"},{"$error":"#REF!"},{"$error":"#REF!"},"1 kWh biogas combustion, in cogen with biogas engine/MJ/CH U (of project 208 naturemade KWM)"]
["208-08",null,null,5,"-",{"$error":"#REF!"},{"$error":"#REF!"},"-","-",{"$error":"#REF!"},{"$error":"#REF!"},{"$f":"INDEX(LCIAbg!$1:$1048576,7,MATCH('X-Exchange'!$U26,LCIAbg!$15:$15,0))*T26","v":{"$error":"#N/A"}},1,{"$error":"#REF!"},{"$error":"#REF!"},null,1,{"$error":"#REF!"},{"$error":"#REF!"},{"$f":"1/3.6","v":0.27777777777777779},"biogas combustion, in cogen with ignition gas engine/MJ/CH U","entry in questionnaire","LCIAbg",1,1,1,1,1,{"$error":"#REF!"},{"$error":"#REF!"},{"$error":"#REF!"},{"$error":"#REF!"},{"$error":"#REF!"},{"$error":"#REF!"},{"$error":"#REF!"},{"$error":"#REF!"},{"$error":"#REF!"},{"$error":"#REF!"},"1 kWh biogas combustion, in cogen with ignition gas engine/MJ/CH U (of project 208 naturemade KWM)"]
["208-20",null,null,5,"-",{"$error":"#REF!"},{"$error":"#REF!"},"-","-",{"$error":"#REF!"},{"$error":"#REF!"},{"$f":"INDEX(LCIAbg!$1:$1048576,7,MATCH('X-Exchange'!$U27,LCIAbg!$15:$15,0))*T27","v":{"$error":"#N/A"}},1,{"$error":"#REF!"},{"$error":"#REF!"},null,1,{"$error":"#REF!"},{"$error":"#REF!"},0.27777777777777779,"biogas combustion, in cogen 200kWe lean burn/MJ/CH U","entry in questionnaire","LCIAbg",1,1,1,1,1,{"$error":"#REF!"},{"$error":"#REF!"},{"$error":"#REF!"},{"$error":"#REF!"},{"$error":"#REF!"},{"$error":"#REF!"},{"$error":"#REF!"},{"$error":"#REF!"},{"$error":"#REF!"},{"$error":"#REF!"},"1 kWh biogas combustion, in cogen 200kWe lean burn/MJ/CH U (of project 208 naturemade KWM)"]
["208-22",null,null,5,"-",{"$error":"#REF!"},{"$error":"#REF!"},"-","-",{"$error":"#REF!"},{"$error":"#REF!"},{"$f":"INDEX(LCIAbg!$1:$1048576,7,MATCH('X-Exchange'!$U28,LCIAbg!$15:$15,0))*T28","v":{"$error":"#N/A"}},1,{"$error":"#REF!"},{"$error":"#REF!"},null,1,{"$error":"#REF!"},{"$error":"#REF!"},0.27777777777777779,"biogas combustion, in micro gas turbine 100kWe/MJ/CH U","entry in questionnaire","LCIAbg",1,1,1,1,1,{"$error":"#REF!"},{"$error":"#REF!"},{"$error":"#REF!"},{"$error":"#REF!"},{"$error":"#REF!"},{"$error":"#REF!"},{"$error":"#REF!"},{"$error":"#REF!"},{"$error":"#REF!"},{"$error":"#REF!"},"1 kWh biogas combustion, in micro gas turbine 100kWe/MJ/CH U (of project 208 naturemade KWM)"]
["208-32",null,null,5,"-",{"$error":"#REF!"},{"$error":"#REF!"},"-","-",{"$error":"#REF!"},{"$error":"#REF!"},{"$f":"INDEX(LCIAbg!$1:$1048576,7,MATCH('X-Exchange'!$U29,LCIAbg!$15:$15,0))*T29","v":{"$error":"#N/A"}},1,{"$error":"#REF!"},{"$error":"#REF!"},null,1,{"$error":"#REF!"},{"$error":"#REF!"},1,"emission, NOx/kg/CH U","entry in questionnaire","LCIAbg",1,1,1,1,1,{"$error":"#REF!"},{"$error":"#REF!"},{"$error":"#REF!"},{"$error":"#REF!"},{"$error":"#REF!"},{"$error":"#REF!"},{"$error":"#REF!"},{"$error":"#REF!"},{"$error":"#REF!"},{"$error":"#REF!"},"1 kg emission, NOx/kg/CH U (of project 208 naturemade KWM)"]
["208-18",null,null,5,"-",{"$error":"#REF!"},{"$error":"#REF!"},"-","-",{"$error":"#REF!"},{"$error":"#REF!"},{"$f":"INDEX(LCIAbg!$1:$1048576,7,MATCH('X-Exchange'!$U30,LCIAbg!$15:$15,0))*T30","v":{"$error":"#N/A"}},1,{"$error":"#REF!"},{"$error":"#REF!"},null,1,{"$error":"#REF!"},{"$error":"#REF!"},1,"transport, district heat network, average/CH/I U","entry in questionnaire","LCIAbg",1,1,1,1,1,{"$error":"#REF!"},{"$error":"#REF!"},{"$error":"#REF!"},{"$error":"#REF!"},{"$error":"#REF!"},{"$error":"#REF!"},{"$error":"#REF!"},{"$error":"#REF!"},{"$error":"#REF!"},{"$error":"#REF!"},"1 kWh transport, district heat network, average/CH/I U (of project 208 naturemade KWM)"]
["208-23",null,null,5,"-",{"$error":"#REF!"},{"$error":"#REF!"},"-","-",{"$error":"#REF!"},{"$error":"#REF!"},{"$f":"INDEX(LCIAbg!$1:$1048576,7,MATCH('X-Exchange'!$U31,LCIAbg!$15:$15,0))*T31","v":{"$error":"#N/A"}},1,{"$error":"#REF!"},{"$error":"#REF!"},null,1,{"$error":"#REF!"},{"$error":"#REF!"},1000,"application, digested matter, on agricultural land/kg/CH U","entry in questionnaire","LCIAbg",1,1,1,1,1,{"$error":"#REF!"},{"$error":"#REF!"},{"$error":"#REF!"},{"$error":"#REF!"},{"$error":"#REF!"},{"$error":"#REF!"},{"$error":"#REF!"},{"$error":"#REF!"},{"$error":"#REF!"},{"$error":"#REF!"},"1 ton application, digested matter, on agricultural land/kg/CH U (of project 208 naturemade KWM)"]
["208-26",null,null,5,"-",{"$error":"#REF!"},{"$error":"#REF!"},"-","-",{"$error":"#REF!"},{"$error":"#REF!"},{"$f":"INDEX(LCIAbg!$1:$1048576,7,MATCH('X-Exchange'!$U32,LCIAbg!$15:$15,0))*T32","v":{"$error":"#N/A"}},1,{"$error":"#REF!"},{"$error":"#REF!"},null,1,{"$error":"#REF!"},{"$error":"#REF!"},1,"application, digested matter, liquid, on agricultural land/m3/CH U","entry in questionnaire","LCIAbg",1,1,1,1,1,{"$error":"#REF!"},{"$error":"#REF!"},{"$error":"#REF!"},{"$error":"#REF!"},{"$error":"#REF!"},{"$error":"#REF!"},{"$error":"#REF!"},{"$error":"#REF!"},{"$error":"#REF!"},{"$error":"#REF!"},"1 m3 application, digested matter, liquid, on agricultural land/m3/CH U (of project 208 naturemade KWM)"]
[6861,null,null,5,"-",{"$error":"#REF!"},{"$error":"#REF!"},"-","-",{"$error":"#REF!"},{"$error":"#REF!"},{"$f":"INDEX(LCIAbg!$1:$1048576,7,MATCH('X-Exchange'!$U33,LCIAbg!$15:$15,0))*T33","v":{"$error":"#N/A"}},1,{"$error":"#REF!"},{"$error":"#REF!"},null,1,{"$error":"#REF!"},{"$error":"#REF!"},4200,"disposal, digester sludge, to municipal incineration/kg/CH U","entry in questionnaire","LCIAbg",1,1,1,1,1,{"$error":"#REF!"},{"$error":"#REF!"},{"$error":"#REF!"},{"$error":"#REF!"},{"$error":"#REF!"},{"$error":"#REF!"},{"$error":"#REF!"},{"$error":"#REF!"},{"$error":"#REF!"},{"$error":"#REF!"},"4200 kg disposal, digester sludge, to municipal incineration/kg/CH U (of project ESU database 2018)"]
["208-27",null,null,5,"-",{"$error":"#REF!"},{"$error":"#REF!"},"-","-",{"$error":"#REF!"},{"$error":"#REF!"},{"$f":"INDEX(LCIAbg!$1:$1048576,7,MATCH('X-Exchange'!$U34,LCIAbg!$15:$15,0))*T34","v":{"$error":"#N/A"}},1,{"$error":"#REF!"},{"$error":"#REF!"},null,1,{"$error":"#REF!"},{"$error":"#REF!"},1000,"digester sewage sludge, in cement plant/kg/CH U","entry in questionnaire","LCIAbg",1,1,1,1,1,{"$error":"#REF!"},{"$error":"#REF!"},{"$error":"#REF!"},{"$error":"#REF!"},{"$error":"#REF!"},{"$error":"#REF!"},{"$error":"#REF!"},{"$error":"#REF!"},{"$error":"#REF!"},{"$error":"#REF!"},"1 ton digester sewage sludge, in cement plant/kg/CH U (of project 208 naturemade KWM)"]
[1741,null,null,5,"-",{"$error":"#REF!"},{"$error":"#REF!"},"-","-",{"$error":"#REF!"},{"$error":"#REF!"},{"$f":"INDEX(LCIAbg!$1:$1048576,7,MATCH('X-Exchange'!$U35,LCIAbg!$15:$15,0))*T35","v":{"$error":"#N/A"}},1,{"$error":"#REF!"},{"$error":"#REF!"},null,1,{"$error":"#REF!"},{"$error":"#REF!"},1,"Treatment, sewage, to wastewater treatment, class 4/CH U","entry in questionnaire","LCIAbg",1,1,1,1,1,{"$error":"#REF!"},{"$error":"#REF!"},{"$error":"#REF!"},{"$error":"#REF!"},{"$error":"#REF!"},{"$error":"#REF!"},{"$error":"#REF!"},{"$error":"#REF!"},{"$error":"#REF!"},{"$error":"#REF!"},"1 m3 Treatment, sewage, to wastewater treatment, class 4/CH U (of project ESU database 2018)"]
["208-80",null,null,5,"-",{"$error":"#REF!"},{"$error":"#REF!"},"-","-",{"$error":"#REF!"},{"$error":"#REF!"},{"$f":"INDEX(LCIAbg!$1:$1048576,7,MATCH('X-Exchange'!$U36,LCIAbg!$15:$15,0))*T36","v":{"$error":"#N/A"}},1,{"$error":"#REF!"},{"$error":"#REF!"},null,1,{"$error":"#REF!"},{"$error":"#REF!"},1,"treatment, sugar factory effluent, to wastewater treatment, class 4/HU U","entry in questionnaire","LCIAbg",1,1,1,1,1,{"$error":"#REF!"},{"$error":"#REF!"},{"$error":"#REF!"},{"$error":"#REF!"},{"$error":"#REF!"},{"$error":"#REF!"},{"$error":"#REF!"},{"$error":"#REF!"},{"$error":"#REF!"},{"$error":"#REF!"},"1 m3 treatment, sugar factory effluent, to wastewater treatment, class 4/HU U (of project 208 naturemade KWM)"]
[6390,null,null,5,"-",{"$error":"#REF!"},{"$error":"#REF!"},"-","-",{"$error":"#REF!"},{"$error":"#REF!"},{"$f":"(SUMIF(Substrates!AY:AY,'X-Exchange'!U37,Substrates!BD:BD)+$L$108/$L$110)*T37","v":0},1,{"$error":"#REF!"},{"$error":"#REF!"},null,1,{"$error":"#REF!"},{"$error":"#REF!"},1,"Rape oil, at oil mill/CH S","entry in questionnaire","InputsBG",1,1,1,1,1,{"$error":"#REF!"},{"$error":"#REF!"},{"$error":"#REF!"},{"$error":"#REF!"},{"$error":"#REF!"},{"$error":"#REF!"},{"$error":"#REF!"},{"$error":"#REF!"},{"$error":"#REF!"},{"$error":"#REF!"},"1 kg Rape oil, at oil mill/CH U (of project ESU database 2018)"]
[1987,null,null,5,"-",{"$error":"#REF!"},{"$error":"#REF!"},"-","-",{"$error":"#REF!"},{"$error":"#REF!"},{"$f":"(SUMIF(Substrates!AY:AY,'X-Exchange'!U38,Substrates!BD:BD)+$L$108/$L$110)*T38","v":0},1,{"$error":"#REF!"},{"$error":"#REF!"},null,1,{"$error":"#REF!"},{"$error":"#REF!"},1,"Wheat straw IP, at farm/CH S","entry in questionnaire","InputsBG",1,1,1,1,1,{"$error":"#REF!"},{"$error":"#REF!"},{"$error":"#REF!"},{"$error":"#REF!"},{"$error":"#REF!"},{"$error":"#REF!"},{"$error":"#REF!"},{"$error":"#REF!"},{"$error":"#REF!"},{"$error":"#REF!"},"1 kg wheat straw IP, at farm/kg/CH U (of project ESU database 2018)"]
[6844,null,null,5,"-",{"$error":"#REF!"},{"$error":"#REF!"},"-","-",{"$error":"#REF!"},{"$error":"#REF!"},{"$f":"(SUMIF(Substrates!AY:AY,'X-Exchange'!U39,Substrates!BD:BD)+$L$108/$L$110)*T39","v":0},1,{"$error":"#REF!"},{"$error":"#REF!"},null,1,{"$error":"#REF!"},{"$error":"#REF!"},1,"Syrup, from sugar beet molasses, at distillery/CH S","entry in questionnaire","InputsBG",1,1,1,1,1,{"$error":"#REF!"},{"$error":"#REF!"},{"$error":"#REF!"},{"$error":"#REF!"},{"$error":"#REF!"},{"$error":"#REF!"},{"$error":"#REF!"},{"$error":"#REF!"},{"$error":"#REF!"},{"$error":"#REF!"},"1 kg Syrup, from sugar beet molasses, at distillery/CH U (of project ESU database 2018)"]
["320-71",null,null,5,"-",{"$error":"#REF!"},{"$error":"#REF!"},"-","-",{"$error":"#REF!"},{"$error":"#REF!"},null,1,{"$error":"#REF!"},{"$error":"#REF!"},null,1,{"$error":"#REF!"},{"$error":"#REF!"},1,"Glycerine, from rape oil, at esterification plant/CH S","entry in questionnaire","InputsBG",1,1,1,1,1,{"$error":"#REF!"},{"$error":"#REF!"},{"$error":"#REF!"},{"$error":"#REF!"},{"$error":"#REF!"},{"$error":"#REF!"},{"$error":"#REF!"},{"$error":"#REF!"},{"$error":"#REF!"},{"$error":"#REF!"},"1 kg glycerine, from rape oil, at esterification plant/kg/CH U (of project ESU database 2018)"]
[6340,null,null,5,"-",{"$error":"#REF!"},{"$error":"#REF!"},"-","-",{"$error":"#REF!"},{"$error":"#REF!"},{"$f":"(SUMIF(Substrates!AY:AY,'X-Exchange'!U41,Substrates!BD:BD)+$L$108/$L$110)*T41","v":0},1,{"$error":"#REF!"},{"$error":"#REF!"},null,1,{"$error":"#REF!"},{"$error":"#REF!"},0.35,"Grass silage IP, at farm/CH S","entry in questionnaire","InputsBG",1,1,1,1,1,{"$error":"#REF!"},{"$error":"#REF!"},{"$error":"#REF!"},{"$error":"#REF!"},{"$error":"#REF!"},{"$error":"#REF!"},{"$error":"#REF!"},{"$error":"#REF!"},{"$error":"#REF!"},{"$error":"#REF!"},"0.35 kg grass silage IP, at farm/kg/CH U (of project ESU database 2018)"]
[6339,null,null,5,"-",{"$error":"#REF!"},{"$error":"#REF!"},"-","-",{"$error":"#REF!"},{"$error":"#REF!"},{"$f":"(SUMIF(Substrates!AY:AY,'X-Exchange'!U42,Substrates!BD:BD)+$L$108/$L$110)*T42","v":0},1,{"$error":"#REF!"},{"$error":"#REF!"},null,1,{"$error":"#REF!"},{"$error":"#REF!"},0.35,"grass silage organic, at farm/CH U","entry in questionnaire","InputsBG",1,1,1,1,1,{"$error":"#REF!"},{"$error":"#REF!"},{"$error":"#REF!"},{"$error":"#REF!"},{"$error":"#REF!"},{"$error":"#REF!"},{"$error":"#REF!"},{"$error":"#REF!"},{"$error":"#REF!"},{"$error":"#REF!"},"0.35 kg grass silage organic, at farm/kg/CH U (of project ESU database 2018)"]
[1921,null,null,5,"-",{"$error":"#REF!"},{"$error":"#REF!"},"-","-",{"$error":"#REF!"},{"$error":"#REF!"},{"$f":"(SUMIF(Substrates!AY:AY,'X-Exchange'!U43,Substrates!BD:BD)+$L$108/$L$110)*T43","v":0},1,{"$error":"#REF!"},{"$error":"#REF!"},null,1,{"$error":"#REF!"},{"$error":"#REF!"},1,"Hay intensive IP, at farm/CH S","entry in questionnaire","InputsBG",1,1,1,1,1,{"$error":"#REF!"},{"$error":"#REF!"},{"$error":"#REF!"},{"$error":"#REF!"},{"$error":"#REF!"},{"$error":"#REF!"},{"$error":"#REF!"},{"$error":"#REF!"},{"$error":"#REF!"},{"$error":"#REF!"},"1 kg hay intensive IP, at farm/kg/CH U (of project ESU database 2018)"]
[1963,null,null,5,"-",{"$error":"#REF!"},{"$error":"#REF!"},"-","-",{"$error":"#REF!"},{"$error":"#REF!"},{"$f":"(SUMIF(Substrates!AY:AY,'X-Exchange'!U44,Substrates!BD:BD)+$L$108/$L$110)*T44","v":0},1,{"$error":"#REF!"},{"$error":"#REF!"},null,1,{"$error":"#REF!"},{"$error":"#REF!"},1,"Potatoes IP, at farm/CH S","entry in questionnaire","InputsBG",1,1,1,1,1,{"$error":"#REF!"},{"$error":"#REF!"},{"$error":"#REF!"},{"$error":"#REF!"},{"$error":"#REF!"},{"$error":"#REF!"},{"$error":"#REF!"},{"$error":"#REF!"},{"$error":"#REF!"},{"$error":"#REF!"},"1 kg potatoes IP, at farm/kg/CH U (of project ESU database 2018)"]
[4603,null,null,5,"-",{"$error":"#REF!"},{"$error":"#REF!"},"-","-",{"$error":"#REF!"},{"$error":"#REF!"},{"$f":"(SUMIF(Substrates!AY:AY,'X-Exchange'!U45,Substrates!BD:BD)+$L$108/$L$110)*T45","v":0},1,{"$error":"#REF!"},{"$error":"#REF!"},null,1,{"$error":"#REF!"},{"$error":"#REF!"},1,"Clover seed IP, at farm/CH S","entry in questionnaire","InputsBG",1,1,1,1,1,{"$error":"#REF!"},{"$error":"#REF!"},{"$error":"#REF!"},{"$error":"#REF!"},{"$error":"#REF!"},{"$error":"#REF!"},{"$error":"#REF!"},{"$error":"#REF!"},{"$error":"#REF!"},{"$error":"#REF!"},"1 kg Clover seed IP, at farm/CH U (of project ESU database 2018)"]
[1978,null,null,5,"-",{"$error":"#REF!"},{"$error":"#REF!"},"-","-",{"$error":"#REF!"},{"$error":"#REF!"},{"$f":"(SUMIF(Substrates!AY:AY,'X-Exchange'!U46,Substrates!BD:BD)+$L$108/$L$110)*T46","v":0},1,{"$error":"#REF!"},{"$error":"#REF!"},null,1,{"$error":"#REF!"},{"$error":"#REF!"},1,"Silage maize IP, at farm/CH S","entry in questionnaire","InputsBG",1,1,1,1,1,{"$error":"#REF!"},{"$error":"#REF!"},{"$error":"#REF!"},{"$error":"#REF!"},{"$error":"#REF!"},{"$error":"#REF!"},{"$error":"#REF!"},{"$error":"#REF!"},{"$error":"#REF!"},{"$error":"#REF!"},"1 kg silage maize IP, at farm/kg/CH U (of project ESU database 2018)"]
[2004,null,null,5,"-",{"$error":"#REF!"},{"$error":"#REF!"},"-","-",{"$error":"#REF!"},{"$error":"#REF!"},{"$f":"(SUMIF(Substrates!AY:AY,'X-Exchange'!U47,Substrates!BD:BD)+$L$108/$L$110)*T47","v":0},1,{"$error":"#REF!"},{"$error":"#REF!"},null,1,{"$error":"#REF!"},{"$error":"#REF!"},1,"sugar beets IP, at farm/CH U","entry in questionnaire","InputsBG",1,1,1,1,1,{"$error":"#REF!"},{"$error":"#REF!"},{"$error":"#REF!"},{"$error":"#REF!"},{"$error":"#REF!"},{"$error":"#REF!"},{"$error":"#REF!"},{"$error":"#REF!"},{"$error":"#REF!"},{"$error":"#REF!"},"1 kg sugar beets IP, at farm/kg/CH U (of project ESU database 2018)"]
[6322,null,null,5,"-",{"$error":"#REF!"},{"$error":"#REF!"},"-","-",{"$error":"#REF!"},{"$error":"#REF!"},{"$f":"(SUMIF(Substrates!AY:AY,'X-Exchange'!U48,Substrates!BD:BD)+$L$108/$L$110)*T48","v":0},1,{"$error":"#REF!"},{"$error":"#REF!"},null,1,{"$error":"#REF!"},{"$error":"#REF!"},1,"Molasses, from sugar beet, at sugar refinery/CH S","entry in questionnaire","InputsBG",1,1,1,1,1,{"$error":"#REF!"},{"$error":"#REF!"},{"$error":"#REF!"},{"$error":"#REF!"},{"$error":"#REF!"},{"$error":"#REF!"},{"$error":"#REF!"},{"$error":"#REF!"},{"$error":"#REF!"},{"$error":"#REF!"},"1 kg Molasses, from sugar beet, at sugar refinery/CH U (of project ESU database 2018)"]
[6389,null,null,5,"-",{"$error":"#REF!"},{"$error":"#REF!"},"-","-",{"$error":"#REF!"},{"$error":"#REF!"},{"$f":"(SUMIF(Substrates!AY:AY,'X-Exchange'!U49,Substrates!BD:BD)+$L$108/$L$110)*T49","v":0},1,{"$error":"#REF!"},{"$error":"#REF!"},null,1,{"$error":"#REF!"},{"$error":"#REF!"},1,"Rape meal, at oil mill/CH S","entry in questionnaire","InputsBG",1,1,1,1,1,{"$error":"#REF!"},{"$error":"#REF!"},{"$error":"#REF!"},{"$error":"#REF!"},{"$error":"#REF!"},{"$error":"#REF!"},{"$error":"#REF!"},{"$error":"#REF!"},{"$error":"#REF!"},{"$error":"#REF!"},"1 kg Rape meal, at oil mill/CH U (of project ESU database 2018)"]
[3677,null,null,5,"-",{"$error":"#REF!"},{"$error":"#REF!"},"-","-",{"$error":"#REF!"},{"$error":"#REF!"},{"$f":"(SUMIF(Substrates!AY:AY,'X-Exchange'!U50,Substrates!BD:BD)+$L$108/$L$110)*T50","v":0},1,{"$error":"#REF!"},{"$error":"#REF!"},null,1,{"$error":"#REF!"},{"$error":"#REF!"},1,"Rye grains IP, at farm/CH S","entry in questionnaire","InputsBG",1,1,1,1,1,{"$error":"#REF!"},{"$error":"#REF!"},{"$error":"#REF!"},{"$error":"#REF!"},{"$error":"#REF!"},{"$error":"#REF!"},{"$error":"#REF!"},{"$error":"#REF!"},{"$error":"#REF!"},{"$error":"#REF!"},"1 kg rye grains IP, at farm/kg/CH U (of project ESU database 2018)"]
["208-75",null,null,5,"-",{"$error":"#REF!"},{"$error":"#REF!"},"-","-",{"$error":"#REF!"},{"$error":"#REF!"},{"$f":"(SUMIF(Substrates!AY:AY,'X-Exchange'!U51,Substrates!BD:BD)+$L$108/$L$110)*T51","v":0},1,{"$error":"#REF!"},{"$error":"#REF!"},null,1,{"$error":"#REF!"},{"$error":"#REF!"},1,"green rye conventional, at farm/kg/RER U","entry in questionnaire","InputsBG",1,1,1,1,1,{"$error":"#REF!"},{"$error":"#REF!"},{"$error":"#REF!"},{"$error":"#REF!"},{"$error":"#REF!"},{"$error":"#REF!"},{"$error":"#REF!"},{"$error":"#REF!"},{"$error":"#REF!"},{"$error":"#REF!"},"1 kg green rye conventional, at farm/kg/RER U (of project 208 naturemade KWM)"]
[6446,null,null,5,"-",{"$error":"#REF!"},{"$error":"#REF!"},"-","-",{"$error":"#REF!"},{"$error":"#REF!"},{"$f":"(SUMIF(Substrates!AY:AY,'X-Exchange'!U52,Substrates!BD:BD)+$L$108/$L$110)*T52","v":0},1,{"$error":"#REF!"},{"$error":"#REF!"},null,1,{"$error":"#REF!"},{"$error":"#REF!"},0.125,"Grass from meadow intensive IP, at field/CH U","entry in questionnaire","InputsBG",1,1,1,1,1,{"$error":"#REF!"},{"$error":"#REF!"},{"$error":"#REF!"},{"$error":"#REF!"},{"$error":"#REF!"},{"$error":"#REF!"},{"$error":"#REF!"},{"$error":"#REF!"},{"$error":"#REF!"},{"$error":"#REF!"},"0.125 kg grass from meadow intensive IP, at field/kg/CH U (of project ESU database 2018)"]
[6449,null,null,5,"-",{"$error":"#REF!"},{"$error":"#REF!"},"-","-",{"$error":"#REF!"},{"$error":"#REF!"},{"$f":"(SUMIF(Substrates!AY:AY,'X-Exchange'!U53,Substrates!BD:BD)+$L$108/$L$110)*T53","v":0},1,{"$error":"#REF!"},{"$error":"#REF!"},null,1,{"$error":"#REF!"},{"$error":"#REF!"},0.125,"Grass from natural meadow intensive IP, at field/CH U","entry in questionnaire","InputsBG",1,1,1,1,1,{"$error":"#REF!"},{"$error":"#REF!"},{"$error":"#REF!"},{"$error":"#REF!"},{"$error":"#REF!"},{"$error":"#REF!"},{"$error":"#REF!"},{"$error":"#REF!"},{"$error":"#REF!"},{"$error":"#REF!"},"0.125 kg grass from natural meadow intensive IP, at field/kg/CH U (of project ESU database 2018)"]
[6431,null,null,5,"-",{"$error":"#REF!"},{"$error":"#REF!"},"-","-",{"$error":"#REF!"},{"$error":"#REF!"},{"$f":"(SUMIF(Substrates!AY:AY,'X-Exchange'!U54,Substrates!BD:BD)+$L$108/$L$110)*T54","v":0},1,{"$error":"#REF!"},{"$error":"#REF!"},null,1,{"$error":"#REF!"},{"$error":"#REF!"},1,"Vegetable oil, from waste cooking oil, at plant/CH S","entry in questionnaire","InputsBG",1,1,1,1,1,{"$error":"#REF!"},{"$error":"#REF!"},{"$error":"#REF!"},{"$error":"#REF!"},{"$error":"#REF!"},{"$error":"#REF!"},{"$error":"#REF!"},{"$error":"#REF!"},{"$error":"#REF!"},{"$error":"#REF!"},"1 kg Vegetable oil, from waste cooking oil, at plant/CH U (of project ESU database 2018)"]
[6805,null,null,5,"-",{"$error":"#REF!"},{"$error":"#REF!"},"-","-",{"$error":"#REF!"},{"$error":"#REF!"},{"$f":"(SUMIF(Substrates!AY:AY,'X-Exchange'!U55,Substrates!BD:BD)+$L$108/$L$110)*T55","v":0},1,{"$error":"#REF!"},{"$error":"#REF!"},null,1,{"$error":"#REF!"},{"$error":"#REF!"},1,"Vinasse, at fermentation plant/CH S","entry in questionnaire","InputsBG",1,1,1,1,1,{"$error":"#REF!"},{"$error":"#REF!"},{"$error":"#REF!"},{"$error":"#REF!"},{"$error":"#REF!"},{"$error":"#REF!"},{"$error":"#REF!"},{"$error":"#REF!"},{"$error":"#REF!"},{"$error":"#REF!"},"1 kg Vinasse, at fermentation plant/CH U (of project ESU database 2018)"]
["565-052",null,null,5,"-",{"$error":"#REF!"},{"$error":"#REF!"},"-","-",{"$error":"#REF!"},{"$error":"#REF!"},{"$f":"(SUMIF(Substrates!AY:AY,'X-Exchange'!U56,Substrates!BD:BD)+$L$108/$L$110)*T56","v":0},1,{"$error":"#REF!"},{"$error":"#REF!"},null,1,{"$error":"#REF!"},{"$error":"#REF!"},1,"Glycerine, from vegetable oil, at esterification plant/CH U","entry in questionnaire","InputsBG",1,1,1,1,1,{"$error":"#REF!"},{"$error":"#REF!"},{"$error":"#REF!"},{"$error":"#REF!"},{"$error":"#REF!"},{"$error":"#REF!"},{"$error":"#REF!"},{"$error":"#REF!"},{"$error":"#REF!"},{"$error":"#REF!"},"1 kg glycerine, from vegetable oil, at esterification plant/CH U (of project ESU database 2018)"]
[6324,null,null,5,"-",{"$error":"#REF!"},{"$error":"#REF!"},"-","-",{"$error":"#REF!"},{"$error":"#REF!"},{"$f":"(SUMIF(Substrates!AY:AY,'X-Exchange'!U57,Substrates!BD:BD)+$L$108/$L$110)*T57","v":0},1,{"$error":"#REF!"},{"$error":"#REF!"},null,1,{"$error":"#REF!"},{"$error":"#REF!"},1,"Pulps, from sugar beet, at sugar refinery/CH U","entry in questionnaire","InputsBG",1,1,1,1,1,{"$error":"#REF!"},{"$error":"#REF!"},{"$error":"#REF!"},{"$error":"#REF!"},{"$error":"#REF!"},{"$error":"#REF!"},{"$error":"#REF!"},{"$error":"#REF!"},{"$error":"#REF!"},{"$error":"#REF!"},"1 kg Pulps, from sugar beet, at sugar refinery/CH U (of project ESU database 2018)"]
["208-85",null,null,5,"-",{"$error":"#REF!"},{"$error":"#REF!"},"-","-",{"$error":"#REF!"},{"$error":"#REF!"},{"$f":"SUMIF(Substrates!AY:AY,'X-Exchange'!U58,Substrates!BD:BD)","v":0},1,{"$error":"#REF!"},{"$error":"#REF!"},null,1,{"$error":"#REF!"},{"$error":"#REF!"},1,"glycerine, from animal fat, at esterification plant/kg/RER U","entry in questionnaire","InputsBG",1,1,1,1,1,{"$error":"#REF!"},{"$error":"#REF!"},{"$error":"#REF!"},{"$error":"#REF!"},{"$error":"#REF!"},{"$error":"#REF!"},{"$error":"#REF!"},{"$error":"#REF!"},{"$error":"#REF!"},{"$error":"#REF!"},"1 kg glycerine, from animal fat, at esterification plant/kg/RER U (of project 208 naturemade KWM)"]
["208-82",null,null,5,"-",{"$error":"#REF!"},{"$error":"#REF!"},"-","-",{"$error":"#REF!"},{"$error":"#REF!"},{"$f":"SUMIF(Substrates!AY:AY,'X-Exchange'!U59,Substrates!BD:BD)","v":0},1,{"$error":"#REF!"},{"$error":"#REF!"},null,1,{"$error":"#REF!"},{"$error":"#REF!"},1,"glycerine, from vegetable oil, at esterification plant/kg/RER U","entry in questionnaire","InputsBG",1,1,1,1,1,{"$error":"#REF!"},{"$error":"#REF!"},{"$error":"#REF!"},{"$error":"#REF!"},{"$error":"#REF!"},{"$error":"#REF!"},{"$error":"#REF!"},{"$error":"#REF!"},{"$error":"#REF!"},{"$error":"#REF!"},"1 kg glycerine, from vegetable oil, at esterification plant/kg/RER U (of project 208 naturemade KWM)"]
[6873,null,null,5,"-",{"$error":"#REF!"},{"$error":"#REF!"},"-","-",{"$error":"#REF!"},{"$error":"#REF!"},{"$f":"SUMIF(Substrates!AY:AY,'X-Exchange'!U60,Substrates!BD:BD)","v":0},1,{"$error":"#REF!"},{"$error":"#REF!"},null,1,{"$error":"#REF!"},{"$error":"#REF!"},1,"glycerine, from rape oil, at esterification plant/kg/RER U","entry in questionnaire","InputsBG",1,1,1,1,1,{"$error":"#REF!"},{"$error":"#REF!"},{"$error":"#REF!"},{"$error":"#REF!"},{"$error":"#REF!"},{"$error":"#REF!"},{"$error":"#REF!"},{"$error":"#REF!"},{"$error":"#REF!"},{"$error":"#REF!"},"1 kg glycerine, from rape oil, at esterification plant/kg/RER U (of project ESU database 2018)"]
["208-92",null,null,5,"-",{"$error":"#REF!"},{"$error":"#REF!"},"-","-",{"$error":"#REF!"},{"$error":"#REF!"},{"$f":"SUMIF(Substrates!AY:AY,'X-Exchange'!U61,Substrates!BD:BD)","v":0},1,{"$error":"#REF!"},{"$error":"#REF!"},null,1,{"$error":"#REF!"},{"$error":"#REF!"},1,"glycerine, from soybean oil, at esterification plant/kg/RER U","entry in questionnaire","InputsBG",1,1,1,1,1,{"$error":"#REF!"},{"$error":"#REF!"},{"$error":"#REF!"},{"$error":"#REF!"},{"$error":"#REF!"},{"$error":"#REF!"},{"$error":"#REF!"},{"$error":"#REF!"},{"$error":"#REF!"},{"$error":"#REF!"},"1 kg glycerine, from soybean oil, at esterification plant/kg/RER U (of project 208 naturemade KWM)"]
["208-89",null,null,5,"-",{"$error":"#REF!"},{"$error":"#REF!"},"-","-",{"$error":"#REF!"},{"$error":"#REF!"},{"$f":"SUMIF(Substrates!AY:AY,'X-Exchange'!U62,Substrates!BD:BD)","v":0},1,{"$error":"#REF!"},{"$error":"#REF!"},null,1,{"$error":"#REF!"},{"$error":"#REF!"},1,"glycerine, from palm oil, at esterification plant/kg/RER U","entry in questionnaire","InputsBG",1,1,1,1,1,{"$error":"#REF!"},{"$error":"#REF!"},{"$error":"#REF!"},{"$error":"#REF!"},{"$error":"#REF!"},{"$error":"#REF!"},{"$error":"#REF!"},{"$error":"#REF!"},{"$error":"#REF!"},{"$error":"#REF!"},"1 kg glycerine, from palm oil, at esterification plant/kg/RER U (of project 208 naturemade KWM)"]
[10747,null,null,5,"-",{"$error":"#REF!"},{"$error":"#REF!"},"-","-",{"$error":"#REF!"},{"$error":"#REF!"},{"$f":"(SUMIF(Substrates!AY:AY,'X-Exchange'!U63,Substrates!BD:BD)+$L$108/$L$110)*T63","v":0},1,{"$error":"#REF!"},{"$error":"#REF!"},null,1,{"$error":"#REF!"},{"$error":"#REF!"},1,"apple ÖLN, at farm/kg/CH U","entry in questionnaire","InputsBG",1,1,1,1,1,{"$error":"#REF!"},{"$error":"#REF!"},{"$error":"#REF!"},{"$error":"#REF!"},{"$error":"#REF!"},{"$error":"#REF!"},{"$error":"#REF!"},{"$error":"#REF!"},{"$error":"#REF!"},{"$error":"#REF!"}]
["244-21",null,null,5,"-",{"$error":"#REF!"},{"$error":"#REF!"},"-","-",{"$error":"#REF!"},{"$error":"#REF!"},{"$f":"(SUMIF(Substrates!AY:AY,'X-Exchange'!U64,Substrates!BD:BD)+$L$108/$L$110)*T64","v":0},1,{"$error":"#REF!"},{"$error":"#REF!"},null,1,{"$error":"#REF!"},{"$error":"#REF!"},1,"bread, at bakery/kg/CH U","entry in questionnaire","InputsBG",1,1,1,1,1,{"$error":"#REF!"},{"$error":"#REF!"},{"$error":"#REF!"},{"$error":"#REF!"},{"$error":"#REF!"},{"$error":"#REF!"},{"$error":"#REF!"},{"$error":"#REF!"},{"$error":"#REF!"},{"$error":"#REF!"}]
[486,null,null,5,"-",{"$error":"#REF!"},{"$error":"#REF!"},"-","-",{"$error":"#REF!"},{"$error":"#REF!"},{"$f":"(SUMIF(Substrates!AY:AY,'X-Exchange'!U65,Substrates!BD:BD)+$L$108/$L$110)*T65","v":0},1,{"$error":"#REF!"},{"$error":"#REF!"},null,1,{"$error":"#REF!"},{"$error":"#REF!"},1,"meat mixed, IP, at slaughterhouse/kg/CH U","entry in questionnaire","InputsBG",1,1,1,1,1,{"$error":"#REF!"},{"$error":"#REF!"},{"$error":"#REF!"},{"$error":"#REF!"},{"$error":"#REF!"},{"$error":"#REF!"},{"$error":"#REF!"},{"$error":"#REF!"},{"$error":"#REF!"},{"$error":"#REF!"}]
[739,null,null,5,"-",{"$error":"#REF!"},{"$error":"#REF!"},"-","-",{"$error":"#REF!"},{"$error":"#REF!"},{"$f":"(SUMIF(Substrates!AY:AY,'X-Exchange'!U66,Substrates!BD:BD)+$L$108/$L$110)*T66","v":0},1,{"$error":"#REF!"},{"$error":"#REF!"},null,1,{"$error":"#REF!"},{"$error":"#REF!"},1,"vegetables mean, IP, at farm/kg/CH U","entry in questionnaire","InputsBG",1,1,1,1,1,{"$error":"#REF!"},{"$error":"#REF!"},{"$error":"#REF!"},{"$error":"#REF!"},{"$error":"#REF!"},{"$error":"#REF!"},{"$error":"#REF!"},{"$error":"#REF!"},{"$error":"#REF!"},{"$error":"#REF!"}]
["410-58",null,null,5,"-",{"$error":"#REF!"},{"$error":"#REF!"},"-","-",{"$error":"#REF!"},{"$error":"#REF!"},{"$f":"(SUMIF(Substrates!AY:AY,'X-Exchange'!U67,Substrates!BD:BD)+$L$108/$L$110)*T67","v":0},1,{"$error":"#REF!"},{"$error":"#REF!"},null,1,{"$error":"#REF!"},{"$error":"#REF!"},1,"by-products, wheat milling, at plant/kg/CH U","entry in questionnaire","InputsBG",1,1,1,1,1,{"$error":"#REF!"},{"$error":"#REF!"},{"$error":"#REF!"},{"$error":"#REF!"},{"$error":"#REF!"},{"$error":"#REF!"},{"$error":"#REF!"},{"$error":"#REF!"},{"$error":"#REF!"},{"$error":"#REF!"}]
["316-06",null,null,5,"-",{"$error":"#REF!"},{"$error":"#REF!"},"-","-",{"$error":"#REF!"},{"$error":"#REF!"},{"$f":"(SUMIF(Substrates!AY:AY,'X-Exchange'!U68,Substrates!BD:BD)+$L$108/$L$110)*T68","v":0},1,{"$error":"#REF!"},{"$error":"#REF!"},null,1,{"$error":"#REF!"},{"$error":"#REF!"},1,"yeast, at plant/kg/RER U","entry in questionnaire","InputsBG",1,1,1,1,1,{"$error":"#REF!"},{"$error":"#REF!"},{"$error":"#REF!"},{"$error":"#REF!"},{"$error":"#REF!"},{"$error":"#REF!"},{"$error":"#REF!"},{"$error":"#REF!"},{"$error":"#REF!"},{"$error":"#REF!"}]
[271,null,null,5,"-",{"$error":"#REF!"},{"$error":"#REF!"},"-","-",{"$error":"#REF!"},{"$error":"#REF!"},{"$f":"(SUMIF(Substrates!AY:AY,'X-Exchange'!U69,Substrates!BD:BD)+$L$108/$L$110)*T69","v":0},1,{"$error":"#REF!"},{"$error":"#REF!"},null,1,{"$error":"#REF!"},{"$error":"#REF!"},1,"raw milk, silo zone, at farm/kg/CH U","entry in questionnaire","InputsBG",1,1,1,1,1,{"$error":"#REF!"},{"$error":"#REF!"},{"$error":"#REF!"},{"$error":"#REF!"},{"$error":"#REF!"},{"$error":"#REF!"},{"$error":"#REF!"},{"$error":"#REF!"},{"$error":"#REF!"},{"$error":"#REF!"}]
["222-72",null,null,5,"-",{"$error":"#REF!"},{"$error":"#REF!"},"-","-",{"$error":"#REF!"},{"$error":"#REF!"},{"$f":"(SUMIF(Substrates!AY:AY,'X-Exchange'!U70,Substrates!BD:BD)+$L$108/$L$110)*T70","v":0},1,{"$error":"#REF!"},{"$error":"#REF!"},null,1,{"$error":"#REF!"},{"$error":"#REF!"},1,"whey, at cheese dairy/kg/CH U","entry in questionnaire","InputsBG",1,1,1,1,1,{"$error":"#REF!"},{"$error":"#REF!"},{"$error":"#REF!"},{"$error":"#REF!"},{"$error":"#REF!"},{"$error":"#REF!"},{"$error":"#REF!"},{"$error":"#REF!"},{"$error":"#REF!"},{"$error":"#REF!"}]
["208-12",null,null,5,"-",{"$error":"#REF!"},{"$error":"#REF!"},"-","-",{"$error":"#REF!"},{"$error":"#REF!"},null,1,{"$f":"$AF71","v":{"$error":"#REF!"}},{"$f":"$AG71&\"; \"&$V71&\"; \"&$W71","v":{"$error":"#REF!"}},{"$f":"Prüfwert!C8","v":0},1,{"$f":"$AF71","v":{"$error":"#REF!"}},{"$f":"$AG71&\"; \"&$V71&\"; \"&$W71","v":{"$error":"#REF!"}},null,"threshold value, methane/kWh/CH U","entry in questionnaire","Prüfwert",1,1,1,1,1,{"$f":"IF(OR($D71=4,$E71=4),INDEX(INDIRECT(names&\"NamesElementary'!$J:$J\"),MATCH($A71,INDIRECT(names&\"NamesElementary'!$A:$A\"),0),1),INDEX(INDIRECT(names&\"Names'!$W:$W\"),MATCH($A71,INDIRECT(names&\"Names'!$F:$F\"),0),1))","v":{"$error":"#REF!"}},{"$error":"#REF!"},{"$error":"#REF!"},{"$error":"#REF!"},{"$error":"#REF!"},{"$error":"#REF!"},{"$error":"#REF!"},{"$error":"#REF!"},{"$error":"#REF!"},{"$error":"#REF!"}]
["208-12",null,null,5,"-",{"$error":"#REF!"},{"$error":"#REF!"},"-","-",{"$error":"#REF!"},{"$error":"#REF!"},null,1,{"$error":"#REF!"},{"$error":"#REF!"},{"$f":"Prüfwert!D8","v":0},1,{"$error":"#REF!"},{"$error":"#REF!"},null,"threshold value, methane/kWh/CH U","entry in questionnaire","Prüfwert",1,1,1,1,1,{"$error":"#REF!"},{"$error":"#REF!"},{"$error":"#REF!"},{"$error":"#REF!"},{"$error":"#REF!"},{"$error":"#REF!"},{"$error":"#REF!"},{"$error":"#REF!"},{"$error":"#REF!"},{"$error":"#REF!"}]
["208-11",null,null,5,"-",{"$error":"#REF!"},{"$error":"#REF!"},"-","-",{"$error":"#REF!"},{"$error":"#REF!"},null,1,{"$error":"#REF!"},{"$error":"#REF!"},{"$f":"INDEX(Prüfwert!$1:$1048576,8,MATCH('X-Exchange'!$U73,Prüfwert!$16:$16,0))","v":0},1,{"$error":"#REF!"},{"$error":"#REF!"},null,"threshold value, heat/kWh/CH U","entry in questionnaire","Prüfwert",1,1,1,1,1,{"$error":"#REF!"},{"$error":"#REF!"},{"$error":"#REF!"},{"$error":"#REF!"},{"$error":"#REF!"},{"$error":"#REF!"},{"$error":"#REF!"},{"$error":"#REF!"},{"$error":"#REF!"},{"$error":"#REF!"}]
["208-10",null,null,5,"-",{"$error":"#REF!"},{"$error":"#REF!"},"-","-",{"$error":"#REF!"},{"$error":"#REF!"},null,1,{"$error":"#REF!"},{"$error":"#REF!"},{"$f":"INDEX(Prüfwert!$1:$1048576,8,MATCH('X-Exchange'!$U74,Prüfwert!$16:$16,0))","v":0},1,{"$error":"#REF!"},{"$error":"#REF!"},null,"threshold value, electricity/kWh/CH U","entry in questionnaire","Prüfwert",1,1,1,1,1,{"$error":"#REF!"},{"$error":"#REF!"},{"$error":"#REF!"},{"$error":"#REF!"},{"$error":"#REF!"},{"$error":"#REF!"},{"$error":"#REF!"},{"$error":"#REF!"},{"$error":"#REF!"},{"$error":"#REF!"}]
["208-13",null,null,5,"-",{"$error":"#REF!"},{"$error":"#REF!"},"-","-",{"$error":"#REF!"},{"$error":"#REF!"},null,1,{"$error":"#REF!"},{"$error":"#REF!"},{"$f":"INDEX(Prüfwert!$1:$1048576,8,MATCH('X-Exchange'!$U75,Prüfwert!$16:$16,0))","v":0},1,{"$error":"#REF!"},{"$error":"#REF!"},null,"threshold value, cooling/kWh/CH U",{"$f":"$V$9","v":"entry in questionnaire"},"Prüfwert",1,1,1,1,1,{"$error":"#REF!"},{"$error":"#REF!"},{"$error":"#REF!"},{"$error":"#REF!"},{"$error":"#REF!"},{"$error":"#REF!"},{"$error":"#REF!"},{"$error":"#REF!"},{"$error":"#REF!"},{"$error":"#REF!"}]
["208-16",null,null,5,"-",{"$error":"#REF!"},{"$error":"#REF!"},"-","-",{"$error":"#REF!"},{"$error":"#REF!"},null,1,{"$error":"#REF!"},{"$error":"#REF!"},{"$f":"INDEX(Prüfwert!$1:$1048576,8,MATCH('X-Exchange'!$U76,Prüfwert!$16:$16,0))","v":0},1,{"$error":"#REF!"},{"$error":"#REF!"},null,"reference value, manure/kg/CH U","entry in questionnaire","Prüfwert",1,1,1,1,1,{"$error":"#REF!"},{"$error":"#REF!"},{"$error":"#REF!"},{"$error":"#REF!"},{"$error":"#REF!"},{"$error":"#REF!"},{"$error":"#REF!"},{"$error":"#REF!"},{"$error":"#REF!"},{"$error":"#REF!"}]
["208-25",null,null,5,"-",{"$error":"#REF!"},{"$error":"#REF!"},"-","-",{"$error":"#REF!"},{"$error":"#REF!"},null,1,{"$error":"#REF!"},{"$error":"#REF!"},{"$f":"INDEX(Prüfwert!$1:$1048576,8,MATCH('X-Exchange'!$U77,Prüfwert!$16:$16,0))","v":{"$error":"#N/A"}},1,{"$error":"#REF!"},{"$error":"#REF!"},null,"reference value, digested matter, solid/kg/CH U","entry in questionnaire","Prüfwert",1,1,1,1,1,{"$error":"#REF!"},{"$error":"#REF!"},{"$error":"#REF!"},{"$error":"#REF!"},{"$error":"#REF!"},{"$error":"#REF!"},{"$error":"#REF!"},{"$error":"#REF!"},{"$error":"#REF!"},{"$error":"#REF!"}]
["208-14",null,null,5,"-",{"$error":"#REF!"},{"$error":"#REF!"},"-","-",{"$error":"#REF!"},{"$error":"#REF!"},null,1,{"$error":"#REF!"},{"$error":"#REF!"},{"$f":"INDEX(Prüfwert!$1:$1048576,8,MATCH('X-Exchange'!$U78,Prüfwert!$16:$16,0))","v":{"$error":"#N/A"}},1,{"$error":"#REF!"},{"$error":"#REF!"},null,"reference value, digested matter, liquid/kg/CH U","entry in questionnaire","Prüfwert",1,1,1,1,1,{"$error":"#REF!"},{"$error":"#REF!"},{"$error":"#REF!"},{"$error":"#REF!"},{"$error":"#REF!"},{"$error":"#REF!"},{"$error":"#REF!"},{"$error":"#REF!"},{"$error":"#REF!"},{"$error":"#REF!"}]
["208-15",null,null,5,"-",{"$error":"#REF!"},{"$error":"#REF!"},"-","-",{"$error":"#REF!"},{"$error":"#REF!"},null,1,{"$error":"#REF!"},{"$error":"#REF!"},{"$f":"INDEX(Prüfwert!$1:$1048576,8,MATCH('X-Exchange'!$U79,Prüfwert!$16:$16,0))","v":{"$error":"#N/A"}},1,{"$error":"#REF!"},{"$error":"#REF!"},null,"reference value, co-substrate disposal/CHF/CH U","entry in questionnaire","Prüfwert",1,1,1,1,1,{"$error":"#REF!"},{"$error":"#REF!"},{"$error":"#REF!"},{"$error":"#REF!"},{"$error":"#REF!"},{"$error":"#REF!"},{"$error":"#REF!"},{"$error":"#REF!"},{"$error":"#REF!"},{"$error":"#REF!"}]
["208-24",null,null,5,"-",{"$f":"IF(OR(D80=4,E80=4),INDEX(INDIRECT(names&\"NamesElementary'!$1:$65536\"),MATCH(A80,INDIRECT(names&\"NamesElementary'!$A:$A\"),0),2),INDEX(INDIRECT(names&\"Names'!$1:$65536\"),MATCH(A80,INDIRECT(names&\"Names'!$F:$F\"),0),10))","v":{"$error":"#REF!"}},{"$f":"IF(OR(D80=4,E80=4),\"-\",INDEX(INDIRECT(names&\"Names'!$1:$65536\"),MATCH(A80,INDIRECT(names&\"Names'!$F:$F\"),0),11))","v":{"$error":"#REF!"}},{"$f":"IF(OR(D80=4,E80=4),INDEX(INDIRECT(names&\"NamesElementary'!$1:$65536\"),MATCH($A80,INDIRECT(names&\"NamesElementary'!$A:$A\"),0),4),\"-\")","v":"-"},{"$f":"IF(OR(D80=4,E80=4),INDEX(INDIRECT(names&\"NamesElementary'!$1:$65536\"),MATCH($A80,INDIRECT(names&\"NamesElementary'!$A:$A\"),0),5),\"-\")","v":"-"},{"$f":"IF(OR(D80=4,E80=4),\"-\",INDEX(INDIRECT(names&\"Names'!$1:$65536\"),MATCH(A80,INDIRECT(names&\"Names'!$F:$F\"),0),14))","v":{"$error":"#REF!"}},{"$f":"IF(OR(D80=4,E80=4),INDEX(INDIRECT(names&\"NamesElementary'!$1:$65536\"),MATCH(A80,INDIRECT(names&\"NamesElementary'!$A:$A\"),0),7),INDEX(INDIRECT(names&\"Names'!$1:$65536\"),MATCH(A80,INDIRECT(names&\"Names'!$F:$F\"),0),15))","v":{"$error":"#REF!"}},null,1,{"$error":"#REF!"},{"$error":"#REF!"},{"$f":"INDEX(Prüfwert!$1:$1048576,8,MATCH('X-Exchange'!$U80,Prüfwert!$16:$16,0))","v":0},1,{"$error":"#REF!"},{"$error":"#REF!"},null,"reference value, raw sewage sludge treatment/kg/CH U","entry in questionnaire","Prüfwert",1,1,1,1,1,{"$error":"#REF!"},{"$f":"INDEX(INDIRECT(names&\"BasicUncertainty'!$1:$65536\"),MATCH(AC80,INDIRECT(names&\"BasicUncertainty'!B:B\"),0),8)","v":{"$error":"#REF!"}},{"$f":"EXP(SQRT((LN(AH80)^2)+(LN(AI80)^2)+(LN(AJ80)^2)+(LN(AK80)^2)+(LN(AL80)^2)))","v":{"$error":"#REF!"}},{"$f":"EXP(SQRT((LN(AH80)^2)+(LN(AI80)^2)+(LN(AJ80)^2)+(LN(AK80)^2)+(LN(AL80)^2)+(LN(AD80)^2)))","v":{"$error":"#REF!"}},{"$f":"CONCATENATE(\"(\",X80,\",\",Y80,\",\",Z80,\",\",AA80,\",\",AB80,\",BU:\",AD80,\")\")","v":{"$error":"#REF!"}},{"$f":"IF(X80=1,INDIRECT(names&\"SDG^2 values'!$B$4\"),IF(X80=2,INDIRECT(names&\"SDG^2 values'!$C$4\"),IF(X80=3,INDIRECT(names&\"SDG^2 values'!$D$4\"),IF(X80=4,INDIRECT(names&\"SDG^2 values'!$E$4\"),IF(X80=5,INDIRECT(names&\"SDG^2 values'!$F$4\"),1)))))","v":{"$error":"#REF!"}},{"$f":"IF(Y80=1,INDIRECT(names&\"SDG^2 values'!$B$5\"),IF(Y80=2,INDIRECT(names&\"SDG^2 values'!$C$5\"),IF(Y80=3,INDIRECT(names&\"SDG^2 values'!$D$5\"),IF(Y80=4,INDIRECT(names&\"SDG^2 values'!$E$5\"),IF(Y80=5,INDIRECT(names&\"SDG^2 values'!$F$5\"),1)))))","v":{"$error":"#REF!"}},{"$f":"IF(Z80=1,INDIRECT(names&\"SDG^2 values'!$B$6\"),IF(Z80=2,INDIRECT(names&\"SDG^2 values'!$C$6\"),IF(Z80=3,INDIRECT(names&\"SDG^2 values'!$D$6\"),IF(Z80=4,INDIRECT(names&\"SDG^2 values'!$E$6\"),IF(Z80=5,INDIRECT(names&\"SDG^2 values'!$F$6\"),1)))))","v":{"$error":"#REF!"}},{"$f":"IF(AA80=1,INDIRECT(names&\"SDG^2 values'!$B$7\"),IF(AA80=2,INDIRECT(names&\"SDG^2 values'!$C$7\"),IF(AA80=3,INDIRECT(names&\"SDG^2 values'!$D$7\"),IF(AA80=4,INDIRECT(names&\"SDG^2 values'!$E$7\"),IF(AA80=5,INDIRECT(names&\"SDG^2 values'!$F$7\"),1)))))","v":{"$error":"#REF!"}},{"$f":"IF(AB80=1,INDIRECT(names&\"SDG^2 values'!$B$8\"),IF(AB80=2,INDIRECT(names&\"SDG^2 values'!$C$8\"),IF(AB80=3,INDIRECT(names&\"SDG^2 values'!$D$8\"),IF(AB80=4,INDIRECT(names&\"SDG^2 values'!$E$8\"),IF(AB80=5,INDIRECT(names&\"SDG^2 values'!$F$8\"),1)))))","v":{"$error":"#REF!"}}]
["208-28",null,null,5,"-",{"$error":"#REF!"},{"$error":"#REF!"},"-","-",{"$error":"#REF!"},{"$error":"#REF!"},null,1,{"$error":"#REF!"},{"$error":"#REF!"},{"$f":"INDEX(Prüfwert!$1:$1048576,8,MATCH('X-Exchange'!$U81,Prüfwert!$16:$16,0))","v":{"$error":"#N/A"}},1,{"$error":"#REF!"},{"$error":"#REF!"},null,"reference value, fuel from digester sludge/kg/CH U","entry in questionnaire","Prüfwert",1,1,1,1,1,{"$error":"#REF!"},{"$error":"#REF!"},{"$error":"#REF!"},{"$error":"#REF!"},{"$error":"#REF!"},{"$error":"#REF!"},{"$error":"#REF!"},{"$error":"#REF!"},{"$error":"#REF!"},{"$error":"#REF!"}]
["208-94",null,null,5,"-",{"$error":"#REF!"},{"$error":"#REF!"},"-","-",{"$error":"#REF!"},{"$error":"#REF!"},null,1,{"$error":"#REF!"},{"$error":"#REF!"},{"$f":"INDEX(Prüfwert!$1:$1048576,8,MATCH('X-Exchange'!$U82,Prüfwert!$16:$16,0))","v":0},1,{"$error":"#REF!"},{"$error":"#REF!"},null,"reference value, manure/kg/DE U","entry in questionnaire","Prüfwert",1,1,1,1,1,{"$error":"#REF!"},{"$error":"#REF!"},{"$error":"#REF!"},{"$error":"#REF!"},{"$error":"#REF!"},{"$error":"#REF!"},{"$error":"#REF!"},{"$error":"#REF!"},{"$error":"#REF!"},{"$error":"#REF!"}]
["208-95",null,null,5,"-",{"$error":"#REF!"},{"$error":"#REF!"},"-","-",{"$error":"#REF!"},{"$error":"#REF!"},null,1,{"$error":"#REF!"},{"$error":"#REF!"},{"$f":"INDEX(Prüfwert!$1:$1048576,8,MATCH('X-Exchange'!$U83,Prüfwert!$16:$16,0))","v":0},1,{"$error":"#REF!"},{"$error":"#REF!"},null,"reference value, manure/kg/HU U","entry in questionnaire","Prüfwert",1,1,1,1,1,{"$error":"#REF!"},{"$error":"#REF!"},{"$error":"#REF!"},{"$error":"#REF!"},{"$error":"#REF!"},{"$error":"#REF!"},{"$error":"#REF!"},{"$error":"#REF!"},{"$error":"#REF!"},{"$error":"#REF!"}]
["208-96",null,null,5,"-",{"$error":"#REF!"},{"$error":"#REF!"},"-","-",{"$error":"#REF!"},{"$error":"#REF!"},null,1,{"$error":"#REF!"},{"$error":"#REF!"},{"$f":"INDEX(Prüfwert!$1:$1048576,8,MATCH('X-Exchange'!$U84,Prüfwert!$16:$16,0))","v":0},1,{"$error":"#REF!"},{"$error":"#REF!"},null,"reference value, manure/kg/DK U","entry in questionnaire","Prüfwert",1,1,1,1,1,{"$error":"#REF!"},{"$error":"#REF!"},{"$error":"#REF!"},{"$error":"#REF!"},{"$error":"#REF!"},{"$error":"#REF!"},{"$error":"#REF!"},{"$error":"#REF!"},{"$error":"#REF!"},{"$error":"#REF!"}]
["208-40",{"$f":"IF(OR(D85<>D84,E85<>E84,H85<>H84,I85<>I84),IF(D85=5,\"technosphere\",IF(D85=4,H85&\", \"&I85,\"emission \"&H85&\", \"&I85)),\"\")","v":""},null,5,"-",{"$error":"#REF!"},{"$error":"#REF!"},"-","-",{"$error":"#REF!"},{"$error":"#REF!"},null,1,{"$f":"$AF85","v":{"$error":"#REF!"}},{"$f":"$AG85&\"; \"&$V85&\"; \"&$W85","v":{"$error":"#REF!"}},null,1,{"$f":"$AF85","v":{"$error":"#REF!"}},{"$f":"$AG85&\"; \"&$V85&\"; \"&$W85","v":{"$error":"#REF!"}},null,"emission, butane/kg/CH U","entry in questionnaire","DirekteEmissionen",1,1,1,1,1,{"$f":"IF(OR($D85=4,$E85=4),INDEX(INDIRECT(names&\"NamesElementary'!$J:$J\"),MATCH($A85,INDIRECT(names&\"NamesElementary'!$A:$A\"),0),1),INDEX(INDIRECT(names&\"Names'!$W:$W\"),MATCH($A85,INDIRECT(names&\"Names'!$F:$F\"),0),1))","v":{"$error":"#REF!"}},{"$error":"#REF!"},{"$error":"#REF!"},{"$error":"#REF!"},{"$error":"#REF!"},{"$error":"#REF!"},{"$error":"#REF!"},{"$error":"#REF!"},{"$error":"#REF!"},{"$error":"#REF!"}]
["208-35","",null,5,"-",{"$error":"#REF!"},{"$error":"#REF!"},"-","-",{"$error":"#REF!"},{"$error":"#REF!"},null,1,{"$error":"#REF!"},{"$error":"#REF!"},null,1,{"$error":"#REF!"},{"$error":"#REF!"},null,"emission, cadmium/kg/CH U","entry in questionnaire","DirekteEmissionen",1,1,1,1,1,{"$error":"#REF!"},{"$error":"#REF!"},{"$error":"#REF!"},{"$error":"#REF!"},{"$error":"#REF!"},{"$error":"#REF!"},{"$error":"#REF!"},{"$error":"#REF!"},{"$error":"#REF!"},{"$error":"#REF!"}]
["208-76",{"$f":"IF(OR(D87<>D86,E87<>E86,H87<>H86,I87<>I86),IF(D87=5,\"technosphere\",IF(D87=4,H87&\", \"&I87,\"emission \"&H87&\", \"&I87)),\"\")","v":""},null,5,"-",{"$f":"IF(OR(D87=4,E87=4),INDEX(INDIRECT(names&\"NamesElementary'!$1:$65536\"),MATCH(A87,INDIRECT(names&\"NamesElementary'!$A:$A\"),0),2),INDEX(INDIRECT(names&\"Names'!$1:$65536\"),MATCH(A87,INDIRECT(names&\"Names'!$F:$F\"),0),10))","v":{"$error":"#REF!"}},{"$f":"IF(OR(D87=4,E87=4),\"-\",INDEX(INDIRECT(names&\"Names'!$1:$65536\"),MATCH(A87,INDIRECT(names&\"Names'!$F:$F\"),0),11))","v":{"$error":"#REF!"}},{"$f":"IF(OR(D87=4,E87=4),INDEX(INDIRECT(names&\"NamesElementary'!$1:$65536\"),MATCH($A87,INDIRECT(names&\"NamesElementary'!$A:$A\"),0),4),\"-\")","v":"-"},{"$f":"IF(OR(D87=4,E87=4),INDEX(INDIRECT(names&\"NamesElementary'!$1:$65536\"),MATCH($A87,INDIRECT(names&\"NamesElementary'!$A:$A\"),0),5),\"-\")","v":"-"},{"$f":"IF(OR(D87=4,E87=4),\"-\",INDEX(INDIRECT(names&\"Names'!$1:$65536\"),MATCH(A87,INDIRECT(names&\"Names'!$F:$F\"),0),14))","v":{"$error":"#REF!"}},{"$f":"IF(OR(D87=4,E87=4),INDEX(INDIRECT(names&\"NamesElementary'!$1:$65536\"),MATCH(A87,INDIRECT(names&\"NamesElementary'!$A:$A\"),0),7),INDEX(INDIRECT(names&\"Names'!$1:$65536\"),MATCH(A87,INDIRECT(names&\"Names'!$F:$F\"),0),15))","v":{"$error":"#REF!"}},{"$f":"INDEX(Substrates!$AP$126:$AV$139,1,MATCH('X-Exchange'!$U87,Substrates!$AP$139:$AV$139,0))","v":{"$error":"#N/A"}},1,{"$error":"#REF!"},{"$error":"#REF!"},{"$f":"INDEX(Substrates!$AM$126:$AO$126,1,MATCH('X-Exchange'!$U87,Substrates!$AM$139:$AO$139,0))","v":0},1,{"$error":"#REF!"},{"$error":"#REF!"},null,"emission, CH4, biogenic/kg/CH U","entry in questionnaire","DirekteEmissionen",1,1,1,1,1,{"$error":"#REF!"},{"$f":"INDEX(INDIRECT(names&\"BasicUncertainty'!$1:$65536\"),MATCH(AC87,INDIRECT(names&\"BasicUncertainty'!B:B\"),0),8)","v":{"$error":"#REF!"}},{"$f":"EXP(SQRT((LN(AH87)^2)+(LN(AI87)^2)+(LN(AJ87)^2)+(LN(AK87)^2)+(LN(AL87)^2)))","v":{"$error":"#REF!"}},{"$f":"EXP(SQRT((LN(AH87)^2)+(LN(AI87)^2)+(LN(AJ87)^2)+(LN(AK87)^2)+(LN(AL87)^2)+(LN(AD87)^2)))","v":{"$error":"#REF!"}},{"$f":"CONCATENATE(\"(\",X87,\",\",Y87,\",\",Z87,\",\",AA87,\",\",AB87,\",BU:\",AD87,\")\")","v":{"$error":"#REF!"}},{"$f":"IF(X87=1,INDIRECT(names&\"SDG^2 values'!$B$4\"),IF(X87=2,INDIRECT(names&\"SDG^2 values'!$C$4\"),IF(X87=3,INDIRECT(names&\"SDG^2 values'!$D$4\"),IF(X87=4,INDIRECT(names&\"SDG^2 values'!$E$4\"),IF(X87=5,INDIRECT(names&\"SDG^2 values'!$F$4\"),1)))))","v":{"$error":"#REF!"}},{"$f":"IF(Y87=1,INDIRECT(names&\"SDG^2 values'!$B$5\"),IF(Y87=2,INDIRECT(names&\"SDG^2 values'!$C$5\"),IF(Y87=3,INDIRECT(names&\"SDG^2 values'!$D$5\"),IF(Y87=4,INDIRECT(names&\"SDG^2 values'!$E$5\"),IF(Y87=5,INDIRECT(names&\"SDG^2 values'!$F$5\"),1)))))","v":{"$error":"#REF!"}},{"$f":"IF(Z87=1,INDIRECT(names&\"SDG^2 values'!$B$6\"),IF(Z87=2,INDIRECT(names&\"SDG^2 values'!$C$6\"),IF(Z87=3,INDIRECT(names&\"SDG^2 values'!$D$6\"),IF(Z87=4,INDIRECT(names&\"SDG^2 values'!$E$6\"),IF(Z87=5,INDIRECT(names&\"SDG^2 values'!$F$6\"),1)))))","v":{"$error":"#REF!"}},{"$f":"IF(AA87=1,INDIRECT(names&\"SDG^2 values'!$B$7\"),IF(AA87=2,INDIRECT(names&\"SDG^2 values'!$C$7\"),IF(AA87=3,INDIRECT(names&\"SDG^2 values'!$D$7\"),IF(AA87=4,INDIRECT(names&\"SDG^2 values'!$E$7\"),IF(AA87=5,INDIRECT(names&\"SDG^2 values'!$F$7\"),1)))))","v":{"$error":"#REF!"}},{"$f":"IF(AB87=1,INDIRECT(names&\"SDG^2 values'!$B$8\"),IF(AB87=2,INDIRECT(names&\"SDG^2 values'!$C$8\"),IF(AB87=3,INDIRECT(names&\"SDG^2 values'!$D$8\"),IF(AB87=4,INDIRECT(names&\"SDG^2 values'!$E$8\"),IF(AB87=5,INDIRECT(names&\"SDG^2 values'!$F$8\"),1)))))","v":{"$error":"#REF!"}}]
["208-42",{"$f":"IF(OR(D88<>D87,E88<>E87,H88<>H87,I88<>I87),IF(D88=5,\"technosphere\",IF(D88=4,H88&\", \"&I88,\"emission \"&H88&\", \"&I88)),\"\")","v":""},null,5,"-",{"$f":"IF(OR(D88=4,E88=4),INDEX(INDIRECT(names&\"NamesElementary'!$1:$65536\"),MATCH(A88,INDIRECT(names&\"NamesElementary'!$A:$A\"),0),2),INDEX(INDIRECT(names&\"Names'!$1:$65536\"),MATCH(A88,INDIRECT(names&\"Names'!$F:$F\"),0),10))","v":{"$error":"#REF!"}},{"$f":"IF(OR(D88=4,E88=4),\"-\",INDEX(INDIRECT(names&\"Names'!$1:$65536\"),MATCH(A88,INDIRECT(names&\"Names'!$F:$F\"),0),11))","v":{"$error":"#REF!"}},{"$f":"IF(OR(D88=4,E88=4),INDEX(INDIRECT(names&\"NamesElementary'!$1:$65536\"),MATCH($A88,INDIRECT(names&\"NamesElementary'!$A:$A\"),0),4),\"-\")","v":"-"},{"$f":"IF(OR(D88=4,E88=4),INDEX(INDIRECT(names&\"NamesElementary'!$1:$65536\"),MATCH($A88,INDIRECT(names&\"NamesElementary'!$A:$A\"),0),5),\"-\")","v":"-"},{"$f":"IF(OR(D88=4,E88=4),\"-\",INDEX(INDIRECT(names&\"Names'!$1:$65536\"),MATCH(A88,INDIRECT(names&\"Names'!$F:$F\"),0),14))","v":{"$error":"#REF!"}},{"$f":"IF(OR(D88=4,E88=4),INDEX(INDIRECT(names&\"NamesElementary'!$1:$65536\"),MATCH(A88,INDIRECT(names&\"NamesElementary'!$A:$A\"),0),7),INDEX(INDIRECT(names&\"Names'!$1:$65536\"),MATCH(A88,INDIRECT(names&\"Names'!$F:$F\"),0),15))","v":{"$error":"#REF!"}},null,1,{"$error":"#REF!"},{"$error":"#REF!"},null,1,{"$error":"#REF!"},{"$error":"#REF!"},null,"emission, CO2/kg/CH U","entry in questionnaire","DirekteEmissionen",1,1,1,1,1,{"$error":"#REF!"},{"$f":"INDEX(INDIRECT(names&\"BasicUncertainty'!$1:$65536\"),MATCH(AC88,INDIRECT(names&\"BasicUncertainty'!B:B\"),0),8)","v":{"$error":"#REF!"}},{"$f":"EXP(SQRT((LN(AH88)^2)+(LN(AI88)^2)+(LN(AJ88)^2)+(LN(AK88)^2)+(LN(AL88)^2)))","v":{"$error":"#REF!"}},{"$f":"EXP(SQRT((LN(AH88)^2)+(LN(AI88)^2)+(LN(AJ88)^2)+(LN(AK88)^2)+(LN(AL88)^2)+(LN(AD88)^2)))","v":{"$error":"#REF!"}},{"$f":"CONCATENATE(\"(\",X88,\",\",Y88,\",\",Z88,\",\",AA88,\",\",AB88,\",BU:\",AD88,\")\")","v":{"$error":"#REF!"}},{"$f":"IF(X88=1,INDIRECT(names&\"SDG^2 values'!$B$4\"),IF(X88=2,INDIRECT(names&\"SDG^2 values'!$C$4\"),IF(X88=3,INDIRECT(names&\"SDG^2 values'!$D$4\"),IF(X88=4,INDIRECT(names&\"SDG^2 values'!$E$4\"),IF(X88=5,INDIRECT(names&\"SDG^2 values'!$F$4\"),1)))))","v":{"$error":"#REF!"}},{"$f":"IF(Y88=1,INDIRECT(names&\"SDG^2 values'!$B$5\"),IF(Y88=2,INDIRECT(names&\"SDG^2 values'!$C$5\"),IF(Y88=3,INDIRECT(names&\"SDG^2 values'!$D$5\"),IF(Y88=4,INDIRECT(names&\"SDG^2 values'!$E$5\"),IF(Y88=5,INDIRECT(names&\"SDG^2 values'!$F$5\"),1)))))","v":{"$error":"#REF!"}},{"$f":"IF(Z88=1,INDIRECT(names&\"SDG^2 values'!$B$6\"),IF(Z88=2,INDIRECT(names&\"SDG^2 values'!$C$6\"),IF(Z88=3,INDIRECT(names&\"SDG^2 values'!$D$6\"),IF(Z88=4,INDIRECT(names&\"SDG^2 values'!$E$6\"),IF(Z88=5,INDIRECT(names&\"SDG^2 values'!$F$6\"),1)))))","v":{"$error":"#REF!"}},{"$f":"IF(AA88=1,INDIRECT(names&\"SDG^2 values'!$B$7\"),IF(AA88=2,INDIRECT(names&\"SDG^2 values'!$C$7\"),IF(AA88=3,INDIRECT(names&\"SDG^2 values'!$D$7\"),IF(AA88=4,INDIRECT(names&\"SDG^2 values'!$E$7\"),IF(AA88=5,INDIRECT(names&\"SDG^2 values'!$F$7\"),1)))))","v":{"$error":"#REF!"}},{"$f":"IF(AB88=1,INDIRECT(names&\"SDG^2 values'!$B$8\"),IF(AB88=2,INDIRECT(names&\"SDG^2 values'!$C$8\"),IF(AB88=3,INDIRECT(names&\"SDG^2 values'!$D$8\"),IF(AB88=4,INDIRECT(names&\"SDG^2 values'!$E$8\"),IF(AB88=5,INDIRECT(names&\"SDG^2 values'!$F$8\"),1)))))","v":{"$error":"#REF!"}}]
["208-41","",null,5,"-",{"$error":"#REF!"},{"$error":"#REF!"},"-","-",{"$error":"#REF!"},{"$error":"#REF!"},null,1,{"$error":"#REF!"},{"$error":"#REF!"},null,1,{"$error":"#REF!"},{"$error":"#REF!"},null,"emission, ethane/kg/CH U","entry in questionnaire","DirekteEmissionen",1,1,1,1,1,{"$error":"#REF!"},{"$error":"#REF!"},{"$error":"#REF!"},{"$error":"#REF!"},{"$error":"#REF!"},{"$error":"#REF!"},{"$error":"#REF!"},{"$error":"#REF!"},{"$error":"#REF!"},{"$error":"#REF!"}]
["208-78","",null,5,"-",{"$error":"#REF!"},{"$error":"#REF!"},"-","-",{"$error":"#REF!"},{"$error":"#REF!"},{"$f":"INDEX(Substrates!$AP$126:$AV$139,1,MATCH('X-Exchange'!$U90,Substrates!$AP$139:$AV$139,0))","v":{"$error":"#N/A"}},1,{"$error":"#REF!"},{"$error":"#REF!"},null,1,{"$error":"#REF!"},{"$error":"#REF!"},null,"emission, H2S/kg/CH U","entry in questionnaire","DirekteEmissionen",1,1,1,1,1,{"$error":"#REF!"},{"$error":"#REF!"},{"$error":"#REF!"},{"$error":"#REF!"},{"$error":"#REF!"},{"$error":"#REF!"},{"$error":"#REF!"},{"$error":"#REF!"},{"$error":"#REF!"},{"$error":"#REF!"}]
["208-34","",null,5,"-",{"$error":"#REF!"},{"$error":"#REF!"},"-","-",{"$error":"#REF!"},{"$error":"#REF!"},null,1,{"$error":"#REF!"},{"$error":"#REF!"},null,1,{"$error":"#REF!"},{"$error":"#REF!"},null,"emission, lead/kg/CH U","entry in questionnaire","DirekteEmissionen",1,1,1,1,1,{"$error":"#REF!"},{"$error":"#REF!"},{"$error":"#REF!"},{"$error":"#REF!"},{"$error":"#REF!"},{"$error":"#REF!"},{"$error":"#REF!"},{"$error":"#REF!"},{"$error":"#REF!"},{"$error":"#REF!"}]
["208-77","",null,5,"-",{"$error":"#REF!"},{"$error":"#REF!"},"-","-",{"$error":"#REF!"},{"$error":"#REF!"},{"$f":"INDEX(Substrates!$AP$126:$AV$139,1,MATCH('X-Exchange'!$U92,Substrates!$AP$139:$AV$139,0))","v":{"$error":"#DIV/0!"}},1,{"$error":"#REF!"},{"$error":"#REF!"},{"$f":"INDEX(Substrates!$AM$126:$AO$126,1,MATCH('X-Exchange'!$U92,Substrates!$AM$139:$AO$139,0))","v":0},1,{"$error":"#REF!"},{"$error":"#REF!"},null,"emission, N2O/kg/CH U","entry in questionnaire","DirekteEmissionen",1,1,1,1,1,{"$error":"#REF!"},{"$error":"#REF!"},{"$error":"#REF!"},{"$error":"#REF!"},{"$error":"#REF!"},{"$error":"#REF!"},{"$error":"#REF!"},{"$error":"#REF!"},{"$error":"#REF!"},{"$error":"#REF!"}]
["208-37","",null,5,"-",{"$error":"#REF!"},{"$error":"#REF!"},"-","-",{"$error":"#REF!"},{"$error":"#REF!"},{"$f":"Substrates!AQ126","v":{"$error":"#N/A"}},1,{"$error":"#REF!"},{"$error":"#REF!"},{"$f":"INDEX(Substrates!$AM$126:$AO$126,1,MATCH('X-Exchange'!$U93,Substrates!$AM$139:$AO$139,0))","v":0},1,{"$error":"#REF!"},{"$error":"#REF!"},null,"emission, NH3/kg/CH U","entry in questionnaire","DirekteEmissionen",1,1,1,1,1,{"$error":"#REF!"},{"$error":"#REF!"},{"$error":"#REF!"},{"$error":"#REF!"},{"$error":"#REF!"},{"$error":"#REF!"},{"$error":"#REF!"},{"$error":"#REF!"},{"$error":"#REF!"},{"$error":"#REF!"}]
["208-37",{"$f":"IF(OR(D94<>D93,E94<>E93,H94<>H93,I94<>I93),IF(D94=5,\"technosphere\",IF(D94=4,H94&\", \"&I94,\"emission \"&H94&\", \"&I94)),\"\")","v":""},null,5,"-",{"$f":"IF(OR(D94=4,E94=4),INDEX(INDIRECT(names&\"NamesElementary'!$1:$65536\"),MATCH(A94,INDIRECT(names&\"NamesElementary'!$A:$A\"),0),2),INDEX(INDIRECT(names&\"Names'!$1:$65536\"),MATCH(A94,INDIRECT(names&\"Names'!$F:$F\"),0),10))","v":{"$error":"#REF!"}},{"$f":"IF(OR(D94=4,E94=4),\"-\",INDEX(INDIRECT(names&\"Names'!$1:$65536\"),MATCH(A94,INDIRECT(names&\"Names'!$F:$F\"),0),11))","v":{"$error":"#REF!"}},{"$f":"IF(OR(D94=4,E94=4),INDEX(INDIRECT(names&\"NamesElementary'!$1:$65536\"),MATCH($A94,INDIRECT(names&\"NamesElementary'!$A:$A\"),0),4),\"-\")","v":"-"},{"$f":"IF(OR(D94=4,E94=4),INDEX(INDIRECT(names&\"NamesElementary'!$1:$65536\"),MATCH($A94,INDIRECT(names&\"NamesElementary'!$A:$A\"),0),5),\"-\")","v":"-"},{"$f":"IF(OR(D94=4,E94=4),\"-\",INDEX(INDIRECT(names&\"Names'!$1:$65536\"),MATCH(A94,INDIRECT(names&\"Names'!$F:$F\"),0),14))","v":{"$error":"#REF!"}},{"$f":"IF(OR(D94=4,E94=4),INDEX(INDIRECT(names&\"NamesElementary'!$1:$65536\"),MATCH(A94,INDIRECT(names&\"NamesElementary'!$A:$A\"),0),7),INDEX(INDIRECT(names&\"Names'!$1:$65536\"),MATCH(A94,INDIRECT(names&\"Names'!$F:$F\"),0),15))","v":{"$error":"#REF!"}},{"$f":"Substrates!AR126","v":{"$error":"#N/A"}},1,{"$error":"#REF!"},{"$error":"#REF!"},null,1,{"$error":"#REF!"},{"$error":"#REF!"},null,"emission, NH3/kg/CH U","entry in questionnaire","DirekteEmissionen",1,1,1,1,1,{"$error":"#REF!"},{"$f":"INDEX(INDIRECT(names&\"BasicUncertainty'!$1:$65536\"),MATCH(AC94,INDIRECT(names&\"BasicUncertainty'!B:B\"),0),8)","v":{"$error":"#REF!"}},{"$f":"EXP(SQRT((LN(AH94)^2)+(LN(AI94)^2)+(LN(AJ94)^2)+(LN(AK94)^2)+(LN(AL94)^2)))","v":{"$error":"#REF!"}},{"$f":"EXP(SQRT((LN(AH94)^2)+(LN(AI94)^2)+(LN(AJ94)^2)+(LN(AK94)^2)+(LN(AL94)^2)+(LN(AD94)^2)))","v":{"$error":"#REF!"}},{"$f":"CONCATENATE(\"(\",X94,\",\",Y94,\",\",Z94,\",\",AA94,\",\",AB94,\",BU:\",AD94,\")\")","v":{"$error":"#REF!"}},{"$f":"IF(X94=1,INDIRECT(names&\"SDG^2 values'!$B$4\"),IF(X94=2,INDIRECT(names&\"SDG^2 values'!$C$4\"),IF(X94=3,INDIRECT(names&\"SDG^2 values'!$D$4\"),IF(X94=4,INDIRECT(names&\"SDG^2 values'!$E$4\"),IF(X94=5,INDIRECT(names&\"SDG^2 values'!$F$4\"),1)))))","v":{"$error":"#REF!"}},{"$f":"IF(Y94=1,INDIRECT(names&\"SDG^2 values'!$B$5\"),IF(Y94=2,INDIRECT(names&\"SDG^2 values'!$C$5\"),IF(Y94=3,INDIRECT(names&\"SDG^2 values'!$D$5\"),IF(Y94=4,INDIRECT(names&\"SDG^2 values'!$E$5\"),IF(Y94=5,INDIRECT(names&\"SDG^2 values'!$F$5\"),1)))))","v":{"$error":"#REF!"}},{"$f":"IF(Z94=1,INDIRECT(names&\"SDG^2 values'!$B$6\"),IF(Z94=2,INDIRECT(names&\"SDG^2 values'!$C$6\"),IF(Z94=3,INDIRECT(names&\"SDG^2 values'!$D$6\"),IF(Z94=4,INDIRECT(names&\"SDG^2 values'!$E$6\"),IF(Z94=5,INDIRECT(names&\"SDG^2 values'!$F$6\"),1)))))","v":{"$error":"#REF!"}},{"$f":"IF(AA94=1,INDIRECT(names&\"SDG^2 values'!$B$7\"),IF(AA94=2,INDIRECT(names&\"SDG^2 values'!$C$7\"),IF(AA94=3,INDIRECT(names&\"SDG^2 values'!$D$7\"),IF(AA94=4,INDIRECT(names&\"SDG^2 values'!$E$7\"),IF(AA94=5,INDIRECT(names&\"SDG^2 values'!$F$7\"),1)))))","v":{"$error":"#REF!"}},{"$f":"IF(AB94=1,INDIRECT(names&\"SDG^2 values'!$B$8\"),IF(AB94=2,INDIRECT(names&\"SDG^2 values'!$C$8\"),IF(AB94=3,INDIRECT(names&\"SDG^2 values'!$D$8\"),IF(AB94=4,INDIRECT(names&\"SDG^2 values'!$E$8\"),IF(AB94=5,INDIRECT(names&\"SDG^2 values'!$F$8\"),1)))))","v":{"$error":"#REF!"}}]
["208-39",{"$f":"IF(OR(D95<>D93,E95<>E93,H95<>H93,I95<>I93),IF(D95=5,\"technosphere\",IF(D95=4,H95&\", \"&I95,\"emission \"&H95&\", \"&I95)),\"\")","v":""},null,5,"-",{"$error":"#REF!"},{"$error":"#REF!"},"-","-",{"$error":"#REF!"},{"$error":"#REF!"},{"$f":"INDEX(Substrates!$AP$126:$AV$139,1,MATCH('X-Exchange'!$U95,Substrates!$AP$139:$AV$139,0))","v":{"$error":"#N/A"}},1,{"$error":"#REF!"},{"$error":"#REF!"},null,1,{"$error":"#REF!"},{"$error":"#REF!"},null,"emission, NMVOC/kg/CH U","entry in questionnaire","DirekteEmissionen",1,1,1,1,1,{"$error":"#REF!"},{"$error":"#REF!"},{"$error":"#REF!"},{"$error":"#REF!"},{"$error":"#REF!"},{"$error":"#REF!"},{"$error":"#REF!"},{"$error":"#REF!"},{"$error":"#REF!"},{"$error":"#REF!"}]
["208-32","",null,5,"-",{"$error":"#REF!"},{"$error":"#REF!"},"-","-",{"$error":"#REF!"},{"$error":"#REF!"},{"$f":"INDEX(Substrates!$AP$126:$AV$139,1,MATCH('X-Exchange'!$U96,Substrates!$AP$139:$AV$139,0))","v":{"$error":"#N/A"}},1,{"$error":"#REF!"},{"$error":"#REF!"},null,1,{"$error":"#REF!"},{"$error":"#REF!"},null,"emission, NOx/kg/CH U","entry in questionnaire","DirekteEmissionen",1,1,1,1,1,{"$error":"#REF!"},{"$error":"#REF!"},{"$error":"#REF!"},{"$error":"#REF!"},{"$error":"#REF!"},{"$error":"#REF!"},{"$error":"#REF!"},{"$error":"#REF!"},{"$error":"#REF!"},{"$error":"#REF!"}]
["208-33","",null,5,"-",{"$error":"#REF!"},{"$error":"#REF!"},"-","-",{"$error":"#REF!"},{"$error":"#REF!"},null,1,{"$error":"#REF!"},{"$error":"#REF!"},null,1,{"$error":"#REF!"},{"$error":"#REF!"},null,"emission, PM2.5/kg/CH U","entry in questionnaire","DirekteEmissionen",1,1,1,1,1,{"$error":"#REF!"},{"$error":"#REF!"},{"$error":"#REF!"},{"$error":"#REF!"},{"$error":"#REF!"},{"$error":"#REF!"},{"$error":"#REF!"},{"$error":"#REF!"},{"$error":"#REF!"},{"$error":"#REF!"}]
["208-38","",null,5,"-",{"$error":"#REF!"},{"$error":"#REF!"},"-","-",{"$error":"#REF!"},{"$error":"#REF!"},null,1,{"$error":"#REF!"},{"$error":"#REF!"},null,1,{"$error":"#REF!"},{"$error":"#REF!"},null,"emission, propane/kg/CH U","entry in questionnaire","DirekteEmissionen",1,1,1,1,1,{"$error":"#REF!"},{"$error":"#REF!"},{"$error":"#REF!"},{"$error":"#REF!"},{"$error":"#REF!"},{"$error":"#REF!"},{"$error":"#REF!"},{"$error":"#REF!"},{"$error":"#REF!"},{"$error":"#REF!"}]
["208-36","",null,5,"-",{"$error":"#REF!"},{"$error":"#REF!"},"-","-",{"$error":"#REF!"},{"$error":"#REF!"},null,1,{"$error":"#REF!"},{"$error":"#REF!"},null,1,{"$error":"#REF!"},{"$error":"#REF!"},null,"emission, zinc/kg/CH U","entry in questionnaire","DirekteEmissionen",1,1,1,1,1,{"$error":"#REF!"},{"$error":"#REF!"},{"$error":"#REF!"},{"$error":"#REF!"},{"$error":"#REF!"},{"$error":"#REF!"},{"$error":"#REF!"},{"$error":"#REF!"},{"$error":"#REF!"},{"$error":"#REF!"}]
["208-96","",null,5,"-",{"$error":"#REF!"},{"$error":"#REF!"},"-","-",{"$error":"#REF!"},{"$error":"#REF!"},null,1,{"$error":"#REF!"},{"$error":"#REF!"},null,1,{"$error":"#REF!"},{"$error":"#REF!"},null,"reference value, manure/kg/DK U","entry in questionnaire","own assumption",1,1,1,1,1,{"$error":"#REF!"},{"$error":"#REF!"},{"$error":"#REF!"},{"$error":"#REF!"},{"$error":"#REF!"},{"$error":"#REF!"},{"$error":"#REF!"},{"$error":"#REF!"},{"$error":"#REF!"},{"$error":"#REF!"}]
["208-96","",null,5,"-",{"$error":"#REF!"},{"$error":"#REF!"},"-","-",{"$error":"#REF!"},{"$error":"#REF!"},null,1,{"$error":"#REF!"},{"$error":"#REF!"},null,1,{"$error":"#REF!"},{"$error":"#REF!"},null,"reference value, manure/kg/DK U","entry in questionnaire","own assumption",1,1,1,1,1,{"$error":"#REF!"},{"$error":"#REF!"},{"$error":"#REF!"},{"$error":"#REF!"},{"$error":"#REF!"},{"$error":"#REF!"},{"$error":"#REF!"},{"$error":"#REF!"},{"$error":"#REF!"},{"$error":"#REF!"}]
["208-96","",null,5,"-",{"$error":"#REF!"},{"$error":"#REF!"},"-","-",{"$error":"#REF!"},{"$error":"#REF!"},null,1,{"$error":"#REF!"},{"$error":"#REF!"},null,1,{"$error":"#REF!"},{"$error":"#REF!"},null,"reference value, manure/kg/DK U","entry in questionnaire","own assumption",1,1,1,1,1,{"$error":"#REF!"},{"$error":"#REF!"},{"$error":"#REF!"},{"$error":"#REF!"},{"$error":"#REF!"},{"$error":"#REF!"},{"$error":"#REF!"},{"$error":"#REF!"},{"$error":"#REF!"},{"$error":"#REF!"}]
["208-96","",null,5,"-",{"$error":"#REF!"},{"$error":"#REF!"},"-","-",{"$error":"#REF!"},{"$error":"#REF!"},null,1,{"$error":"#REF!"},{"$error":"#REF!"},null,1,{"$error":"#REF!"},{"$error":"#REF!"},null,"reference value, manure/kg/DK U","entry in questionnaire","own assumption",1,1,1,1,1,{"$error":"#REF!"},{"$error":"#REF!"},{"$error":"#REF!"},{"$error":"#REF!"},{"$error":"#REF!"},{"$error":"#REF!"},{"$error":"#REF!"},{"$error":"#REF!"},{"$error":"#REF!"},{"$error":"#REF!"}]
["208-96","",null,5,"-",{"$error":"#REF!"},{"$error":"#REF!"},"-","-",{"$error":"#REF!"},{"$error":"#REF!"},null,1,{"$error":"#REF!"},{"$error":"#REF!"},null,1,{"$error":"#REF!"},{"$error":"#REF!"},null,"reference value, manure/kg/DK U","entry in questionnaire","own assumption",1,1,1,1,1,{"$error":"#REF!"},{"$error":"#REF!"},{"$error":"#REF!"},{"$error":"#REF!"},{"$error":"#REF!"},{"$error":"#REF!"},{"$error":"#REF!"},{"$error":"#REF!"},{"$error":"#REF!"},{"$error":"#REF!"}]
["208-96","",null,5,"-",{"$error":"#REF!"},{"$error":"#REF!"},"-","-",{"$error":"#REF!"},{"$error":"#REF!"},null,1,{"$error":"#REF!"},{"$error":"#REF!"},null,1,{"$error":"#REF!"},{"$error":"#REF!"},null,"reference value, manure/kg/DK U","entry in questionnaire","own assumption",1,1,1,1,1,{"$error":"#REF!"},{"$error":"#REF!"},{"$error":"#REF!"},{"$error":"#REF!"},{"$error":"#REF!"},{"$error":"#REF!"},{"$error":"#REF!"},{"$error":"#REF!"},{"$error":"#REF!"},{"$error":"#REF!"}]
["208-96","",null,5,"-",{"$error":"#REF!"},{"$error":"#REF!"},"-","-",{"$error":"#REF!"},{"$error":"#REF!"},null,1,{"$error":"#REF!"},{"$error":"#REF!"},null,1,{"$error":"#REF!"},{"$error":"#REF!"},null,"reference value, manure/kg/DK U","entry in questionnaire","own assumption",1,1,1,1,1,{"$error":"#REF!"},{"$error":"#REF!"},{"$error":"#REF!"},{"$error":"#REF!"},{"$error":"#REF!"},{"$error":"#REF!"},{"$error":"#REF!"},{"$error":"#REF!"},{"$error":"#REF!"},{"$error":"#REF!"}]
[]
["222-72",null,null,5,"-",{"$f":"IF(OR(D108=4,E108=4),INDEX(INDIRECT(names&\"NamesElementary'!$1:$65536\"),MATCH(A108,INDIRECT(names&\"NamesElementary'!$A:$A\"),0),2),INDEX(INDIRECT(names&\"Names'!$1:$65536\"),MATCH(A108,INDIRECT(names&\"Names'!$F:$F\"),0),10))","v":{"$error":"#REF!"}},{"$f":"IF(OR(D108=4,E108=4),\"-\",INDEX(INDIRECT(names&\"Names'!$1:$65536\"),MATCH(A108,INDIRECT(names&\"Names'!$F:$F\"),0),11))","v":{"$error":"#REF!"}},{"$f":"IF(OR(D108=4,E108=4),INDEX(INDIRECT(names&\"NamesElementary'!$1:$65536\"),MATCH($A108,INDIRECT(names&\"NamesElementary'!$A:$A\"),0),4),\"-\")","v":"-"},{"$f":"IF(OR(D108=4,E108=4),INDEX(INDIRECT(names&\"NamesElementary'!$1:$65536\"),MATCH($A108,INDIRECT(names&\"NamesElementary'!$A:$A\"),0),5),\"-\")","v":"-"},{"$f":"IF(OR(D108=4,E108=4),\"-\",INDEX(INDIRECT(names&\"Names'!$1:$65536\"),MATCH(A108,INDIRECT(names&\"Names'!$F:$F\"),0),14))","v":{"$error":"#REF!"}},{"$f":"IF(OR(D108=4,E108=4),INDEX(INDIRECT(names&\"NamesElementary'!$1:$65536\"),MATCH(A108,INDIRECT(names&\"NamesElementary'!$A:$A\"),0),7),INDEX(INDIRECT(names&\"Names'!$1:$65536\"),MATCH(A108,INDIRECT(names&\"Names'!$F:$F\"),0),15))","v":{"$error":"#REF!"}},{"$f":"SUMIF(Substrates!AY:AY,'X-Exchange'!U108,Substrates!BD:BD)","v":0},1,{"$f":"$AF108","v":{"$error":"#REF!"}},{"$f":"$AG108&\"; \"&$V108&\"; \"&$W108","v":{"$error":"#REF!"}},null,1,{"$f":"$AF108","v":{"$error":"#REF!"}},{"$f":"$AG108&\"; \"&$V108&\"; \"&$W108","v":{"$error":"#REF!"}},null,"Durchschnitt",{"$f":"$V$9","v":"entry in questionnaire"},"InputsBG",1,1,1,1,1,{"$f":"IF(OR($D108=4,$E108=4),INDEX(INDIRECT(names&\"NamesElementary'!$J:$J\"),MATCH($A108,INDIRECT(names&\"NamesElementary'!$A:$A\"),0),1),INDEX(INDIRECT(names&\"Names'!$W:$W\"),MATCH($A108,INDIRECT(names&\"Names'!$F:$F\"),0),1))","v":{"$error":"#REF!"}},{"$f":"INDEX(INDIRECT(names&\"BasicUncertainty'!$1:$65536\"),MATCH(AC108,INDIRECT(names&\"BasicUncertainty'!B:B\"),0),8)","v":{"$error":"#REF!"}},{"$f":"EXP(SQRT((LN(AH108)^2)+(LN(AI108)^2)+(LN(AJ108)^2)+(LN(AK108)^2)+(LN(AL108)^2)))","v":{"$error":"#REF!"}},{"$f":"EXP(SQRT((LN(AH108)^2)+(LN(AI108)^2)+(LN(AJ108)^2)+(LN(AK108)^2)+(LN(AL108)^2)+(LN(AD108)^2)))","v":{"$error":"#REF!"}},{"$f":"CONCATENATE(\"(\",X108,\",\",Y108,\",\",Z108,\",\",AA108,\",\",AB108,\",BU:\",AD108,\")\")","v":{"$error":"#REF!"}},{"$f":"IF(X108=1,INDIRECT(names&\"SDG^2 values'!$B$4\"),IF(X108=2,INDIRECT(names&\"SDG^2 values'!$C$4\"),IF(X108=3,INDIRECT(names&\"SDG^2 values'!$D$4\"),IF(X108=4,INDIRECT(names&\"SDG^2 values'!$E$4\"),IF(X108=5,INDIRECT(names&\"SDG^2 values'!$F$4\"),1)))))","v":{"$error":"#REF!"}},{"$f":"IF(Y108=1,INDIRECT(names&\"SDG^2 values'!$B$5\"),IF(Y108=2,INDIRECT(names&\"SDG^2 values'!$C$5\"),IF(Y108=3,INDIRECT(names&\"SDG^2 values'!$D$5\"),IF(Y108=4,INDIRECT(names&\"SDG^2 values'!$E$5\"),IF(Y108=5,INDIRECT(names&\"SDG^2 values'!$F$5\"),1)))))","v":{"$error":"#REF!"}},{"$f":"IF(Z108=1,INDIRECT(names&\"SDG^2 values'!$B$6\"),IF(Z108=2,INDIRECT(names&\"SDG^2 values'!$C$6\"),IF(Z108=3,INDIRECT(names&\"SDG^2 values'!$D$6\"),IF(Z108=4,INDIRECT(names&\"SDG^2 values'!$E$6\"),IF(Z108=5,INDIRECT(names&\"SDG^2 values'!$F$6\"),1)))))","v":{"$error":"#REF!"}},{"$f":"IF(AA108=1,INDIRECT(names&\"SDG^2 values'!$B$7\"),IF(AA108=2,INDIRECT(names&\"SDG^2 values'!$C$7\"),IF(AA108=3,INDIRECT(names&\"SDG^2 values'!$D$7\"),IF(AA108=4,INDIRECT(names&\"SDG^2 values'!$E$7\"),IF(AA108=5,INDIRECT(names&\"SDG^2 values'!$F$7\"),1)))))","v":{"$error":"#REF!"}},{"$f":"IF(AB108=1,INDIRECT(names&\"SDG^2 values'!$B$8\"),IF(AB108=2,INDIRECT(names&\"SDG^2 values'!$C$8\"),IF(AB108=3,INDIRECT(names&\"SDG^2 values'!$D$8\"),IF(AB108=4,INDIRECT(names&\"SDG^2 values'!$E$8\"),IF(AB108=5,INDIRECT(names&\"SDG^2 values'!$F$8\"),1)))))","v":{"$error":"#REF!"}}]
[{"$nulls":11},{"$f":"COUNT(L37:L70)","v":33}]
[{"$nulls":11},27]

{"sheet":"X-Process","index":18,"n_rows":50,"n_cols":5,"rows_kept":50,"cut":false,"hidden":true,"merged":[]}
["Type","ID","Field name, IndexNumber",{"$f":"'X-Exchange'!L1","v":848},{"$f":"'X-Exchange'!P1","v":"208-01"}]
["ReferenceFunction",401,"Name",{"$f":"'X-Exchange'!$L3","v":"Gesamtbelastung, "},{"$f":"'X-Exchange'!$P3","v":"Prüfwert, "}]
["Geography",662,"Location",{"$f":"'X-Exchange'!$L4","v":{"$error":"#N/A"}},{"$f":"'X-Exchange'!$P4","v":{"$error":"#N/A"}}]
["ReferenceFunction",493,"InfrastructureProcess ",{"$f":"'X-Exchange'!$L5","v":0},{"$f":"'X-Exchange'!$P5","v":0}]
["ReferenceFunction",403,"Unit",{"$f":"'X-Exchange'!$L6","v":"a"},{"$f":"'X-Exchange'!$P6","v":"a"}]
["DataSetInformation",201,"Type",{"$f":"IF(INDEX(INDIRECT(names&\"Names'!$U:$U\"),MATCH(D$1,INDIRECT(names&\"Names'!$F:$F\"),0),1)=0,1,5)","v":{"$error":"#REF!"}},{"$error":"#REF!"}]
[null,202,"Version",1,1]
[null,203,"energyValues",0,0]
[null,205,"LanguageCode","en","en"]
[null,206,"LocalLanguageCode","de","de"]
["DataEntryBy",302,"Person",{"$f":"entry","v":41},41]
[null,304,"QualityNetwork",1,1]
["ReferenceFunction",400,"DataSetRelatesToProduct",1,1]
[null,402,"IncludedProcesses","This data set includes all inputs for the operation of the biogas plant.","This dataset includes the reference values for all outputs of the biogas plant."]
[null,404,"Amount",1,1]
[null,490,"LocalName",{"$f":"INDEX(INDIRECT(names&\"Names'!$G:$G\"),MATCH(D$1,INDIRECT(names&\"Names'!$F:$F\"),0),1)","v":{"$error":"#REF!"}},{"$error":"#REF!"}]
[null,491,"Synonyms",{"$f":"INDEX(INDIRECT(names&\"Names'!$t:$t\"),MATCH(D$1,INDIRECT(names&\"Names'!$F:$F\"),0),1)","v":{"$error":"#REF!"}},{"$error":"#REF!"}]
[null,492,"GeneralComment","The module reflects an average pipe size for a cooling system with 104 kW.","The module reflects an average pipe size for a cooling system with 104 kW."]
[null,494,"InfrastructureIncluded ",1,1]
[null,495,"Category","biogas","biogas"]
[null,496,"SubCategory","certifciation","certifciation"]
[null,497,"LocalCategory","Biogas","Biogas"]
[null,498,"LocalSubCategory","Zeritifizierung",{"$f":"D23","v":"Zeritifizierung"}]
[null,499,"Formula",{"$f":"IF(INDEX(INDIRECT(names&\"Names'!$S:$S\"),MATCH(D$1,INDIRECT(names&\"Names'!$F:$F\"),0),1)=0,\"\",INDEX(INDIRECT(names&\"Names'!$S:$S\"),MATCH(D$1,INDIRECT(names&\"Names'!$F:$F\"),0),1))","v":{"$error":"#REF!"}},{"$error":"#REF!"}]
[null,501,"StatisticalClassification"]
[null,502,"CASNumber",{"$f":"IF(INDEX(INDIRECT(names&\"Names'!$r:$r\"),MATCH(D$1,INDIRECT(names&\"Names'!$F:$F\"),0),1)=0,\"\",INDEX(INDIRECT(names&\"Names'!$r:$r\"),MATCH(D$1,INDIRECT(names&\"Names'!$F:$F\"),0),1))","v":{"$error":"#REF!"}},{"$error":"#REF!"}]
["TimePeriod",601,"StartDate",{"$f":"YEAR(TODAY())","v":2021},2021]
[null,602,"EndDate",2021,2021]
[null,603,"DataValidForEntirePeriod",1,1]
[null,611,"OtherPeriodText"]
["Geography",663,"Text",{"$f":"D3","v":{"$error":"#N/A"}},{"$f":"E3","v":{"$error":"#N/A"}}]
["Technology",692,"Text","Digestions of biogenic waste in a biogas plant","Reference value based on natural gas and other conventional systems"]
["Representativeness",722,"Percent",0,0]
[null,724,"ProductionVolume","unknown","unknown"]
[null,725,"SamplingProcedure","unknown","unknown"]
[null,726,"Extrapolations","none","none"]
[null,727,"UncertaintyAdjustments","none","none"]
["DataGeneratorAndPublication",751,"Person",41,41]
[null,756,"DataPublishedIn",2,2]
[null,757,"ReferenceToPublishedSource",{"$f":"source","v":41},41]
[null,758,"Copyright",1,1]
[null,759,"AccessRestrictedTo",0,0]
[null,760,"CompanyCode"]
[null,761,"CountryCode",{"$f":"IF(D42=0,\"\",\"CH\")","v":""},{"$f":"IF(E42=0,\"\",\"CH\")","v":""}]
[null,762,"PageNumbers"]
["ProofReading",5616,"Validator",{"$f":"validator","v":41},41]
[null,5615,"Details",{"$f":"TODAY()","v":"2021-03-30"},"2021-03-30"]
[null,5619,"OtherDetails",{"$f":"CELL(\"filename\",D55)","v":"C:\\Users\\mc\\Desktop\\[KWM-Biomasse.xlsx]X-Process"},{"$f":"CELL(\"filename\",E55)","v":"C:\\Users\\mc\\Desktop\\[KWM-Biomasse.xlsx]X-Process"}]
[]
["Länge 724",null,null,{"$f":"IF(LEN(D34)>79,79-LEN(D34),\"OK\")","v":"OK"},"OK"]

{"sheet":"X-Source","index":19,"n_rows":16,"n_cols":4,"rows_kept":16,"cut":false,"hidden":true,"merged":[]}
["Type","ID","Field name"]
["Sources",801,"Number",41]
["Sources",802,"SourceType",3]
["Sources",803,"Text","Report"]
["Sources",1002,"FirstAuthor","Jungbluth N."]
["Sources",1003,"AdditionalAuthors"]
["Sources",1004,"Year",2018]
["Sources",1005,"Title","Handbuch für die naturemade Kennwertmodelle: Ökobilanzen für die Prüfung des globalen Kriteriums"]
[null,1006,"PageNumbers",""]
["Sources",1007,"NameOfEditors","Verein für umweltgerechte Energie (VUE)"]
["Sources",1008,"TitleOfAnthology","Project report"]
["Sources",1009,"PlaceOfPublication","Schaffhausen, CH"]
["Sources",1010,"Publisher","ESU-services Ltd."]
["Sources",1011,"Journal","-"]
["Sources",1012,"VolumeNo",208]
["Sources",1013,"IssueNo","-"]

{"sheet":"X-Person","index":20,"n_rows":9,"n_cols":7,"rows_kept":9,"cut":false,"hidden":true,"merged":[]}
["Type","ID","Field name"]
["Persons",5800,"Number",41,49,null,50]
["Persons",5802,"Name","Niels Jungbluth","Christoph Meili"]
["Persons",5803,"Address","Vorstadt 14, CH-8200 Schaffhausen","Vorstadt 14, CH-8200 Schaffhausen",null,"Vorstadt 14, CH-8200 Schaffhausen"]
["Persons",5804,"Telephone","0041 44 940 61 32","0041 44 940 61 02",null,"0041 44 940 61 02"]
["Persons",5805,"Telefax","0041 44 940 67 94","0041 44 940 67 94",null,"0041 44 940 67 94"]
["Persons",5806,"Email","jungbluth@esu-services.ch","meili@esu-services.ch",null,"info@esu-services.ch"]
["Persons",5807,"CompanyCode ","ESU","ESU",null,"ESU"]
["Persons",5808,"CountryCode","CH","CH",null,"CH"]

{"sheet":"LCIAbm","index":21,"n_rows":177,"n_cols":22,"rows_kept":177,"cut":false,"hidden":true,"merged":[]}
["Zeile",null,9,23,10,86,18,63,64,72,73,66,71,13,13,13,13,13,103,32,67,67]
[null,null,{"$f":"INDEX(menuesBM!$1:$1048576,C1,sprache)","v":0},{"$f":"INDEX(menuesBM!$1:$1048576,D1,sprache)","v":0},{"$f":"INDEX(menuesBM!$1:$1048576,E1,sprache)","v":0},{"$f":"INDEX(menuesBM!$1:$1048576,F1,sprache)","v":0},{"$f":"INDEX(menuesBM!$1:$1048576,G1,sprache)","v":0},{"$f":"INDEX(menuesBM!$1:$1048576,H1,sprache)","v":0},{"$f":"INDEX(menuesBM!$1:$1048576,I1,sprache)","v":0},{"$f":"INDEX(menuesBM!$1:$1048576,J1,sprache)","v":0},{"$f":"INDEX(menuesBM!$1:$1048576,K1,sprache)","v":0},{"$f":"INDEX(menuesBM!$1:$1048576,L1,sprache)","v":0},{"$f":"INDEX(menuesBM!$1:$1048576,M1,sprache)","v":0},{"$f":"INDEX(menuesBM!$1:$1048576,N1,sprache)","v":0},{"$f":"INDEX(menuesBM!$1:$1048576,O1,sprache)","v":0},{"$f":"INDEX(menuesBM!$1:$1048576,P1,sprache)","v":0},{"$f":"INDEX(menuesBM!$1:$1048576,Q1,sprache)","v":0},{"$f":"INDEX(menuesBM!$1:$1048576,R1,sprache)","v":0},{"$f":"INDEX(menuesBM!$1:$1048576,S1,sprache)","v":0},{"$f":"INDEX(menuesBM!$1:$1048576,T1,sprache)","v":0},{"$f":"INDEX(menuesBM!$1:$1048576,U1,sprache)","v":0},{"$f":"INDEX(menuesBM!$1:$1048576,V1,sprache)","v":0}]
["Eingabe 1",null,{"$f":"INDEX(PrüfungBM!$1:$1048576,MATCH(C$1,PrüfungBM!$A:$A,0),3)","v":0},{"$f":"INDEX(PrüfungBM!$1:$1048576,MATCH(D$1,PrüfungBM!$A:$A,0),3)","v":0},{"$f":"INDEX(PrüfungBM!$1:$1048576,MATCH(E$1,PrüfungBM!$A:$A,0),3)","v":0},{"$f":"INDEX(PrüfungBM!$1:$1048576,MATCH(F$1,PrüfungBM!$A:$A,0),3)","v":0},{"$f":"INDEX(PrüfungBM!$1:$1048576,MATCH(G$1,PrüfungBM!$A:$A,0),3)","v":0},{"$f":"INDEX(PrüfungBM!$1:$1048576,MATCH(H$1,PrüfungBM!$A:$A,0),3)","v":0},{"$f":"INDEX(PrüfungBM!$1:$1048576,MATCH(I$1,PrüfungBM!$A:$A,0),3)","v":0},{"$f":"INDEX(PrüfungBM!$1:$1048576,MATCH(J$1,PrüfungBM!$A:$A,0),3)","v":0},{"$f":"INDEX(PrüfungBM!$1:$1048576,MATCH(K$1,PrüfungBM!$A:$A,0),3)","v":0},{"$f":"INDEX(PrüfungBM!$1:$1048576,MATCH(L$1,PrüfungBM!$A:$A,0),3)","v":0},{"$f":"INDEX(PrüfungBM!$1:$1048576,MATCH(M$1,PrüfungBM!$A:$A,0),3)","v":0},{"$f":"INDEX(PrüfungBM!$1:$1048576,MATCH(N$1,PrüfungBM!$A:$A,0),3)","v":1},{"$f":"INDEX(PrüfungBM!$1:$1048576,MATCH(O$1,PrüfungBM!$A:$A,0),3)","v":1},{"$f":"INDEX(PrüfungBM!$1:$1048576,MATCH(P$1,PrüfungBM!$A:$A,0),3)","v":1},{"$f":"INDEX(PrüfungBM!$1:$1048576,MATCH(Q$1,PrüfungBM!$A:$A,0),3)","v":1},{"$f":"INDEX(PrüfungBM!$1:$1048576,MATCH(R$1,PrüfungBM!$A:$A,0),3)","v":1},{"$f":"INDEX(PrüfungBM!$1:$1048576,MATCH(S$1,PrüfungBM!$A:$A,0),3)","v":0},{"$f":"INDEX(PrüfungBM!$1:$1048576,MATCH(T$1,PrüfungBM!$A:$A,0),3)","v":0},{"$f":"INDEX(PrüfungBM!$1:$1048576,MATCH(U$1,PrüfungBM!$A:$A,0),3)","v":1},{"$f":"INDEX(PrüfungBM!$1:$1048576,MATCH(V$1,PrüfungBM!$A:$A,0),3)","v":1}]
["Eingabe 2",null,{"$f":"INDEX(PrüfungBM!$1:$1048576,MATCH(C$1,PrüfungBM!$A:$A,0),4)","v":0},{"$f":"INDEX(PrüfungBM!$1:$1048576,MATCH(D$1,PrüfungBM!$A:$A,0),4)","v":0},{"$f":"INDEX(PrüfungBM!$1:$1048576,MATCH(E$1,PrüfungBM!$A:$A,0),4)","v":0},{"$f":"INDEX(PrüfungBM!$1:$1048576,MATCH(F$1,PrüfungBM!$A:$A,0),4)","v":0},{"$f":"INDEX(PrüfungBM!$1:$1048576,MATCH(G$1,PrüfungBM!$A:$A,0),4)","v":0},{"$f":"INDEX(PrüfungBM!$1:$1048576,MATCH(H$1,PrüfungBM!$A:$A,0),4)","v":0},{"$f":"INDEX(PrüfungBM!$1:$1048576,MATCH(I$1,PrüfungBM!$A:$A,0),4)","v":0},{"$f":"INDEX(PrüfungBM!$1:$1048576,MATCH(J$1,PrüfungBM!$A:$A,0),4)","v":0},{"$f":"INDEX(PrüfungBM!$1:$1048576,MATCH(K$1,PrüfungBM!$A:$A,0),4)","v":0},{"$f":"INDEX(PrüfungBM!$1:$1048576,MATCH(L$1,PrüfungBM!$A:$A,0),4)","v":0},{"$f":"INDEX(PrüfungBM!$1:$1048576,MATCH(M$1,PrüfungBM!$A:$A,0),4)","v":0},9.9000000000000001E-6,1.29E-5,6.9999999999999994E-5,1.2999999999999999E-4,2.55E-5,{"$f":"IF(S3=0,1100,S3)","v":1100},{"$f":"INDEX(PrüfungBM!$1:$1048576,MATCH(T$1,PrüfungBM!$A:$A,0),4)","v":0.1},{"$f":"INDEX(PrüfungBM!$1:$1048576,MATCH(U$1,PrüfungBM!$A:$A,0),4)","v":1},{"$f":"INDEX(PrüfungBM!$1:$1048576,MATCH(V$1,PrüfungBM!$A:$A,0),4)","v":1}]
["Eingabe 3",null,{"$f":"INDEX(PrüfungBM!$1:$1048576,MATCH(C$1,PrüfungBM!$A:$A,0),5)","v":0},{"$f":"INDEX(PrüfungBM!$1:$1048576,MATCH(D$1,PrüfungBM!$A:$A,0),5)","v":0},{"$f":"INDEX(PrüfungBM!$1:$1048576,MATCH(E$1,PrüfungBM!$A:$A,0),5)","v":0},{"$f":"INDEX(PrüfungBM!$1:$1048576,MATCH(F$1,PrüfungBM!$A:$A,0),5)","v":0},{"$f":"INDEX(PrüfungBM!$1:$1048576,MATCH(G$1,PrüfungBM!$A:$A,0),5)","v":0},{"$f":"INDEX(PrüfungBM!$1:$1048576,MATCH(H$1,PrüfungBM!$A:$A,0),5)","v":0},{"$f":"INDEX(PrüfungBM!$1:$1048576,MATCH(I$1,PrüfungBM!$A:$A,0),5)","v":0},{"$f":"INDEX(PrüfungBM!$1:$1048576,MATCH(J$1,PrüfungBM!$A:$A,0),5)","v":0},{"$f":"INDEX(PrüfungBM!$1:$1048576,MATCH(K$1,PrüfungBM!$A:$A,0),5)","v":0},{"$f":"INDEX(PrüfungBM!$1:$1048576,MATCH(L$1,PrüfungBM!$A:$A,0),5)","v":0},{"$f":"INDEX(PrüfungBM!$1:$1048576,MATCH(M$1,PrüfungBM!$A:$A,0),5)","v":0},{"$f":"IF(BHKWbm=N12,N4*N3*3.6,0)","v":0},{"$f":"IF(BHKWbm=O12,O4*O3*3.6,0)","v":0},{"$f":"IF(BHKWbm=P12,P4*P3*3.6,0)","v":2.52E-4},{"$f":"IF(BHKWbm=Q12,Q4*Q3*3.6,0)","v":0},{"$f":"IF(BHKWbm=R12,R4*R3*3.6,0)","v":0},{"$f":"SUM(N5:R5)","v":2.52E-4},{"$f":"INDEX(PrüfungBM!$1:$1048576,MATCH(T$1,PrüfungBM!$A:$A,0),5)","v":0},{"$f":"INDEX(PrüfungBM!$1:$1048576,MATCH(U$1,PrüfungBM!$A:$A,0),5)","v":0},{"$f":"INDEX(PrüfungBM!$1:$1048576,MATCH(V$1,PrüfungBM!$A:$A,0),5)","v":0}]
["Eingabe 4",null,{"$f":"INDEX(PrüfungBM!$1:$1048576,MATCH(C$1,PrüfungBM!$A:$A,0),6)","v":0},{"$f":"INDEX(PrüfungBM!$1:$1048576,MATCH(D$1,PrüfungBM!$A:$A,0),6)","v":0},{"$f":"INDEX(PrüfungBM!$1:$1048576,MATCH(E$1,PrüfungBM!$A:$A,0),6)","v":0},{"$f":"INDEX(PrüfungBM!$1:$1048576,MATCH(F$1,PrüfungBM!$A:$A,0),6)","v":0},{"$f":"INDEX(PrüfungBM!$1:$1048576,MATCH(G$1,PrüfungBM!$A:$A,0),6)","v":0},{"$f":"INDEX(PrüfungBM!$1:$1048576,MATCH(H$1,PrüfungBM!$A:$A,0),6)","v":0},{"$f":"INDEX(PrüfungBM!$1:$1048576,MATCH(I$1,PrüfungBM!$A:$A,0),6)","v":0},{"$f":"INDEX(PrüfungBM!$1:$1048576,MATCH(J$1,PrüfungBM!$A:$A,0),6)","v":0},{"$f":"INDEX(PrüfungBM!$1:$1048576,MATCH(K$1,PrüfungBM!$A:$A,0),6)","v":0},{"$f":"INDEX(PrüfungBM!$1:$1048576,MATCH(L$1,PrüfungBM!$A:$A,0),6)","v":0},{"$f":"INDEX(PrüfungBM!$1:$1048576,MATCH(M$1,PrüfungBM!$A:$A,0),6)","v":0},{"$nulls":6},{"$f":"INDEX(PrüfungBM!$1:$1048576,MATCH(T$1,PrüfungBM!$A:$A,0),6)","v":0},{"$f":"INDEX(PrüfungBM!$1:$1048576,MATCH(U$1,PrüfungBM!$A:$A,0),6)","v":0},{"$f":"INDEX(PrüfungBM!$1:$1048576,MATCH(V$1,PrüfungBM!$A:$A,0),6)","v":0}]
["Umrechnungsfaktor",null,{"$f":"C3","v":0},0,0,0,0,0,0,0,0,0,0,{"$f":"IF(BHKWbm=N12,N3,0)","v":0},{"$f":"IF(BHKWbm=O12,O3,0)","v":0},{"$f":"IF(BHKWbm=P12,P3,0)","v":1},{"$f":"IF(BHKWbm=Q12,Q3,0)","v":0},{"$f":"IF(BHKWbm=R12,R3,0)","v":0},{"$f":"7.57773723372344/21.46*S4/1000000*SUM(N7:R7)*3.6-S5","v":1.1463149788231511E-3},{"$f":"T3","v":0},{"$f":"U3","v":1},1]
["Eco-indicator",{"$f":"SUM(C8:Y8)","v":6.5071313039262845E-3},{"$f":"C46*C7","v":0},{"$f":"D46*D7","v":0},{"$f":"E46*E$7","v":0},{"$f":"F46*F7","v":0},0,0,0,0,0,0,0,0,0,1.4086420999999999E-3,0,0,5.0984892039262842E-3,0,0,0]
[{"$f":"A91","v":"IPCC GWP 100a"},{"$f":"SUM(C9:Y9)","v":1.3403582000000001E-2},{"$f":"C91*C$7","v":0},0,0,0,0,0,0,0,0,0,0,0,0,1.3403582000000001E-2,0,0,0,0,0,0]
[{"$f":"B96","v":"Impact assessment"},{"$f":"SUM(C10:Y10)","v":2.9482703999999998E-2},{"$f":"C125*C$7","v":0},0,0,0,0,0,0,0,0,0,0,0,0,2.9482703999999998E-2,0,0,0,0,0,0]
[{"$f":"B138","v":"Impact assessment"},{"$f":"SUM(C11:Y11)","v":69.323684047041795},{"$f":"C167*C$7","v":0},0,0,0,0,0,0,0,0,0,0,0,0,17.739509999999999,0,0,51.584174047041799,0,0,0]
[{"$nulls":13},1,2,3,4,5]
["Last Update: 2012 11 22"]
[{"$nulls":20},"naturemade","ecoinvent"]
["Calculation: ","Compare"]
["Results: ","Impact assessment"]
["Product 1: ","1 kWh electricity, medium voltage, at grid/kWh/CH U (of project Ecoinvent unit processes)"]
["Product 2: ","1 kWh electricity, medium voltage, at grid/kWh/DE U (of project Ecoinvent unit processes)"]
["Product 3: ","1 kWh Light fuel oil, burned in industrial furnace 1MW, non-modulating/CH U (of project Ecoinvent unit processes)"]
["Product 4: ","1 kWh Diesel, burned in building machine/GLO U (of project Ecoinvent unit processes)"]
["Product 5: ","1 kWh Natural gas, burned in boiler condensing modulating >100kW/RER U (of project Ecoinvent unit processes)"]
["Product 6: ","1 kWh methane, 96 vol-%, naturemade star mix, at consumer/kWh/CH U (of project 208 naturemade KWM)"]
["Product 7: ","1 kWh methane, 96 vol-%, anaerobic digestion plant, agriculture, at consumer/kWh/CH U (of project 208 naturemade KWM)"]
["Product 8: ","1 kWh methane, 96 vol-%, anaerobic digestion plant, biowaste, at consumer/kWh/CH U (of project 208 naturemade KWM)"]
["Product 9: ","1 kWh methane, 96 vol-%, anaerobic digestion plant, sewage sludge, at consumer/kWh/CH U (of project 208 naturemade KWM)"]
["Product 10: ","1 kWh methane, 96 vol-%, wood fluidized bed gasification, at consumer/kWh/CH U (of project 208 naturemade KWM)"]
["Product 11: ","1 kWh threshold value, methane/kWh/CH U (of project 208 naturemade KWM)"]
["Product 12: ","1 kWh methane, 96 vol-%, combustion, in boiler condensing modulating <100kW/MJ/CH U (of project 208 naturemade KWM)"]
["Product 13: ","1 kWh methane, 96 vol-%, combustion, in boiler condensing modulating >100kW/MJ/CH U (of project 208 naturemade KWM)"]
["Product 14: ","1 kWh methane, 96 vol-%, combustion, in cogen 500kWe lean burn/MJ/CH U (of project 208 naturemade KWM)"]
["Product 15: ","1 kWh methane, 96 vol-%, combustion, in gas turbine/MJ/CH U (of project 208 naturemade KWM)"]
["Product 16: ","1 kWh methane, 96 vol-%, combustion, in combined cycle plant, best technology/MJ/CH U (of project 208 naturemade KWM)"]
["Product 17: ","1 kg emission, NOx/kg/CH U (of project 208 naturemade KWM)"]
["Product 18: ","1 kWh transport, district heat network, average/CH/I U (of project 208 naturemade KWM)"]
["Method: ","Eco-indicator 99 (H) V2.09 / Europe EI 99 H/A"]
["Indicator: ","Single score"]
["Unit: ","Pt"]
["Skip categories: ","Never"]
["Exclude infrastructure processes: ","No"]
["Exclude long-term emissions: ","Yes"]
["Per impact category: ","No"]
["Sorted on item: ","Damage category"]
["Sort order: ","Ascending"]
[]
["Damage category","Unit","electricity, medium voltage, at grid/kWh/CH U","electricity, medium voltage, at grid/kWh/DE U","Light fuel oil, burned in industrial furnace 1MW, non-modulating/CH U","Diesel, burned in building machine/GLO U","Natural gas, burned in boiler condensing modulating >100kW/RER U","methane, 96 vol-%, naturemade star mix, at consumer/kWh/CH U","methane, 96 vol-%, anaerobic digestion plant, agriculture, at consumer/kWh/CH U","methane, 96 vol-%, anaerobic digestion plant, biowaste, at consumer/kWh/CH U","methane, 96 vol-%, anaerobic digestion plant, sewage sludge, at consumer/kWh/CH U","methane, 96 vol-%, wood fluidized bed gasification, at consumer/kWh/CH U","threshold value, methane/kWh/CH U","methane, 96 vol-%, combustion, in boiler condensing modulating <100kW/MJ/CH U","methane, 96 vol-%, combustion, in boiler condensing modulating >100kW/MJ/CH U","methane, 96 vol-%, combustion, in cogen 500kWe lean burn/MJ/CH U","methane, 96 vol-%, combustion, in gas turbine/MJ/CH U","methane, 96 vol-%, combustion, in combined cycle plant, best technology/MJ/CH U","emission, NOx/kg/CH U","transport, district heat network, average/CH/I U"]
["Total","Pt",7.7485224999999996E-3,2.0498206000000001E-2,2.3467769999999999E-2,5.1111420999999997E-2,1.8557405999999999E-2,5.6875718999999996E-3,3.8191191000000002E-3,3.0168966E-3,4.7485441E-3,1.1165728E-2,9.1916914000000002E-3,3.2333874999999998E-4,2.4263693000000001E-4,1.4086420999999999E-3,2.1208684999999999E-3,5.5684522999999999E-4,4.4477209999999996,1.7826836000000001E-4,{"$f":"EPD!L20","v":0},{"$f":"EPD!L35","v":0}]
["Human Health","Pt",4.2852658999999998E-3,1.2486572E-2,6.1723791E-3,3.2342850999999999E-2,3.2603692E-3,2.6956846E-3,2.8146061999999999E-3,2.0772717000000001E-3,1.5368943999999999E-3,4.3539662E-3,1.5207762E-3,2.4760138999999998E-4,2.1976617000000001E-4,1.2171840000000001E-3,1.9245566E-3,4.8835355000000004E-4,4.0482680000000002,1.0482547000000001E-4]
["Ecosystem Quality","Pt",3.0969203999999998E-4,6.4243326999999999E-4,1.111059E-3,1.8661626E-3,1.198655E-4,1.571467E-3,5.7399412000000004E-4,2.3173930999999999E-4,1.7202529E-4,5.3081092000000002E-3,4.9307858999999997E-5,3.5953903999999999E-5,1.9917713E-5,1.0895976E-4,1.8922195E-4,4.5193813999999999E-5,0.39945296000000002,7.1155738999999999E-6]
["Resources","Pt",3.1535646E-3,7.3692000000000002E-3,1.6184331999999999E-2,1.6902408000000001E-2,1.5177171E-2,1.4204203E-3,4.3051871E-4,7.0788557999999996E-4,3.0396244E-3,1.5036524E-3,7.6216073000000004E-3,3.9783453999999997E-5,2.9530452999999999E-6,8.2498303000000004E-5,7.0899362999999996E-6,2.3297870000000001E-5,0,6.6327306999999997E-5]
["Climate change","Pt",1.1679829E-3,6.0933180000000003E-3,3.0212806000000001E-3,3.1514616000000001E-3,2.3356048000000001E-3,9.4613262000000004E-4,1.0317657E-3,1.1593754E-3,1.0697393E-3,5.2364999999999996E-4,1.1562395E-3,1.5385852999999999E-5,7.9823563999999994E-6,1.2295097999999999E-4,1.5296263999999999E-5,1.6800734999999999E-5,0,2.4441951E-5]
["Radiation","Pt",2.5455033999999998E-4,5.5498329999999999E-5,2.2327858000000002E-6,2.1896336000000001E-6,6.4789668E-7,1.4283981E-5,1.5932443000000001E-5,1.3947357E-5,2.4336730999999998E-5,2.9193911999999998E-6,9.0112970999999995E-8,9.0278751999999998E-8,1.1564756E-8,1.0032835E-7,4.6886411000000004E-9,2.0195443999999999E-8,0,3.2358438000000001E-6]
["Ozone layer","Pt",7.6684131999999997E-7,1.1115813999999999E-6,4.3359781000000001E-7,1.6451218E-7,1.4311765E-6,1.2903480000000001E-7,5.7634393999999998E-8,6.6085990999999994E-8,3.2612228000000002E-7,6.6296518E-8,8.0977871000000002E-7,1.6628032999999999E-9,1.8508793000000001E-10,2.1274270999999999E-9,9.2779504999999994E-11,1.0486435999999999E-9,0,1.1038698E-8]
["Ecotoxicity","Pt",1.3822617E-4,1.6082272E-4,8.1964671999999999E-4,1.4187991E-4,1.0290502E-5,4.0814096000000002E-5,3.0442058999999999E-5,2.7846933999999999E-5,2.8805684000000001E-5,7.6161706999999999E-5,3.8008483999999999E-6,1.9166110999999999E-5,1.05707E-6,5.8910817000000003E-6,1.3988510999999999E-6,6.4934414999999997E-6,0,3.2307128000000001E-6]
["Acidification/ Eutrophication","Pt",1.0432915999999999E-4,2.6650276E-4,1.7835712000000001E-4,1.5849169000000001E-3,5.9792844000000002E-5,1.9082300000000001E-4,4.1393811999999999E-4,1.2127578999999999E-4,2.7964044999999998E-5,2.0011405000000001E-4,2.1227456999999999E-5,1.5501697999999999E-5,1.8782798E-5,1.020483E-4,1.8735034E-4,3.7774429000000001E-5,0.39945296000000002,2.3395579000000002E-6]
["Land use","Pt",6.7136712999999999E-5,2.151078E-4,1.1305519999999999E-4,1.3936579999999999E-4,4.9782157999999998E-5,1.3428023E-3,1.3357721000000001E-4,8.6579855999999994E-5,1.1921883E-4,5.0318333999999996E-3,2.4279552999999999E-5,1.2860954000000001E-6,7.7845715999999997E-8,1.0203795999999999E-6,4.7275707000000002E-7,9.2594282E-7,0,1.5453031000000001E-6]
["Minerals","Pt",7.6622901000000004E-5,8.4669107000000005E-5,9.6286028999999995E-6,2.9848769999999999E-5,4.4171507000000001E-6,3.3834990999999999E-5,1.9636700000000001E-5,1.583636E-5,2.3746155999999999E-5,7.6120748999999999E-5,1.3522850999999999E-6,1.4042358E-5,3.1851807999999999E-7,5.5154397000000002E-6,1.5877695999999999E-6,4.2795720999999997E-6,0,1.8566194E-6]
["Fossil fuels","Pt",3.0769416999999999E-3,7.2845308999999999E-3,1.6174702999999999E-2,1.6872558999999999E-2,1.5172754E-2,1.3851212000000001E-3,4.0892994999999999E-4,6.9009716999999995E-4,3.0139262000000002E-3,1.4275316000000001E-3,7.6202550000000003E-3,2.5741095999999999E-5,2.6345271999999999E-6,7.6982864000000006E-5,5.5021667000000004E-6,1.9018297999999998E-5,0,6.4470688E-5]
["Total","Pt",4.5546591000000004E-3,4.5546591000000004E-3,1.9519168999999999E-2,3.6097009999999999E-2,1.5644102E-2,4.7952055999999996E-3,2.7417754999999999E-3,2.5552024E-3,3.8990969999999998E-3,9.9847475000000002E-3,7.7683129000000002E-3,2.3267173999999999E-4,1.5118736E-4,8.9577509999999995E-4,1.3161303000000001E-3,3.5614332999999999E-4,2.7553619999999999,1.1498151E-4]
[null,null,{"$f":"C58=C46","v":false},false,false,false,false,false,false,false,false,false,false,false,false,false,false,false,false,false]
[]
["Calculation: ","Compare"]
["Results: ","Impact assessment"]
["Product 1: ","1 kWh electricity, medium voltage, at grid/kWh/CH U (of project Ecoinvent unit processes)"]
["Product 2: ","1 kWh electricity, medium voltage, at grid/kWh/DE U (of project Ecoinvent unit processes)"]
["Product 3: ","1 kWh Light fuel oil, burned in industrial furnace 1MW, non-modulating/CH U (of project Ecoinvent unit processes)"]
["Product 4: ","1 kWh Diesel, burned in building machine/GLO U (of project Ecoinvent unit processes)"]
["Product 5: ","1 kWh Natural gas, burned in boiler condensing modulating >100kW/RER U (of project Ecoinvent unit processes)"]
["Product 6: ","1 kWh methane, 96 vol-%, naturemade star mix, at consumer/kWh/CH U (of project 208 naturemade KWM)"]
["Product 7: ","1 kWh methane, 96 vol-%, anaerobic digestion plant, agriculture, at consumer/kWh/CH U (of project 208 naturemade KWM)"]
["Product 8: ","1 kWh methane, 96 vol-%, anaerobic digestion plant, biowaste, at consumer/kWh/CH U (of project 208 naturemade KWM)"]
["Product 9: ","1 kWh methane, 96 vol-%, anaerobic digestion plant, sewage sludge, at consumer/kWh/CH U (of project 208 naturemade KWM)"]
["Product 10: ","1 kWh methane, 96 vol-%, wood fluidized bed gasification, at consumer/kWh/CH U (of project 208 naturemade KWM)"]
["Product 11: ","1 kWh threshold value, methane/kWh/CH U (of project 208 naturemade KWM)"]
["Product 12: ","1 kWh methane, 96 vol-%, combustion, in boiler condensing modulating <100kW/MJ/CH U (of project 208 naturemade KWM)"]
["Product 13: ","1 kWh methane, 96 vol-%, combustion, in boiler condensing modulating >100kW/MJ/CH U (of project 208 naturemade KWM)"]
["Product 14: ","1 kWh methane, 96 vol-%, combustion, in cogen 500kWe lean burn/MJ/CH U (of project 208 naturemade KWM)"]
["Product 15: ","1 kWh methane, 96 vol-%, combustion, in gas turbine/MJ/CH U (of project 208 naturemade KWM)"]
["Product 16: ","1 kWh methane, 96 vol-%, combustion, in combined cycle plant, best technology/MJ/CH U (of project 208 naturemade KWM)"]
["Product 17: ","1 kg emission, NOx/CH U (of project 208 naturemade KWM)"]
["Product 18: ","1 kWh transport, district heat network, average/CH/I U (of project 208 naturemade KWM)"]
["Method: ","IPCC 2007 GWP 100a V1.02"]
["Indicator: ","Characterisation"]
["Unit: ","%"]
["Skip categories: ","Never"]
["Exclude infrastructure processes: ","No"]
["Exclude long-term emissions: ","No"]
["Sorted on item: ","Impact category"]
["Sort order: ","Ascending"]
[]
["Impact category","Unit","electricity, medium voltage, at grid/kWh/CH U","electricity, medium voltage, at grid/kWh/DE U","Light fuel oil, burned in industrial furnace 1MW, non-modulating/CH U","Diesel, burned in building machine/GLO U","Natural gas, burned in boiler condensing modulating >100kW/RER U","methane, 96 vol-%, naturemade star mix, at consumer/kWh/CH U","methane, 96 vol-%, anaerobic digestion plant, agriculture, at consumer/kWh/CH U","methane, 96 vol-%, anaerobic digestion plant, biowaste, at consumer/kWh/CH U","methane, 96 vol-%, anaerobic digestion plant, sewage sludge, at consumer/kWh/CH U","methane, 96 vol-%, wood fluidized bed gasification, at consumer/kWh/CH U","threshold value, methane/kWh/CH U","methane, 96 vol-%, combustion, in boiler condensing modulating <100kW/MJ/CH U","methane, 96 vol-%, combustion, in boiler condensing modulating >100kW/MJ/CH U","methane, 96 vol-%, combustion, in cogen 500kWe lean burn/MJ/CH U","methane, 96 vol-%, combustion, in gas turbine/MJ/CH U","methane, 96 vol-%, combustion, in combined cycle plant, best technology/MJ/CH U","emission, NOx/CH U","transport, district heat network, average/CH/I U"]
["IPCC GWP 100a","kg CO2 eq",0.1223134,0.63959745000000001,0.31617341999999998,0.32757436000000001,0.24585667,0.10843907,0.11659762,0.13632652000000001,0.12393803,5.6894106E-2,0.12176943,1.5660085E-3,7.9560549E-4,1.3403582000000001E-2,1.5490222E-3,1.6391924E-3,0,2.5531663E-3,{"$f":"EPD!M20","v":0},{"$f":"EPD!M35","v":0}]
["IPCC GWP 100a","kg CO2 eq",0.11747769,0.11747769,0.31754236000000002,0.32947851,0.24591528000000001,0.11090811,0.1163343,0.14530800999999999,0.12369805,5.8292060999999999E-2,0.12157551,1.6153630999999999E-3,8.0073236000000004E-4,1.3363867E-2,1.5527224E-3,1.6647952E-3,0,2.5004200000000002E-3]
[]
[]
["Calculation: ","Compare"]
["Results: ","Impact assessment"]
["Product 1: ","1 kWh electricity, medium voltage, at grid/kWh/CH U (of project Ecoinvent unit processes)"]
["Product 2: ","1 kWh electricity, medium voltage, at grid/kWh/DE U (of project Ecoinvent unit processes)"]
["Product 3: ","1 kWh Light fuel oil, burned in industrial furnace 1MW, non-modulating/CH U (of project Ecoinvent unit processes)"]
["Product 4: ","1 kWh Diesel, burned in building machine/GLO U (of project Ecoinvent unit processes)"]
["Product 5: ","1 kWh Natural gas, burned in boiler condensing modulating >100kW/RER U (of project Ecoinvent unit processes)"]
["Product 6: ","1 kWh methane, 96 vol-%, naturemade star mix, at consumer/kWh/CH U (of project 208 naturemade KWM)"]
["Product 7: ","1 kWh methane, 96 vol-%, anaerobic digestion plant, agriculture, at consumer/kWh/CH U (of project 208 naturemade KWM)"]
["Product 8: ","1 kWh methane, 96 vol-%, anaerobic digestion plant, biowaste, at consumer/kWh/CH U (of project 208 naturemade KWM)"]
["Product 9: ","1 kWh methane, 96 vol-%, anaerobic digestion plant, sewage sludge, at consumer/kWh/CH U (of project 208 naturemade KWM)"]
["Product 10: ","1 kWh methane, 96 vol-%, wood fluidized bed gasification, at consumer/kWh/CH U (of project 208 naturemade KWM)"]
["Product 11: ","1 kWh threshold value, methane/kWh/CH U (of project 208 naturemade KWM)"]
["Product 12: ","1 kWh methane, 96 vol-%, combustion, in boiler condensing modulating <100kW/MJ/CH U (of project 208 naturemade KWM)"]
["Product 13: ","1 kWh methane, 96 vol-%, combustion, in boiler condensing modulating >100kW/MJ/CH U (of project 208 naturemade KWM)"]
["Product 14: ","1 kWh methane, 96 vol-%, combustion, in cogen 500kWe lean burn/MJ/CH U (of project 208 naturemade KWM)"]
["Product 15: ","1 kWh methane, 96 vol-%, combustion, in gas turbine/MJ/CH U (of project 208 naturemade KWM)"]
["Product 16: ","1 kWh methane, 96 vol-%, combustion, in combined cycle plant, best technology/MJ/CH U (of project 208 naturemade KWM)"]
["Product 17: ","1 kg emission, NOx/CH U (of project 208 naturemade KWM)"]
["Product 18: ","1 kWh transport, district heat network, average/CH/I U (of project 208 naturemade KWM)"]
["Method: ","Cumulative Energy Demand, differenziert V1.04 / CED, non-renewable"]
["Indicator: ","Single score"]
["Unit: ","MJ"]
["Skip categories: ","Never"]
["Exclude infrastructure processes: ","No"]
["Exclude long-term emissions: ","No"]
["Sorted on item: ","Impact category"]
["Sort order: ","Ascending"]
[]
["Impact category","Unit","electricity, medium voltage, at grid/kWh/CH U","electricity, medium voltage, at grid/kWh/DE U","Light fuel oil, burned in industrial furnace 1MW, non-modulating/CH U","Diesel, burned in building machine/GLO U","Natural gas, burned in boiler condensing modulating >100kW/RER U","methane, 96 vol-%, naturemade star mix, at consumer/kWh/CH U","methane, 96 vol-%, anaerobic digestion plant, agriculture, at consumer/kWh/CH U","methane, 96 vol-%, anaerobic digestion plant, biowaste, at consumer/kWh/CH U","methane, 96 vol-%, anaerobic digestion plant, sewage sludge, at consumer/kWh/CH U","methane, 96 vol-%, wood fluidized bed gasification, at consumer/kWh/CH U","threshold value, methane/kWh/CH U","methane, 96 vol-%, combustion, in boiler condensing modulating <100kW/MJ/CH U","methane, 96 vol-%, combustion, in boiler condensing modulating >100kW/MJ/CH U","methane, 96 vol-%, combustion, in cogen 500kWe lean burn/MJ/CH U","methane, 96 vol-%, combustion, in gas turbine/MJ/CH U","methane, 96 vol-%, combustion, in combined cycle plant, best technology/MJ/CH U","emission, NOx/CH U","transport, district heat network, average/CH/I U"]
["Total","MJ",8.7182656999999999,10.354226000000001,4.6040687,4.8782626999999996,4.2853535999999997,0.85965402999999996,0.62090071000000002,0.63756135999999997,1.6066562,0.57349784000000004,2.1377321,1.4708765E-2,1.8190096999999999E-3,2.9482703999999998E-2,2.0871409999999998E-3,7.6863603999999999E-3,0,0.12260948000000001,{"$f":"EPD!N20","v":0},{"$f":"EPD!N35","v":0}]
["Non renewable, fossil","MJ",1.5430854000000001,7.3373023999999996,4.5379041999999998,4.8100909999999999,4.2649385000000004,0.45460898999999999,0.17090135000000001,0.24368163000000001,0.91987405,0.48397892999999997,2.1348805,1.2021442E-2,1.4794915E-3,2.6340202E-2,1.9116112E-3,6.9724501999999999E-3,0,3.1130345E-2]
["Non-renewable, nuclear","MJ",7.1751794000000002,3.0169218,6.6159682999999997E-2,6.8165668999999998E-2,2.041159E-2,0.40503992999999999,0.44999520999999998,0.39387548999999999,0.68677745000000001,8.9511571999999998E-2,2.8494825000000001E-3,2.6872736999999998E-3,3.3951709999999999E-4,3.1424730999999998E-3,1.7552805000000001E-4,7.1390167999999996E-4,0,9.1475961999999994E-2]
["Renewable, biomass","MJ",0,0,0,0,0,0,0,0,0,0,0,0,0,0,0,0,0,0]
["Renewable, wind, solar, geothermal","MJ",0,0,0,0,0,0,0,0,0,0,0,0,0,0,0,0,0,0]
["Renewable, water","MJ",0,0,0,0,0,0,0,0,0,0,0,0,0,0,0,0,0,0]
["Waste heat","MJ",0,0,0,0,0,0,0,0,0,0,0,0,0,0,0,0,0,0]
["Non-renewable, land transformation","MJ",9.0906134999999999E-7,2.1563572999999999E-6,4.8243442999999999E-6,5.9996937999999999E-6,3.4842722000000002E-6,5.1046434000000001E-6,4.1418137E-6,4.2353840999999996E-6,4.7026575000000003E-6,7.3387184000000004E-6,2.1639163E-6,4.9626233000000002E-8,1.0867643E-9,2.9759025E-8,1.7015695E-9,8.4511567999999994E-9,0,3.1711622999999998E-6]
["Secondary energy and waste","MJ",0,0,0,0,0,0,0,0,0,0,0,0,0,0,0,0,0,0]
["Total","Pt",8.0785453999999994,8.0785453999999994,4.6541978000000004,4.9582369000000002,4.2947747999999999,0.89205710000000005,0.58566565000000004,0.82702019999999998,1.5627926000000001,0.59275,2.1389008,1.5383241000000001E-2,1.8735202999999999E-3,3.0865851999999999E-2,2.1544091E-3,8.1143107000000003E-3,0,0.11487545]
[]
[]
["Calculation: ","Compare"]
["Results: ","Impact assessment"]
["Product 1: ","1 kWh electricity, medium voltage, at grid/kWh/CH U (of project Ecoinvent unit processes)"]
["Product 2: ","1 kWh electricity, medium voltage, at grid/kWh/DE U (of project Ecoinvent unit processes)"]
["Product 3: ","1 kWh Light fuel oil, burned in industrial furnace 1MW, non-modulating/CH U (of project Ecoinvent unit processes)"]
["Product 4: ","1 kWh Diesel, burned in building machine/GLO U (of project Ecoinvent unit processes)"]
["Product 5: ","1 kWh Natural gas, burned in boiler condensing modulating >100kW/RER U (of project Ecoinvent unit processes)"]
["Product 6: ","1 kWh methane, 96 vol-%, naturemade star mix, at consumer/kWh/CH U (of project 208 naturemade KWM)"]
["Product 7: ","1 kWh methane, 96 vol-%, anaerobic digestion plant, agriculture, at consumer/kWh/CH U (of project 208 naturemade KWM)"]
["Product 8: ","1 kWh methane, 96 vol-%, anaerobic digestion plant, biowaste, at consumer/kWh/CH U (of project 208 naturemade KWM)"]
["Product 9: ","1 kWh methane, 96 vol-%, anaerobic digestion plant, sewage sludge, at consumer/kWh/CH U (of project 208 naturemade KWM)"]
["Product 10: ","1 kWh methane, 96 vol-%, wood fluidized bed gasification, at consumer/kWh/CH U (of project 208 naturemade KWM)"]
["Product 11: ","1 kWh threshold value, methane/kWh/CH U (of project 208 naturemade KWM)"]
["Product 12: ","1 kWh methane, 96 vol-%, combustion, in boiler condensing modulating <100kW/MJ/CH U (of project 208 naturemade KWM)"]
["Product 13: ","1 kWh methane, 96 vol-%, combustion, in boiler condensing modulating >100kW/MJ/CH U (of project 208 naturemade KWM)"]
["Product 14: ","1 kWh methane, 96 vol-%, combustion, in cogen 500kWe lean burn/MJ/CH U (of project 208 naturemade KWM)"]
["Product 15: ","1 kWh methane, 96 vol-%, combustion, in gas turbine/MJ/CH U (of project 208 naturemade KWM)"]
["Product 16: ","1 kWh methane, 96 vol-%, combustion, in combined cycle plant, best technology/MJ/CH U (of project 208 naturemade KWM)"]
["Product 17: ","1 kg emission, NOx/CH U (of project 208 naturemade KWM)"]
["Product 18: ","1 kWh transport, district heat network, average/CH/I U (of project 208 naturemade KWM)"]
["Method: ","Ecological Scarcity 2006 V1.06 / Ecological scarcity 2006"]
["Indicator: ","Single score"]
["Unit: ","kPt"]
["Skip categories: ","Never"]
["Exclude infrastructure processes: ","No"]
["Exclude long-term emissions: ","No"]
["Sorted on item: ","Impact category"]
["Sort order: ","Ascending"]
[]
["Impact category","Unit","electricity, medium voltage, at grid/kWh/CH U","electricity, medium voltage, at grid/kWh/DE U","Light fuel oil, burned in industrial furnace 1MW, non-modulating/CH U","Diesel, burned in building machine/GLO U","Natural gas, burned in boiler condensing modulating >100kW/RER U","methane, 96 vol-%, naturemade star mix, at consumer/kWh/CH U","methane, 96 vol-%, anaerobic digestion plant, agriculture, at consumer/kWh/CH U","methane, 96 vol-%, anaerobic digestion plant, biowaste, at consumer/kWh/CH U","methane, 96 vol-%, anaerobic digestion plant, sewage sludge, at consumer/kWh/CH U","methane, 96 vol-%, wood fluidized bed gasification, at consumer/kWh/CH U","threshold value, methane/kWh/CH U","methane, 96 vol-%, combustion, in boiler condensing modulating <100kW/MJ/CH U","methane, 96 vol-%, combustion, in boiler condensing modulating >100kW/MJ/CH U","methane, 96 vol-%, combustion, in cogen 500kWe lean burn/MJ/CH U","methane, 96 vol-%, combustion, in gas turbine/MJ/CH U","methane, 96 vol-%, combustion, in combined cycle plant, best technology/MJ/CH U","emission, NOx/CH U","transport, district heat network, average/CH/I U"]
["Total","Pt",366.22645999999997,423.53471999999999,178.87816000000001,406.47131000000002,114.57585,93.916944999999998,88.696247999999997,101.55041,82.552417000000005,102.8687,53.071961000000002,9.6797433999999996,8.2920142999999999,17.739509999999999,21.909269999999999,6.1910967000000001,45000,5.9329253,{"$f":"EPD!O20","v":0},{"$f":"EPD!O35","v":0}]
["Emission into air","Pt",69.744067000000001,276.40613999999999,150.81268,370.73343999999997,93.791253999999995,63.581130000000002,68.159920999999997,80.520869000000005,49.449086999999999,56.194645000000001,42.781131999999999,9.2790575000000004,8.2274969000000002,17.264595,21.877502,5.8730767000000004,45000,1.7904796999999999]
["Emission into surface water","Pt",74.855532999999994,28.622465999999999,10.194402999999999,15.819494000000001,4.8697635999999997,6.2498759000000002,5.3052726999999997,5.1029517999999996,8.3320453000000008,6.2592336,2.5676413999999999,0.20146618999999999,4.3602951000000001E-2,0.21597980999999999,1.4591099E-2,6.4238171999999996E-2,0,1.1526377999999999]
["Emission into ground water","Pt",5.2011848999999999E-2,0.26032471000000001,4.3570657E-3,5.1857585999999997E-3,1.4522885999999999E-3,1.4108589,7.8258848000000002E-3,4.3490984999999998E-3,6.5131527999999998E-3,5.6247474000000004,3.9215571999999998E-4,3.2618997000000002E-3,5.0256015000000002E-5,4.4434488000000001E-4,8.8696456999999996E-5,1.8563839999999999E-4,0,1.067864E-3]
["Emission into top soil","Pt",0.96466123999999998,1.1369612,7.2574340000000001E-2,3.5304263000000002E-2,9.1180975999999997E-3,1.3408857000000001,9.0100611999999997E-2,7.3888304000000002E-2,9.6309481000000002E-2,5.1032444999999997,2.0439786999999999E-3,2.9563205999999999E-3,1.1716252E-4,1.3806471000000001E-3,5.8393634999999998E-5,3.1469651999999998E-4,0,1.3384943999999999E-2]
["Energy resources","Pt",30.491122000000001,35.273963999999999,15.241529,16.156883000000001,14.881443000000001,5.8098972,2.1895338,2.2069798999999999,5.5968811000000001,13.246193999999999,7.4235443999999999,5.0677550000000002E-2,6.1939024000000004E-3,9.9264161000000004E-2,7.0227635000000002E-3,2.6039874000000001E-2,0,0.42727757999999999]
["Natural resources","Pt",1.4287894000000001,3.2184233999999998,0.41825528000000001,0.37481240999999998,0.14550413000000001,3.4333117999999998,0.86953356000000004,0.78166362,0.81418676999999995,11.267863,8.0484280000000005E-2,9.7716369000000001E-3,7.4864034999999997E-4,9.3080152999999999E-3,3.3538069999999999E-3,0.18923845,0,0.11113410999999999]
["Deposited waste","Pt",188.69028,78.616433999999998,2.1343570000000001,3.3461940999999999,0.87731608999999999,12.090985,12.074061,12.859712,18.257394000000001,5.1727742000000001,0.21672290999999999,0.13255232,1.3804528E-2,0.14853767000000001,6.6534111999999998E-3,3.8003224000000002E-2,0,2.4369432]
[]
["Total","Pt",353.15285999999998,353.15285999999998,182.02838,410.60503999999997,115.03925,90.797982000000005,88.759592999999995,88.419807000000006,82.742728,103.2698,53.006563999999997,9.7774412999999996,8.2971904999999992,17.814928999999999,21.914722999999999,6.2241663000000003,45000,5.7955163000000001]
[null,null,{"$f":"C176=C167","v":false},false,false,false,false,false,false,false,false,false,false,false,false,false,false,false,true,false]

{"sheet":"Kompost","index":22,"n_rows":19,"n_cols":13,"rows_kept":19,"cut":false,"hidden":true,"merged":[]}
[{"$nulls":5},"Nährstoffgehalte gemäss Literatur",null,null,null,"theoretischer Wert der Nährstoffe"]
[null,"Kompost","Gärgut, fest","Gärgut, flüssig",{"$f":"B2","v":"Kompost"},{"$f":"C2","v":"Gärgut, fest"},{"$f":"D2","v":"Gärgut, flüssig"},"Wert",{"$f":"B2","v":"Kompost"},{"$f":"C2","v":"Gärgut, fest"},{"$f":"D2","v":"Gärgut, flüssig"},"Literatur","Verhältnis Kompost/Gärgut"]
[null,"kg/m3 FM",{"$f":"B3","v":"kg/m3 FM"},{"$f":"C3","v":"kg/m3 FM"},"kg/t FM",{"$f":"E3","v":"kg/t FM"},{"$f":"F3","v":"kg/t FM"},"CHF/kg","CHF/t GG",{"$f":"I3","v":"CHF/t GG"},{"$f":"J3","v":"CHF/t GG"}]
["Stickstoff, verfügbar",0.54,0.4,2.2999999999999998,{"$f":"B4/B$11","v":0.90000000000000013},{"$f":"C4/C$11","v":0.85106382978723416},2.2999999999999998,2.4,{"$f":"E4*$H4*E$9","v":1.08},{"$f":"F4*$H4*F$9","v":0.44936170212765963},2.3643896976483769,"Bartha-Pichler 2008",{"$f":"SUMPRODUCT(F4:G4,F$9:G$9)/E4/E$9","v":2.6053253701629964}]
["Phosphor",2.1,2,1.9,{"$f":"B5/B$11","v":3.5000000000000004},4.2553191489361701,1.9,3.4,{"$f":"E5*$H5*E$9","v":5.95},3.182978723404255,2.7670212765957456,"Bartha-Pichler 2008",{"$f":"SUMPRODUCT(F5:G5,F$9:G$9)/E5/E$9","v":1}]
["Kalium",4.5999999999999996,3.2,4.5,{"$f":"B6/B$11","v":7.6666666666666661},6.8085106382978733,4.5,1.9,{"$f":"E6*$H6*E$9","v":7.2833333333333323},2.8459574468085109,3.6622340425531923,"Bartha-Pichler 2008",{"$f":"SUMPRODUCT(F6:G6,F$9:G$9)/E6/E$9","v":0.89357320220069159}]
["Calzium",15.3,22,5,{"$f":"B7/B$11","v":25.500000000000004},46.808510638297875,5,{"$f":"0.33*0.4","v":0.13200000000000001},{"$f":"E7*$H7*E$9","v":1.6830000000000003},1.3593191489361702,0.28269876819708856,"Bartha-Pichler 2008",{"$f":"SUMPRODUCT(F7:G7,F$9:G$9)/E7/E$9","v":0.97564938629427134}]
["Humus-C",null,null,null,63,54,8,{"$f":"225/85","v":2.6470588235294117},{"$f":"E8*$H8*E$9","v":83.382352941176464},31.44705882352941,9.0705487122060493,"Fuchs 2006",{"$f":"SUMPRODUCT(F8:G8,F$9:G$9)/E8/E$9","v":0.48592545192769165}]
["Menge pro kg Grüngut",null,null,null,0.5,0.22,{"$f":"(E9*E5-F9*F5)/G5","v":0.42833146696528568},null,{"$f":"SUM(I4:I8)","v":99.378686274509789},{"$f":"SUM(J4:J8)","v":39.284675844806003},{"$f":"SUM(K4:K8)","v":18.146892497200454}]
["Aufteilung Referenzwert",{"$nulls":7},1,{"$f":"J9/$I9","v":0.39530282918302528},{"$f":"K9/$I9","v":0.18260346536554142}]
["t FM/m3 FM",0.6,0.47,1,{"$nulls":4},{"$f":"I9/E9","v":198.75737254901958},{"$f":"J9/F9","v":178.56670838548183},{"$f":"K9/G9","v":42.366470588235295}]
[{"$nulls":11},{"$f":"(J9+K9)/I9","v":0.57790629454856668}]
[{"$nulls":8},"CHF/t","CHF/t","CHF/t"]
[{"$nulls":8},{"$f":"E4*$H4","v":2.16},2.042553191489362,5.52]
[{"$nulls":8},11.9,14.468085106382977,6.46]
[{"$nulls":8},14.566666666666665,12.936170212765958,8.5499999999999989]
[{"$nulls":8},3.3660000000000005,6.1787234042553196,0.66]
[{"$nulls":8},166.76470588235293,142.94117647058823,21.176470588235293]
[{"$nulls":8},{"$f":"SUM(I14:I18)","v":198.75737254901958},{"$f":"SUM(J14:J18)","v":178.56670838548186},{"$f":"SUM(K14:K18)","v":42.366470588235295}]

{"sheet":"Fischabfälle","index":23,"n_rows":65,"n_cols":12,"rows_kept":65,"cut":false,"hidden":true,"merged":[]}
{"$rows_empty":22}
["Calculation: ","Compare"]
["Results: ","Impact assessment"]
["Product 1: ","1 kg industrial fish, from trout filleting, at fish factory/kg/FR U (of project 000 food database)"]
["Product 2: ","1 kg industrial fish, from salmon filleting, at fish factory/kg/NO U (of project 000 food database)"]
["Product 3: ","1 kg industrial fish, from mackerel fishing, at harbour/kg/DK U (of project 000 food database)"]
["Product 4: ","1 kg industrial fish, from mackerel filleting, at fish factory/kg/DK U (of project 000 food database)"]
["Product 5: ","1 kg industrial fish, from herring fishing, at harbour/kg/DK U (of project 000 food database)"]
["Product 6: ","1 kg industrial fish, from herring filleting, at fish factory/kg/DK U (of project 000 food database)"]
["Product 7: ","1 kg industrial fish, from codfish fishing, at harbour/kg/DK U (of project 000 food database)"]
["Product 8: ","1 kg industrial fish, from cod filleting, at fish factory/kg/DK U (of project 000 food database)"]
["Product 9: ","0.004745684 kg meat mixed, IP, at slaughterhouse/kg/CH U (of project 000 food database)"]
["Product 10: ","1 kg meat mixed, IP, at slaughterhouse/kg/CH U (of project 000 food database)"]
["Method: ","Eco-indicator 99 (H) V2.10 / Europe EI 99 H/A"]
["Indicator: ","Single score"]
["Skip categories: ","Never"]
["Default units: ","Yes"]
["Exclude infrastructure processes: ","No"]
["Exclude long-term emissions: ","Yes"]
["Per impact category: ","Yes"]
["Sorted on item: ","Impact category"]
["Sort order: ","Ascending"]
[]
["Impact category","Unit","industrial fish, from trout filleting, at fish factory/kg/FR U","industrial fish, from salmon filleting, at fish factory/kg/NO U","industrial fish, from mackerel fishing, at harbour/kg/DK U","industrial fish, from mackerel filleting, at fish factory/kg/DK U","industrial fish, from herring fishing, at harbour/kg/DK U","industrial fish, from herring filleting, at fish factory/kg/DK U","industrial fish, from codfish fishing, at harbour/kg/DK U","industrial fish, from cod filleting, at fish factory/kg/DK U","meat mixed, IP, at slaughterhouse/kg/CH U","meat mixed, IP, at slaughterhouse/kg/CH U"]
["Total","Pt",7.5974374999999997E-2,5.3171283E-2,9.7936654999999997E-3,2.5846549E-2,4.2477529999999999E-2,4.9017670999999999E-2,8.3534847000000002E-3,5.5762579E-2,1.6039082E-2,3.3797196999999999]
["Carcinogens","Pt",2.1795557E-2,1.8868807000000001E-3,3.3736728000000002E-5,1.4728275E-4,1.4588890000000001E-4,2.4849398000000001E-4,3.0135567999999999E-5,2.2600733999999999E-4,1.0135978E-3,0.21358308000000001]
["Resp. organics","Pt",1.5780112000000001E-5,1.5706962E-5,4.7742520999999996E-6,1.212674E-5,2.1094076999999999E-5,2.3630317E-5,4.2543771999999998E-6,2.7726678E-5,2.2219597E-6,4.6820641000000002E-4]
["Resp. inorganics","Pt",1.403944E-2,1.2759675999999999E-2,4.9144024000000001E-3,1.2030842999999999E-2,2.1011773000000001E-2,2.3044477000000001E-2,4.0444792000000002E-3,2.6738395000000002E-2,2.3619886E-3,0.49771300000000002]
["Climate change","Pt",3.7565258E-3,3.8286031999999999E-3,6.9373484E-4,2.2706339000000001E-3,3.0647061E-3,4.1304604999999996E-3,6.1923643000000002E-4,4.3146262000000003E-3,4.6893991000000003E-4,9.8813975999999998E-2]
["Radiation","Pt",5.6414128999999998E-5,1.6359875000000001E-5,3.6518904000000001E-7,4.1893501999999998E-6,2.0148763999999999E-6,6.5292403000000002E-6,5.3299638000000002E-7,4.7000995000000004E-6,6.7545960000000004E-6,1.4233135E-3]
["Ozone layer","Pt",2.2998089000000001E-6,8.3855369000000005E-7,1.0998742000000001E-7,3.9626677000000002E-7,4.9093316000000004E-7,7.0720066999999998E-7,1.0020297999999999E-7,7.1049837000000003E-7,1.1468037999999999E-7,2.4165195E-5]
["Ecotoxicity","Pt",4.7013254999999998E-4,4.6419670000000002E-4,5.3088782000000003E-5,1.8940402999999999E-4,2.2847599000000001E-4,3.3047779999999998E-4,4.4916332000000003E-5,3.2771822E-4,5.9334408000000001E-5,1.2502815E-2]
["Acidification/ Eutrophication","Pt",9.2550067999999999E-4,1.0169966E-3,3.9283192000000002E-4,9.2586245E-4,1.675997E-3,1.7894090000000001E-3,3.2102740000000002E-4,2.1083688000000001E-3,4.1331792000000002E-4,8.7093434999999997E-2]
["Land use","Pt",2.2180569000000001E-2,1.969717E-2,5.9746646000000001E-5,2.0640063999999999E-4,2.6369885E-4,3.7063782000000003E-4,5.3120822000000002E-5,3.7609817999999999E-4,1.0912506000000001E-2,2.2994590000000001]
["Minerals","Pt",3.1158704E-4,2.6238463999999999E-4,7.1135310000000004E-6,6.3463327000000007E-5,3.1803049000000001E-5,9.8422865999999996E-5,6.6504318E-6,6.5606778000000003E-5,4.3121470999999998E-5,9.0864606000000004E-3]
["Fossil fuels","Pt",1.2420568999999999E-2,1.322247E-2,3.6337612000000002E-3,9.9959469000000002E-3,1.6031587E-2,1.8974425999999999E-2,3.2290308999999998E-3,2.1572621E-2,7.5718476000000005E-4,0.15955229000000001]
[null,"Euro"]
["in DK (euro/kg)",0.08,{"$f":"C46*$B59/C60","v":1.8530335365853655E-2},1.2968605609756097E-2,4.3527402222222223E-3,6.3040363414634138E-3,1.8878902222222223E-2,1.1955529512195123E-2,3.7126598666666669E-3,1.3600629024390245E-2]
["Price LCI (Euro/kg)",null,0.32800000000000001,{"$f":"$C$60","v":0.32800000000000001},0.18,{"$f":"$C$60","v":0.32800000000000001},{"$f":"$E$60","v":0.18},{"$f":"$C$60","v":0.32800000000000001},{"$f":"$E$60","v":0.18},{"$f":"$C$60","v":0.32800000000000001}]
[]
[]
["New EI Pts.",{"$nulls":7},{"$f":"AVERAGE(E59,G59,I59)","v":8.9814341037037036E-3},{"$f":"AVERAGE(C59:J59)","v":1.1287929770596204E-2}]
[]
[{"$nulls":8},{"$f":"I63*Substrates!$F$30*1000","v":0},{"$f":"J63*Substrates!$F$30*1000","v":0},{"$f":"K46*Substrates!$F$30*1000","v":0}]

{"sheet":"FaktorenBG","index":24,"n_rows":79,"n_cols":11,"rows_kept":79,"cut":false,"hidden":true,"merged":[]}
[null,"Schadstoff","CH4","NH3","N2O","H2S","NMVOC","NOx"]
["Verfahren","Bezug","kg","kg","kg","kg",null,null,"Quelle"]
["Vergärung, VN, einstufig, geschlossene Nachrotte","t Grüngut",6.67,{"$f":"2285/10000","v":0.22850000000000001},{"$f":"998/10000","v":9.98E-2},0.245,null,null,"Schleiss 1999"]
["Vergärung, VG, einstufig, geschlossene Kompostierung","t Grüngut",12.7,8.4000000000000005E-2,{"$f":"998/10000","v":9.98E-2},0.245,null,null,"Schleiss 1999"]
["Vergärung, VO, zweistufig, offene Kompostierung","t Grüngut",10.5,{"$f":"2920/10000","v":0.29199999999999998},{"$f":"998/10000","v":9.98E-2},0.245,null,null,"Schleiss 1999"]
["Vergärung, VN, Biofilter","t Grüngut",6.67,2.29E-2,9.98E-2,0.245,null,null,"Schleiss 2005"]
["Vergärung, Landwirtschaft (Rottetrommel oder ohne NK)","t Grüngut",0.4,0.1,1.7999999999999999E-2,0,null,null,"Edelmann 2006"]
["Vergärung, Landwirtschaft (Kompostmiete)","t Grüngut",1,{"$f":"D7","v":0.1},{"$f":"E7","v":1.7999999999999999E-2},{"$f":"F7","v":0},null,null,"Edelmann 2006"]
["Vergärung, Kompogas","t Grüngut",{"$f":"0.4*0.77*0.53*0.24*0.55*0.3*16/12*1000","v":8.6190720000000027},{"$f":"2285/10000","v":0.22850000000000001},{"$f":"998/10000","v":9.98E-2},{"$f":"2852/10000","v":0.28520000000000001},null,null,"Jungbluth 2007"]
["Vergärung, Landwirtschaft, abgedeckt, Co-Substrat","t Grüngut",0.4881414,0.66700000000000004,0.20899999999999999,0.245,null,null,"Jungbluth 2007"]
["Vergärung, Biofilter für NH3","t Grüngut",1,2.3E-2,0.11,0.3,null,null,"Dinkel 2008"]
["Vergärung, kein Biofilter","t Grüngut",1,0.19,7.0000000000000007E-2,null,0.24,2.4E-2,"Cuhls 2008"]
["Vergärung, Prozess","t Grüngut",0.6,null,0.05,null,null,null,"Dinkel 2012:14"]
["Vergärung, Lager/Nachrotte","t Grüngut",1.5,null,0.05,null,null,null,"Dinkel 2012:14"]
[]
["Vergärung, Landwirtschaft, nicht abgedeckt, Mehremission","m3 Gülle",6.28,2.12,0,0,null,null,"Edelmann 2001"]
["Vergärung, Landwirtschaft, nicht abgedeckt","m3 Gülle",1,0.3,1.7999999999999999E-2,0,null,null,"Edelmann 2006"]
["Vergärung, Landwirtschaft, nicht abgedeckt","m3 Gülle",6.28,2.12,0,0,null,null,"Jungbluth 2007","CH4 Produktion",{"$f":"CH4_nichtabgedeckt","v":0.05}]
["Vergärung, Landwirtschaft, abgedeckt","m3 Gülle",{"$f":"C18*0.2","v":1.2560000000000002},{"$f":"D18","v":2.12},{"$f":"C19*2.04/6.54","v":0.39177981651376154},0,null,null,"Jungbluth 2007","CH4 Produktion",0.01]
["Vergärung, Lagerung, Mehremission",null,null,0.4,{"$nulls":4},"Edelmann 2001"]
["Vergärung, Ausbringung, Mehremission",null,null,0.1,{"$nulls":4},"Edelmann 2001"]
[]
["Kompost, KO","t Grüngut",4.875,0.42,{"$f":"998/10000","v":9.98E-2},0.245,null,null,"Schleiss 1999"]
["Kompost, KG","t Grüngut",9.77,2.1000000000000001E-2,{"$f":"998/10000","v":9.98E-2},0.245,null,null,"Schleiss 1999"]
["Kompost","t Grüngut",4.88,0.42,9.98E-2,0.245,null,null,"Schleiss 2005"]
["Kompost, gekapselt, Biofilter für NH3","t Grüngut",1,{"$f":"D11","v":2.3E-2},0.2,{"$f":"F11","v":0.3},null,null,"Dinkel 2008"]
["Kompostierung","t Grüngut",1,0.5,0.05,null,null,null,"Dinkel 2012:13"]
[]
["Reduktionsfaktoren gegenüber Standardvariante","Referenz",{"$f":"C1","v":"CH4"},"NH3","N2O","H2S","NMVOC","NOx"]
["LW, Schleppschlauch","Güllefass",null,-0.4,{"$nulls":4},"Edelmann 2006"]
["LW, Schleppschlauch","Güllefass",null,{"$f":"100/155-1","v":-0.35483870967741937},0,null,null,null,"Langevin 2008"]
["LW, Einspritzung","Güllefass",null,{"$f":"40/155-1","v":-0.74193548387096775},{"$f":"200/100-1","v":1},null,null,null,"Langevin 2008"]
["LW, Lager abgedeckt","Offen",-0.75,null,0,null,null,null,"Edelmann 2006"]
["LW, Lager abgedeckt","Offen",-0.8,null,0,null,null,null,"Jungbluth 2007"]
["LW, Rottetrommel","keine NK",{"$f":"16.88/18.75-1","v":-9.973333333333334E-2},{"$nulls":5},"Edelmann 2008"]
["LW, Kompostmiete","keine NK",{"$f":"46.88/18.75-1","v":1.5002666666666666},{"$nulls":5},"Edelmann 2009"]
["Nachkompostierung, Biofilter","Offen",null,-0.95,1,null,null,null,"Dinkel 2008"]
["Vergärung, VG","VN",{"$f":"C4/C3-1","v":0.90404797601199394},{"$f":"D4/D3-1","v":-0.63238512035010941},{"$f":"E4/E3-1","v":0},{"$f":"F4/F3-1","v":0},null,null,"Schleiss 1999"]
["Vergärung, VO","VN",{"$f":"C5/C3-1","v":0.57421289355322336},{"$f":"D5/D3-1","v":0.27789934354485757},{"$f":"E5/E3-1","v":0},{"$f":"F5/F3-1","v":0},null,null,"Schleiss 1999"]
["Biofilter",null,0,-0.9,{"$f":"1/0.7-1","v":0.4285714285714286},null,-0.8,null,"Cuhls 2008"]
[]
["Reduktionsfaktoren Lager und  Behandlung",{"$f":"B29","v":"Referenz"},"CH4","NH3","N2O","H2S","NMVOC","NOx",null,null,"Um wieviel gehen Emissionen hoch bzw. runter gegenüber dem Standardmodell der zentralen Kompostierung?"]
["Referenz, Gärgut fest","kg/t",1,0.42,{"$f":"E24","v":9.98E-2},0.28000000000000003,0.24,0.02,null,null,"Orange Werte im Datensatz zur Referenzanlage"]
["Keine Behandlung","Kompostierung",0,0,0,0,0,0,null,1,"0% heisst gleiche Emissionen wie zentrale Kompostierung"]
["offene Kompostierung, Miete bzw. Nachrotte",{"$f":"B44","v":"Kompostierung"},1.5,0,0,0,0,0,null,2]
["Rottetrommel, geheizt",{"$f":"B45","v":"Kompostierung"},-0.1,0,0,0,0,0,null,3]
["geschlossene Lagerung/Kompostierung mit Biofilter","Kompostierung",-0.75,-0.9,0.5,0,-0.8,0,null,4]
["Entwässerung, Faulschlamm","Kompostierung",-1,-1,-1,-1,-1,-1,null,5]
["Referenz, Gärgut flüssig","%, kg/t",0.05,"Substratspez.",1.7999999999999999E-2,0,0,0]
["Referenz Güllelager, 80% abgedeckt","Offenes Lager",{"$f":"0.2*0+0.8*C52","v":-0.64000000000000012},{"$f":"0.2*0+0.8*D52","v":-0.64000000000000012},{"$f":"0.2*0+0.8*E52","v":-0.60000000000000009},0,0,0]
["Offenes Gärgutlager/Nachgärung","Offenes Lager",0,0,0,0,0,0,null,1]
["Geschlossenes Gärgutlager/Nachgärung","Offenes Lager",-0.8,-0.8,-0.75,0,0,0,null,2]
["Nährstoffaufbereitung (Ultrafiltration/Umkehrosmose)","Offenes Lager",-0.8,-0.9,-0.75,0,0,0,null,3]
[]
[{"$f":"name","v":0}]
["Faktor Behandlung Kompost für geprüfte Anlage",null,{"$f":"SUM(IF(EXACT($J44:$J48,Auswahl_Behandlung_fest),FaktorenBG!C44:C48))","v":{"$error":"#N/A"}},{"$f":"SUM(IF(EXACT($J44:$J48,Auswahl_Behandlung_fest),FaktorenBG!D44:D48))","v":{"$error":"#N/A"}},{"$f":"SUM(IF(EXACT($J44:$J48,Auswahl_Behandlung_fest),FaktorenBG!E44:E48))","v":{"$error":"#N/A"}},{"$f":"SUM(IF(EXACT($J44:$J48,Auswahl_Behandlung_fest),FaktorenBG!F44:F48))","v":{"$error":"#N/A"}},{"$f":"SUM(IF(EXACT($J44:$J48,Auswahl_Behandlung_fest),FaktorenBG!G44:G48))","v":{"$error":"#N/A"}},{"$f":"SUM(IF(EXACT($J44:$J48,Auswahl_Behandlung_fest),FaktorenBG!H44:H48))","v":{"$error":"#N/A"}}]
["Faktor Behandlung Gülle für geprüfte Anlage",null,{"$f":"SUM(IF(EXACT($J51:$J53,Auswahl_Behandlung_flüssig),FaktorenBG!C51:C53))","v":{"$error":"#N/A"}},{"$f":"SUM(IF(EXACT($J51:$J53,Auswahl_Behandlung_flüssig),FaktorenBG!D51:D53))","v":{"$error":"#N/A"}},{"$f":"SUM(IF(EXACT($J51:$J53,Auswahl_Behandlung_flüssig),FaktorenBG!E51:E53))","v":{"$error":"#N/A"}},{"$f":"SUM(IF(EXACT($J51:$J53,Auswahl_Behandlung_flüssig),FaktorenBG!F51:F53))","v":{"$error":"#N/A"}},{"$f":"SUM(IF(EXACT($J51:$J53,Auswahl_Behandlung_flüssig),FaktorenBG!G51:G53))","v":{"$error":"#N/A"}},{"$f":"SUM(IF(EXACT($J51:$J53,Auswahl_Behandlung_flüssig),FaktorenBG!H51:H53))","v":{"$error":"#N/A"}}]
[]
["Reduktionsfaktoren Ausbringung",{"$f":"B42","v":"Referenz"},"CH4","NH3","N2O","H2S","NMVOC","NOx"]
["Referenz, flüssig","kg/t",0,"Substratspez.",0]
[{"$f":"menuesBG!F75","v":"Agriculture, liquid manure barrel"},"Gülle",0,0.15,0,0,0,0,null,1]
[{"$f":"menuesBG!F76","v":"Agriculture, drag hose"},"Gülle",0,-0.4,0,0,0,0,null,2]
[{"$f":"menuesBG!F77","v":"Agriculture, Injection, Towing shoe"},"Gülle",0,-0.7,1,0,0,0,null,3]
[{"$f":"menuesBG!F78","v":"Agriculture, Injection, Cultan (Vaccination)"},"Gülle",0,-0.7,1,0,0,0,null,4]
["Referenz, fest"]
[{"$f":"menuesBG!F95","v":"Compost, Horticulture"},"Kompost",0,0,0,0,0,0,null,1]
[{"$f":"menuesBG!F96","v":"Agriculture, dung tetter"},"Kompost",0,0,0,0,0,0,null,2]
[{"$f":"menuesBG!F97","v":"Incineration, cement kiln, 92% DM"},"Kompost",-1,-1,-1,-1,-1,-1,null,3]
[{"$f":"menuesBG!F98","v":"Combustion, municipal waste incineration, 27% DM"},"Kompost",-1,-1,-1,-1,-1,-1,null,4]
[]
[{"$f":"name","v":0}]
[{"$f":"A60","v":"Referenz, flüssig"},null,{"$f":"SUM(IF(EXACT($J61:$J64,Auswahl_Verwendung_flüssig),FaktorenBG!C61:C64))","v":{"$error":"#N/A"}},{"$f":"SUM(IF(EXACT($J61:$J64,Auswahl_Verwendung_flüssig),FaktorenBG!D61:D64))","v":{"$error":"#N/A"}},{"$f":"SUM(IF(EXACT($J61:$J64,Auswahl_Verwendung_flüssig),FaktorenBG!E61:E64))","v":{"$error":"#N/A"}},{"$f":"SUM(IF(EXACT($J61:$J64,Auswahl_Verwendung_flüssig),FaktorenBG!F61:F64))","v":{"$error":"#N/A"}},{"$f":"SUM(IF(EXACT($J61:$J64,Auswahl_Verwendung_flüssig),FaktorenBG!G61:G64))","v":{"$error":"#N/A"}},{"$f":"SUM(IF(EXACT($J61:$J64,Auswahl_Verwendung_flüssig),FaktorenBG!H61:H64))","v":{"$error":"#N/A"}},null,{"$f":"Auswahl_Verwendung_flüssig","v":{"$error":"#N/A"}}]
[{"$f":"A65","v":"Referenz, fest"},null,{"$f":"SUM(IF(EXACT($J66:$J69,Auswahl_Verwendung_fest),FaktorenBG!C66:C69))","v":{"$error":"#N/A"}},{"$f":"SUM(IF(EXACT($J66:$J69,Auswahl_Verwendung_fest),FaktorenBG!D66:D69))","v":{"$error":"#N/A"}},{"$f":"SUM(IF(EXACT($J66:$J69,Auswahl_Verwendung_fest),FaktorenBG!E66:E69))","v":{"$error":"#N/A"}},{"$f":"SUM(IF(EXACT($J66:$J69,Auswahl_Verwendung_fest),FaktorenBG!F66:F69))","v":{"$error":"#N/A"}},{"$f":"SUM(IF(EXACT($J66:$J69,Auswahl_Verwendung_fest),FaktorenBG!G66:G69))","v":{"$error":"#N/A"}},{"$f":"SUM(IF(EXACT($J66:$J69,Auswahl_Verwendung_fest),FaktorenBG!H66:H69))","v":{"$error":"#N/A"}},null,{"$f":"Auswahl_Verwendung_fest","v":{"$error":"#N/A"}}]
[]
["Mietenkompostierung","C ges/N-Geh","2-3.6%",{"$f":"0.075*0.85","v":6.3750000000000001E-2},{"$f":"0.075*0.15","v":1.125E-2},null,null,null,"Dinkel 2008"]
["Landwirtschaft","m3 Gülle","ca. 1.8% von OS","50-75% von N",1.7999999999999999E-2,null,null,null,"Edelmann 2006"]
[]
[]
["Faktor Trocknung Klärschlamm 5% zu 32%",4.2,{"$f":"0.2288/0.0538","v":4.2527881040892197}]

{"sheet":"Glyzerin","index":25,"n_rows":157,"n_cols":30,"rows_kept":157,"cut":false,"hidden":true,"merged":[]}
["Glyzerin","Schweiz","Schweiz","Schweiz","Schweiz","Europa","Europa","Europa","Europa","Europa","DK"]
[null,"CHF/t","CHF/t","CHF/t","CHF/t","Euro/t","Euro/t","Euro/t","Euro/t","Euro/t","Euro/t"]
["Jahr",2007,2009,2011,2018,2013,2017,"2017-12-01","2017-09-01",2018,2018]
["Rohglyzerin 80%, Biogasanlage",null,"<160",null,"40-60",null,200,"180-400 (250)","170-340 (215)",175,210]
["Rohglyzerin 80%, Industrie/Futter",138,160,208,null,300,475,"380-450","300-380",350]
["Glyzerin, aufbereitet, 99%",null,375,null,null,700,800,null,null,600]
["Lieferung",{"$nulls":6},40,40]
[null,"Bioenergy project","Stefan Mutzner, 2009","Stucki","A. Wellinger","A. Wellinger","Oleo Reporter","Oleoline","Oleoline","Oleo Reporter"]
[null,null,"Es ist in der Tat so, dass die Industrie für die Glycerinphase rund Fr. \n160.--/to. bezahlt. Im Verfütterungskanal wird für aufgearbeitetes \nGlycerin sogar Fr. 350 bis Fr. 400.-- bezahlt. Das anfallende Glycerin \nwird nur in Biogasanlagen vergärt, wenn die Biodieselproduzenten keinen \nAbsatzkanal mehr in die Industrie oder in die Verfütterung haben. Das \nheisst, die Preise sind in der Regel tiefer als die Fr. 160.--."]
[]
[]
[]
[]
[]
[]
[null,"https://mediathek.fnr.de/grafiken/daten-und-fakten/preise-und-kosten/preise-glycerin-interaktiv.html"]
{"$rows_empty":28}
[null,"http://slideplayer.org/slide/2419690/",{"$nulls":6},"https://www.agrarheute.com/wochenblatt/maerkte/getreide-oelsaaten/kraftstoff-grosshandelspreise-tendieren-uneinheitlich-539248"]
{"$rows_empty":57}
["Calculation: ","Compare"]
["Results: ","Impact assessment"]
["Product 1: ","1 kg glycerine, from vegetable oil, at esterification plant/kg/FR U (of project ESU database 2018)"]
["Product 2: ","1 kg glycerine, from vegetable oil, at esterification plant/CH U (of project ESU database 2018)"]
["Product 3: ","1 kg Glycerine, from soybean oil, at esterification plant/US U (of project ESU database 2018)"]
["Product 4: ","1 kg Glycerine, from soybean oil, at esterification plant/BR U (of project ESU database 2018)"]
["Product 5: ","1 kg glycerine, from rape oil, at esterification plant/kg/RER U (of project ESU database 2018)"]
["Product 6: ","1 kg glycerine, from rape oil, at esterification plant/kg/CH U (of project ESU database 2018)"]
["Product 7: ","1 kg Glycerine, from palm oil, at esterification plant/MY U (of project ESU database 2018)"]
["Product 8: ","1 kg Glycerine, from epichlorohydrin, at plant/RER U (of project ESU database 2018)"]
["Product 9: ","1 kg Glycerine {US}| esterification of soybean oil | Cut-off, U (of project Ecoinvent 3 - allocation, cut-off by classification - unit)"]
["Product 10: ","1 kg Glycerine {RoW}| treatment of waste cooking oil, purified, esterification | Cut-off, U (of project Ecoinvent 3 - allocation, cut-off by classification - unit)"]
["Product 11: ","1 kg Glycerine {RoW}| production, from epichlorohydrin | Cut-off, U (of project Ecoinvent 3 - allocation, cut-off by classification - unit)"]
["Product 12: ","1 kg Glycerine {RoW}| esterification of soybean oil | Cut-off, U (of project Ecoinvent 3 - allocation, cut-off by classification - unit)"]
["Product 13: ","1 kg Glycerine {RoW}| esterification of rape oil | Cut-off, U (of project Ecoinvent 3 - allocation, cut-off by classification - unit)"]
["Product 14: ","1 kg Glycerine {RoW}| esterification of palm oil | Cut-off, U (of project Ecoinvent 3 - allocation, cut-off by classification - unit)"]
["Product 15: ","1 kg Glycerine {RER}| production, from epichlorohydrin | Cut-off, U (of project Ecoinvent 3 - allocation, cut-off by classification - unit)"]
["Product 16: ","1 kg Glycerine {MY}| esterification of palm oil | Cut-off, U (of project Ecoinvent 3 - allocation, cut-off by classification - unit)"]
["Product 17: ","1 kg Glycerine {GLO}| stearic acid production | Cut-off, U (of project Ecoinvent 3 - allocation, cut-off by classification - unit)"]
["Product 18: ","1 kg Glycerine {GLO}| market for | Cut-off, U (of project Ecoinvent 3 - allocation, cut-off by classification - unit)"]
["Product 19: ","1 kg Glycerine {FR}| treatment of waste cooking oil, purified, esterification | Cut-off, U (of project Ecoinvent 3 - allocation, cut-off by classification - unit)"]
["Product 20: ","1 kg Glycerine {Europe without Switzerland}| esterification of rape oil | Cut-off, U (of project Ecoinvent 3 - allocation, cut-off by classification - unit)"]
["Product 21: ","1 kg Glycerine {CH}| esterification of rape oil | Cut-off, U (of project Ecoinvent 3 - allocation, cut-off by classification - unit)"]
["Product 22: ","1 kg Glycerine {CA-QC}| treatment of waste cooking oil, purified, esterification | Cut-off, U (of project Ecoinvent 3 - allocation, cut-off by classification - unit)"]
["Product 23: ","1 kg Glycerine {BR}| esterification of soybean oil | Cut-off, U (of project Ecoinvent 3 - allocation, cut-off by classification - unit)"]
["Product 24: ","1 kg glycerine, from vegetable oil, at esterification plant/kg/RER U (of project 208 naturemade KWM)"]
["Product 25: ","1 kg glycerine, from soybean oil, at esterification plant/kg/RER U (of project 208 naturemade KWM)"]
["Product 26: ","1 kg glycerine, from palm oil, at esterification plant/kg/RER U (of project 208 naturemade KWM)"]
["Product 27: ","1 kg glycerine, from animal fat, at esterification plant/kg/RER U (of project 208 naturemade KWM)"]
["Product 28: ","1 kg application, digested matter, from glycerine, on agricultural land/CH U (of project ESU database 2018)"]
["Method: ","Eco-indicator 99 (H) V2.10 / Europe EI 99 H/A"]
["Indicator: ","Single score"]
["Skip categories: ","Never"]
["Default units: ","Yes"]
["Exclude infrastructure processes: ","No"]
["Exclude long-term emissions: ","Yes"]
["Per impact category: ","Yes"]
["Sorted on item: ","Impact category"]
["Sort order: ","Ascending"]
[]
["Impact category","Unit","glycerine, from vegetable oil, at esterification plant/kg/FR U","glycerine, from vegetable oil, at esterification plant/CH U","Glycerine, from soybean oil, at esterification plant/US U","Glycerine, from soybean oil, at esterification plant/BR U","glycerine, from rape oil, at esterification plant/kg/RER U","glycerine, from rape oil, at esterification plant/kg/CH U","Glycerine, from palm oil, at esterification plant/MY U","Glycerine, from epichlorohydrin, at plant/RER U","Glycerine {US}| esterification of soybean oil | Cut-off, U","Glycerine {RoW}| treatment of waste cooking oil, purified, esterification | Cut-off, U","Glycerine {RoW}| production, from epichlorohydrin | Cut-off, U","Glycerine {RoW}| esterification of soybean oil | Cut-off, U","Glycerine {RoW}| esterification of rape oil | Cut-off, U","Glycerine {RoW}| esterification of palm oil | Cut-off, U","Glycerine {RER}| production, from epichlorohydrin | Cut-off, U","Glycerine {MY}| esterification of palm oil | Cut-off, U","Glycerine {GLO}| stearic acid production | Cut-off, U","Glycerine {GLO}| market for | Cut-off, U","Glycerine {FR}| treatment of waste cooking oil, purified, esterification | Cut-off, U","Glycerine {Europe without Switzerland}| esterification of rape oil | Cut-off, U","Glycerine {CH}| esterification of rape oil | Cut-off, U","Glycerine {CA-QC}| treatment of waste cooking oil, purified, esterification | Cut-off, U","Glycerine {BR}| esterification of soybean oil | Cut-off, U","glycerine, from vegetable oil, at esterification plant/kg/RER U","glycerine, from soybean oil, at esterification plant/kg/RER U","glycerine, from palm oil, at esterification plant/kg/RER U","glycerine, from animal fat, at esterification plant/kg/RER U","application, digested matter, from glycerine, on agricultural land/CH U"]
["Total","Pt",7.7759752999999997E-3,7.7537600999999998E-3,0.49549662,1.2802479,0.46504107,0.13208132,0.61757962,0.38632185000000002,0.51514590999999998,3.5880545E-2,0.42094882,-5.1063127000000001,-3.3695081,0.27669878999999997,0.41363914000000002,0.27622284000000003,3.7352248999999997E-2,-2.6973079000000002,3.4526999000000003E-2,-3.3694001999999998,-4.3585387999999998,5.5058883000000003E-2,-7.3026172000000003,1.4018624E-2,0.42107074999999999,0.18607888,2.6968973E-2,2.778885E-3]
["Carcinogens","Pt",5.1319042999999999E-5,4.9870668999999999E-5,2.1989729999999999E-3,7.6240369000000002E-2,4.5795462000000002E-2,-1.7780536999999999E-2,1.017733E-2,1.1051485999999999E-2,2.4928823999999998E-3,1.0607749000000001E-3,1.8311999999999998E-2,3.9838647999999997E-2,-4.0589926999999998E-2,7.7839577999999996E-3,1.738497E-2,7.7850107999999996E-3,2.0374999000000002E-3,1.3756E-3,9.3008906000000002E-4,-4.0667473000000003E-2,-7.4736912000000003E-2,9.4647256E-4,4.8393791999999998E-2,3.2164025000000002E-4,1.8019997999999999E-2,3.0325178E-3,4.2144999000000001E-4,2.1933948000000002E-5]
["Resp. organics","Pt",3.0380346000000001E-6,3.0188959E-6,1.5903388999999999E-4,6.5466411E-4,6.2030176000000002E-5,1.1749025000000001E-5,4.5150801E-4,1.2788392999999999E-4,8.9423906999999995E-5,1.1621434999999999E-5,1.0734876E-4,3.1592622E-4,6.8297905999999999E-5,1.7074256E-4,1.0224934E-4,1.710634E-4,7.1774615E-6,1.5738408999999999E-4,1.1165305999999999E-5,6.7892578000000001E-5,5.6856179000000002E-5,1.9953396E-5,4.8259190000000002E-4,5.2463763000000003E-6,1.9226572E-4,1.324722E-4,9.0249056000000006E-6,3.4745410999999998E-7]
["Resp. inorganics","Pt",9.5168428999999998E-4,9.5787601000000004E-4,2.1488079E-2,0.27657291000000001,3.2316516000000003E-2,2.0886268E-2,0.20201690999999999,8.6207317000000006E-2,3.9013290999999999E-2,9.3404496E-3,0.18539396,0.20416217,0.1033849,7.7890637999999998E-2,0.17137110999999999,7.8165693999999994E-2,1.8938317999999999E-2,0.14364467,7.6594517999999997E-3,0.10193805,0.10479615,1.0968954E-2,0.27462143,1.9054790000000001E-3,7.3575295999999998E-2,6.3101927000000002E-2,2.6791713999999999E-3,2.0026561999999999E-3]
["Climate change","Pt",6.0866987000000004E-4,6.0742659000000002E-4,8.4641074000000004E-3,2.8644236E-2,1.1553881E-2,4.7503427999999997E-3,2.2097519999999999E-2,4.5382706000000002E-2,1.0294118E-2,2.5154613000000002E-3,4.4085423999999998E-2,5.1592219000000002E-2,1.9142484000000001E-2,2.3777614999999998E-2,4.2772048999999999E-2,2.3665307999999999E-2,3.6004127000000001E-3,3.3123136999999997E-2,2.4019383999999999E-3,1.9146265999999999E-2,1.9914383000000001E-2,3.2014854000000001E-3,6.8104499999999998E-2,1.1017258000000001E-3,9.2333172000000005E-3,6.9531929999999999E-3,2.8750110999999998E-3,3.9724797999999997E-5]
["Radiation","Pt",9.7651002000000006E-6,6.8107038000000001E-6,1.5001806000000001E-5,2.0426643E-5,4.2278089000000001E-5,2.7177715E-5,1.0131206E-4,5.0029258000000001E-4,2.6104043E-5,6.8217008999999997E-6,1.5843241000000001E-4,2.9614215E-5,6.1096014999999993E-5,1.0368504E-5,1.6434387999999999E-4,8.7324186000000002E-6,1.5366081E-5,6.7993190999999993E-5,1.0242434999999999E-5,6.2388033999999999E-5,8.9978884000000003E-5,8.0792972000000007E-6,3.0799638E-5,1.2582168E-5,1.4694145E-5,3.5223065999999999E-5,2.1681198999999999E-5,2.6644457999999999E-7]
["Ozone layer","Pt",3.2318655999999999E-7,3.5482896999999998E-7,1.8318141000000001E-6,2.0649114000000002E-6,1.9615220999999999E-6,2.2513049999999999E-6,2.5279522E-6,2.0071215E-4,5.8155243000000001E-6,1.7464629E-6,9.7227235000000006E-5,6.9015463999999997E-6,1.1002987000000001E-5,2.1354123000000001E-6,9.8394388000000002E-5,2.0029409E-6,1.1510427E-6,2.5491227000000001E-5,1.9515191000000001E-6,1.1123287E-5,1.3393132E-5,4.4940859E-6,5.3292083999999997E-6,5.6054908000000002E-7,9.2240051E-7,8.0741434000000002E-7,1.5803684000000001E-6,4.5307895000000001E-9]
["Ecotoxicity","Pt",4.2175548000000001E-5,4.3860579999999997E-5,4.5365702000000003E-4,6.1733928000000003E-4,1.2426428E-3,4.7132979999999999E-4,2.2854290999999999E-3,6.3764186999999998E-3,8.8916855000000005E-4,2.5117904999999999E-4,7.9419651999999997E-3,1.3069882000000001E-3,2.6430169000000001E-3,1.5601971E-3,7.9441674000000004E-3,1.5617032000000001E-3,9.8378436E-4,3.1607075000000002E-3,2.4264702E-4,2.6370806999999998E-3,2.7801958999999999E-3,3.4037027E-4,2.0254197999999999E-3,8.0402385E-5,3.8610499999999998E-4,8.1558914999999997E-4,1.2091435E-4,9.4902184E-6]
["Acidification/ Eutrophication","Pt",5.5572950999999997E-5,5.7001383E-5,2.3372033E-3,4.4916681999999999E-3,3.5707586E-3,3.4006967000000002E-3,5.3522326000000004E-3,3.7237615000000001E-3,1.4014418000000001E-3,2.5807891999999997E-4,4.7324545999999999E-3,2.8392227E-3,1.4276881E-2,3.3642577000000001E-3,4.4254884000000001E-3,3.3583312000000001E-3,4.2272286999999999E-4,7.3187453000000003E-3,2.3007687999999999E-4,1.4263568000000001E-2,1.5937191999999999E-2,3.3851025000000001E-4,3.1675830999999999E-3,1.0335231E-4,1.8447771E-3,1.8386689E-3,1.5342592000000001E-4,4.9186409999999999E-4]
["Land use","Pt",1.3044327E-4,8.3665323000000003E-5,0.43242919000000002,0.86242348999999996,0.33660067999999999,0.10691645,0.32875201999999998,4.6583585999999998E-3,0.43200617000000002,-8.0023283000000005E-4,4.4855536999999996E-3,-5.4418809000000001,-3.5180842999999999,0.13832617999999999,4.7452696999999997E-3,0.13833284000000001,4.4771466000000001E-4,-2.9511170999999998,-8.2280397999999998E-4,-3.5171880999999998,-4.4792749000000001,-6.7700612999999998E-4,-7.7414538999999998,2.6070394999999999E-4,0.30140285999999999,9.4223059999999997E-2,2.5716387000000002E-4,1.7951956999999999E-5]
["Minerals","Pt",1.7729691999999999E-5,1.9763645000000001E-5,2.4243627000000001E-4,3.2926347000000001E-4,6.1208004000000004E-4,2.1240395999999999E-4,5.9909787000000003E-4,4.2542020000000003E-3,4.027848E-4,1.363856E-4,3.2649927999999998E-3,4.5071161999999998E-4,1.0058154999999999E-3,3.7642627999999998E-4,3.2540949999999998E-3,3.7761746000000002E-4,4.7538138999999999E-4,1.1938243999999999E-3,1.3536734E-4,1.0048138000000001E-3,1.0846337E-3,2.2110378999999999E-4,7.4111212E-4,3.7325786000000003E-5,1.5781488E-4,1.9819600000000001E-4,9.9370683999999997E-5,8.1317892000000004E-6]
["Fossil fuels","Pt",5.9052543000000001E-3,5.9241114999999999E-3,2.7707105999999999E-2,3.0251510999999998E-2,3.3242786000000003E-2,1.3183185E-2,4.5743734000000001E-2,0.22383871999999999,2.8524712000000001E-2,2.3098258999999999E-2,0.15236946000000001,3.5025805E-2,4.8572602999999999E-2,2.3436272000000001E-2,0.16137699999999999,2.2794528000000001E-2,1.0422720999999999E-2,6.3741590000000001E-2,2.3726873999999998E-2,4.9324237999999999E-2,5.0800251999999997E-2,3.9686467000000003E-2,4.1264123E-2,1.0189606E-2,1.6242698E-2,1.5747227999999999E-2,2.033018E-2,1.8651354999999999E-4]
[]
[{"$nulls":24},"land use LCIA falsch"]

{"sheet":"menuesBM","index":26,"n_rows":103,"n_cols":6,"rows_kept":103,"cut":false,"hidden":true,"merged":[]}
["Deutsch","Français","English","Italian",null,"Text"]
["naturemade Star Prüfung: Biomethan-Nutzung","Contrôle naturemade star: utilisation du biométhane",null,null,2,"Deutsch"]
["Eingabe:","Données:",null,null,3,"Français"]
["Anlagenname und Referenzzeitraum","Nom de l'installation et période de référence:",null,null,4]
["Leistung der Anlage","Puissance de l'installation",null,null,5]
["Wärmequelle","Source de chaleur",null,null,6]
["Kältemittel inkl. Sekundärkreislauf, Füllmenge, jährliche Nachfüllmenge","Réfrigérant incl. circuit secondaire, quantité totale, quantité de recharge annuelle ",null,null,7]
["Anlagen-Jahresarbeitszahl","Coefficient de performance (COP) de l'installation",null,null,8]
["Strombezug aus CH Netz","Consommation d'électricité CH",null,null,9]
["Heizölverbrauch","Consommation de diesel",null,null,10]
["Outputs der Anlage","Sortants de l'installation",null,null,11]
["Sonstiges","Divers",null,null,12]
["Biomethan verbrannt in Heizung, BHKW","Combustion du méthane pour le chauffage, CHP",null,null,13]
["Strom: Verkauf und Verbrauch ausserhalb der Anlage","Electricité: vente et consommation hors de l'installation",null,null,14]
["Resultate für: ","Résultats:",null,null,15]
["Spannungsniveau / Stromverlust berechnet","Taux de contrainte/Pertes d'électricité calculées",null,null,16]
["Total","Total",null,null,17]
["Erdgasverbrauch","Consommation de gaz naturel",null,null,18]
["naturemade Prüfwert","Valeur de contrôle naturemade ",null,null,19]
["direkte Emissionen","Emissions directes",null,null,20]
["Gesamtinputmenge für Anlage","Quantité totale de substrats",null,null,21]
["pro kWh Strom","par kWh de courant",null,null,22]
["Strombezug aus DE Netz","Consommation d'électricité DE",null,null,23]
[{"$nulls":4},24]
["Keine Prüfung möglich","Contrôle impossible",null,null,25]
["Globales naturemade Star Kriterium erfüllt","Critère naturemade star satisfait",null,null,26]
["naturemade Star Kriterium nicht erfüllt","Critère naturemade star insatisfait",null,null,27]
[{"$nulls":4},28]
["EI'99-aggregated, Hierarchist","EI'99-aggregated, Hierarchist",null,null,29]
[{"$nulls":4},30]
["Umweltbelastungspunkte 2006","Méthode de la saturation écologique 2006",null,null,31]
["Einspeisung Wärmeverbund / Verteilverluste","Alimentation chauffage à distance / pertes de distribution",null,null,32]
["Bedarf erneuerbarer energetischer Ressourcen","Besoin en ressources énergétiques renouvelables",null,null,33]
["Bedarf nichterneuerbarer energetischer Ressourcen","Besoin en ressources énergétiques non-renouvelables",null,null,34]
["Treibhauseffekt 100a 2007","Effet de serre 100a 1996",null,null,35]
[{"$nulls":4},36]
[{"$nulls":4},37]
[{"$nulls":4},38]
[{"$nulls":4},39]
[{"$nulls":4},40]
[{"$nulls":4},41]
["Zündölverbrauch (10 kWh/kg)","Consommation de diesel d'allumage (10 kWh/kg)",null,null,42]
["Nahwärmenutzung: Verkauf, Verbrauch im Gebäudekomplex","Chaleur à proximité: vente, conso. bâtiments",null,null,43]
["Mittlere Transportentfernung","Distance moyenne de transport",null,null,44]
["Fremdenergiebedarf","Consommation d'énergie additionnelle",null,null,45]
["Infrastruktur","Infrastructure",null,null,46]
["Biomethan","Biométhane",null,null,47]
["Kühlmittelemissionen","Emissions dues aux réfrigérants",null,null,48]
["Umweltdeklaration","Déclaration environnementale",null,null,49]
["Infrastruktur","Infrastructure",null,null,50]
["Grenzwert Strom","Valeur-limite courant",null,null,51]
["Grenzwert Wärme","Valeur-limite chaleur",null,null,52]
["Grenzwert Methan","Valeur-limite méthane",null,null,53]
["Referenz, Entsorgung","Référence pour le traitement des déchets",null,null,54]
["Total Biomethannutzung, Brutto","Total, Utilisation de biométhane, brut",null,null,55]
["Prüfwert","Valeur de contrôle",null,null,56]
[{"$nulls":4},57]
[{"$nulls":4},58]
[{"$nulls":4},59]
[{"$nulls":4},60]
[{"$nulls":4},61]
["Total Wärmeverkauf (nach Abzug Verteilverluste)","Total, vente de chaleur (déduction pertes de distribution)",null,null,62]
["naturemade star Biomethanmix","naturemade star mix de biométhane",null,null,63]
["Biomethan, Landwirtschaft","Biométhane, agriculture",null,null,64]
["Holzverbrennung","Combustion de bois",null,null,65]
["Holzvergasung, Repotec","Gazéification du bois, Repotec",null,null,66]
["Biomethan, Direktlieferant","Biométhane, fournisseur direct",null,null,67]
["Allokation nach Exergy-Gehalt (ecoinvent)","Allocation d'après contenu exégétique (ecoinvent)",null,null,68]
[{"$nulls":4},69]
[{"$nulls":4},70]
["Biomethan, Grenzwert gerade erfüllt","Biométhane, valeur-limite satisfaite",null,null,71]
["Biomethan, Grüngut","Biométhane, déchets organiques",null,null,72]
["Biomethan, Klärschlamm","Biométhane, boues d'épuration",null,null,73]
[{"$nulls":4},74]
[{"$nulls":4},75]
[{"$nulls":4},76]
[{"$nulls":4},77]
[{"$nulls":4},78]
[{"$nulls":4},79]
["Art der Verbrennung","Type de combustion",null,null,80]
["Heizung < 100kW","Chauffage < 100kW",null,null,81,{"$f":"INDEX(menuesBM!$1:$1048576,$E81,sprache)","v":0}]
["Heizung > 100kW","Chauffage > 100kW",null,null,82,{"$f":"INDEX(menuesBM!$1:$1048576,$E82,sprache)","v":0}]
["BHKW 500kWel Mager","Centrale de cogénération 500kWel mélange pauvre",null,null,83,{"$f":"INDEX(menuesBM!$1:$1048576,$E83,sprache)","v":0}]
["Gasturbine","Turbine à gaz",null,null,84,{"$f":"INDEX(menuesBM!$1:$1048576,$E84,sprache)","v":0}]
["Gas- und Dampfturbinen-Kraftwerk","Centrale à turbines à gaz et à turbines à vapeur",null,null,85,{"$f":"INDEX(menuesBM!$1:$1048576,$E85,sprache)","v":0}]
["Dieselverbrauch (12 kWh/kg)","consommation de diesel (12 kWh/kg)",null,null,86]
[{"$nulls":4},87]
["Referenz, Güllelager","Référence pour le dépôt de lisier",null,null,88]
["Referenz, Kompost","Référence pour le compost",null,null,89]
["Referenz, Frischklärschlamm","Référence pour les boues d'épuration fraîches",null,null,90]
["Grenzwert Kälte","Valeur-limite froid",null,null,91]
[{"$nulls":4},92]
["Biomethanverbrauch der Anlage (14.25 kWh/kg)","Conso. de biométhane de l'installation (14.25 kWh/kg)",null,null,93]
["Energieeigenverbrauch der Anlage (Systemgrenzen beachten)","Conso. énergétique installation (respecter limites système)",null,null,94]
["Ja","Oui",null,null,95,{"$f":"INDEX(menuesBM!$1:$1048576,$E95,sprache)","v":0}]
["Nein","Non",null,null,96,{"$f":"INDEX(menuesBM!$1:$1048576,$E96,sprache)","v":0}]
["Mittelspannung","moyenne tension",null,null,97,{"$f":"INDEX(menuesBM!$1:$1048576,$E97,sprache)","v":0}]
["Niederspannung","basse tension",null,null,98,{"$f":"INDEX(menuesBM!$1:$1048576,$E98,sprache)","v":0}]
["Gesamtproduktion Strom, Brutto","Production totale brute d'électricité",null,null,99]
["Eigenverbrauch der Anlage aus Bruttostromproduktion","Conso. électricité propre installation d'après prod. brute d'électricité",null,null,100]
[{"$nulls":4},101]
["Gesamtmenge Energieprodukte","Quantité totale produits énergétiques",null,null,102]
["Stickoxide NOx als NO2 aus Verbrennung","Oxydes d'azote NOx en NO2 issus de la combustion",null,null,103]

{"sheet":"Strommix34","index":27,"n_rows":26,"n_cols":6,"rows_kept":26,"cut":false,"hidden":true,"merged":[]}
[]
["Calculation: ","Compare"]
["Results: ","Impact assessment"]
["Product 1: ","1 kWh Electricity, medium voltage {CH}| market for | Cut-off, S (of project Ecoinvent 3 - allocation, cut-off by classification - system)"]
["Product 2: ","1 kWh Electricity, medium voltage {DE}| market for | Cut-off, S (of project Ecoinvent 3 - allocation, cut-off by classification - system)"]
["Product 3: ","1 kWh Electricity, medium voltage {DK}| market for | Cut-off, S (of project Ecoinvent 3 - allocation, cut-off by classification - system)"]
["Product 4: ","1 kWh Electricity, medium voltage {HU}| market for | Cut-off, S (of project Ecoinvent 3 - allocation, cut-off by classification - system)"]
["Method: ","Eco-indicator 99 (H) V2.10 / Europe EI 99 H/A"]
["Indicator: ","Single score"]
["Skip categories: ","Never"]
["Default units: ","Yes"]
["Exclude infrastructure processes: ","No"]
["Exclude long-term emissions: ","Yes"]
["Per impact category: ","No"]
["Sorted on item: ","Damage category"]
["Sort order: ","Ascending"]
[]
["Damage category","Unit","Electricity, medium voltage {CH}| market for | Cut-off, S","Electricity, medium voltage {DE}| market for | Cut-off, S","Electricity, medium voltage {DK}| market for | Cut-off, S","Electricity, medium voltage {HU}| market for | Cut-off, S"]
["Total","Pt",6.2581373999999997E-3,2.0548559000000001E-2,1.535183E-2,2.6898801E-2]
["Human Health","Pt",4.3261178999999999E-3,1.4761668E-2,9.6104277000000002E-3,1.9428527000000001E-2]
["Ecosystem Quality","Pt",6.1007434E-4,1.5574205000000001E-3,2.3042980000000002E-3,1.7368215000000001E-3]
["Resources","Pt",1.3219451E-3,4.2294702E-3,3.4371043E-3,5.7334526000000002E-3]
[]
[]
["Daten ESU-datenbank 2018",null,"electricity, medium voltage, at grid/kWh/CH U","electricity, medium voltage, at grid/kWh/DE U","electricity, medium voltage, at grid/kWh/DK U","electricity, medium voltage, at grid/kWh/HU U"]
[null,null,6.0137804E-3,2.0037421E-2,1.9841408000000001E-2,3.1588507000000002E-2]